{"text_format":"1","workbook":"xlsx","n_sheets":7,"sheets":["Menú inicial","Parámetros","Matriz de priorización","Reporte","Nombres","Buenas prácticas","Dimensiones"],"not_rendered":{"charts":0,"images":4,"macros":0,"external_links":0,"defined_names":8,"comments":0,"pivot_tables":1},"unopened":[],"bounds":{"document_bytes":16777216,"sheet_cells":100000,"rows_first":2000,"rows_last":500,"rows_between":2000,"halvings":0,"cell_chars":16384,"cell_head_chars":4096},"cells_cut":0,"cells_raw":0,"read":"whole","date_system":"1900"}

{"sheet":"Menú inicial","index":0,"n_rows":3,"n_cols":4,"rows_kept":3,"cut":false,"hidden":false,"merged":[[4,3,4,8]]}
[]
[null,null,null,{"$f":"+Nombres!E8","v":"Scopio"}]
[null,null,null,{"$f":"+Nombres!E9","v":"El instrumento para observar y priorizar buenas prácticas de sostenibilidad en Centros de Ciencia"}]

{"sheet":"Parámetros","index":1,"n_rows":13,"n_cols":16,"rows_kept":13,"cut":false,"hidden":false,"merged":[[10,3,12,3],[7,3,7,4],[8,3,8,4],[9,3,9,4]]}
[]
[null,null,null,{"$f":"+Nombres!E8","v":"Scopio"}]
[null,null,null,{"$f":"+Nombres!E9","v":"El instrumento para observar y priorizar buenas prácticas de sostenibilidad en Centros de Ciencia"}]
[]
[]
[]
[null,null,null,null,null,11,10,9,8,7,6,5,4,3,2,1]
[null,null,null,"Consecutivo",null,"1. ","2. ","3. ","4. ","5. ","6. ","7. ","8. ","9. ","10. ","Puntajes"]
[null,null,null,"Nombre del Criterio",null,"Tiempo","Dinero","Regulación","Infraestructura","Talento humano","Aliados","Fuerzas en contra"]
[null,null,null,"Peso específico",null,0.05,0.1,0.15,0.15,0.2,0.2,0.15,null,null,null,{"$f":"IF(SUM($F$10:$O$10)=1,SUM($F$10:$O$10),\"Falta asignar \"&TEXT(1-SUM(F10:O10),\"0%\"))","v":1}]
[null,null,null,"Escenario","Mejor","Empezar en 2017","Está presupuestado","Existente","Existente","Existente","Sin aliados","Existente",null,null,null,3]
[null,null,null,null,"Intermedio","Empezar en 2018","Requiere adiciones anuales","Ajustada","Ajustada","Fortalecido","Algunos aliados","Ajustada",null,null,null,2]
[null,null,null,null,"Peor","Después de 2018","Requiere vigencias futuras","Nueva","Nueva","Nuevo","Muchos aliados","Nueva",null,null,null,1]

{"sheet":"Matriz de priorización","index":2,"n_rows":1007,"n_cols":26,"rows_kept":1007,"cut":false,"hidden":false,"merged":[]}
[]
[null,null,null,{"$f":"+Nombres!E8","v":"Scopio"}]
[null,null,null,{"$f":"+Nombres!E9","v":"El instrumento para observar y priorizar buenas prácticas de sostenibilidad en Centros de Ciencia"}]
[]
[]
[null,null,null,null,null,null,null,null,null,null,null,null,null,null,null,{"$f":"+Parámetros!F10","v":0.05},{"$f":"+Parámetros!G10","v":0.1},{"$f":"+Parámetros!H10","v":0.15},{"$f":"+Parámetros!I10","v":0.15},{"$f":"+Parámetros!J10","v":0.2},{"$f":"+Parámetros!K10","v":0.2},{"$f":"+Parámetros!L10","v":0.15},{"$f":"+Parámetros!M10","v":0},{"$f":"+Parámetros!N10","v":0},{"$f":"+Parámetros!O10","v":0}]
[null,null,null,"Dimensión","Buena práctica",{"$f":"+Parámetros!F8&Parámetros!F9","v":"1. Tiempo"},{"$f":"+Parámetros!G8&Parámetros!G9","v":"2. Dinero"},{"$f":"+Parámetros!H8&Parámetros!H9","v":"3. Regulación"},{"$f":"+Parámetros!I8&Parámetros!I9","v":"4. Infraestructura"},{"$f":"+Parámetros!J8&Parámetros!J9","v":"5. Talento humano"},{"$f":"+Parámetros!K8&Parámetros!K9","v":"6. Aliados"},{"$f":"+Parámetros!L8&Parámetros!L9","v":"7. Fuerzas en contra"},{"$f":"+Parámetros!M8&Parámetros!M9","v":"8. "},{"$f":"+Parámetros!N8&Parámetros!N9","v":"9. "},{"$f":"+Parámetros!O8&Parámetros!O9","v":"10. "},{"$f":"+F7","v":"1. Tiempo"},{"$f":"+G7","v":"2. Dinero"},"3. Regulación","4. Infraestructura","5. Talento humano","6. Aliados","7. Fuerzas en contra","8. ","9. ","10. ","Totales"]
[null,null,null,{"$f":"IF(E8=\"\",\"\",VLOOKUP(E8,'Buenas prácticas'!$G$8:$H$1007,2,FALSE))","v":""},null,null,null,null,null,null,null,null,null,null,null,{"$f":"IF(F8=\"\",\"\",VLOOKUP(F8,Parámetros!F$11:$P$13,MAX(Parámetros!F$7:$P$7),FALSE))","v":""},{"$f":"IF(G8=\"\",\"\",VLOOKUP(G8,Parámetros!G$11:$P$13,MAX(Parámetros!G$7:$P$7),FALSE))","v":""},{"$f":"IF(H8=\"\",\"\",VLOOKUP(H8,Parámetros!H$11:$P$13,MAX(Parámetros!H$7:$P$7),FALSE))","v":""},{"$f":"IF(I8=\"\",\"\",VLOOKUP(I8,Parámetros!I$11:$P$13,MAX(Parámetros!I$7:$P$7),FALSE))","v":""},{"$f":"IF(J8=\"\",\"\",VLOOKUP(J8,Parámetros!J$11:$P$13,MAX(Parámetros!J$7:$P$7),FALSE))","v":""},{"$f":"IF(K8=\"\",\"\",VLOOKUP(K8,Parámetros!K$11:$P$13,MAX(Parámetros!K$7:$P$7),FALSE))","v":""},{"$f":"IF(L8=\"\",\"\",VLOOKUP(L8,Parámetros!L$11:$P$13,MAX(Parámetros!L$7:$P$7),FALSE))","v":""},{"$f":"IF(M8=\"\",\"\",VLOOKUP(M8,Parámetros!M$11:$P$13,MAX(Parámetros!M$7:$P$7),FALSE))","v":""},{"$f":"IF(N8=\"\",\"\",VLOOKUP(N8,Parámetros!N$11:$P$13,MAX(Parámetros!N$7:$P$7),FALSE))","v":""},{"$f":"IF(O8=\"\",\"\",VLOOKUP(O8,Parámetros!O$11:$P$13,MAX(Parámetros!O$7:$P$7),FALSE))","v":""},{"$f":"IF(SUMPRODUCT($P8:$Y8,$P$6:$Y$6)=0,\"\",SUMPRODUCT($P8:$Y8,$P$6:$Y$6)/3)","v":""}]
[null,null,null,{"$f":"IF(E9=\"\",\"\",VLOOKUP(E9,'Buenas prácticas'!$G$8:$H$1007,2,FALSE))","v":""},null,null,null,null,null,null,null,null,null,null,null,{"$f":"IF(F9=\"\",\"\",VLOOKUP(F9,Parámetros!F$11:$P$13,MAX(Parámetros!F$7:$P$7),FALSE))","v":""},{"$f":"IF(G9=\"\",\"\",VLOOKUP(G9,Parámetros!G$11:$P$13,MAX(Parámetros!G$7:$P$7),FALSE))","v":""},{"$f":"IF(H9=\"\",\"\",VLOOKUP(H9,Parámetros!H$11:$P$13,MAX(Parámetros!H$7:$P$7),FALSE))","v":""},{"$f":"IF(I9=\"\",\"\",VLOOKUP(I9,Parámetros!I$11:$P$13,MAX(Parámetros!I$7:$P$7),FALSE))","v":""},{"$f":"IF(J9=\"\",\"\",VLOOKUP(J9,Parámetros!J$11:$P$13,MAX(Parámetros!J$7:$P$7),FALSE))","v":""},{"$f":"IF(K9=\"\",\"\",VLOOKUP(K9,Parámetros!K$11:$P$13,MAX(Parámetros!K$7:$P$7),FALSE))","v":""},{"$f":"IF(L9=\"\",\"\",VLOOKUP(L9,Parámetros!L$11:$P$13,MAX(Parámetros!L$7:$P$7),FALSE))","v":""},{"$f":"IF(M9=\"\",\"\",VLOOKUP(M9,Parámetros!M$11:$P$13,MAX(Parámetros!M$7:$P$7),FALSE))","v":""},{"$f":"IF(N9=\"\",\"\",VLOOKUP(N9,Parámetros!N$11:$P$13,MAX(Parámetros!N$7:$P$7),FALSE))","v":""},{"$f":"IF(O9=\"\",\"\",VLOOKUP(O9,Parámetros!O$11:$P$13,MAX(Parámetros!O$7:$P$7),FALSE))","v":""},{"$f":"IF(SUMPRODUCT($P9:$Y9,$P$6:$Y$6)=0,\"\",SUMPRODUCT($P9:$Y9,$P$6:$Y$6)/3)","v":""}]
[null,null,null,{"$f":"IF(E10=\"\",\"\",VLOOKUP(E10,'Buenas prácticas'!$G$8:$H$1007,2,FALSE))","v":""},null,null,null,null,null,null,null,null,null,null,null,{"$f":"IF(F10=\"\",\"\",VLOOKUP(F10,Parámetros!F$11:$P$13,MAX(Parámetros!F$7:$P$7),FALSE))","v":""},{"$f":"IF(G10=\"\",\"\",VLOOKUP(G10,Parámetros!G$11:$P$13,MAX(Parámetros!G$7:$P$7),FALSE))","v":""},{"$f":"IF(H10=\"\",\"\",VLOOKUP(H10,Parámetros!H$11:$P$13,MAX(Parámetros!H$7:$P$7),FALSE))","v":""},{"$f":"IF(I10=\"\",\"\",VLOOKUP(I10,Parámetros!I$11:$P$13,MAX(Parámetros!I$7:$P$7),FALSE))","v":""},{"$f":"IF(J10=\"\",\"\",VLOOKUP(J10,Parámetros!J$11:$P$13,MAX(Parámetros!J$7:$P$7),FALSE))","v":""},{"$f":"IF(K10=\"\",\"\",VLOOKUP(K10,Parámetros!K$11:$P$13,MAX(Parámetros!K$7:$P$7),FALSE))","v":""},{"$f":"IF(L10=\"\",\"\",VLOOKUP(L10,Parámetros!L$11:$P$13,MAX(Parámetros!L$7:$P$7),FALSE))","v":""},{"$f":"IF(M10=\"\",\"\",VLOOKUP(M10,Parámetros!M$11:$P$13,MAX(Parámetros!M$7:$P$7),FALSE))","v":""},{"$f":"IF(N10=\"\",\"\",VLOOKUP(N10,Parámetros!N$11:$P$13,MAX(Parámetros!N$7:$P$7),FALSE))","v":""},{"$f":"IF(O10=\"\",\"\",VLOOKUP(O10,Parámetros!O$11:$P$13,MAX(Parámetros!O$7:$P$7),FALSE))","v":""},""]
[null,null,null,{"$f":"IF(E11=\"\",\"\",VLOOKUP(E11,'Buenas prácticas'!$G$8:$H$1007,2,FALSE))","v":""},null,null,null,null,null,null,null,null,null,null,null,{"$f":"IF(F11=\"\",\"\",VLOOKUP(F11,Parámetros!F$11:$P$13,MAX(Parámetros!F$7:$P$7),FALSE))","v":""},{"$f":"IF(G11=\"\",\"\",VLOOKUP(G11,Parámetros!G$11:$P$13,MAX(Parámetros!G$7:$P$7),FALSE))","v":""},{"$f":"IF(H11=\"\",\"\",VLOOKUP(H11,Parámetros!H$11:$P$13,MAX(Parámetros!H$7:$P$7),FALSE))","v":""},{"$f":"IF(I11=\"\",\"\",VLOOKUP(I11,Parámetros!I$11:$P$13,MAX(Parámetros!I$7:$P$7),FALSE))","v":""},{"$f":"IF(J11=\"\",\"\",VLOOKUP(J11,Parámetros!J$11:$P$13,MAX(Parámetros!J$7:$P$7),FALSE))","v":""},{"$f":"IF(K11=\"\",\"\",VLOOKUP(K11,Parámetros!K$11:$P$13,MAX(Parámetros!K$7:$P$7),FALSE))","v":""},{"$f":"IF(L11=\"\",\"\",VLOOKUP(L11,Parámetros!L$11:$P$13,MAX(Parámetros!L$7:$P$7),FALSE))","v":""},{"$f":"IF(M11=\"\",\"\",VLOOKUP(M11,Parámetros!M$11:$P$13,MAX(Parámetros!M$7:$P$7),FALSE))","v":""},{"$f":"IF(N11=\"\",\"\",VLOOKUP(N11,Parámetros!N$11:$P$13,MAX(Parámetros!N$7:$P$7),FALSE))","v":""},{"$f":"IF(O11=\"\",\"\",VLOOKUP(O11,Parámetros!O$11:$P$13,MAX(Parámetros!O$7:$P$7),FALSE))","v":""},""]
[null,null,null,{"$f":"IF(E12=\"\",\"\",VLOOKUP(E12,'Buenas prácticas'!$G$8:$H$1007,2,FALSE))","v":""},null,null,null,null,null,null,null,null,null,null,null,{"$f":"IF(F12=\"\",\"\",VLOOKUP(F12,Parámetros!F$11:$P$13,MAX(Parámetros!F$7:$P$7),FALSE))","v":""},{"$f":"IF(G12=\"\",\"\",VLOOKUP(G12,Parámetros!G$11:$P$13,MAX(Parámetros!G$7:$P$7),FALSE))","v":""},{"$f":"IF(H12=\"\",\"\",VLOOKUP(H12,Parámetros!H$11:$P$13,MAX(Parámetros!H$7:$P$7),FALSE))","v":""},{"$f":"IF(I12=\"\",\"\",VLOOKUP(I12,Parámetros!I$11:$P$13,MAX(Parámetros!I$7:$P$7),FALSE))","v":""},{"$f":"IF(J12=\"\",\"\",VLOOKUP(J12,Parámetros!J$11:$P$13,MAX(Parámetros!J$7:$P$7),FALSE))","v":""},{"$f":"IF(K12=\"\",\"\",VLOOKUP(K12,Parámetros!K$11:$P$13,MAX(Parámetros!K$7:$P$7),FALSE))","v":""},{"$f":"IF(L12=\"\",\"\",VLOOKUP(L12,Parámetros!L$11:$P$13,MAX(Parámetros!L$7:$P$7),FALSE))","v":""},{"$f":"IF(M12=\"\",\"\",VLOOKUP(M12,Parámetros!M$11:$P$13,MAX(Parámetros!M$7:$P$7),FALSE))","v":""},{"$f":"IF(N12=\"\",\"\",VLOOKUP(N12,Parámetros!N$11:$P$13,MAX(Parámetros!N$7:$P$7),FALSE))","v":""},{"$f":"IF(O12=\"\",\"\",VLOOKUP(O12,Parámetros!O$11:$P$13,MAX(Parámetros!O$7:$P$7),FALSE))","v":""},""]
[null,null,null,{"$f":"IF(E13=\"\",\"\",VLOOKUP(E13,'Buenas prácticas'!$G$8:$H$1007,2,FALSE))","v":""},null,null,null,null,null,null,null,null,null,null,null,{"$f":"IF(F13=\"\",\"\",VLOOKUP(F13,Parámetros!F$11:$P$13,MAX(Parámetros!F$7:$P$7),FALSE))","v":""},{"$f":"IF(G13=\"\",\"\",VLOOKUP(G13,Parámetros!G$11:$P$13,MAX(Parámetros!G$7:$P$7),FALSE))","v":""},{"$f":"IF(H13=\"\",\"\",VLOOKUP(H13,Parámetros!H$11:$P$13,MAX(Parámetros!H$7:$P$7),FALSE))","v":""},{"$f":"IF(I13=\"\",\"\",VLOOKUP(I13,Parámetros!I$11:$P$13,MAX(Parámetros!I$7:$P$7),FALSE))","v":""},{"$f":"IF(J13=\"\",\"\",VLOOKUP(J13,Parámetros!J$11:$P$13,MAX(Parámetros!J$7:$P$7),FALSE))","v":""},{"$f":"IF(K13=\"\",\"\",VLOOKUP(K13,Parámetros!K$11:$P$13,MAX(Parámetros!K$7:$P$7),FALSE))","v":""},{"$f":"IF(L13=\"\",\"\",VLOOKUP(L13,Parámetros!L$11:$P$13,MAX(Parámetros!L$7:$P$7),FALSE))","v":""},{"$f":"IF(M13=\"\",\"\",VLOOKUP(M13,Parámetros!M$11:$P$13,MAX(Parámetros!M$7:$P$7),FALSE))","v":""},{"$f":"IF(N13=\"\",\"\",VLOOKUP(N13,Parámetros!N$11:$P$13,MAX(Parámetros!N$7:$P$7),FALSE))","v":""},{"$f":"IF(O13=\"\",\"\",VLOOKUP(O13,Parámetros!O$11:$P$13,MAX(Parámetros!O$7:$P$7),FALSE))","v":""},""]
[null,null,null,{"$f":"IF(E14=\"\",\"\",VLOOKUP(E14,'Buenas prácticas'!$G$8:$H$1007,2,FALSE))","v":""},null,null,null,null,null,null,null,null,null,null,null,{"$f":"IF(F14=\"\",\"\",VLOOKUP(F14,Parámetros!F$11:$P$13,MAX(Parámetros!F$7:$P$7),FALSE))","v":""},{"$f":"IF(G14=\"\",\"\",VLOOKUP(G14,Parámetros!G$11:$P$13,MAX(Parámetros!G$7:$P$7),FALSE))","v":""},{"$f":"IF(H14=\"\",\"\",VLOOKUP(H14,Parámetros!H$11:$P$13,MAX(Parámetros!H$7:$P$7),FALSE))","v":""},{"$f":"IF(I14=\"\",\"\",VLOOKUP(I14,Parámetros!I$11:$P$13,MAX(Parámetros!I$7:$P$7),FALSE))","v":""},{"$f":"IF(J14=\"\",\"\",VLOOKUP(J14,Parámetros!J$11:$P$13,MAX(Parámetros!J$7:$P$7),FALSE))","v":""},{"$f":"IF(K14=\"\",\"\",VLOOKUP(K14,Parámetros!K$11:$P$13,MAX(Parámetros!K$7:$P$7),FALSE))","v":""},{"$f":"IF(L14=\"\",\"\",VLOOKUP(L14,Parámetros!L$11:$P$13,MAX(Parámetros!L$7:$P$7),FALSE))","v":""},{"$f":"IF(M14=\"\",\"\",VLOOKUP(M14,Parámetros!M$11:$P$13,MAX(Parámetros!M$7:$P$7),FALSE))","v":""},{"$f":"IF(N14=\"\",\"\",VLOOKUP(N14,Parámetros!N$11:$P$13,MAX(Parámetros!N$7:$P$7),FALSE))","v":""},{"$f":"IF(O14=\"\",\"\",VLOOKUP(O14,Parámetros!O$11:$P$13,MAX(Parámetros!O$7:$P$7),FALSE))","v":""},""]
[null,null,null,{"$f":"IF(E15=\"\",\"\",VLOOKUP(E15,'Buenas prácticas'!$G$8:$H$1007,2,FALSE))","v":""},null,null,null,null,null,null,null,null,null,null,null,{"$f":"IF(F15=\"\",\"\",VLOOKUP(F15,Parámetros!F$11:$P$13,MAX(Parámetros!F$7:$P$7),FALSE))","v":""},{"$f":"IF(G15=\"\",\"\",VLOOKUP(G15,Parámetros!G$11:$P$13,MAX(Parámetros!G$7:$P$7),FALSE))","v":""},{"$f":"IF(H15=\"\",\"\",VLOOKUP(H15,Parámetros!H$11:$P$13,MAX(Parámetros!H$7:$P$7),FALSE))","v":""},{"$f":"IF(I15=\"\",\"\",VLOOKUP(I15,Parámetros!I$11:$P$13,MAX(Parámetros!I$7:$P$7),FALSE))","v":""},{"$f":"IF(J15=\"\",\"\",VLOOKUP(J15,Parámetros!J$11:$P$13,MAX(Parámetros!J$7:$P$7),FALSE))","v":""},{"$f":"IF(K15=\"\",\"\",VLOOKUP(K15,Parámetros!K$11:$P$13,MAX(Parámetros!K$7:$P$7),FALSE))","v":""},{"$f":"IF(L15=\"\",\"\",VLOOKUP(L15,Parámetros!L$11:$P$13,MAX(Parámetros!L$7:$P$7),FALSE))","v":""},{"$f":"IF(M15=\"\",\"\",VLOOKUP(M15,Parámetros!M$11:$P$13,MAX(Parámetros!M$7:$P$7),FALSE))","v":""},{"$f":"IF(N15=\"\",\"\",VLOOKUP(N15,Parámetros!N$11:$P$13,MAX(Parámetros!N$7:$P$7),FALSE))","v":""},{"$f":"IF(O15=\"\",\"\",VLOOKUP(O15,Parámetros!O$11:$P$13,MAX(Parámetros!O$7:$P$7),FALSE))","v":""},""]
[null,null,null,{"$f":"IF(E16=\"\",\"\",VLOOKUP(E16,'Buenas prácticas'!$G$8:$H$1007,2,FALSE))","v":""},null,null,null,null,null,null,null,null,null,null,null,{"$f":"IF(F16=\"\",\"\",VLOOKUP(F16,Parámetros!F$11:$P$13,MAX(Parámetros!F$7:$P$7),FALSE))","v":""},{"$f":"IF(G16=\"\",\"\",VLOOKUP(G16,Parámetros!G$11:$P$13,MAX(Parámetros!G$7:$P$7),FALSE))","v":""},{"$f":"IF(H16=\"\",\"\",VLOOKUP(H16,Parámetros!H$11:$P$13,MAX(Parámetros!H$7:$P$7),FALSE))","v":""},{"$f":"IF(I16=\"\",\"\",VLOOKUP(I16,Parámetros!I$11:$P$13,MAX(Parámetros!I$7:$P$7),FALSE))","v":""},{"$f":"IF(J16=\"\",\"\",VLOOKUP(J16,Parámetros!J$11:$P$13,MAX(Parámetros!J$7:$P$7),FALSE))","v":""},{"$f":"IF(K16=\"\",\"\",VLOOKUP(K16,Parámetros!K$11:$P$13,MAX(Parámetros!K$7:$P$7),FALSE))","v":""},{"$f":"IF(L16=\"\",\"\",VLOOKUP(L16,Parámetros!L$11:$P$13,MAX(Parámetros!L$7:$P$7),FALSE))","v":""},{"$f":"IF(M16=\"\",\"\",VLOOKUP(M16,Parámetros!M$11:$P$13,MAX(Parámetros!M$7:$P$7),FALSE))","v":""},{"$f":"IF(N16=\"\",\"\",VLOOKUP(N16,Parámetros!N$11:$P$13,MAX(Parámetros!N$7:$P$7),FALSE))","v":""},{"$f":"IF(O16=\"\",\"\",VLOOKUP(O16,Parámetros!O$11:$P$13,MAX(Parámetros!O$7:$P$7),FALSE))","v":""},""]
[null,null,null,{"$f":"IF(E17=\"\",\"\",VLOOKUP(E17,'Buenas prácticas'!$G$8:$H$1007,2,FALSE))","v":""},null,null,null,null,null,null,null,null,null,null,null,{"$f":"IF(F17=\"\",\"\",VLOOKUP(F17,Parámetros!F$11:$P$13,MAX(Parámetros!F$7:$P$7),FALSE))","v":""},{"$f":"IF(G17=\"\",\"\",VLOOKUP(G17,Parámetros!G$11:$P$13,MAX(Parámetros!G$7:$P$7),FALSE))","v":""},{"$f":"IF(H17=\"\",\"\",VLOOKUP(H17,Parámetros!H$11:$P$13,MAX(Parámetros!H$7:$P$7),FALSE))","v":""},{"$f":"IF(I17=\"\",\"\",VLOOKUP(I17,Parámetros!I$11:$P$13,MAX(Parámetros!I$7:$P$7),FALSE))","v":""},{"$f":"IF(J17=\"\",\"\",VLOOKUP(J17,Parámetros!J$11:$P$13,MAX(Parámetros!J$7:$P$7),FALSE))","v":""},{"$f":"IF(K17=\"\",\"\",VLOOKUP(K17,Parámetros!K$11:$P$13,MAX(Parámetros!K$7:$P$7),FALSE))","v":""},{"$f":"IF(L17=\"\",\"\",VLOOKUP(L17,Parámetros!L$11:$P$13,MAX(Parámetros!L$7:$P$7),FALSE))","v":""},{"$f":"IF(M17=\"\",\"\",VLOOKUP(M17,Parámetros!M$11:$P$13,MAX(Parámetros!M$7:$P$7),FALSE))","v":""},{"$f":"IF(N17=\"\",\"\",VLOOKUP(N17,Parámetros!N$11:$P$13,MAX(Parámetros!N$7:$P$7),FALSE))","v":""},{"$f":"IF(O17=\"\",\"\",VLOOKUP(O17,Parámetros!O$11:$P$13,MAX(Parámetros!O$7:$P$7),FALSE))","v":""},""]
[null,null,null,{"$f":"IF(E18=\"\",\"\",VLOOKUP(E18,'Buenas prácticas'!$G$8:$H$1007,2,FALSE))","v":""},null,null,null,null,null,null,null,null,null,null,null,{"$f":"IF(F18=\"\",\"\",VLOOKUP(F18,Parámetros!F$11:$P$13,MAX(Parámetros!F$7:$P$7),FALSE))","v":""},{"$f":"IF(G18=\"\",\"\",VLOOKUP(G18,Parámetros!G$11:$P$13,MAX(Parámetros!G$7:$P$7),FALSE))","v":""},{"$f":"IF(H18=\"\",\"\",VLOOKUP(H18,Parámetros!H$11:$P$13,MAX(Parámetros!H$7:$P$7),FALSE))","v":""},{"$f":"IF(I18=\"\",\"\",VLOOKUP(I18,Parámetros!I$11:$P$13,MAX(Parámetros!I$7:$P$7),FALSE))","v":""},{"$f":"IF(J18=\"\",\"\",VLOOKUP(J18,Parámetros!J$11:$P$13,MAX(Parámetros!J$7:$P$7),FALSE))","v":""},{"$f":"IF(K18=\"\",\"\",VLOOKUP(K18,Parámetros!K$11:$P$13,MAX(Parámetros!K$7:$P$7),FALSE))","v":""},{"$f":"IF(L18=\"\",\"\",VLOOKUP(L18,Parámetros!L$11:$P$13,MAX(Parámetros!L$7:$P$7),FALSE))","v":""},{"$f":"IF(M18=\"\",\"\",VLOOKUP(M18,Parámetros!M$11:$P$13,MAX(Parámetros!M$7:$P$7),FALSE))","v":""},{"$f":"IF(N18=\"\",\"\",VLOOKUP(N18,Parámetros!N$11:$P$13,MAX(Parámetros!N$7:$P$7),FALSE))","v":""},{"$f":"IF(O18=\"\",\"\",VLOOKUP(O18,Parámetros!O$11:$P$13,MAX(Parámetros!O$7:$P$7),FALSE))","v":""},""]
[null,null,null,{"$f":"IF(E19=\"\",\"\",VLOOKUP(E19,'Buenas prácticas'!$G$8:$H$1007,2,FALSE))","v":""},null,null,null,null,null,null,null,null,null,null,null,{"$f":"IF(F19=\"\",\"\",VLOOKUP(F19,Parámetros!F$11:$P$13,MAX(Parámetros!F$7:$P$7),FALSE))","v":""},{"$f":"IF(G19=\"\",\"\",VLOOKUP(G19,Parámetros!G$11:$P$13,MAX(Parámetros!G$7:$P$7),FALSE))","v":""},{"$f":"IF(H19=\"\",\"\",VLOOKUP(H19,Parámetros!H$11:$P$13,MAX(Parámetros!H$7:$P$7),FALSE))","v":""},{"$f":"IF(I19=\"\",\"\",VLOOKUP(I19,Parámetros!I$11:$P$13,MAX(Parámetros!I$7:$P$7),FALSE))","v":""},{"$f":"IF(J19=\"\",\"\",VLOOKUP(J19,Parámetros!J$11:$P$13,MAX(Parámetros!J$7:$P$7),FALSE))","v":""},{"$f":"IF(K19=\"\",\"\",VLOOKUP(K19,Parámetros!K$11:$P$13,MAX(Parámetros!K$7:$P$7),FALSE))","v":""},{"$f":"IF(L19=\"\",\"\",VLOOKUP(L19,Parámetros!L$11:$P$13,MAX(Parámetros!L$7:$P$7),FALSE))","v":""},{"$f":"IF(M19=\"\",\"\",VLOOKUP(M19,Parámetros!M$11:$P$13,MAX(Parámetros!M$7:$P$7),FALSE))","v":""},{"$f":"IF(N19=\"\",\"\",VLOOKUP(N19,Parámetros!N$11:$P$13,MAX(Parámetros!N$7:$P$7),FALSE))","v":""},{"$f":"IF(O19=\"\",\"\",VLOOKUP(O19,Parámetros!O$11:$P$13,MAX(Parámetros!O$7:$P$7),FALSE))","v":""},""]
[null,null,null,{"$f":"IF(E20=\"\",\"\",VLOOKUP(E20,'Buenas prácticas'!$G$8:$H$1007,2,FALSE))","v":""},null,null,null,null,null,null,null,null,null,null,null,{"$f":"IF(F20=\"\",\"\",VLOOKUP(F20,Parámetros!F$11:$P$13,MAX(Parámetros!F$7:$P$7),FALSE))","v":""},{"$f":"IF(G20=\"\",\"\",VLOOKUP(G20,Parámetros!G$11:$P$13,MAX(Parámetros!G$7:$P$7),FALSE))","v":""},{"$f":"IF(H20=\"\",\"\",VLOOKUP(H20,Parámetros!H$11:$P$13,MAX(Parámetros!H$7:$P$7),FALSE))","v":""},{"$f":"IF(I20=\"\",\"\",VLOOKUP(I20,Parámetros!I$11:$P$13,MAX(Parámetros!I$7:$P$7),FALSE))","v":""},{"$f":"IF(J20=\"\",\"\",VLOOKUP(J20,Parámetros!J$11:$P$13,MAX(Parámetros!J$7:$P$7),FALSE))","v":""},{"$f":"IF(K20=\"\",\"\",VLOOKUP(K20,Parámetros!K$11:$P$13,MAX(Parámetros!K$7:$P$7),FALSE))","v":""},{"$f":"IF(L20=\"\",\"\",VLOOKUP(L20,Parámetros!L$11:$P$13,MAX(Parámetros!L$7:$P$7),FALSE))","v":""},{"$f":"IF(M20=\"\",\"\",VLOOKUP(M20,Parámetros!M$11:$P$13,MAX(Parámetros!M$7:$P$7),FALSE))","v":""},{"$f":"IF(N20=\"\",\"\",VLOOKUP(N20,Parámetros!N$11:$P$13,MAX(Parámetros!N$7:$P$7),FALSE))","v":""},{"$f":"IF(O20=\"\",\"\",VLOOKUP(O20,Parámetros!O$11:$P$13,MAX(Parámetros!O$7:$P$7),FALSE))","v":""},""]
[null,null,null,{"$f":"IF(E21=\"\",\"\",VLOOKUP(E21,'Buenas prácticas'!$G$8:$H$1007,2,FALSE))","v":""},null,null,null,null,null,null,null,null,null,null,null,{"$f":"IF(F21=\"\",\"\",VLOOKUP(F21,Parámetros!F$11:$P$13,MAX(Parámetros!F$7:$P$7),FALSE))","v":""},{"$f":"IF(G21=\"\",\"\",VLOOKUP(G21,Parámetros!G$11:$P$13,MAX(Parámetros!G$7:$P$7),FALSE))","v":""},{"$f":"IF(H21=\"\",\"\",VLOOKUP(H21,Parámetros!H$11:$P$13,MAX(Parámetros!H$7:$P$7),FALSE))","v":""},{"$f":"IF(I21=\"\",\"\",VLOOKUP(I21,Parámetros!I$11:$P$13,MAX(Parámetros!I$7:$P$7),FALSE))","v":""},{"$f":"IF(J21=\"\",\"\",VLOOKUP(J21,Parámetros!J$11:$P$13,MAX(Parámetros!J$7:$P$7),FALSE))","v":""},{"$f":"IF(K21=\"\",\"\",VLOOKUP(K21,Parámetros!K$11:$P$13,MAX(Parámetros!K$7:$P$7),FALSE))","v":""},{"$f":"IF(L21=\"\",\"\",VLOOKUP(L21,Parámetros!L$11:$P$13,MAX(Parámetros!L$7:$P$7),FALSE))","v":""},{"$f":"IF(M21=\"\",\"\",VLOOKUP(M21,Parámetros!M$11:$P$13,MAX(Parámetros!M$7:$P$7),FALSE))","v":""},{"$f":"IF(N21=\"\",\"\",VLOOKUP(N21,Parámetros!N$11:$P$13,MAX(Parámetros!N$7:$P$7),FALSE))","v":""},{"$f":"IF(O21=\"\",\"\",VLOOKUP(O21,Parámetros!O$11:$P$13,MAX(Parámetros!O$7:$P$7),FALSE))","v":""},""]
[null,null,null,{"$f":"IF(E22=\"\",\"\",VLOOKUP(E22,'Buenas prácticas'!$G$8:$H$1007,2,FALSE))","v":""},null,null,null,null,null,null,null,null,null,null,null,{"$f":"IF(F22=\"\",\"\",VLOOKUP(F22,Parámetros!F$11:$P$13,MAX(Parámetros!F$7:$P$7),FALSE))","v":""},{"$f":"IF(G22=\"\",\"\",VLOOKUP(G22,Parámetros!G$11:$P$13,MAX(Parámetros!G$7:$P$7),FALSE))","v":""},{"$f":"IF(H22=\"\",\"\",VLOOKUP(H22,Parámetros!H$11:$P$13,MAX(Parámetros!H$7:$P$7),FALSE))","v":""},{"$f":"IF(I22=\"\",\"\",VLOOKUP(I22,Parámetros!I$11:$P$13,MAX(Parámetros!I$7:$P$7),FALSE))","v":""},{"$f":"IF(J22=\"\",\"\",VLOOKUP(J22,Parámetros!J$11:$P$13,MAX(Parámetros!J$7:$P$7),FALSE))","v":""},{"$f":"IF(K22=\"\",\"\",VLOOKUP(K22,Parámetros!K$11:$P$13,MAX(Parámetros!K$7:$P$7),FALSE))","v":""},{"$f":"IF(L22=\"\",\"\",VLOOKUP(L22,Parámetros!L$11:$P$13,MAX(Parámetros!L$7:$P$7),FALSE))","v":""},{"$f":"IF(M22=\"\",\"\",VLOOKUP(M22,Parámetros!M$11:$P$13,MAX(Parámetros!M$7:$P$7),FALSE))","v":""},{"$f":"IF(N22=\"\",\"\",VLOOKUP(N22,Parámetros!N$11:$P$13,MAX(Parámetros!N$7:$P$7),FALSE))","v":""},{"$f":"IF(O22=\"\",\"\",VLOOKUP(O22,Parámetros!O$11:$P$13,MAX(Parámetros!O$7:$P$7),FALSE))","v":""},""]
[null,null,null,{"$f":"IF(E23=\"\",\"\",VLOOKUP(E23,'Buenas prácticas'!$G$8:$H$1007,2,FALSE))","v":""},null,null,null,null,null,null,null,null,null,null,null,{"$f":"IF(F23=\"\",\"\",VLOOKUP(F23,Parámetros!F$11:$P$13,MAX(Parámetros!F$7:$P$7),FALSE))","v":""},{"$f":"IF(G23=\"\",\"\",VLOOKUP(G23,Parámetros!G$11:$P$13,MAX(Parámetros!G$7:$P$7),FALSE))","v":""},{"$f":"IF(H23=\"\",\"\",VLOOKUP(H23,Parámetros!H$11:$P$13,MAX(Parámetros!H$7:$P$7),FALSE))","v":""},{"$f":"IF(I23=\"\",\"\",VLOOKUP(I23,Parámetros!I$11:$P$13,MAX(Parámetros!I$7:$P$7),FALSE))","v":""},{"$f":"IF(J23=\"\",\"\",VLOOKUP(J23,Parámetros!J$11:$P$13,MAX(Parámetros!J$7:$P$7),FALSE))","v":""},{"$f":"IF(K23=\"\",\"\",VLOOKUP(K23,Parámetros!K$11:$P$13,MAX(Parámetros!K$7:$P$7),FALSE))","v":""},{"$f":"IF(L23=\"\",\"\",VLOOKUP(L23,Parámetros!L$11:$P$13,MAX(Parámetros!L$7:$P$7),FALSE))","v":""},{"$f":"IF(M23=\"\",\"\",VLOOKUP(M23,Parámetros!M$11:$P$13,MAX(Parámetros!M$7:$P$7),FALSE))","v":""},{"$f":"IF(N23=\"\",\"\",VLOOKUP(N23,Parámetros!N$11:$P$13,MAX(Parámetros!N$7:$P$7),FALSE))","v":""},{"$f":"IF(O23=\"\",\"\",VLOOKUP(O23,Parámetros!O$11:$P$13,MAX(Parámetros!O$7:$P$7),FALSE))","v":""},""]
[null,null,null,{"$f":"IF(E24=\"\",\"\",VLOOKUP(E24,'Buenas prácticas'!$G$8:$H$1007,2,FALSE))","v":""},null,null,null,null,null,null,null,null,null,null,null,{"$f":"IF(F24=\"\",\"\",VLOOKUP(F24,Parámetros!F$11:$P$13,MAX(Parámetros!F$7:$P$7),FALSE))","v":""},{"$f":"IF(G24=\"\",\"\",VLOOKUP(G24,Parámetros!G$11:$P$13,MAX(Parámetros!G$7:$P$7),FALSE))","v":""},{"$f":"IF(H24=\"\",\"\",VLOOKUP(H24,Parámetros!H$11:$P$13,MAX(Parámetros!H$7:$P$7),FALSE))","v":""},{"$f":"IF(I24=\"\",\"\",VLOOKUP(I24,Parámetros!I$11:$P$13,MAX(Parámetros!I$7:$P$7),FALSE))","v":""},{"$f":"IF(J24=\"\",\"\",VLOOKUP(J24,Parámetros!J$11:$P$13,MAX(Parámetros!J$7:$P$7),FALSE))","v":""},{"$f":"IF(K24=\"\",\"\",VLOOKUP(K24,Parámetros!K$11:$P$13,MAX(Parámetros!K$7:$P$7),FALSE))","v":""},{"$f":"IF(L24=\"\",\"\",VLOOKUP(L24,Parámetros!L$11:$P$13,MAX(Parámetros!L$7:$P$7),FALSE))","v":""},{"$f":"IF(M24=\"\",\"\",VLOOKUP(M24,Parámetros!M$11:$P$13,MAX(Parámetros!M$7:$P$7),FALSE))","v":""},{"$f":"IF(N24=\"\",\"\",VLOOKUP(N24,Parámetros!N$11:$P$13,MAX(Parámetros!N$7:$P$7),FALSE))","v":""},{"$f":"IF(O24=\"\",\"\",VLOOKUP(O24,Parámetros!O$11:$P$13,MAX(Parámetros!O$7:$P$7),FALSE))","v":""},""]
[null,null,null,{"$f":"IF(E25=\"\",\"\",VLOOKUP(E25,'Buenas prácticas'!$G$8:$H$1007,2,FALSE))","v":""},null,null,null,null,null,null,null,null,null,null,null,{"$f":"IF(F25=\"\",\"\",VLOOKUP(F25,Parámetros!F$11:$P$13,MAX(Parámetros!F$7:$P$7),FALSE))","v":""},{"$f":"IF(G25=\"\",\"\",VLOOKUP(G25,Parámetros!G$11:$P$13,MAX(Parámetros!G$7:$P$7),FALSE))","v":""},{"$f":"IF(H25=\"\",\"\",VLOOKUP(H25,Parámetros!H$11:$P$13,MAX(Parámetros!H$7:$P$7),FALSE))","v":""},{"$f":"IF(I25=\"\",\"\",VLOOKUP(I25,Parámetros!I$11:$P$13,MAX(Parámetros!I$7:$P$7),FALSE))","v":""},{"$f":"IF(J25=\"\",\"\",VLOOKUP(J25,Parámetros!J$11:$P$13,MAX(Parámetros!J$7:$P$7),FALSE))","v":""},{"$f":"IF(K25=\"\",\"\",VLOOKUP(K25,Parámetros!K$11:$P$13,MAX(Parámetros!K$7:$P$7),FALSE))","v":""},{"$f":"IF(L25=\"\",\"\",VLOOKUP(L25,Parámetros!L$11:$P$13,MAX(Parámetros!L$7:$P$7),FALSE))","v":""},{"$f":"IF(M25=\"\",\"\",VLOOKUP(M25,Parámetros!M$11:$P$13,MAX(Parámetros!M$7:$P$7),FALSE))","v":""},{"$f":"IF(N25=\"\",\"\",VLOOKUP(N25,Parámetros!N$11:$P$13,MAX(Parámetros!N$7:$P$7),FALSE))","v":""},{"$f":"IF(O25=\"\",\"\",VLOOKUP(O25,Parámetros!O$11:$P$13,MAX(Parámetros!O$7:$P$7),FALSE))","v":""},""]
[null,null,null,{"$f":"IF(E26=\"\",\"\",VLOOKUP(E26,'Buenas prácticas'!$G$8:$H$1007,2,FALSE))","v":""},null,null,null,null,null,null,null,null,null,null,null,{"$f":"IF(F26=\"\",\"\",VLOOKUP(F26,Parámetros!F$11:$P$13,MAX(Parámetros!F$7:$P$7),FALSE))","v":""},{"$f":"IF(G26=\"\",\"\",VLOOKUP(G26,Parámetros!G$11:$P$13,MAX(Parámetros!G$7:$P$7),FALSE))","v":""},{"$f":"IF(H26=\"\",\"\",VLOOKUP(H26,Parámetros!H$11:$P$13,MAX(Parámetros!H$7:$P$7),FALSE))","v":""},{"$f":"IF(I26=\"\",\"\",VLOOKUP(I26,Parámetros!I$11:$P$13,MAX(Parámetros!I$7:$P$7),FALSE))","v":""},{"$f":"IF(J26=\"\",\"\",VLOOKUP(J26,Parámetros!J$11:$P$13,MAX(Parámetros!J$7:$P$7),FALSE))","v":""},{"$f":"IF(K26=\"\",\"\",VLOOKUP(K26,Parámetros!K$11:$P$13,MAX(Parámetros!K$7:$P$7),FALSE))","v":""},{"$f":"IF(L26=\"\",\"\",VLOOKUP(L26,Parámetros!L$11:$P$13,MAX(Parámetros!L$7:$P$7),FALSE))","v":""},{"$f":"IF(M26=\"\",\"\",VLOOKUP(M26,Parámetros!M$11:$P$13,MAX(Parámetros!M$7:$P$7),FALSE))","v":""},{"$f":"IF(N26=\"\",\"\",VLOOKUP(N26,Parámetros!N$11:$P$13,MAX(Parámetros!N$7:$P$7),FALSE))","v":""},{"$f":"IF(O26=\"\",\"\",VLOOKUP(O26,Parámetros!O$11:$P$13,MAX(Parámetros!O$7:$P$7),FALSE))","v":""},""]
[null,null,null,{"$f":"IF(E27=\"\",\"\",VLOOKUP(E27,'Buenas prácticas'!$G$8:$H$1007,2,FALSE))","v":""},null,null,null,null,null,null,null,null,null,null,null,{"$f":"IF(F27=\"\",\"\",VLOOKUP(F27,Parámetros!F$11:$P$13,MAX(Parámetros!F$7:$P$7),FALSE))","v":""},{"$f":"IF(G27=\"\",\"\",VLOOKUP(G27,Parámetros!G$11:$P$13,MAX(Parámetros!G$7:$P$7),FALSE))","v":""},{"$f":"IF(H27=\"\",\"\",VLOOKUP(H27,Parámetros!H$11:$P$13,MAX(Parámetros!H$7:$P$7),FALSE))","v":""},{"$f":"IF(I27=\"\",\"\",VLOOKUP(I27,Parámetros!I$11:$P$13,MAX(Parámetros!I$7:$P$7),FALSE))","v":""},{"$f":"IF(J27=\"\",\"\",VLOOKUP(J27,Parámetros!J$11:$P$13,MAX(Parámetros!J$7:$P$7),FALSE))","v":""},{"$f":"IF(K27=\"\",\"\",VLOOKUP(K27,Parámetros!K$11:$P$13,MAX(Parámetros!K$7:$P$7),FALSE))","v":""},{"$f":"IF(L27=\"\",\"\",VLOOKUP(L27,Parámetros!L$11:$P$13,MAX(Parámetros!L$7:$P$7),FALSE))","v":""},{"$f":"IF(M27=\"\",\"\",VLOOKUP(M27,Parámetros!M$11:$P$13,MAX(Parámetros!M$7:$P$7),FALSE))","v":""},{"$f":"IF(N27=\"\",\"\",VLOOKUP(N27,Parámetros!N$11:$P$13,MAX(Parámetros!N$7:$P$7),FALSE))","v":""},{"$f":"IF(O27=\"\",\"\",VLOOKUP(O27,Parámetros!O$11:$P$13,MAX(Parámetros!O$7:$P$7),FALSE))","v":""},""]
[null,null,null,{"$f":"IF(E28=\"\",\"\",VLOOKUP(E28,'Buenas prácticas'!$G$8:$H$1007,2,FALSE))","v":""},null,null,null,null,null,null,null,null,null,null,null,{"$f":"IF(F28=\"\",\"\",VLOOKUP(F28,Parámetros!F$11:$P$13,MAX(Parámetros!F$7:$P$7),FALSE))","v":""},{"$f":"IF(G28=\"\",\"\",VLOOKUP(G28,Parámetros!G$11:$P$13,MAX(Parámetros!G$7:$P$7),FALSE))","v":""},{"$f":"IF(H28=\"\",\"\",VLOOKUP(H28,Parámetros!H$11:$P$13,MAX(Parámetros!H$7:$P$7),FALSE))","v":""},{"$f":"IF(I28=\"\",\"\",VLOOKUP(I28,Parámetros!I$11:$P$13,MAX(Parámetros!I$7:$P$7),FALSE))","v":""},{"$f":"IF(J28=\"\",\"\",VLOOKUP(J28,Parámetros!J$11:$P$13,MAX(Parámetros!J$7:$P$7),FALSE))","v":""},{"$f":"IF(K28=\"\",\"\",VLOOKUP(K28,Parámetros!K$11:$P$13,MAX(Parámetros!K$7:$P$7),FALSE))","v":""},{"$f":"IF(L28=\"\",\"\",VLOOKUP(L28,Parámetros!L$11:$P$13,MAX(Parámetros!L$7:$P$7),FALSE))","v":""},{"$f":"IF(M28=\"\",\"\",VLOOKUP(M28,Parámetros!M$11:$P$13,MAX(Parámetros!M$7:$P$7),FALSE))","v":""},{"$f":"IF(N28=\"\",\"\",VLOOKUP(N28,Parámetros!N$11:$P$13,MAX(Parámetros!N$7:$P$7),FALSE))","v":""},{"$f":"IF(O28=\"\",\"\",VLOOKUP(O28,Parámetros!O$11:$P$13,MAX(Parámetros!O$7:$P$7),FALSE))","v":""},""]
[null,null,null,{"$f":"IF(E29=\"\",\"\",VLOOKUP(E29,'Buenas prácticas'!$G$8:$H$1007,2,FALSE))","v":""},null,null,null,null,null,null,null,null,null,null,null,{"$f":"IF(F29=\"\",\"\",VLOOKUP(F29,Parámetros!F$11:$P$13,MAX(Parámetros!F$7:$P$7),FALSE))","v":""},{"$f":"IF(G29=\"\",\"\",VLOOKUP(G29,Parámetros!G$11:$P$13,MAX(Parámetros!G$7:$P$7),FALSE))","v":""},{"$f":"IF(H29=\"\",\"\",VLOOKUP(H29,Parámetros!H$11:$P$13,MAX(Parámetros!H$7:$P$7),FALSE))","v":""},{"$f":"IF(I29=\"\",\"\",VLOOKUP(I29,Parámetros!I$11:$P$13,MAX(Parámetros!I$7:$P$7),FALSE))","v":""},{"$f":"IF(J29=\"\",\"\",VLOOKUP(J29,Parámetros!J$11:$P$13,MAX(Parámetros!J$7:$P$7),FALSE))","v":""},{"$f":"IF(K29=\"\",\"\",VLOOKUP(K29,Parámetros!K$11:$P$13,MAX(Parámetros!K$7:$P$7),FALSE))","v":""},{"$f":"IF(L29=\"\",\"\",VLOOKUP(L29,Parámetros!L$11:$P$13,MAX(Parámetros!L$7:$P$7),FALSE))","v":""},{"$f":"IF(M29=\"\",\"\",VLOOKUP(M29,Parámetros!M$11:$P$13,MAX(Parámetros!M$7:$P$7),FALSE))","v":""},{"$f":"IF(N29=\"\",\"\",VLOOKUP(N29,Parámetros!N$11:$P$13,MAX(Parámetros!N$7:$P$7),FALSE))","v":""},{"$f":"IF(O29=\"\",\"\",VLOOKUP(O29,Parámetros!O$11:$P$13,MAX(Parámetros!O$7:$P$7),FALSE))","v":""},""]
[null,null,null,{"$f":"IF(E30=\"\",\"\",VLOOKUP(E30,'Buenas prácticas'!$G$8:$H$1007,2,FALSE))","v":""},null,null,null,null,null,null,null,null,null,null,null,{"$f":"IF(F30=\"\",\"\",VLOOKUP(F30,Parámetros!F$11:$P$13,MAX(Parámetros!F$7:$P$7),FALSE))","v":""},{"$f":"IF(G30=\"\",\"\",VLOOKUP(G30,Parámetros!G$11:$P$13,MAX(Parámetros!G$7:$P$7),FALSE))","v":""},{"$f":"IF(H30=\"\",\"\",VLOOKUP(H30,Parámetros!H$11:$P$13,MAX(Parámetros!H$7:$P$7),FALSE))","v":""},{"$f":"IF(I30=\"\",\"\",VLOOKUP(I30,Parámetros!I$11:$P$13,MAX(Parámetros!I$7:$P$7),FALSE))","v":""},{"$f":"IF(J30=\"\",\"\",VLOOKUP(J30,Parámetros!J$11:$P$13,MAX(Parámetros!J$7:$P$7),FALSE))","v":""},{"$f":"IF(K30=\"\",\"\",VLOOKUP(K30,Parámetros!K$11:$P$13,MAX(Parámetros!K$7:$P$7),FALSE))","v":""},{"$f":"IF(L30=\"\",\"\",VLOOKUP(L30,Parámetros!L$11:$P$13,MAX(Parámetros!L$7:$P$7),FALSE))","v":""},{"$f":"IF(M30=\"\",\"\",VLOOKUP(M30,Parámetros!M$11:$P$13,MAX(Parámetros!M$7:$P$7),FALSE))","v":""},{"$f":"IF(N30=\"\",\"\",VLOOKUP(N30,Parámetros!N$11:$P$13,MAX(Parámetros!N$7:$P$7),FALSE))","v":""},{"$f":"IF(O30=\"\",\"\",VLOOKUP(O30,Parámetros!O$11:$P$13,MAX(Parámetros!O$7:$P$7),FALSE))","v":""},""]
[null,null,null,{"$f":"IF(E31=\"\",\"\",VLOOKUP(E31,'Buenas prácticas'!$G$8:$H$1007,2,FALSE))","v":""},null,null,null,null,null,null,null,null,null,null,null,{"$f":"IF(F31=\"\",\"\",VLOOKUP(F31,Parámetros!F$11:$P$13,MAX(Parámetros!F$7:$P$7),FALSE))","v":""},{"$f":"IF(G31=\"\",\"\",VLOOKUP(G31,Parámetros!G$11:$P$13,MAX(Parámetros!G$7:$P$7),FALSE))","v":""},{"$f":"IF(H31=\"\",\"\",VLOOKUP(H31,Parámetros!H$11:$P$13,MAX(Parámetros!H$7:$P$7),FALSE))","v":""},{"$f":"IF(I31=\"\",\"\",VLOOKUP(I31,Parámetros!I$11:$P$13,MAX(Parámetros!I$7:$P$7),FALSE))","v":""},{"$f":"IF(J31=\"\",\"\",VLOOKUP(J31,Parámetros!J$11:$P$13,MAX(Parámetros!J$7:$P$7),FALSE))","v":""},{"$f":"IF(K31=\"\",\"\",VLOOKUP(K31,Parámetros!K$11:$P$13,MAX(Parámetros!K$7:$P$7),FALSE))","v":""},{"$f":"IF(L31=\"\",\"\",VLOOKUP(L31,Parámetros!L$11:$P$13,MAX(Parámetros!L$7:$P$7),FALSE))","v":""},{"$f":"IF(M31=\"\",\"\",VLOOKUP(M31,Parámetros!M$11:$P$13,MAX(Parámetros!M$7:$P$7),FALSE))","v":""},{"$f":"IF(N31=\"\",\"\",VLOOKUP(N31,Parámetros!N$11:$P$13,MAX(Parámetros!N$7:$P$7),FALSE))","v":""},{"$f":"IF(O31=\"\",\"\",VLOOKUP(O31,Parámetros!O$11:$P$13,MAX(Parámetros!O$7:$P$7),FALSE))","v":""},""]
[null,null,null,{"$f":"IF(E32=\"\",\"\",VLOOKUP(E32,'Buenas prácticas'!$G$8:$H$1007,2,FALSE))","v":""},null,null,null,null,null,null,null,null,null,null,null,{"$f":"IF(F32=\"\",\"\",VLOOKUP(F32,Parámetros!F$11:$P$13,MAX(Parámetros!F$7:$P$7),FALSE))","v":""},{"$f":"IF(G32=\"\",\"\",VLOOKUP(G32,Parámetros!G$11:$P$13,MAX(Parámetros!G$7:$P$7),FALSE))","v":""},{"$f":"IF(H32=\"\",\"\",VLOOKUP(H32,Parámetros!H$11:$P$13,MAX(Parámetros!H$7:$P$7),FALSE))","v":""},{"$f":"IF(I32=\"\",\"\",VLOOKUP(I32,Parámetros!I$11:$P$13,MAX(Parámetros!I$7:$P$7),FALSE))","v":""},{"$f":"IF(J32=\"\",\"\",VLOOKUP(J32,Parámetros!J$11:$P$13,MAX(Parámetros!J$7:$P$7),FALSE))","v":""},{"$f":"IF(K32=\"\",\"\",VLOOKUP(K32,Parámetros!K$11:$P$13,MAX(Parámetros!K$7:$P$7),FALSE))","v":""},{"$f":"IF(L32=\"\",\"\",VLOOKUP(L32,Parámetros!L$11:$P$13,MAX(Parámetros!L$7:$P$7),FALSE))","v":""},{"$f":"IF(M32=\"\",\"\",VLOOKUP(M32,Parámetros!M$11:$P$13,MAX(Parámetros!M$7:$P$7),FALSE))","v":""},{"$f":"IF(N32=\"\",\"\",VLOOKUP(N32,Parámetros!N$11:$P$13,MAX(Parámetros!N$7:$P$7),FALSE))","v":""},{"$f":"IF(O32=\"\",\"\",VLOOKUP(O32,Parámetros!O$11:$P$13,MAX(Parámetros!O$7:$P$7),FALSE))","v":""},""]
[null,null,null,{"$f":"IF(E33=\"\",\"\",VLOOKUP(E33,'Buenas prácticas'!$G$8:$H$1007,2,FALSE))","v":""},null,null,null,null,null,null,null,null,null,null,null,{"$f":"IF(F33=\"\",\"\",VLOOKUP(F33,Parámetros!F$11:$P$13,MAX(Parámetros!F$7:$P$7),FALSE))","v":""},{"$f":"IF(G33=\"\",\"\",VLOOKUP(G33,Parámetros!G$11:$P$13,MAX(Parámetros!G$7:$P$7),FALSE))","v":""},{"$f":"IF(H33=\"\",\"\",VLOOKUP(H33,Parámetros!H$11:$P$13,MAX(Parámetros!H$7:$P$7),FALSE))","v":""},{"$f":"IF(I33=\"\",\"\",VLOOKUP(I33,Parámetros!I$11:$P$13,MAX(Parámetros!I$7:$P$7),FALSE))","v":""},{"$f":"IF(J33=\"\",\"\",VLOOKUP(J33,Parámetros!J$11:$P$13,MAX(Parámetros!J$7:$P$7),FALSE))","v":""},{"$f":"IF(K33=\"\",\"\",VLOOKUP(K33,Parámetros!K$11:$P$13,MAX(Parámetros!K$7:$P$7),FALSE))","v":""},{"$f":"IF(L33=\"\",\"\",VLOOKUP(L33,Parámetros!L$11:$P$13,MAX(Parámetros!L$7:$P$7),FALSE))","v":""},{"$f":"IF(M33=\"\",\"\",VLOOKUP(M33,Parámetros!M$11:$P$13,MAX(Parámetros!M$7:$P$7),FALSE))","v":""},{"$f":"IF(N33=\"\",\"\",VLOOKUP(N33,Parámetros!N$11:$P$13,MAX(Parámetros!N$7:$P$7),FALSE))","v":""},{"$f":"IF(O33=\"\",\"\",VLOOKUP(O33,Parámetros!O$11:$P$13,MAX(Parámetros!O$7:$P$7),FALSE))","v":""},""]
[null,null,null,{"$f":"IF(E34=\"\",\"\",VLOOKUP(E34,'Buenas prácticas'!$G$8:$H$1007,2,FALSE))","v":""},null,null,null,null,null,null,null,null,null,null,null,{"$f":"IF(F34=\"\",\"\",VLOOKUP(F34,Parámetros!F$11:$P$13,MAX(Parámetros!F$7:$P$7),FALSE))","v":""},{"$f":"IF(G34=\"\",\"\",VLOOKUP(G34,Parámetros!G$11:$P$13,MAX(Parámetros!G$7:$P$7),FALSE))","v":""},{"$f":"IF(H34=\"\",\"\",VLOOKUP(H34,Parámetros!H$11:$P$13,MAX(Parámetros!H$7:$P$7),FALSE))","v":""},{"$f":"IF(I34=\"\",\"\",VLOOKUP(I34,Parámetros!I$11:$P$13,MAX(Parámetros!I$7:$P$7),FALSE))","v":""},{"$f":"IF(J34=\"\",\"\",VLOOKUP(J34,Parámetros!J$11:$P$13,MAX(Parámetros!J$7:$P$7),FALSE))","v":""},{"$f":"IF(K34=\"\",\"\",VLOOKUP(K34,Parámetros!K$11:$P$13,MAX(Parámetros!K$7:$P$7),FALSE))","v":""},{"$f":"IF(L34=\"\",\"\",VLOOKUP(L34,Parámetros!L$11:$P$13,MAX(Parámetros!L$7:$P$7),FALSE))","v":""},{"$f":"IF(M34=\"\",\"\",VLOOKUP(M34,Parámetros!M$11:$P$13,MAX(Parámetros!M$7:$P$7),FALSE))","v":""},{"$f":"IF(N34=\"\",\"\",VLOOKUP(N34,Parámetros!N$11:$P$13,MAX(Parámetros!N$7:$P$7),FALSE))","v":""},{"$f":"IF(O34=\"\",\"\",VLOOKUP(O34,Parámetros!O$11:$P$13,MAX(Parámetros!O$7:$P$7),FALSE))","v":""},""]
[null,null,null,{"$f":"IF(E35=\"\",\"\",VLOOKUP(E35,'Buenas prácticas'!$G$8:$H$1007,2,FALSE))","v":""},null,null,null,null,null,null,null,null,null,null,null,{"$f":"IF(F35=\"\",\"\",VLOOKUP(F35,Parámetros!F$11:$P$13,MAX(Parámetros!F$7:$P$7),FALSE))","v":""},{"$f":"IF(G35=\"\",\"\",VLOOKUP(G35,Parámetros!G$11:$P$13,MAX(Parámetros!G$7:$P$7),FALSE))","v":""},{"$f":"IF(H35=\"\",\"\",VLOOKUP(H35,Parámetros!H$11:$P$13,MAX(Parámetros!H$7:$P$7),FALSE))","v":""},{"$f":"IF(I35=\"\",\"\",VLOOKUP(I35,Parámetros!I$11:$P$13,MAX(Parámetros!I$7:$P$7),FALSE))","v":""},{"$f":"IF(J35=\"\",\"\",VLOOKUP(J35,Parámetros!J$11:$P$13,MAX(Parámetros!J$7:$P$7),FALSE))","v":""},{"$f":"IF(K35=\"\",\"\",VLOOKUP(K35,Parámetros!K$11:$P$13,MAX(Parámetros!K$7:$P$7),FALSE))","v":""},{"$f":"IF(L35=\"\",\"\",VLOOKUP(L35,Parámetros!L$11:$P$13,MAX(Parámetros!L$7:$P$7),FALSE))","v":""},{"$f":"IF(M35=\"\",\"\",VLOOKUP(M35,Parámetros!M$11:$P$13,MAX(Parámetros!M$7:$P$7),FALSE))","v":""},{"$f":"IF(N35=\"\",\"\",VLOOKUP(N35,Parámetros!N$11:$P$13,MAX(Parámetros!N$7:$P$7),FALSE))","v":""},{"$f":"IF(O35=\"\",\"\",VLOOKUP(O35,Parámetros!O$11:$P$13,MAX(Parámetros!O$7:$P$7),FALSE))","v":""},""]
[null,null,null,{"$f":"IF(E36=\"\",\"\",VLOOKUP(E36,'Buenas prácticas'!$G$8:$H$1007,2,FALSE))","v":""},null,null,null,null,null,null,null,null,null,null,null,{"$f":"IF(F36=\"\",\"\",VLOOKUP(F36,Parámetros!F$11:$P$13,MAX(Parámetros!F$7:$P$7),FALSE))","v":""},{"$f":"IF(G36=\"\",\"\",VLOOKUP(G36,Parámetros!G$11:$P$13,MAX(Parámetros!G$7:$P$7),FALSE))","v":""},{"$f":"IF(H36=\"\",\"\",VLOOKUP(H36,Parámetros!H$11:$P$13,MAX(Parámetros!H$7:$P$7),FALSE))","v":""},{"$f":"IF(I36=\"\",\"\",VLOOKUP(I36,Parámetros!I$11:$P$13,MAX(Parámetros!I$7:$P$7),FALSE))","v":""},{"$f":"IF(J36=\"\",\"\",VLOOKUP(J36,Parámetros!J$11:$P$13,MAX(Parámetros!J$7:$P$7),FALSE))","v":""},{"$f":"IF(K36=\"\",\"\",VLOOKUP(K36,Parámetros!K$11:$P$13,MAX(Parámetros!K$7:$P$7),FALSE))","v":""},{"$f":"IF(L36=\"\",\"\",VLOOKUP(L36,Parámetros!L$11:$P$13,MAX(Parámetros!L$7:$P$7),FALSE))","v":""},{"$f":"IF(M36=\"\",\"\",VLOOKUP(M36,Parámetros!M$11:$P$13,MAX(Parámetros!M$7:$P$7),FALSE))","v":""},{"$f":"IF(N36=\"\",\"\",VLOOKUP(N36,Parámetros!N$11:$P$13,MAX(Parámetros!N$7:$P$7),FALSE))","v":""},{"$f":"IF(O36=\"\",\"\",VLOOKUP(O36,Parámetros!O$11:$P$13,MAX(Parámetros!O$7:$P$7),FALSE))","v":""},""]
[null,null,null,{"$f":"IF(E37=\"\",\"\",VLOOKUP(E37,'Buenas prácticas'!$G$8:$H$1007,2,FALSE))","v":""},null,null,null,null,null,null,null,null,null,null,null,{"$f":"IF(F37=\"\",\"\",VLOOKUP(F37,Parámetros!F$11:$P$13,MAX(Parámetros!F$7:$P$7),FALSE))","v":""},{"$f":"IF(G37=\"\",\"\",VLOOKUP(G37,Parámetros!G$11:$P$13,MAX(Parámetros!G$7:$P$7),FALSE))","v":""},{"$f":"IF(H37=\"\",\"\",VLOOKUP(H37,Parámetros!H$11:$P$13,MAX(Parámetros!H$7:$P$7),FALSE))","v":""},{"$f":"IF(I37=\"\",\"\",VLOOKUP(I37,Parámetros!I$11:$P$13,MAX(Parámetros!I$7:$P$7),FALSE))","v":""},{"$f":"IF(J37=\"\",\"\",VLOOKUP(J37,Parámetros!J$11:$P$13,MAX(Parámetros!J$7:$P$7),FALSE))","v":""},{"$f":"IF(K37=\"\",\"\",VLOOKUP(K37,Parámetros!K$11:$P$13,MAX(Parámetros!K$7:$P$7),FALSE))","v":""},{"$f":"IF(L37=\"\",\"\",VLOOKUP(L37,Parámetros!L$11:$P$13,MAX(Parámetros!L$7:$P$7),FALSE))","v":""},{"$f":"IF(M37=\"\",\"\",VLOOKUP(M37,Parámetros!M$11:$P$13,MAX(Parámetros!M$7:$P$7),FALSE))","v":""},{"$f":"IF(N37=\"\",\"\",VLOOKUP(N37,Parámetros!N$11:$P$13,MAX(Parámetros!N$7:$P$7),FALSE))","v":""},{"$f":"IF(O37=\"\",\"\",VLOOKUP(O37,Parámetros!O$11:$P$13,MAX(Parámetros!O$7:$P$7),FALSE))","v":""},""]
[null,null,null,{"$f":"IF(E38=\"\",\"\",VLOOKUP(E38,'Buenas prácticas'!$G$8:$H$1007,2,FALSE))","v":""},null,null,null,null,null,null,null,null,null,null,null,{"$f":"IF(F38=\"\",\"\",VLOOKUP(F38,Parámetros!F$11:$P$13,MAX(Parámetros!F$7:$P$7),FALSE))","v":""},{"$f":"IF(G38=\"\",\"\",VLOOKUP(G38,Parámetros!G$11:$P$13,MAX(Parámetros!G$7:$P$7),FALSE))","v":""},{"$f":"IF(H38=\"\",\"\",VLOOKUP(H38,Parámetros!H$11:$P$13,MAX(Parámetros!H$7:$P$7),FALSE))","v":""},{"$f":"IF(I38=\"\",\"\",VLOOKUP(I38,Parámetros!I$11:$P$13,MAX(Parámetros!I$7:$P$7),FALSE))","v":""},{"$f":"IF(J38=\"\",\"\",VLOOKUP(J38,Parámetros!J$11:$P$13,MAX(Parámetros!J$7:$P$7),FALSE))","v":""},{"$f":"IF(K38=\"\",\"\",VLOOKUP(K38,Parámetros!K$11:$P$13,MAX(Parámetros!K$7:$P$7),FALSE))","v":""},{"$f":"IF(L38=\"\",\"\",VLOOKUP(L38,Parámetros!L$11:$P$13,MAX(Parámetros!L$7:$P$7),FALSE))","v":""},{"$f":"IF(M38=\"\",\"\",VLOOKUP(M38,Parámetros!M$11:$P$13,MAX(Parámetros!M$7:$P$7),FALSE))","v":""},{"$f":"IF(N38=\"\",\"\",VLOOKUP(N38,Parámetros!N$11:$P$13,MAX(Parámetros!N$7:$P$7),FALSE))","v":""},{"$f":"IF(O38=\"\",\"\",VLOOKUP(O38,Parámetros!O$11:$P$13,MAX(Parámetros!O$7:$P$7),FALSE))","v":""},""]
[null,null,null,{"$f":"IF(E39=\"\",\"\",VLOOKUP(E39,'Buenas prácticas'!$G$8:$H$1007,2,FALSE))","v":""},null,null,null,null,null,null,null,null,null,null,null,{"$f":"IF(F39=\"\",\"\",VLOOKUP(F39,Parámetros!F$11:$P$13,MAX(Parámetros!F$7:$P$7),FALSE))","v":""},{"$f":"IF(G39=\"\",\"\",VLOOKUP(G39,Parámetros!G$11:$P$13,MAX(Parámetros!G$7:$P$7),FALSE))","v":""},{"$f":"IF(H39=\"\",\"\",VLOOKUP(H39,Parámetros!H$11:$P$13,MAX(Parámetros!H$7:$P$7),FALSE))","v":""},{"$f":"IF(I39=\"\",\"\",VLOOKUP(I39,Parámetros!I$11:$P$13,MAX(Parámetros!I$7:$P$7),FALSE))","v":""},{"$f":"IF(J39=\"\",\"\",VLOOKUP(J39,Parámetros!J$11:$P$13,MAX(Parámetros!J$7:$P$7),FALSE))","v":""},{"$f":"IF(K39=\"\",\"\",VLOOKUP(K39,Parámetros!K$11:$P$13,MAX(Parámetros!K$7:$P$7),FALSE))","v":""},{"$f":"IF(L39=\"\",\"\",VLOOKUP(L39,Parámetros!L$11:$P$13,MAX(Parámetros!L$7:$P$7),FALSE))","v":""},{"$f":"IF(M39=\"\",\"\",VLOOKUP(M39,Parámetros!M$11:$P$13,MAX(Parámetros!M$7:$P$7),FALSE))","v":""},{"$f":"IF(N39=\"\",\"\",VLOOKUP(N39,Parámetros!N$11:$P$13,MAX(Parámetros!N$7:$P$7),FALSE))","v":""},{"$f":"IF(O39=\"\",\"\",VLOOKUP(O39,Parámetros!O$11:$P$13,MAX(Parámetros!O$7:$P$7),FALSE))","v":""},""]
[null,null,null,{"$f":"IF(E40=\"\",\"\",VLOOKUP(E40,'Buenas prácticas'!$G$8:$H$1007,2,FALSE))","v":""},null,null,null,null,null,null,null,null,null,null,null,{"$f":"IF(F40=\"\",\"\",VLOOKUP(F40,Parámetros!F$11:$P$13,MAX(Parámetros!F$7:$P$7),FALSE))","v":""},{"$f":"IF(G40=\"\",\"\",VLOOKUP(G40,Parámetros!G$11:$P$13,MAX(Parámetros!G$7:$P$7),FALSE))","v":""},{"$f":"IF(H40=\"\",\"\",VLOOKUP(H40,Parámetros!H$11:$P$13,MAX(Parámetros!H$7:$P$7),FALSE))","v":""},{"$f":"IF(I40=\"\",\"\",VLOOKUP(I40,Parámetros!I$11:$P$13,MAX(Parámetros!I$7:$P$7),FALSE))","v":""},{"$f":"IF(J40=\"\",\"\",VLOOKUP(J40,Parámetros!J$11:$P$13,MAX(Parámetros!J$7:$P$7),FALSE))","v":""},{"$f":"IF(K40=\"\",\"\",VLOOKUP(K40,Parámetros!K$11:$P$13,MAX(Parámetros!K$7:$P$7),FALSE))","v":""},{"$f":"IF(L40=\"\",\"\",VLOOKUP(L40,Parámetros!L$11:$P$13,MAX(Parámetros!L$7:$P$7),FALSE))","v":""},{"$f":"IF(M40=\"\",\"\",VLOOKUP(M40,Parámetros!M$11:$P$13,MAX(Parámetros!M$7:$P$7),FALSE))","v":""},{"$f":"IF(N40=\"\",\"\",VLOOKUP(N40,Parámetros!N$11:$P$13,MAX(Parámetros!N$7:$P$7),FALSE))","v":""},{"$f":"IF(O40=\"\",\"\",VLOOKUP(O40,Parámetros!O$11:$P$13,MAX(Parámetros!O$7:$P$7),FALSE))","v":""},""]
[null,null,null,{"$f":"IF(E41=\"\",\"\",VLOOKUP(E41,'Buenas prácticas'!$G$8:$H$1007,2,FALSE))","v":""},null,null,null,null,null,null,null,null,null,null,null,{"$f":"IF(F41=\"\",\"\",VLOOKUP(F41,Parámetros!F$11:$P$13,MAX(Parámetros!F$7:$P$7),FALSE))","v":""},{"$f":"IF(G41=\"\",\"\",VLOOKUP(G41,Parámetros!G$11:$P$13,MAX(Parámetros!G$7:$P$7),FALSE))","v":""},{"$f":"IF(H41=\"\",\"\",VLOOKUP(H41,Parámetros!H$11:$P$13,MAX(Parámetros!H$7:$P$7),FALSE))","v":""},{"$f":"IF(I41=\"\",\"\",VLOOKUP(I41,Parámetros!I$11:$P$13,MAX(Parámetros!I$7:$P$7),FALSE))","v":""},{"$f":"IF(J41=\"\",\"\",VLOOKUP(J41,Parámetros!J$11:$P$13,MAX(Parámetros!J$7:$P$7),FALSE))","v":""},{"$f":"IF(K41=\"\",\"\",VLOOKUP(K41,Parámetros!K$11:$P$13,MAX(Parámetros!K$7:$P$7),FALSE))","v":""},{"$f":"IF(L41=\"\",\"\",VLOOKUP(L41,Parámetros!L$11:$P$13,MAX(Parámetros!L$7:$P$7),FALSE))","v":""},{"$f":"IF(M41=\"\",\"\",VLOOKUP(M41,Parámetros!M$11:$P$13,MAX(Parámetros!M$7:$P$7),FALSE))","v":""},{"$f":"IF(N41=\"\",\"\",VLOOKUP(N41,Parámetros!N$11:$P$13,MAX(Parámetros!N$7:$P$7),FALSE))","v":""},{"$f":"IF(O41=\"\",\"\",VLOOKUP(O41,Parámetros!O$11:$P$13,MAX(Parámetros!O$7:$P$7),FALSE))","v":""},""]
[null,null,null,{"$f":"IF(E42=\"\",\"\",VLOOKUP(E42,'Buenas prácticas'!$G$8:$H$1007,2,FALSE))","v":""},null,null,null,null,null,null,null,null,null,null,null,{"$f":"IF(F42=\"\",\"\",VLOOKUP(F42,Parámetros!F$11:$P$13,MAX(Parámetros!F$7:$P$7),FALSE))","v":""},{"$f":"IF(G42=\"\",\"\",VLOOKUP(G42,Parámetros!G$11:$P$13,MAX(Parámetros!G$7:$P$7),FALSE))","v":""},{"$f":"IF(H42=\"\",\"\",VLOOKUP(H42,Parámetros!H$11:$P$13,MAX(Parámetros!H$7:$P$7),FALSE))","v":""},{"$f":"IF(I42=\"\",\"\",VLOOKUP(I42,Parámetros!I$11:$P$13,MAX(Parámetros!I$7:$P$7),FALSE))","v":""},{"$f":"IF(J42=\"\",\"\",VLOOKUP(J42,Parámetros!J$11:$P$13,MAX(Parámetros!J$7:$P$7),FALSE))","v":""},{"$f":"IF(K42=\"\",\"\",VLOOKUP(K42,Parámetros!K$11:$P$13,MAX(Parámetros!K$7:$P$7),FALSE))","v":""},{"$f":"IF(L42=\"\",\"\",VLOOKUP(L42,Parámetros!L$11:$P$13,MAX(Parámetros!L$7:$P$7),FALSE))","v":""},{"$f":"IF(M42=\"\",\"\",VLOOKUP(M42,Parámetros!M$11:$P$13,MAX(Parámetros!M$7:$P$7),FALSE))","v":""},{"$f":"IF(N42=\"\",\"\",VLOOKUP(N42,Parámetros!N$11:$P$13,MAX(Parámetros!N$7:$P$7),FALSE))","v":""},{"$f":"IF(O42=\"\",\"\",VLOOKUP(O42,Parámetros!O$11:$P$13,MAX(Parámetros!O$7:$P$7),FALSE))","v":""},""]
[null,null,null,{"$f":"IF(E43=\"\",\"\",VLOOKUP(E43,'Buenas prácticas'!$G$8:$H$1007,2,FALSE))","v":""},null,null,null,null,null,null,null,null,null,null,null,{"$f":"IF(F43=\"\",\"\",VLOOKUP(F43,Parámetros!F$11:$P$13,MAX(Parámetros!F$7:$P$7),FALSE))","v":""},{"$f":"IF(G43=\"\",\"\",VLOOKUP(G43,Parámetros!G$11:$P$13,MAX(Parámetros!G$7:$P$7),FALSE))","v":""},{"$f":"IF(H43=\"\",\"\",VLOOKUP(H43,Parámetros!H$11:$P$13,MAX(Parámetros!H$7:$P$7),FALSE))","v":""},{"$f":"IF(I43=\"\",\"\",VLOOKUP(I43,Parámetros!I$11:$P$13,MAX(Parámetros!I$7:$P$7),FALSE))","v":""},{"$f":"IF(J43=\"\",\"\",VLOOKUP(J43,Parámetros!J$11:$P$13,MAX(Parámetros!J$7:$P$7),FALSE))","v":""},{"$f":"IF(K43=\"\",\"\",VLOOKUP(K43,Parámetros!K$11:$P$13,MAX(Parámetros!K$7:$P$7),FALSE))","v":""},{"$f":"IF(L43=\"\",\"\",VLOOKUP(L43,Parámetros!L$11:$P$13,MAX(Parámetros!L$7:$P$7),FALSE))","v":""},{"$f":"IF(M43=\"\",\"\",VLOOKUP(M43,Parámetros!M$11:$P$13,MAX(Parámetros!M$7:$P$7),FALSE))","v":""},{"$f":"IF(N43=\"\",\"\",VLOOKUP(N43,Parámetros!N$11:$P$13,MAX(Parámetros!N$7:$P$7),FALSE))","v":""},{"$f":"IF(O43=\"\",\"\",VLOOKUP(O43,Parámetros!O$11:$P$13,MAX(Parámetros!O$7:$P$7),FALSE))","v":""},""]
[null,null,null,{"$f":"IF(E44=\"\",\"\",VLOOKUP(E44,'Buenas prácticas'!$G$8:$H$1007,2,FALSE))","v":""},null,null,null,null,null,null,null,null,null,null,null,{"$f":"IF(F44=\"\",\"\",VLOOKUP(F44,Parámetros!F$11:$P$13,MAX(Parámetros!F$7:$P$7),FALSE))","v":""},{"$f":"IF(G44=\"\",\"\",VLOOKUP(G44,Parámetros!G$11:$P$13,MAX(Parámetros!G$7:$P$7),FALSE))","v":""},{"$f":"IF(H44=\"\",\"\",VLOOKUP(H44,Parámetros!H$11:$P$13,MAX(Parámetros!H$7:$P$7),FALSE))","v":""},{"$f":"IF(I44=\"\",\"\",VLOOKUP(I44,Parámetros!I$11:$P$13,MAX(Parámetros!I$7:$P$7),FALSE))","v":""},{"$f":"IF(J44=\"\",\"\",VLOOKUP(J44,Parámetros!J$11:$P$13,MAX(Parámetros!J$7:$P$7),FALSE))","v":""},{"$f":"IF(K44=\"\",\"\",VLOOKUP(K44,Parámetros!K$11:$P$13,MAX(Parámetros!K$7:$P$7),FALSE))","v":""},{"$f":"IF(L44=\"\",\"\",VLOOKUP(L44,Parámetros!L$11:$P$13,MAX(Parámetros!L$7:$P$7),FALSE))","v":""},{"$f":"IF(M44=\"\",\"\",VLOOKUP(M44,Parámetros!M$11:$P$13,MAX(Parámetros!M$7:$P$7),FALSE))","v":""},{"$f":"IF(N44=\"\",\"\",VLOOKUP(N44,Parámetros!N$11:$P$13,MAX(Parámetros!N$7:$P$7),FALSE))","v":""},{"$f":"IF(O44=\"\",\"\",VLOOKUP(O44,Parámetros!O$11:$P$13,MAX(Parámetros!O$7:$P$7),FALSE))","v":""},""]
[null,null,null,{"$f":"IF(E45=\"\",\"\",VLOOKUP(E45,'Buenas prácticas'!$G$8:$H$1007,2,FALSE))","v":""},null,null,null,null,null,null,null,null,null,null,null,{"$f":"IF(F45=\"\",\"\",VLOOKUP(F45,Parámetros!F$11:$P$13,MAX(Parámetros!F$7:$P$7),FALSE))","v":""},{"$f":"IF(G45=\"\",\"\",VLOOKUP(G45,Parámetros!G$11:$P$13,MAX(Parámetros!G$7:$P$7),FALSE))","v":""},{"$f":"IF(H45=\"\",\"\",VLOOKUP(H45,Parámetros!H$11:$P$13,MAX(Parámetros!H$7:$P$7),FALSE))","v":""},{"$f":"IF(I45=\"\",\"\",VLOOKUP(I45,Parámetros!I$11:$P$13,MAX(Parámetros!I$7:$P$7),FALSE))","v":""},{"$f":"IF(J45=\"\",\"\",VLOOKUP(J45,Parámetros!J$11:$P$13,MAX(Parámetros!J$7:$P$7),FALSE))","v":""},{"$f":"IF(K45=\"\",\"\",VLOOKUP(K45,Parámetros!K$11:$P$13,MAX(Parámetros!K$7:$P$7),FALSE))","v":""},{"$f":"IF(L45=\"\",\"\",VLOOKUP(L45,Parámetros!L$11:$P$13,MAX(Parámetros!L$7:$P$7),FALSE))","v":""},{"$f":"IF(M45=\"\",\"\",VLOOKUP(M45,Parámetros!M$11:$P$13,MAX(Parámetros!M$7:$P$7),FALSE))","v":""},{"$f":"IF(N45=\"\",\"\",VLOOKUP(N45,Parámetros!N$11:$P$13,MAX(Parámetros!N$7:$P$7),FALSE))","v":""},{"$f":"IF(O45=\"\",\"\",VLOOKUP(O45,Parámetros!O$11:$P$13,MAX(Parámetros!O$7:$P$7),FALSE))","v":""},""]
[null,null,null,{"$f":"IF(E46=\"\",\"\",VLOOKUP(E46,'Buenas prácticas'!$G$8:$H$1007,2,FALSE))","v":""},null,null,null,null,null,null,null,null,null,null,null,{"$f":"IF(F46=\"\",\"\",VLOOKUP(F46,Parámetros!F$11:$P$13,MAX(Parámetros!F$7:$P$7),FALSE))","v":""},{"$f":"IF(G46=\"\",\"\",VLOOKUP(G46,Parámetros!G$11:$P$13,MAX(Parámetros!G$7:$P$7),FALSE))","v":""},{"$f":"IF(H46=\"\",\"\",VLOOKUP(H46,Parámetros!H$11:$P$13,MAX(Parámetros!H$7:$P$7),FALSE))","v":""},{"$f":"IF(I46=\"\",\"\",VLOOKUP(I46,Parámetros!I$11:$P$13,MAX(Parámetros!I$7:$P$7),FALSE))","v":""},{"$f":"IF(J46=\"\",\"\",VLOOKUP(J46,Parámetros!J$11:$P$13,MAX(Parámetros!J$7:$P$7),FALSE))","v":""},{"$f":"IF(K46=\"\",\"\",VLOOKUP(K46,Parámetros!K$11:$P$13,MAX(Parámetros!K$7:$P$7),FALSE))","v":""},{"$f":"IF(L46=\"\",\"\",VLOOKUP(L46,Parámetros!L$11:$P$13,MAX(Parámetros!L$7:$P$7),FALSE))","v":""},{"$f":"IF(M46=\"\",\"\",VLOOKUP(M46,Parámetros!M$11:$P$13,MAX(Parámetros!M$7:$P$7),FALSE))","v":""},{"$f":"IF(N46=\"\",\"\",VLOOKUP(N46,Parámetros!N$11:$P$13,MAX(Parámetros!N$7:$P$7),FALSE))","v":""},{"$f":"IF(O46=\"\",\"\",VLOOKUP(O46,Parámetros!O$11:$P$13,MAX(Parámetros!O$7:$P$7),FALSE))","v":""},""]
[null,null,null,{"$f":"IF(E47=\"\",\"\",VLOOKUP(E47,'Buenas prácticas'!$G$8:$H$1007,2,FALSE))","v":""},null,null,null,null,null,null,null,null,null,null,null,{"$f":"IF(F47=\"\",\"\",VLOOKUP(F47,Parámetros!F$11:$P$13,MAX(Parámetros!F$7:$P$7),FALSE))","v":""},{"$f":"IF(G47=\"\",\"\",VLOOKUP(G47,Parámetros!G$11:$P$13,MAX(Parámetros!G$7:$P$7),FALSE))","v":""},{"$f":"IF(H47=\"\",\"\",VLOOKUP(H47,Parámetros!H$11:$P$13,MAX(Parámetros!H$7:$P$7),FALSE))","v":""},{"$f":"IF(I47=\"\",\"\",VLOOKUP(I47,Parámetros!I$11:$P$13,MAX(Parámetros!I$7:$P$7),FALSE))","v":""},{"$f":"IF(J47=\"\",\"\",VLOOKUP(J47,Parámetros!J$11:$P$13,MAX(Parámetros!J$7:$P$7),FALSE))","v":""},{"$f":"IF(K47=\"\",\"\",VLOOKUP(K47,Parámetros!K$11:$P$13,MAX(Parámetros!K$7:$P$7),FALSE))","v":""},{"$f":"IF(L47=\"\",\"\",VLOOKUP(L47,Parámetros!L$11:$P$13,MAX(Parámetros!L$7:$P$7),FALSE))","v":""},{"$f":"IF(M47=\"\",\"\",VLOOKUP(M47,Parámetros!M$11:$P$13,MAX(Parámetros!M$7:$P$7),FALSE))","v":""},{"$f":"IF(N47=\"\",\"\",VLOOKUP(N47,Parámetros!N$11:$P$13,MAX(Parámetros!N$7:$P$7),FALSE))","v":""},{"$f":"IF(O47=\"\",\"\",VLOOKUP(O47,Parámetros!O$11:$P$13,MAX(Parámetros!O$7:$P$7),FALSE))","v":""},""]
[null,null,null,{"$f":"IF(E48=\"\",\"\",VLOOKUP(E48,'Buenas prácticas'!$G$8:$H$1007,2,FALSE))","v":""},null,null,null,null,null,null,null,null,null,null,null,{"$f":"IF(F48=\"\",\"\",VLOOKUP(F48,Parámetros!F$11:$P$13,MAX(Parámetros!F$7:$P$7),FALSE))","v":""},{"$f":"IF(G48=\"\",\"\",VLOOKUP(G48,Parámetros!G$11:$P$13,MAX(Parámetros!G$7:$P$7),FALSE))","v":""},{"$f":"IF(H48=\"\",\"\",VLOOKUP(H48,Parámetros!H$11:$P$13,MAX(Parámetros!H$7:$P$7),FALSE))","v":""},{"$f":"IF(I48=\"\",\"\",VLOOKUP(I48,Parámetros!I$11:$P$13,MAX(Parámetros!I$7:$P$7),FALSE))","v":""},{"$f":"IF(J48=\"\",\"\",VLOOKUP(J48,Parámetros!J$11:$P$13,MAX(Parámetros!J$7:$P$7),FALSE))","v":""},{"$f":"IF(K48=\"\",\"\",VLOOKUP(K48,Parámetros!K$11:$P$13,MAX(Parámetros!K$7:$P$7),FALSE))","v":""},{"$f":"IF(L48=\"\",\"\",VLOOKUP(L48,Parámetros!L$11:$P$13,MAX(Parámetros!L$7:$P$7),FALSE))","v":""},{"$f":"IF(M48=\"\",\"\",VLOOKUP(M48,Parámetros!M$11:$P$13,MAX(Parámetros!M$7:$P$7),FALSE))","v":""},{"$f":"IF(N48=\"\",\"\",VLOOKUP(N48,Parámetros!N$11:$P$13,MAX(Parámetros!N$7:$P$7),FALSE))","v":""},{"$f":"IF(O48=\"\",\"\",VLOOKUP(O48,Parámetros!O$11:$P$13,MAX(Parámetros!O$7:$P$7),FALSE))","v":""},""]
[null,null,null,{"$f":"IF(E49=\"\",\"\",VLOOKUP(E49,'Buenas prácticas'!$G$8:$H$1007,2,FALSE))","v":""},null,null,null,null,null,null,null,null,null,null,null,{"$f":"IF(F49=\"\",\"\",VLOOKUP(F49,Parámetros!F$11:$P$13,MAX(Parámetros!F$7:$P$7),FALSE))","v":""},{"$f":"IF(G49=\"\",\"\",VLOOKUP(G49,Parámetros!G$11:$P$13,MAX(Parámetros!G$7:$P$7),FALSE))","v":""},{"$f":"IF(H49=\"\",\"\",VLOOKUP(H49,Parámetros!H$11:$P$13,MAX(Parámetros!H$7:$P$7),FALSE))","v":""},{"$f":"IF(I49=\"\",\"\",VLOOKUP(I49,Parámetros!I$11:$P$13,MAX(Parámetros!I$7:$P$7),FALSE))","v":""},{"$f":"IF(J49=\"\",\"\",VLOOKUP(J49,Parámetros!J$11:$P$13,MAX(Parámetros!J$7:$P$7),FALSE))","v":""},{"$f":"IF(K49=\"\",\"\",VLOOKUP(K49,Parámetros!K$11:$P$13,MAX(Parámetros!K$7:$P$7),FALSE))","v":""},{"$f":"IF(L49=\"\",\"\",VLOOKUP(L49,Parámetros!L$11:$P$13,MAX(Parámetros!L$7:$P$7),FALSE))","v":""},{"$f":"IF(M49=\"\",\"\",VLOOKUP(M49,Parámetros!M$11:$P$13,MAX(Parámetros!M$7:$P$7),FALSE))","v":""},{"$f":"IF(N49=\"\",\"\",VLOOKUP(N49,Parámetros!N$11:$P$13,MAX(Parámetros!N$7:$P$7),FALSE))","v":""},{"$f":"IF(O49=\"\",\"\",VLOOKUP(O49,Parámetros!O$11:$P$13,MAX(Parámetros!O$7:$P$7),FALSE))","v":""},""]
[null,null,null,{"$f":"IF(E50=\"\",\"\",VLOOKUP(E50,'Buenas prácticas'!$G$8:$H$1007,2,FALSE))","v":""},null,null,null,null,null,null,null,null,null,null,null,{"$f":"IF(F50=\"\",\"\",VLOOKUP(F50,Parámetros!F$11:$P$13,MAX(Parámetros!F$7:$P$7),FALSE))","v":""},{"$f":"IF(G50=\"\",\"\",VLOOKUP(G50,Parámetros!G$11:$P$13,MAX(Parámetros!G$7:$P$7),FALSE))","v":""},{"$f":"IF(H50=\"\",\"\",VLOOKUP(H50,Parámetros!H$11:$P$13,MAX(Parámetros!H$7:$P$7),FALSE))","v":""},{"$f":"IF(I50=\"\",\"\",VLOOKUP(I50,Parámetros!I$11:$P$13,MAX(Parámetros!I$7:$P$7),FALSE))","v":""},{"$f":"IF(J50=\"\",\"\",VLOOKUP(J50,Parámetros!J$11:$P$13,MAX(Parámetros!J$7:$P$7),FALSE))","v":""},{"$f":"IF(K50=\"\",\"\",VLOOKUP(K50,Parámetros!K$11:$P$13,MAX(Parámetros!K$7:$P$7),FALSE))","v":""},{"$f":"IF(L50=\"\",\"\",VLOOKUP(L50,Parámetros!L$11:$P$13,MAX(Parámetros!L$7:$P$7),FALSE))","v":""},{"$f":"IF(M50=\"\",\"\",VLOOKUP(M50,Parámetros!M$11:$P$13,MAX(Parámetros!M$7:$P$7),FALSE))","v":""},{"$f":"IF(N50=\"\",\"\",VLOOKUP(N50,Parámetros!N$11:$P$13,MAX(Parámetros!N$7:$P$7),FALSE))","v":""},{"$f":"IF(O50=\"\",\"\",VLOOKUP(O50,Parámetros!O$11:$P$13,MAX(Parámetros!O$7:$P$7),FALSE))","v":""},""]
[null,null,null,{"$f":"IF(E51=\"\",\"\",VLOOKUP(E51,'Buenas prácticas'!$G$8:$H$1007,2,FALSE))","v":""},null,null,null,null,null,null,null,null,null,null,null,{"$f":"IF(F51=\"\",\"\",VLOOKUP(F51,Parámetros!F$11:$P$13,MAX(Parámetros!F$7:$P$7),FALSE))","v":""},{"$f":"IF(G51=\"\",\"\",VLOOKUP(G51,Parámetros!G$11:$P$13,MAX(Parámetros!G$7:$P$7),FALSE))","v":""},{"$f":"IF(H51=\"\",\"\",VLOOKUP(H51,Parámetros!H$11:$P$13,MAX(Parámetros!H$7:$P$7),FALSE))","v":""},{"$f":"IF(I51=\"\",\"\",VLOOKUP(I51,Parámetros!I$11:$P$13,MAX(Parámetros!I$7:$P$7),FALSE))","v":""},{"$f":"IF(J51=\"\",\"\",VLOOKUP(J51,Parámetros!J$11:$P$13,MAX(Parámetros!J$7:$P$7),FALSE))","v":""},{"$f":"IF(K51=\"\",\"\",VLOOKUP(K51,Parámetros!K$11:$P$13,MAX(Parámetros!K$7:$P$7),FALSE))","v":""},{"$f":"IF(L51=\"\",\"\",VLOOKUP(L51,Parámetros!L$11:$P$13,MAX(Parámetros!L$7:$P$7),FALSE))","v":""},{"$f":"IF(M51=\"\",\"\",VLOOKUP(M51,Parámetros!M$11:$P$13,MAX(Parámetros!M$7:$P$7),FALSE))","v":""},{"$f":"IF(N51=\"\",\"\",VLOOKUP(N51,Parámetros!N$11:$P$13,MAX(Parámetros!N$7:$P$7),FALSE))","v":""},{"$f":"IF(O51=\"\",\"\",VLOOKUP(O51,Parámetros!O$11:$P$13,MAX(Parámetros!O$7:$P$7),FALSE))","v":""},""]
[null,null,null,{"$f":"IF(E52=\"\",\"\",VLOOKUP(E52,'Buenas prácticas'!$G$8:$H$1007,2,FALSE))","v":""},null,null,null,null,null,null,null,null,null,null,null,{"$f":"IF(F52=\"\",\"\",VLOOKUP(F52,Parámetros!F$11:$P$13,MAX(Parámetros!F$7:$P$7),FALSE))","v":""},{"$f":"IF(G52=\"\",\"\",VLOOKUP(G52,Parámetros!G$11:$P$13,MAX(Parámetros!G$7:$P$7),FALSE))","v":""},{"$f":"IF(H52=\"\",\"\",VLOOKUP(H52,Parámetros!H$11:$P$13,MAX(Parámetros!H$7:$P$7),FALSE))","v":""},{"$f":"IF(I52=\"\",\"\",VLOOKUP(I52,Parámetros!I$11:$P$13,MAX(Parámetros!I$7:$P$7),FALSE))","v":""},{"$f":"IF(J52=\"\",\"\",VLOOKUP(J52,Parámetros!J$11:$P$13,MAX(Parámetros!J$7:$P$7),FALSE))","v":""},{"$f":"IF(K52=\"\",\"\",VLOOKUP(K52,Parámetros!K$11:$P$13,MAX(Parámetros!K$7:$P$7),FALSE))","v":""},{"$f":"IF(L52=\"\",\"\",VLOOKUP(L52,Parámetros!L$11:$P$13,MAX(Parámetros!L$7:$P$7),FALSE))","v":""},{"$f":"IF(M52=\"\",\"\",VLOOKUP(M52,Parámetros!M$11:$P$13,MAX(Parámetros!M$7:$P$7),FALSE))","v":""},{"$f":"IF(N52=\"\",\"\",VLOOKUP(N52,Parámetros!N$11:$P$13,MAX(Parámetros!N$7:$P$7),FALSE))","v":""},{"$f":"IF(O52=\"\",\"\",VLOOKUP(O52,Parámetros!O$11:$P$13,MAX(Parámetros!O$7:$P$7),FALSE))","v":""},""]
[null,null,null,{"$f":"IF(E53=\"\",\"\",VLOOKUP(E53,'Buenas prácticas'!$G$8:$H$1007,2,FALSE))","v":""},null,null,null,null,null,null,null,null,null,null,null,{"$f":"IF(F53=\"\",\"\",VLOOKUP(F53,Parámetros!F$11:$P$13,MAX(Parámetros!F$7:$P$7),FALSE))","v":""},{"$f":"IF(G53=\"\",\"\",VLOOKUP(G53,Parámetros!G$11:$P$13,MAX(Parámetros!G$7:$P$7),FALSE))","v":""},{"$f":"IF(H53=\"\",\"\",VLOOKUP(H53,Parámetros!H$11:$P$13,MAX(Parámetros!H$7:$P$7),FALSE))","v":""},{"$f":"IF(I53=\"\",\"\",VLOOKUP(I53,Parámetros!I$11:$P$13,MAX(Parámetros!I$7:$P$7),FALSE))","v":""},{"$f":"IF(J53=\"\",\"\",VLOOKUP(J53,Parámetros!J$11:$P$13,MAX(Parámetros!J$7:$P$7),FALSE))","v":""},{"$f":"IF(K53=\"\",\"\",VLOOKUP(K53,Parámetros!K$11:$P$13,MAX(Parámetros!K$7:$P$7),FALSE))","v":""},{"$f":"IF(L53=\"\",\"\",VLOOKUP(L53,Parámetros!L$11:$P$13,MAX(Parámetros!L$7:$P$7),FALSE))","v":""},{"$f":"IF(M53=\"\",\"\",VLOOKUP(M53,Parámetros!M$11:$P$13,MAX(Parámetros!M$7:$P$7),FALSE))","v":""},{"$f":"IF(N53=\"\",\"\",VLOOKUP(N53,Parámetros!N$11:$P$13,MAX(Parámetros!N$7:$P$7),FALSE))","v":""},{"$f":"IF(O53=\"\",\"\",VLOOKUP(O53,Parámetros!O$11:$P$13,MAX(Parámetros!O$7:$P$7),FALSE))","v":""},""]
[null,null,null,{"$f":"IF(E54=\"\",\"\",VLOOKUP(E54,'Buenas prácticas'!$G$8:$H$1007,2,FALSE))","v":""},null,null,null,null,null,null,null,null,null,null,null,{"$f":"IF(F54=\"\",\"\",VLOOKUP(F54,Parámetros!F$11:$P$13,MAX(Parámetros!F$7:$P$7),FALSE))","v":""},{"$f":"IF(G54=\"\",\"\",VLOOKUP(G54,Parámetros!G$11:$P$13,MAX(Parámetros!G$7:$P$7),FALSE))","v":""},{"$f":"IF(H54=\"\",\"\",VLOOKUP(H54,Parámetros!H$11:$P$13,MAX(Parámetros!H$7:$P$7),FALSE))","v":""},{"$f":"IF(I54=\"\",\"\",VLOOKUP(I54,Parámetros!I$11:$P$13,MAX(Parámetros!I$7:$P$7),FALSE))","v":""},{"$f":"IF(J54=\"\",\"\",VLOOKUP(J54,Parámetros!J$11:$P$13,MAX(Parámetros!J$7:$P$7),FALSE))","v":""},{"$f":"IF(K54=\"\",\"\",VLOOKUP(K54,Parámetros!K$11:$P$13,MAX(Parámetros!K$7:$P$7),FALSE))","v":""},{"$f":"IF(L54=\"\",\"\",VLOOKUP(L54,Parámetros!L$11:$P$13,MAX(Parámetros!L$7:$P$7),FALSE))","v":""},{"$f":"IF(M54=\"\",\"\",VLOOKUP(M54,Parámetros!M$11:$P$13,MAX(Parámetros!M$7:$P$7),FALSE))","v":""},{"$f":"IF(N54=\"\",\"\",VLOOKUP(N54,Parámetros!N$11:$P$13,MAX(Parámetros!N$7:$P$7),FALSE))","v":""},{"$f":"IF(O54=\"\",\"\",VLOOKUP(O54,Parámetros!O$11:$P$13,MAX(Parámetros!O$7:$P$7),FALSE))","v":""},""]
[null,null,null,{"$f":"IF(E55=\"\",\"\",VLOOKUP(E55,'Buenas prácticas'!$G$8:$H$1007,2,FALSE))","v":""},null,null,null,null,null,null,null,null,null,null,null,{"$f":"IF(F55=\"\",\"\",VLOOKUP(F55,Parámetros!F$11:$P$13,MAX(Parámetros!F$7:$P$7),FALSE))","v":""},{"$f":"IF(G55=\"\",\"\",VLOOKUP(G55,Parámetros!G$11:$P$13,MAX(Parámetros!G$7:$P$7),FALSE))","v":""},{"$f":"IF(H55=\"\",\"\",VLOOKUP(H55,Parámetros!H$11:$P$13,MAX(Parámetros!H$7:$P$7),FALSE))","v":""},{"$f":"IF(I55=\"\",\"\",VLOOKUP(I55,Parámetros!I$11:$P$13,MAX(Parámetros!I$7:$P$7),FALSE))","v":""},{"$f":"IF(J55=\"\",\"\",VLOOKUP(J55,Parámetros!J$11:$P$13,MAX(Parámetros!J$7:$P$7),FALSE))","v":""},{"$f":"IF(K55=\"\",\"\",VLOOKUP(K55,Parámetros!K$11:$P$13,MAX(Parámetros!K$7:$P$7),FALSE))","v":""},{"$f":"IF(L55=\"\",\"\",VLOOKUP(L55,Parámetros!L$11:$P$13,MAX(Parámetros!L$7:$P$7),FALSE))","v":""},{"$f":"IF(M55=\"\",\"\",VLOOKUP(M55,Parámetros!M$11:$P$13,MAX(Parámetros!M$7:$P$7),FALSE))","v":""},{"$f":"IF(N55=\"\",\"\",VLOOKUP(N55,Parámetros!N$11:$P$13,MAX(Parámetros!N$7:$P$7),FALSE))","v":""},{"$f":"IF(O55=\"\",\"\",VLOOKUP(O55,Parámetros!O$11:$P$13,MAX(Parámetros!O$7:$P$7),FALSE))","v":""},""]
[null,null,null,{"$f":"IF(E56=\"\",\"\",VLOOKUP(E56,'Buenas prácticas'!$G$8:$H$1007,2,FALSE))","v":""},null,null,null,null,null,null,null,null,null,null,null,{"$f":"IF(F56=\"\",\"\",VLOOKUP(F56,Parámetros!F$11:$P$13,MAX(Parámetros!F$7:$P$7),FALSE))","v":""},{"$f":"IF(G56=\"\",\"\",VLOOKUP(G56,Parámetros!G$11:$P$13,MAX(Parámetros!G$7:$P$7),FALSE))","v":""},{"$f":"IF(H56=\"\",\"\",VLOOKUP(H56,Parámetros!H$11:$P$13,MAX(Parámetros!H$7:$P$7),FALSE))","v":""},{"$f":"IF(I56=\"\",\"\",VLOOKUP(I56,Parámetros!I$11:$P$13,MAX(Parámetros!I$7:$P$7),FALSE))","v":""},{"$f":"IF(J56=\"\",\"\",VLOOKUP(J56,Parámetros!J$11:$P$13,MAX(Parámetros!J$7:$P$7),FALSE))","v":""},{"$f":"IF(K56=\"\",\"\",VLOOKUP(K56,Parámetros!K$11:$P$13,MAX(Parámetros!K$7:$P$7),FALSE))","v":""},{"$f":"IF(L56=\"\",\"\",VLOOKUP(L56,Parámetros!L$11:$P$13,MAX(Parámetros!L$7:$P$7),FALSE))","v":""},{"$f":"IF(M56=\"\",\"\",VLOOKUP(M56,Parámetros!M$11:$P$13,MAX(Parámetros!M$7:$P$7),FALSE))","v":""},{"$f":"IF(N56=\"\",\"\",VLOOKUP(N56,Parámetros!N$11:$P$13,MAX(Parámetros!N$7:$P$7),FALSE))","v":""},{"$f":"IF(O56=\"\",\"\",VLOOKUP(O56,Parámetros!O$11:$P$13,MAX(Parámetros!O$7:$P$7),FALSE))","v":""},""]
[null,null,null,{"$f":"IF(E57=\"\",\"\",VLOOKUP(E57,'Buenas prácticas'!$G$8:$H$1007,2,FALSE))","v":""},null,null,null,null,null,null,null,null,null,null,null,{"$f":"IF(F57=\"\",\"\",VLOOKUP(F57,Parámetros!F$11:$P$13,MAX(Parámetros!F$7:$P$7),FALSE))","v":""},{"$f":"IF(G57=\"\",\"\",VLOOKUP(G57,Parámetros!G$11:$P$13,MAX(Parámetros!G$7:$P$7),FALSE))","v":""},{"$f":"IF(H57=\"\",\"\",VLOOKUP(H57,Parámetros!H$11:$P$13,MAX(Parámetros!H$7:$P$7),FALSE))","v":""},{"$f":"IF(I57=\"\",\"\",VLOOKUP(I57,Parámetros!I$11:$P$13,MAX(Parámetros!I$7:$P$7),FALSE))","v":""},{"$f":"IF(J57=\"\",\"\",VLOOKUP(J57,Parámetros!J$11:$P$13,MAX(Parámetros!J$7:$P$7),FALSE))","v":""},{"$f":"IF(K57=\"\",\"\",VLOOKUP(K57,Parámetros!K$11:$P$13,MAX(Parámetros!K$7:$P$7),FALSE))","v":""},{"$f":"IF(L57=\"\",\"\",VLOOKUP(L57,Parámetros!L$11:$P$13,MAX(Parámetros!L$7:$P$7),FALSE))","v":""},{"$f":"IF(M57=\"\",\"\",VLOOKUP(M57,Parámetros!M$11:$P$13,MAX(Parámetros!M$7:$P$7),FALSE))","v":""},{"$f":"IF(N57=\"\",\"\",VLOOKUP(N57,Parámetros!N$11:$P$13,MAX(Parámetros!N$7:$P$7),FALSE))","v":""},{"$f":"IF(O57=\"\",\"\",VLOOKUP(O57,Parámetros!O$11:$P$13,MAX(Parámetros!O$7:$P$7),FALSE))","v":""},""]
[null,null,null,{"$f":"IF(E58=\"\",\"\",VLOOKUP(E58,'Buenas prácticas'!$G$8:$H$1007,2,FALSE))","v":""},null,null,null,null,null,null,null,null,null,null,null,{"$f":"IF(F58=\"\",\"\",VLOOKUP(F58,Parámetros!F$11:$P$13,MAX(Parámetros!F$7:$P$7),FALSE))","v":""},{"$f":"IF(G58=\"\",\"\",VLOOKUP(G58,Parámetros!G$11:$P$13,MAX(Parámetros!G$7:$P$7),FALSE))","v":""},{"$f":"IF(H58=\"\",\"\",VLOOKUP(H58,Parámetros!H$11:$P$13,MAX(Parámetros!H$7:$P$7),FALSE))","v":""},{"$f":"IF(I58=\"\",\"\",VLOOKUP(I58,Parámetros!I$11:$P$13,MAX(Parámetros!I$7:$P$7),FALSE))","v":""},{"$f":"IF(J58=\"\",\"\",VLOOKUP(J58,Parámetros!J$11:$P$13,MAX(Parámetros!J$7:$P$7),FALSE))","v":""},{"$f":"IF(K58=\"\",\"\",VLOOKUP(K58,Parámetros!K$11:$P$13,MAX(Parámetros!K$7:$P$7),FALSE))","v":""},{"$f":"IF(L58=\"\",\"\",VLOOKUP(L58,Parámetros!L$11:$P$13,MAX(Parámetros!L$7:$P$7),FALSE))","v":""},{"$f":"IF(M58=\"\",\"\",VLOOKUP(M58,Parámetros!M$11:$P$13,MAX(Parámetros!M$7:$P$7),FALSE))","v":""},{"$f":"IF(N58=\"\",\"\",VLOOKUP(N58,Parámetros!N$11:$P$13,MAX(Parámetros!N$7:$P$7),FALSE))","v":""},{"$f":"IF(O58=\"\",\"\",VLOOKUP(O58,Parámetros!O$11:$P$13,MAX(Parámetros!O$7:$P$7),FALSE))","v":""},""]
[null,null,null,{"$f":"IF(E59=\"\",\"\",VLOOKUP(E59,'Buenas prácticas'!$G$8:$H$1007,2,FALSE))","v":""},null,null,null,null,null,null,null,null,null,null,null,{"$f":"IF(F59=\"\",\"\",VLOOKUP(F59,Parámetros!F$11:$P$13,MAX(Parámetros!F$7:$P$7),FALSE))","v":""},{"$f":"IF(G59=\"\",\"\",VLOOKUP(G59,Parámetros!G$11:$P$13,MAX(Parámetros!G$7:$P$7),FALSE))","v":""},{"$f":"IF(H59=\"\",\"\",VLOOKUP(H59,Parámetros!H$11:$P$13,MAX(Parámetros!H$7:$P$7),FALSE))","v":""},{"$f":"IF(I59=\"\",\"\",VLOOKUP(I59,Parámetros!I$11:$P$13,MAX(Parámetros!I$7:$P$7),FALSE))","v":""},{"$f":"IF(J59=\"\",\"\",VLOOKUP(J59,Parámetros!J$11:$P$13,MAX(Parámetros!J$7:$P$7),FALSE))","v":""},{"$f":"IF(K59=\"\",\"\",VLOOKUP(K59,Parámetros!K$11:$P$13,MAX(Parámetros!K$7:$P$7),FALSE))","v":""},{"$f":"IF(L59=\"\",\"\",VLOOKUP(L59,Parámetros!L$11:$P$13,MAX(Parámetros!L$7:$P$7),FALSE))","v":""},{"$f":"IF(M59=\"\",\"\",VLOOKUP(M59,Parámetros!M$11:$P$13,MAX(Parámetros!M$7:$P$7),FALSE))","v":""},{"$f":"IF(N59=\"\",\"\",VLOOKUP(N59,Parámetros!N$11:$P$13,MAX(Parámetros!N$7:$P$7),FALSE))","v":""},{"$f":"IF(O59=\"\",\"\",VLOOKUP(O59,Parámetros!O$11:$P$13,MAX(Parámetros!O$7:$P$7),FALSE))","v":""},""]
[null,null,null,{"$f":"IF(E60=\"\",\"\",VLOOKUP(E60,'Buenas prácticas'!$G$8:$H$1007,2,FALSE))","v":""},null,null,null,null,null,null,null,null,null,null,null,{"$f":"IF(F60=\"\",\"\",VLOOKUP(F60,Parámetros!F$11:$P$13,MAX(Parámetros!F$7:$P$7),FALSE))","v":""},{"$f":"IF(G60=\"\",\"\",VLOOKUP(G60,Parámetros!G$11:$P$13,MAX(Parámetros!G$7:$P$7),FALSE))","v":""},{"$f":"IF(H60=\"\",\"\",VLOOKUP(H60,Parámetros!H$11:$P$13,MAX(Parámetros!H$7:$P$7),FALSE))","v":""},{"$f":"IF(I60=\"\",\"\",VLOOKUP(I60,Parámetros!I$11:$P$13,MAX(Parámetros!I$7:$P$7),FALSE))","v":""},{"$f":"IF(J60=\"\",\"\",VLOOKUP(J60,Parámetros!J$11:$P$13,MAX(Parámetros!J$7:$P$7),FALSE))","v":""},{"$f":"IF(K60=\"\",\"\",VLOOKUP(K60,Parámetros!K$11:$P$13,MAX(Parámetros!K$7:$P$7),FALSE))","v":""},{"$f":"IF(L60=\"\",\"\",VLOOKUP(L60,Parámetros!L$11:$P$13,MAX(Parámetros!L$7:$P$7),FALSE))","v":""},{"$f":"IF(M60=\"\",\"\",VLOOKUP(M60,Parámetros!M$11:$P$13,MAX(Parámetros!M$7:$P$7),FALSE))","v":""},{"$f":"IF(N60=\"\",\"\",VLOOKUP(N60,Parámetros!N$11:$P$13,MAX(Parámetros!N$7:$P$7),FALSE))","v":""},{"$f":"IF(O60=\"\",\"\",VLOOKUP(O60,Parámetros!O$11:$P$13,MAX(Parámetros!O$7:$P$7),FALSE))","v":""},""]
[null,null,null,{"$f":"IF(E61=\"\",\"\",VLOOKUP(E61,'Buenas prácticas'!$G$8:$H$1007,2,FALSE))","v":""},null,null,null,null,null,null,null,null,null,null,null,{"$f":"IF(F61=\"\",\"\",VLOOKUP(F61,Parámetros!F$11:$P$13,MAX(Parámetros!F$7:$P$7),FALSE))","v":""},{"$f":"IF(G61=\"\",\"\",VLOOKUP(G61,Parámetros!G$11:$P$13,MAX(Parámetros!G$7:$P$7),FALSE))","v":""},{"$f":"IF(H61=\"\",\"\",VLOOKUP(H61,Parámetros!H$11:$P$13,MAX(Parámetros!H$7:$P$7),FALSE))","v":""},{"$f":"IF(I61=\"\",\"\",VLOOKUP(I61,Parámetros!I$11:$P$13,MAX(Parámetros!I$7:$P$7),FALSE))","v":""},{"$f":"IF(J61=\"\",\"\",VLOOKUP(J61,Parámetros!J$11:$P$13,MAX(Parámetros!J$7:$P$7),FALSE))","v":""},{"$f":"IF(K61=\"\",\"\",VLOOKUP(K61,Parámetros!K$11:$P$13,MAX(Parámetros!K$7:$P$7),FALSE))","v":""},{"$f":"IF(L61=\"\",\"\",VLOOKUP(L61,Parámetros!L$11:$P$13,MAX(Parámetros!L$7:$P$7),FALSE))","v":""},{"$f":"IF(M61=\"\",\"\",VLOOKUP(M61,Parámetros!M$11:$P$13,MAX(Parámetros!M$7:$P$7),FALSE))","v":""},{"$f":"IF(N61=\"\",\"\",VLOOKUP(N61,Parámetros!N$11:$P$13,MAX(Parámetros!N$7:$P$7),FALSE))","v":""},{"$f":"IF(O61=\"\",\"\",VLOOKUP(O61,Parámetros!O$11:$P$13,MAX(Parámetros!O$7:$P$7),FALSE))","v":""},""]
[null,null,null,{"$f":"IF(E62=\"\",\"\",VLOOKUP(E62,'Buenas prácticas'!$G$8:$H$1007,2,FALSE))","v":""},null,null,null,null,null,null,null,null,null,null,null,{"$f":"IF(F62=\"\",\"\",VLOOKUP(F62,Parámetros!F$11:$P$13,MAX(Parámetros!F$7:$P$7),FALSE))","v":""},{"$f":"IF(G62=\"\",\"\",VLOOKUP(G62,Parámetros!G$11:$P$13,MAX(Parámetros!G$7:$P$7),FALSE))","v":""},{"$f":"IF(H62=\"\",\"\",VLOOKUP(H62,Parámetros!H$11:$P$13,MAX(Parámetros!H$7:$P$7),FALSE))","v":""},{"$f":"IF(I62=\"\",\"\",VLOOKUP(I62,Parámetros!I$11:$P$13,MAX(Parámetros!I$7:$P$7),FALSE))","v":""},{"$f":"IF(J62=\"\",\"\",VLOOKUP(J62,Parámetros!J$11:$P$13,MAX(Parámetros!J$7:$P$7),FALSE))","v":""},{"$f":"IF(K62=\"\",\"\",VLOOKUP(K62,Parámetros!K$11:$P$13,MAX(Parámetros!K$7:$P$7),FALSE))","v":""},{"$f":"IF(L62=\"\",\"\",VLOOKUP(L62,Parámetros!L$11:$P$13,MAX(Parámetros!L$7:$P$7),FALSE))","v":""},{"$f":"IF(M62=\"\",\"\",VLOOKUP(M62,Parámetros!M$11:$P$13,MAX(Parámetros!M$7:$P$7),FALSE))","v":""},{"$f":"IF(N62=\"\",\"\",VLOOKUP(N62,Parámetros!N$11:$P$13,MAX(Parámetros!N$7:$P$7),FALSE))","v":""},{"$f":"IF(O62=\"\",\"\",VLOOKUP(O62,Parámetros!O$11:$P$13,MAX(Parámetros!O$7:$P$7),FALSE))","v":""},""]
[null,null,null,{"$f":"IF(E63=\"\",\"\",VLOOKUP(E63,'Buenas prácticas'!$G$8:$H$1007,2,FALSE))","v":""},null,null,null,null,null,null,null,null,null,null,null,{"$f":"IF(F63=\"\",\"\",VLOOKUP(F63,Parámetros!F$11:$P$13,MAX(Parámetros!F$7:$P$7),FALSE))","v":""},{"$f":"IF(G63=\"\",\"\",VLOOKUP(G63,Parámetros!G$11:$P$13,MAX(Parámetros!G$7:$P$7),FALSE))","v":""},{"$f":"IF(H63=\"\",\"\",VLOOKUP(H63,Parámetros!H$11:$P$13,MAX(Parámetros!H$7:$P$7),FALSE))","v":""},{"$f":"IF(I63=\"\",\"\",VLOOKUP(I63,Parámetros!I$11:$P$13,MAX(Parámetros!I$7:$P$7),FALSE))","v":""},{"$f":"IF(J63=\"\",\"\",VLOOKUP(J63,Parámetros!J$11:$P$13,MAX(Parámetros!J$7:$P$7),FALSE))","v":""},{"$f":"IF(K63=\"\",\"\",VLOOKUP(K63,Parámetros!K$11:$P$13,MAX(Parámetros!K$7:$P$7),FALSE))","v":""},{"$f":"IF(L63=\"\",\"\",VLOOKUP(L63,Parámetros!L$11:$P$13,MAX(Parámetros!L$7:$P$7),FALSE))","v":""},{"$f":"IF(M63=\"\",\"\",VLOOKUP(M63,Parámetros!M$11:$P$13,MAX(Parámetros!M$7:$P$7),FALSE))","v":""},{"$f":"IF(N63=\"\",\"\",VLOOKUP(N63,Parámetros!N$11:$P$13,MAX(Parámetros!N$7:$P$7),FALSE))","v":""},{"$f":"IF(O63=\"\",\"\",VLOOKUP(O63,Parámetros!O$11:$P$13,MAX(Parámetros!O$7:$P$7),FALSE))","v":""},""]
[null,null,null,{"$f":"IF(E64=\"\",\"\",VLOOKUP(E64,'Buenas prácticas'!$G$8:$H$1007,2,FALSE))","v":""},null,null,null,null,null,null,null,null,null,null,null,{"$f":"IF(F64=\"\",\"\",VLOOKUP(F64,Parámetros!F$11:$P$13,MAX(Parámetros!F$7:$P$7),FALSE))","v":""},{"$f":"IF(G64=\"\",\"\",VLOOKUP(G64,Parámetros!G$11:$P$13,MAX(Parámetros!G$7:$P$7),FALSE))","v":""},{"$f":"IF(H64=\"\",\"\",VLOOKUP(H64,Parámetros!H$11:$P$13,MAX(Parámetros!H$7:$P$7),FALSE))","v":""},{"$f":"IF(I64=\"\",\"\",VLOOKUP(I64,Parámetros!I$11:$P$13,MAX(Parámetros!I$7:$P$7),FALSE))","v":""},{"$f":"IF(J64=\"\",\"\",VLOOKUP(J64,Parámetros!J$11:$P$13,MAX(Parámetros!J$7:$P$7),FALSE))","v":""},{"$f":"IF(K64=\"\",\"\",VLOOKUP(K64,Parámetros!K$11:$P$13,MAX(Parámetros!K$7:$P$7),FALSE))","v":""},{"$f":"IF(L64=\"\",\"\",VLOOKUP(L64,Parámetros!L$11:$P$13,MAX(Parámetros!L$7:$P$7),FALSE))","v":""},{"$f":"IF(M64=\"\",\"\",VLOOKUP(M64,Parámetros!M$11:$P$13,MAX(Parámetros!M$7:$P$7),FALSE))","v":""},{"$f":"IF(N64=\"\",\"\",VLOOKUP(N64,Parámetros!N$11:$P$13,MAX(Parámetros!N$7:$P$7),FALSE))","v":""},{"$f":"IF(O64=\"\",\"\",VLOOKUP(O64,Parámetros!O$11:$P$13,MAX(Parámetros!O$7:$P$7),FALSE))","v":""},""]
[null,null,null,{"$f":"IF(E65=\"\",\"\",VLOOKUP(E65,'Buenas prácticas'!$G$8:$H$1007,2,FALSE))","v":""},null,null,null,null,null,null,null,null,null,null,null,{"$f":"IF(F65=\"\",\"\",VLOOKUP(F65,Parámetros!F$11:$P$13,MAX(Parámetros!F$7:$P$7),FALSE))","v":""},{"$f":"IF(G65=\"\",\"\",VLOOKUP(G65,Parámetros!G$11:$P$13,MAX(Parámetros!G$7:$P$7),FALSE))","v":""},{"$f":"IF(H65=\"\",\"\",VLOOKUP(H65,Parámetros!H$11:$P$13,MAX(Parámetros!H$7:$P$7),FALSE))","v":""},{"$f":"IF(I65=\"\",\"\",VLOOKUP(I65,Parámetros!I$11:$P$13,MAX(Parámetros!I$7:$P$7),FALSE))","v":""},{"$f":"IF(J65=\"\",\"\",VLOOKUP(J65,Parámetros!J$11:$P$13,MAX(Parámetros!J$7:$P$7),FALSE))","v":""},{"$f":"IF(K65=\"\",\"\",VLOOKUP(K65,Parámetros!K$11:$P$13,MAX(Parámetros!K$7:$P$7),FALSE))","v":""},{"$f":"IF(L65=\"\",\"\",VLOOKUP(L65,Parámetros!L$11:$P$13,MAX(Parámetros!L$7:$P$7),FALSE))","v":""},{"$f":"IF(M65=\"\",\"\",VLOOKUP(M65,Parámetros!M$11:$P$13,MAX(Parámetros!M$7:$P$7),FALSE))","v":""},{"$f":"IF(N65=\"\",\"\",VLOOKUP(N65,Parámetros!N$11:$P$13,MAX(Parámetros!N$7:$P$7),FALSE))","v":""},{"$f":"IF(O65=\"\",\"\",VLOOKUP(O65,Parámetros!O$11:$P$13,MAX(Parámetros!O$7:$P$7),FALSE))","v":""},""]
[null,null,null,{"$f":"IF(E66=\"\",\"\",VLOOKUP(E66,'Buenas prácticas'!$G$8:$H$1007,2,FALSE))","v":""},null,null,null,null,null,null,null,null,null,null,null,{"$f":"IF(F66=\"\",\"\",VLOOKUP(F66,Parámetros!F$11:$P$13,MAX(Parámetros!F$7:$P$7),FALSE))","v":""},{"$f":"IF(G66=\"\",\"\",VLOOKUP(G66,Parámetros!G$11:$P$13,MAX(Parámetros!G$7:$P$7),FALSE))","v":""},{"$f":"IF(H66=\"\",\"\",VLOOKUP(H66,Parámetros!H$11:$P$13,MAX(Parámetros!H$7:$P$7),FALSE))","v":""},{"$f":"IF(I66=\"\",\"\",VLOOKUP(I66,Parámetros!I$11:$P$13,MAX(Parámetros!I$7:$P$7),FALSE))","v":""},{"$f":"IF(J66=\"\",\"\",VLOOKUP(J66,Parámetros!J$11:$P$13,MAX(Parámetros!J$7:$P$7),FALSE))","v":""},{"$f":"IF(K66=\"\",\"\",VLOOKUP(K66,Parámetros!K$11:$P$13,MAX(Parámetros!K$7:$P$7),FALSE))","v":""},{"$f":"IF(L66=\"\",\"\",VLOOKUP(L66,Parámetros!L$11:$P$13,MAX(Parámetros!L$7:$P$7),FALSE))","v":""},{"$f":"IF(M66=\"\",\"\",VLOOKUP(M66,Parámetros!M$11:$P$13,MAX(Parámetros!M$7:$P$7),FALSE))","v":""},{"$f":"IF(N66=\"\",\"\",VLOOKUP(N66,Parámetros!N$11:$P$13,MAX(Parámetros!N$7:$P$7),FALSE))","v":""},{"$f":"IF(O66=\"\",\"\",VLOOKUP(O66,Parámetros!O$11:$P$13,MAX(Parámetros!O$7:$P$7),FALSE))","v":""},""]
[null,null,null,{"$f":"IF(E67=\"\",\"\",VLOOKUP(E67,'Buenas prácticas'!$G$8:$H$1007,2,FALSE))","v":""},null,null,null,null,null,null,null,null,null,null,null,{"$f":"IF(F67=\"\",\"\",VLOOKUP(F67,Parámetros!F$11:$P$13,MAX(Parámetros!F$7:$P$7),FALSE))","v":""},{"$f":"IF(G67=\"\",\"\",VLOOKUP(G67,Parámetros!G$11:$P$13,MAX(Parámetros!G$7:$P$7),FALSE))","v":""},{"$f":"IF(H67=\"\",\"\",VLOOKUP(H67,Parámetros!H$11:$P$13,MAX(Parámetros!H$7:$P$7),FALSE))","v":""},{"$f":"IF(I67=\"\",\"\",VLOOKUP(I67,Parámetros!I$11:$P$13,MAX(Parámetros!I$7:$P$7),FALSE))","v":""},{"$f":"IF(J67=\"\",\"\",VLOOKUP(J67,Parámetros!J$11:$P$13,MAX(Parámetros!J$7:$P$7),FALSE))","v":""},{"$f":"IF(K67=\"\",\"\",VLOOKUP(K67,Parámetros!K$11:$P$13,MAX(Parámetros!K$7:$P$7),FALSE))","v":""},{"$f":"IF(L67=\"\",\"\",VLOOKUP(L67,Parámetros!L$11:$P$13,MAX(Parámetros!L$7:$P$7),FALSE))","v":""},{"$f":"IF(M67=\"\",\"\",VLOOKUP(M67,Parámetros!M$11:$P$13,MAX(Parámetros!M$7:$P$7),FALSE))","v":""},{"$f":"IF(N67=\"\",\"\",VLOOKUP(N67,Parámetros!N$11:$P$13,MAX(Parámetros!N$7:$P$7),FALSE))","v":""},{"$f":"IF(O67=\"\",\"\",VLOOKUP(O67,Parámetros!O$11:$P$13,MAX(Parámetros!O$7:$P$7),FALSE))","v":""},""]
[null,null,null,{"$f":"IF(E68=\"\",\"\",VLOOKUP(E68,'Buenas prácticas'!$G$8:$H$1007,2,FALSE))","v":""},null,null,null,null,null,null,null,null,null,null,null,{"$f":"IF(F68=\"\",\"\",VLOOKUP(F68,Parámetros!F$11:$P$13,MAX(Parámetros!F$7:$P$7),FALSE))","v":""},{"$f":"IF(G68=\"\",\"\",VLOOKUP(G68,Parámetros!G$11:$P$13,MAX(Parámetros!G$7:$P$7),FALSE))","v":""},{"$f":"IF(H68=\"\",\"\",VLOOKUP(H68,Parámetros!H$11:$P$13,MAX(Parámetros!H$7:$P$7),FALSE))","v":""},{"$f":"IF(I68=\"\",\"\",VLOOKUP(I68,Parámetros!I$11:$P$13,MAX(Parámetros!I$7:$P$7),FALSE))","v":""},{"$f":"IF(J68=\"\",\"\",VLOOKUP(J68,Parámetros!J$11:$P$13,MAX(Parámetros!J$7:$P$7),FALSE))","v":""},{"$f":"IF(K68=\"\",\"\",VLOOKUP(K68,Parámetros!K$11:$P$13,MAX(Parámetros!K$7:$P$7),FALSE))","v":""},{"$f":"IF(L68=\"\",\"\",VLOOKUP(L68,Parámetros!L$11:$P$13,MAX(Parámetros!L$7:$P$7),FALSE))","v":""},{"$f":"IF(M68=\"\",\"\",VLOOKUP(M68,Parámetros!M$11:$P$13,MAX(Parámetros!M$7:$P$7),FALSE))","v":""},{"$f":"IF(N68=\"\",\"\",VLOOKUP(N68,Parámetros!N$11:$P$13,MAX(Parámetros!N$7:$P$7),FALSE))","v":""},{"$f":"IF(O68=\"\",\"\",VLOOKUP(O68,Parámetros!O$11:$P$13,MAX(Parámetros!O$7:$P$7),FALSE))","v":""},""]
[null,null,null,{"$f":"IF(E69=\"\",\"\",VLOOKUP(E69,'Buenas prácticas'!$G$8:$H$1007,2,FALSE))","v":""},null,null,null,null,null,null,null,null,null,null,null,{"$f":"IF(F69=\"\",\"\",VLOOKUP(F69,Parámetros!F$11:$P$13,MAX(Parámetros!F$7:$P$7),FALSE))","v":""},{"$f":"IF(G69=\"\",\"\",VLOOKUP(G69,Parámetros!G$11:$P$13,MAX(Parámetros!G$7:$P$7),FALSE))","v":""},{"$f":"IF(H69=\"\",\"\",VLOOKUP(H69,Parámetros!H$11:$P$13,MAX(Parámetros!H$7:$P$7),FALSE))","v":""},{"$f":"IF(I69=\"\",\"\",VLOOKUP(I69,Parámetros!I$11:$P$13,MAX(Parámetros!I$7:$P$7),FALSE))","v":""},{"$f":"IF(J69=\"\",\"\",VLOOKUP(J69,Parámetros!J$11:$P$13,MAX(Parámetros!J$7:$P$7),FALSE))","v":""},{"$f":"IF(K69=\"\",\"\",VLOOKUP(K69,Parámetros!K$11:$P$13,MAX(Parámetros!K$7:$P$7),FALSE))","v":""},{"$f":"IF(L69=\"\",\"\",VLOOKUP(L69,Parámetros!L$11:$P$13,MAX(Parámetros!L$7:$P$7),FALSE))","v":""},{"$f":"IF(M69=\"\",\"\",VLOOKUP(M69,Parámetros!M$11:$P$13,MAX(Parámetros!M$7:$P$7),FALSE))","v":""},{"$f":"IF(N69=\"\",\"\",VLOOKUP(N69,Parámetros!N$11:$P$13,MAX(Parámetros!N$7:$P$7),FALSE))","v":""},{"$f":"IF(O69=\"\",\"\",VLOOKUP(O69,Parámetros!O$11:$P$13,MAX(Parámetros!O$7:$P$7),FALSE))","v":""},""]
[null,null,null,{"$f":"IF(E70=\"\",\"\",VLOOKUP(E70,'Buenas prácticas'!$G$8:$H$1007,2,FALSE))","v":""},null,null,null,null,null,null,null,null,null,null,null,{"$f":"IF(F70=\"\",\"\",VLOOKUP(F70,Parámetros!F$11:$P$13,MAX(Parámetros!F$7:$P$7),FALSE))","v":""},{"$f":"IF(G70=\"\",\"\",VLOOKUP(G70,Parámetros!G$11:$P$13,MAX(Parámetros!G$7:$P$7),FALSE))","v":""},{"$f":"IF(H70=\"\",\"\",VLOOKUP(H70,Parámetros!H$11:$P$13,MAX(Parámetros!H$7:$P$7),FALSE))","v":""},{"$f":"IF(I70=\"\",\"\",VLOOKUP(I70,Parámetros!I$11:$P$13,MAX(Parámetros!I$7:$P$7),FALSE))","v":""},{"$f":"IF(J70=\"\",\"\",VLOOKUP(J70,Parámetros!J$11:$P$13,MAX(Parámetros!J$7:$P$7),FALSE))","v":""},{"$f":"IF(K70=\"\",\"\",VLOOKUP(K70,Parámetros!K$11:$P$13,MAX(Parámetros!K$7:$P$7),FALSE))","v":""},{"$f":"IF(L70=\"\",\"\",VLOOKUP(L70,Parámetros!L$11:$P$13,MAX(Parámetros!L$7:$P$7),FALSE))","v":""},{"$f":"IF(M70=\"\",\"\",VLOOKUP(M70,Parámetros!M$11:$P$13,MAX(Parámetros!M$7:$P$7),FALSE))","v":""},{"$f":"IF(N70=\"\",\"\",VLOOKUP(N70,Parámetros!N$11:$P$13,MAX(Parámetros!N$7:$P$7),FALSE))","v":""},{"$f":"IF(O70=\"\",\"\",VLOOKUP(O70,Parámetros!O$11:$P$13,MAX(Parámetros!O$7:$P$7),FALSE))","v":""},""]
[null,null,null,{"$f":"IF(E71=\"\",\"\",VLOOKUP(E71,'Buenas prácticas'!$G$8:$H$1007,2,FALSE))","v":""},null,null,null,null,null,null,null,null,null,null,null,{"$f":"IF(F71=\"\",\"\",VLOOKUP(F71,Parámetros!F$11:$P$13,MAX(Parámetros!F$7:$P$7),FALSE))","v":""},{"$f":"IF(G71=\"\",\"\",VLOOKUP(G71,Parámetros!G$11:$P$13,MAX(Parámetros!G$7:$P$7),FALSE))","v":""},{"$f":"IF(H71=\"\",\"\",VLOOKUP(H71,Parámetros!H$11:$P$13,MAX(Parámetros!H$7:$P$7),FALSE))","v":""},{"$f":"IF(I71=\"\",\"\",VLOOKUP(I71,Parámetros!I$11:$P$13,MAX(Parámetros!I$7:$P$7),FALSE))","v":""},{"$f":"IF(J71=\"\",\"\",VLOOKUP(J71,Parámetros!J$11:$P$13,MAX(Parámetros!J$7:$P$7),FALSE))","v":""},{"$f":"IF(K71=\"\",\"\",VLOOKUP(K71,Parámetros!K$11:$P$13,MAX(Parámetros!K$7:$P$7),FALSE))","v":""},{"$f":"IF(L71=\"\",\"\",VLOOKUP(L71,Parámetros!L$11:$P$13,MAX(Parámetros!L$7:$P$7),FALSE))","v":""},{"$f":"IF(M71=\"\",\"\",VLOOKUP(M71,Parámetros!M$11:$P$13,MAX(Parámetros!M$7:$P$7),FALSE))","v":""},{"$f":"IF(N71=\"\",\"\",VLOOKUP(N71,Parámetros!N$11:$P$13,MAX(Parámetros!N$7:$P$7),FALSE))","v":""},{"$f":"IF(O71=\"\",\"\",VLOOKUP(O71,Parámetros!O$11:$P$13,MAX(Parámetros!O$7:$P$7),FALSE))","v":""},""]
[null,null,null,{"$f":"IF(E72=\"\",\"\",VLOOKUP(E72,'Buenas prácticas'!$G$8:$H$1007,2,FALSE))","v":""},null,null,null,null,null,null,null,null,null,null,null,{"$f":"IF(F72=\"\",\"\",VLOOKUP(F72,Parámetros!F$11:$P$13,MAX(Parámetros!F$7:$P$7),FALSE))","v":""},{"$f":"IF(G72=\"\",\"\",VLOOKUP(G72,Parámetros!G$11:$P$13,MAX(Parámetros!G$7:$P$7),FALSE))","v":""},{"$f":"IF(H72=\"\",\"\",VLOOKUP(H72,Parámetros!H$11:$P$13,MAX(Parámetros!H$7:$P$7),FALSE))","v":""},{"$f":"IF(I72=\"\",\"\",VLOOKUP(I72,Parámetros!I$11:$P$13,MAX(Parámetros!I$7:$P$7),FALSE))","v":""},{"$f":"IF(J72=\"\",\"\",VLOOKUP(J72,Parámetros!J$11:$P$13,MAX(Parámetros!J$7:$P$7),FALSE))","v":""},{"$f":"IF(K72=\"\",\"\",VLOOKUP(K72,Parámetros!K$11:$P$13,MAX(Parámetros!K$7:$P$7),FALSE))","v":""},{"$f":"IF(L72=\"\",\"\",VLOOKUP(L72,Parámetros!L$11:$P$13,MAX(Parámetros!L$7:$P$7),FALSE))","v":""},{"$f":"IF(M72=\"\",\"\",VLOOKUP(M72,Parámetros!M$11:$P$13,MAX(Parámetros!M$7:$P$7),FALSE))","v":""},{"$f":"IF(N72=\"\",\"\",VLOOKUP(N72,Parámetros!N$11:$P$13,MAX(Parámetros!N$7:$P$7),FALSE))","v":""},{"$f":"IF(O72=\"\",\"\",VLOOKUP(O72,Parámetros!O$11:$P$13,MAX(Parámetros!O$7:$P$7),FALSE))","v":""},""]
[null,null,null,{"$f":"IF(E73=\"\",\"\",VLOOKUP(E73,'Buenas prácticas'!$G$8:$H$1007,2,FALSE))","v":""},null,null,null,null,null,null,null,null,null,null,null,{"$f":"IF(F73=\"\",\"\",VLOOKUP(F73,Parámetros!F$11:$P$13,MAX(Parámetros!F$7:$P$7),FALSE))","v":""},{"$f":"IF(G73=\"\",\"\",VLOOKUP(G73,Parámetros!G$11:$P$13,MAX(Parámetros!G$7:$P$7),FALSE))","v":""},{"$f":"IF(H73=\"\",\"\",VLOOKUP(H73,Parámetros!H$11:$P$13,MAX(Parámetros!H$7:$P$7),FALSE))","v":""},{"$f":"IF(I73=\"\",\"\",VLOOKUP(I73,Parámetros!I$11:$P$13,MAX(Parámetros!I$7:$P$7),FALSE))","v":""},{"$f":"IF(J73=\"\",\"\",VLOOKUP(J73,Parámetros!J$11:$P$13,MAX(Parámetros!J$7:$P$7),FALSE))","v":""},{"$f":"IF(K73=\"\",\"\",VLOOKUP(K73,Parámetros!K$11:$P$13,MAX(Parámetros!K$7:$P$7),FALSE))","v":""},{"$f":"IF(L73=\"\",\"\",VLOOKUP(L73,Parámetros!L$11:$P$13,MAX(Parámetros!L$7:$P$7),FALSE))","v":""},{"$f":"IF(M73=\"\",\"\",VLOOKUP(M73,Parámetros!M$11:$P$13,MAX(Parámetros!M$7:$P$7),FALSE))","v":""},{"$f":"IF(N73=\"\",\"\",VLOOKUP(N73,Parámetros!N$11:$P$13,MAX(Parámetros!N$7:$P$7),FALSE))","v":""},{"$f":"IF(O73=\"\",\"\",VLOOKUP(O73,Parámetros!O$11:$P$13,MAX(Parámetros!O$7:$P$7),FALSE))","v":""},{"$f":"IF(SUMPRODUCT($P73:$Y73,$P$6:$Y$6)=0,\"\",SUMPRODUCT($P73:$Y73,$P$6:$Y$6)/3)","v":""}]
[null,null,null,{"$f":"IF(E74=\"\",\"\",VLOOKUP(E74,'Buenas prácticas'!$G$8:$H$1007,2,FALSE))","v":""},null,null,null,null,null,null,null,null,null,null,null,{"$f":"IF(F74=\"\",\"\",VLOOKUP(F74,Parámetros!F$11:$P$13,MAX(Parámetros!F$7:$P$7),FALSE))","v":""},{"$f":"IF(G74=\"\",\"\",VLOOKUP(G74,Parámetros!G$11:$P$13,MAX(Parámetros!G$7:$P$7),FALSE))","v":""},{"$f":"IF(H74=\"\",\"\",VLOOKUP(H74,Parámetros!H$11:$P$13,MAX(Parámetros!H$7:$P$7),FALSE))","v":""},{"$f":"IF(I74=\"\",\"\",VLOOKUP(I74,Parámetros!I$11:$P$13,MAX(Parámetros!I$7:$P$7),FALSE))","v":""},{"$f":"IF(J74=\"\",\"\",VLOOKUP(J74,Parámetros!J$11:$P$13,MAX(Parámetros!J$7:$P$7),FALSE))","v":""},{"$f":"IF(K74=\"\",\"\",VLOOKUP(K74,Parámetros!K$11:$P$13,MAX(Parámetros!K$7:$P$7),FALSE))","v":""},{"$f":"IF(L74=\"\",\"\",VLOOKUP(L74,Parámetros!L$11:$P$13,MAX(Parámetros!L$7:$P$7),FALSE))","v":""},{"$f":"IF(M74=\"\",\"\",VLOOKUP(M74,Parámetros!M$11:$P$13,MAX(Parámetros!M$7:$P$7),FALSE))","v":""},{"$f":"IF(N74=\"\",\"\",VLOOKUP(N74,Parámetros!N$11:$P$13,MAX(Parámetros!N$7:$P$7),FALSE))","v":""},{"$f":"IF(O74=\"\",\"\",VLOOKUP(O74,Parámetros!O$11:$P$13,MAX(Parámetros!O$7:$P$7),FALSE))","v":""},""]
[null,null,null,{"$f":"IF(E75=\"\",\"\",VLOOKUP(E75,'Buenas prácticas'!$G$8:$H$1007,2,FALSE))","v":""},null,null,null,null,null,null,null,null,null,null,null,{"$f":"IF(F75=\"\",\"\",VLOOKUP(F75,Parámetros!F$11:$P$13,MAX(Parámetros!F$7:$P$7),FALSE))","v":""},{"$f":"IF(G75=\"\",\"\",VLOOKUP(G75,Parámetros!G$11:$P$13,MAX(Parámetros!G$7:$P$7),FALSE))","v":""},{"$f":"IF(H75=\"\",\"\",VLOOKUP(H75,Parámetros!H$11:$P$13,MAX(Parámetros!H$7:$P$7),FALSE))","v":""},{"$f":"IF(I75=\"\",\"\",VLOOKUP(I75,Parámetros!I$11:$P$13,MAX(Parámetros!I$7:$P$7),FALSE))","v":""},{"$f":"IF(J75=\"\",\"\",VLOOKUP(J75,Parámetros!J$11:$P$13,MAX(Parámetros!J$7:$P$7),FALSE))","v":""},{"$f":"IF(K75=\"\",\"\",VLOOKUP(K75,Parámetros!K$11:$P$13,MAX(Parámetros!K$7:$P$7),FALSE))","v":""},{"$f":"IF(L75=\"\",\"\",VLOOKUP(L75,Parámetros!L$11:$P$13,MAX(Parámetros!L$7:$P$7),FALSE))","v":""},{"$f":"IF(M75=\"\",\"\",VLOOKUP(M75,Parámetros!M$11:$P$13,MAX(Parámetros!M$7:$P$7),FALSE))","v":""},{"$f":"IF(N75=\"\",\"\",VLOOKUP(N75,Parámetros!N$11:$P$13,MAX(Parámetros!N$7:$P$7),FALSE))","v":""},{"$f":"IF(O75=\"\",\"\",VLOOKUP(O75,Parámetros!O$11:$P$13,MAX(Parámetros!O$7:$P$7),FALSE))","v":""},""]
[null,null,null,{"$f":"IF(E76=\"\",\"\",VLOOKUP(E76,'Buenas prácticas'!$G$8:$H$1007,2,FALSE))","v":""},null,null,null,null,null,null,null,null,null,null,null,{"$f":"IF(F76=\"\",\"\",VLOOKUP(F76,Parámetros!F$11:$P$13,MAX(Parámetros!F$7:$P$7),FALSE))","v":""},{"$f":"IF(G76=\"\",\"\",VLOOKUP(G76,Parámetros!G$11:$P$13,MAX(Parámetros!G$7:$P$7),FALSE))","v":""},{"$f":"IF(H76=\"\",\"\",VLOOKUP(H76,Parámetros!H$11:$P$13,MAX(Parámetros!H$7:$P$7),FALSE))","v":""},{"$f":"IF(I76=\"\",\"\",VLOOKUP(I76,Parámetros!I$11:$P$13,MAX(Parámetros!I$7:$P$7),FALSE))","v":""},{"$f":"IF(J76=\"\",\"\",VLOOKUP(J76,Parámetros!J$11:$P$13,MAX(Parámetros!J$7:$P$7),FALSE))","v":""},{"$f":"IF(K76=\"\",\"\",VLOOKUP(K76,Parámetros!K$11:$P$13,MAX(Parámetros!K$7:$P$7),FALSE))","v":""},{"$f":"IF(L76=\"\",\"\",VLOOKUP(L76,Parámetros!L$11:$P$13,MAX(Parámetros!L$7:$P$7),FALSE))","v":""},{"$f":"IF(M76=\"\",\"\",VLOOKUP(M76,Parámetros!M$11:$P$13,MAX(Parámetros!M$7:$P$7),FALSE))","v":""},{"$f":"IF(N76=\"\",\"\",VLOOKUP(N76,Parámetros!N$11:$P$13,MAX(Parámetros!N$7:$P$7),FALSE))","v":""},{"$f":"IF(O76=\"\",\"\",VLOOKUP(O76,Parámetros!O$11:$P$13,MAX(Parámetros!O$7:$P$7),FALSE))","v":""},""]
[null,null,null,{"$f":"IF(E77=\"\",\"\",VLOOKUP(E77,'Buenas prácticas'!$G$8:$H$1007,2,FALSE))","v":""},null,null,null,null,null,null,null,null,null,null,null,{"$f":"IF(F77=\"\",\"\",VLOOKUP(F77,Parámetros!F$11:$P$13,MAX(Parámetros!F$7:$P$7),FALSE))","v":""},{"$f":"IF(G77=\"\",\"\",VLOOKUP(G77,Parámetros!G$11:$P$13,MAX(Parámetros!G$7:$P$7),FALSE))","v":""},{"$f":"IF(H77=\"\",\"\",VLOOKUP(H77,Parámetros!H$11:$P$13,MAX(Parámetros!H$7:$P$7),FALSE))","v":""},{"$f":"IF(I77=\"\",\"\",VLOOKUP(I77,Parámetros!I$11:$P$13,MAX(Parámetros!I$7:$P$7),FALSE))","v":""},{"$f":"IF(J77=\"\",\"\",VLOOKUP(J77,Parámetros!J$11:$P$13,MAX(Parámetros!J$7:$P$7),FALSE))","v":""},{"$f":"IF(K77=\"\",\"\",VLOOKUP(K77,Parámetros!K$11:$P$13,MAX(Parámetros!K$7:$P$7),FALSE))","v":""},{"$f":"IF(L77=\"\",\"\",VLOOKUP(L77,Parámetros!L$11:$P$13,MAX(Parámetros!L$7:$P$7),FALSE))","v":""},{"$f":"IF(M77=\"\",\"\",VLOOKUP(M77,Parámetros!M$11:$P$13,MAX(Parámetros!M$7:$P$7),FALSE))","v":""},{"$f":"IF(N77=\"\",\"\",VLOOKUP(N77,Parámetros!N$11:$P$13,MAX(Parámetros!N$7:$P$7),FALSE))","v":""},{"$f":"IF(O77=\"\",\"\",VLOOKUP(O77,Parámetros!O$11:$P$13,MAX(Parámetros!O$7:$P$7),FALSE))","v":""},""]
[null,null,null,{"$f":"IF(E78=\"\",\"\",VLOOKUP(E78,'Buenas prácticas'!$G$8:$H$1007,2,FALSE))","v":""},null,null,null,null,null,null,null,null,null,null,null,{"$f":"IF(F78=\"\",\"\",VLOOKUP(F78,Parámetros!F$11:$P$13,MAX(Parámetros!F$7:$P$7),FALSE))","v":""},{"$f":"IF(G78=\"\",\"\",VLOOKUP(G78,Parámetros!G$11:$P$13,MAX(Parámetros!G$7:$P$7),FALSE))","v":""},{"$f":"IF(H78=\"\",\"\",VLOOKUP(H78,Parámetros!H$11:$P$13,MAX(Parámetros!H$7:$P$7),FALSE))","v":""},{"$f":"IF(I78=\"\",\"\",VLOOKUP(I78,Parámetros!I$11:$P$13,MAX(Parámetros!I$7:$P$7),FALSE))","v":""},{"$f":"IF(J78=\"\",\"\",VLOOKUP(J78,Parámetros!J$11:$P$13,MAX(Parámetros!J$7:$P$7),FALSE))","v":""},{"$f":"IF(K78=\"\",\"\",VLOOKUP(K78,Parámetros!K$11:$P$13,MAX(Parámetros!K$7:$P$7),FALSE))","v":""},{"$f":"IF(L78=\"\",\"\",VLOOKUP(L78,Parámetros!L$11:$P$13,MAX(Parámetros!L$7:$P$7),FALSE))","v":""},{"$f":"IF(M78=\"\",\"\",VLOOKUP(M78,Parámetros!M$11:$P$13,MAX(Parámetros!M$7:$P$7),FALSE))","v":""},{"$f":"IF(N78=\"\",\"\",VLOOKUP(N78,Parámetros!N$11:$P$13,MAX(Parámetros!N$7:$P$7),FALSE))","v":""},{"$f":"IF(O78=\"\",\"\",VLOOKUP(O78,Parámetros!O$11:$P$13,MAX(Parámetros!O$7:$P$7),FALSE))","v":""},""]
[null,null,null,{"$f":"IF(E79=\"\",\"\",VLOOKUP(E79,'Buenas prácticas'!$G$8:$H$1007,2,FALSE))","v":""},null,null,null,null,null,null,null,null,null,null,null,{"$f":"IF(F79=\"\",\"\",VLOOKUP(F79,Parámetros!F$11:$P$13,MAX(Parámetros!F$7:$P$7),FALSE))","v":""},{"$f":"IF(G79=\"\",\"\",VLOOKUP(G79,Parámetros!G$11:$P$13,MAX(Parámetros!G$7:$P$7),FALSE))","v":""},{"$f":"IF(H79=\"\",\"\",VLOOKUP(H79,Parámetros!H$11:$P$13,MAX(Parámetros!H$7:$P$7),FALSE))","v":""},{"$f":"IF(I79=\"\",\"\",VLOOKUP(I79,Parámetros!I$11:$P$13,MAX(Parámetros!I$7:$P$7),FALSE))","v":""},{"$f":"IF(J79=\"\",\"\",VLOOKUP(J79,Parámetros!J$11:$P$13,MAX(Parámetros!J$7:$P$7),FALSE))","v":""},{"$f":"IF(K79=\"\",\"\",VLOOKUP(K79,Parámetros!K$11:$P$13,MAX(Parámetros!K$7:$P$7),FALSE))","v":""},{"$f":"IF(L79=\"\",\"\",VLOOKUP(L79,Parámetros!L$11:$P$13,MAX(Parámetros!L$7:$P$7),FALSE))","v":""},{"$f":"IF(M79=\"\",\"\",VLOOKUP(M79,Parámetros!M$11:$P$13,MAX(Parámetros!M$7:$P$7),FALSE))","v":""},{"$f":"IF(N79=\"\",\"\",VLOOKUP(N79,Parámetros!N$11:$P$13,MAX(Parámetros!N$7:$P$7),FALSE))","v":""},{"$f":"IF(O79=\"\",\"\",VLOOKUP(O79,Parámetros!O$11:$P$13,MAX(Parámetros!O$7:$P$7),FALSE))","v":""},""]
[null,null,null,{"$f":"IF(E80=\"\",\"\",VLOOKUP(E80,'Buenas prácticas'!$G$8:$H$1007,2,FALSE))","v":""},null,null,null,null,null,null,null,null,null,null,null,{"$f":"IF(F80=\"\",\"\",VLOOKUP(F80,Parámetros!F$11:$P$13,MAX(Parámetros!F$7:$P$7),FALSE))","v":""},{"$f":"IF(G80=\"\",\"\",VLOOKUP(G80,Parámetros!G$11:$P$13,MAX(Parámetros!G$7:$P$7),FALSE))","v":""},{"$f":"IF(H80=\"\",\"\",VLOOKUP(H80,Parámetros!H$11:$P$13,MAX(Parámetros!H$7:$P$7),FALSE))","v":""},{"$f":"IF(I80=\"\",\"\",VLOOKUP(I80,Parámetros!I$11:$P$13,MAX(Parámetros!I$7:$P$7),FALSE))","v":""},{"$f":"IF(J80=\"\",\"\",VLOOKUP(J80,Parámetros!J$11:$P$13,MAX(Parámetros!J$7:$P$7),FALSE))","v":""},{"$f":"IF(K80=\"\",\"\",VLOOKUP(K80,Parámetros!K$11:$P$13,MAX(Parámetros!K$7:$P$7),FALSE))","v":""},{"$f":"IF(L80=\"\",\"\",VLOOKUP(L80,Parámetros!L$11:$P$13,MAX(Parámetros!L$7:$P$7),FALSE))","v":""},{"$f":"IF(M80=\"\",\"\",VLOOKUP(M80,Parámetros!M$11:$P$13,MAX(Parámetros!M$7:$P$7),FALSE))","v":""},{"$f":"IF(N80=\"\",\"\",VLOOKUP(N80,Parámetros!N$11:$P$13,MAX(Parámetros!N$7:$P$7),FALSE))","v":""},{"$f":"IF(O80=\"\",\"\",VLOOKUP(O80,Parámetros!O$11:$P$13,MAX(Parámetros!O$7:$P$7),FALSE))","v":""},""]
[null,null,null,{"$f":"IF(E81=\"\",\"\",VLOOKUP(E81,'Buenas prácticas'!$G$8:$H$1007,2,FALSE))","v":""},null,null,null,null,null,null,null,null,null,null,null,{"$f":"IF(F81=\"\",\"\",VLOOKUP(F81,Parámetros!F$11:$P$13,MAX(Parámetros!F$7:$P$7),FALSE))","v":""},{"$f":"IF(G81=\"\",\"\",VLOOKUP(G81,Parámetros!G$11:$P$13,MAX(Parámetros!G$7:$P$7),FALSE))","v":""},{"$f":"IF(H81=\"\",\"\",VLOOKUP(H81,Parámetros!H$11:$P$13,MAX(Parámetros!H$7:$P$7),FALSE))","v":""},{"$f":"IF(I81=\"\",\"\",VLOOKUP(I81,Parámetros!I$11:$P$13,MAX(Parámetros!I$7:$P$7),FALSE))","v":""},{"$f":"IF(J81=\"\",\"\",VLOOKUP(J81,Parámetros!J$11:$P$13,MAX(Parámetros!J$7:$P$7),FALSE))","v":""},{"$f":"IF(K81=\"\",\"\",VLOOKUP(K81,Parámetros!K$11:$P$13,MAX(Parámetros!K$7:$P$7),FALSE))","v":""},{"$f":"IF(L81=\"\",\"\",VLOOKUP(L81,Parámetros!L$11:$P$13,MAX(Parámetros!L$7:$P$7),FALSE))","v":""},{"$f":"IF(M81=\"\",\"\",VLOOKUP(M81,Parámetros!M$11:$P$13,MAX(Parámetros!M$7:$P$7),FALSE))","v":""},{"$f":"IF(N81=\"\",\"\",VLOOKUP(N81,Parámetros!N$11:$P$13,MAX(Parámetros!N$7:$P$7),FALSE))","v":""},{"$f":"IF(O81=\"\",\"\",VLOOKUP(O81,Parámetros!O$11:$P$13,MAX(Parámetros!O$7:$P$7),FALSE))","v":""},""]
[null,null,null,{"$f":"IF(E82=\"\",\"\",VLOOKUP(E82,'Buenas prácticas'!$G$8:$H$1007,2,FALSE))","v":""},null,null,null,null,null,null,null,null,null,null,null,{"$f":"IF(F82=\"\",\"\",VLOOKUP(F82,Parámetros!F$11:$P$13,MAX(Parámetros!F$7:$P$7),FALSE))","v":""},{"$f":"IF(G82=\"\",\"\",VLOOKUP(G82,Parámetros!G$11:$P$13,MAX(Parámetros!G$7:$P$7),FALSE))","v":""},{"$f":"IF(H82=\"\",\"\",VLOOKUP(H82,Parámetros!H$11:$P$13,MAX(Parámetros!H$7:$P$7),FALSE))","v":""},{"$f":"IF(I82=\"\",\"\",VLOOKUP(I82,Parámetros!I$11:$P$13,MAX(Parámetros!I$7:$P$7),FALSE))","v":""},{"$f":"IF(J82=\"\",\"\",VLOOKUP(J82,Parámetros!J$11:$P$13,MAX(Parámetros!J$7:$P$7),FALSE))","v":""},{"$f":"IF(K82=\"\",\"\",VLOOKUP(K82,Parámetros!K$11:$P$13,MAX(Parámetros!K$7:$P$7),FALSE))","v":""},{"$f":"IF(L82=\"\",\"\",VLOOKUP(L82,Parámetros!L$11:$P$13,MAX(Parámetros!L$7:$P$7),FALSE))","v":""},{"$f":"IF(M82=\"\",\"\",VLOOKUP(M82,Parámetros!M$11:$P$13,MAX(Parámetros!M$7:$P$7),FALSE))","v":""},{"$f":"IF(N82=\"\",\"\",VLOOKUP(N82,Parámetros!N$11:$P$13,MAX(Parámetros!N$7:$P$7),FALSE))","v":""},{"$f":"IF(O82=\"\",\"\",VLOOKUP(O82,Parámetros!O$11:$P$13,MAX(Parámetros!O$7:$P$7),FALSE))","v":""},""]
[null,null,null,{"$f":"IF(E83=\"\",\"\",VLOOKUP(E83,'Buenas prácticas'!$G$8:$H$1007,2,FALSE))","v":""},null,null,null,null,null,null,null,null,null,null,null,{"$f":"IF(F83=\"\",\"\",VLOOKUP(F83,Parámetros!F$11:$P$13,MAX(Parámetros!F$7:$P$7),FALSE))","v":""},{"$f":"IF(G83=\"\",\"\",VLOOKUP(G83,Parámetros!G$11:$P$13,MAX(Parámetros!G$7:$P$7),FALSE))","v":""},{"$f":"IF(H83=\"\",\"\",VLOOKUP(H83,Parámetros!H$11:$P$13,MAX(Parámetros!H$7:$P$7),FALSE))","v":""},{"$f":"IF(I83=\"\",\"\",VLOOKUP(I83,Parámetros!I$11:$P$13,MAX(Parámetros!I$7:$P$7),FALSE))","v":""},{"$f":"IF(J83=\"\",\"\",VLOOKUP(J83,Parámetros!J$11:$P$13,MAX(Parámetros!J$7:$P$7),FALSE))","v":""},{"$f":"IF(K83=\"\",\"\",VLOOKUP(K83,Parámetros!K$11:$P$13,MAX(Parámetros!K$7:$P$7),FALSE))","v":""},{"$f":"IF(L83=\"\",\"\",VLOOKUP(L83,Parámetros!L$11:$P$13,MAX(Parámetros!L$7:$P$7),FALSE))","v":""},{"$f":"IF(M83=\"\",\"\",VLOOKUP(M83,Parámetros!M$11:$P$13,MAX(Parámetros!M$7:$P$7),FALSE))","v":""},{"$f":"IF(N83=\"\",\"\",VLOOKUP(N83,Parámetros!N$11:$P$13,MAX(Parámetros!N$7:$P$7),FALSE))","v":""},{"$f":"IF(O83=\"\",\"\",VLOOKUP(O83,Parámetros!O$11:$P$13,MAX(Parámetros!O$7:$P$7),FALSE))","v":""},""]
[null,null,null,{"$f":"IF(E84=\"\",\"\",VLOOKUP(E84,'Buenas prácticas'!$G$8:$H$1007,2,FALSE))","v":""},null,null,null,null,null,null,null,null,null,null,null,{"$f":"IF(F84=\"\",\"\",VLOOKUP(F84,Parámetros!F$11:$P$13,MAX(Parámetros!F$7:$P$7),FALSE))","v":""},{"$f":"IF(G84=\"\",\"\",VLOOKUP(G84,Parámetros!G$11:$P$13,MAX(Parámetros!G$7:$P$7),FALSE))","v":""},{"$f":"IF(H84=\"\",\"\",VLOOKUP(H84,Parámetros!H$11:$P$13,MAX(Parámetros!H$7:$P$7),FALSE))","v":""},{"$f":"IF(I84=\"\",\"\",VLOOKUP(I84,Parámetros!I$11:$P$13,MAX(Parámetros!I$7:$P$7),FALSE))","v":""},{"$f":"IF(J84=\"\",\"\",VLOOKUP(J84,Parámetros!J$11:$P$13,MAX(Parámetros!J$7:$P$7),FALSE))","v":""},{"$f":"IF(K84=\"\",\"\",VLOOKUP(K84,Parámetros!K$11:$P$13,MAX(Parámetros!K$7:$P$7),FALSE))","v":""},{"$f":"IF(L84=\"\",\"\",VLOOKUP(L84,Parámetros!L$11:$P$13,MAX(Parámetros!L$7:$P$7),FALSE))","v":""},{"$f":"IF(M84=\"\",\"\",VLOOKUP(M84,Parámetros!M$11:$P$13,MAX(Parámetros!M$7:$P$7),FALSE))","v":""},{"$f":"IF(N84=\"\",\"\",VLOOKUP(N84,Parámetros!N$11:$P$13,MAX(Parámetros!N$7:$P$7),FALSE))","v":""},{"$f":"IF(O84=\"\",\"\",VLOOKUP(O84,Parámetros!O$11:$P$13,MAX(Parámetros!O$7:$P$7),FALSE))","v":""},""]
[null,null,null,{"$f":"IF(E85=\"\",\"\",VLOOKUP(E85,'Buenas prácticas'!$G$8:$H$1007,2,FALSE))","v":""},null,null,null,null,null,null,null,null,null,null,null,{"$f":"IF(F85=\"\",\"\",VLOOKUP(F85,Parámetros!F$11:$P$13,MAX(Parámetros!F$7:$P$7),FALSE))","v":""},{"$f":"IF(G85=\"\",\"\",VLOOKUP(G85,Parámetros!G$11:$P$13,MAX(Parámetros!G$7:$P$7),FALSE))","v":""},{"$f":"IF(H85=\"\",\"\",VLOOKUP(H85,Parámetros!H$11:$P$13,MAX(Parámetros!H$7:$P$7),FALSE))","v":""},{"$f":"IF(I85=\"\",\"\",VLOOKUP(I85,Parámetros!I$11:$P$13,MAX(Parámetros!I$7:$P$7),FALSE))","v":""},{"$f":"IF(J85=\"\",\"\",VLOOKUP(J85,Parámetros!J$11:$P$13,MAX(Parámetros!J$7:$P$7),FALSE))","v":""},{"$f":"IF(K85=\"\",\"\",VLOOKUP(K85,Parámetros!K$11:$P$13,MAX(Parámetros!K$7:$P$7),FALSE))","v":""},{"$f":"IF(L85=\"\",\"\",VLOOKUP(L85,Parámetros!L$11:$P$13,MAX(Parámetros!L$7:$P$7),FALSE))","v":""},{"$f":"IF(M85=\"\",\"\",VLOOKUP(M85,Parámetros!M$11:$P$13,MAX(Parámetros!M$7:$P$7),FALSE))","v":""},{"$f":"IF(N85=\"\",\"\",VLOOKUP(N85,Parámetros!N$11:$P$13,MAX(Parámetros!N$7:$P$7),FALSE))","v":""},{"$f":"IF(O85=\"\",\"\",VLOOKUP(O85,Parámetros!O$11:$P$13,MAX(Parámetros!O$7:$P$7),FALSE))","v":""},""]
[null,null,null,{"$f":"IF(E86=\"\",\"\",VLOOKUP(E86,'Buenas prácticas'!$G$8:$H$1007,2,FALSE))","v":""},null,null,null,null,null,null,null,null,null,null,null,{"$f":"IF(F86=\"\",\"\",VLOOKUP(F86,Parámetros!F$11:$P$13,MAX(Parámetros!F$7:$P$7),FALSE))","v":""},{"$f":"IF(G86=\"\",\"\",VLOOKUP(G86,Parámetros!G$11:$P$13,MAX(Parámetros!G$7:$P$7),FALSE))","v":""},{"$f":"IF(H86=\"\",\"\",VLOOKUP(H86,Parámetros!H$11:$P$13,MAX(Parámetros!H$7:$P$7),FALSE))","v":""},{"$f":"IF(I86=\"\",\"\",VLOOKUP(I86,Parámetros!I$11:$P$13,MAX(Parámetros!I$7:$P$7),FALSE))","v":""},{"$f":"IF(J86=\"\",\"\",VLOOKUP(J86,Parámetros!J$11:$P$13,MAX(Parámetros!J$7:$P$7),FALSE))","v":""},{"$f":"IF(K86=\"\",\"\",VLOOKUP(K86,Parámetros!K$11:$P$13,MAX(Parámetros!K$7:$P$7),FALSE))","v":""},{"$f":"IF(L86=\"\",\"\",VLOOKUP(L86,Parámetros!L$11:$P$13,MAX(Parámetros!L$7:$P$7),FALSE))","v":""},{"$f":"IF(M86=\"\",\"\",VLOOKUP(M86,Parámetros!M$11:$P$13,MAX(Parámetros!M$7:$P$7),FALSE))","v":""},{"$f":"IF(N86=\"\",\"\",VLOOKUP(N86,Parámetros!N$11:$P$13,MAX(Parámetros!N$7:$P$7),FALSE))","v":""},{"$f":"IF(O86=\"\",\"\",VLOOKUP(O86,Parámetros!O$11:$P$13,MAX(Parámetros!O$7:$P$7),FALSE))","v":""},""]
[null,null,null,{"$f":"IF(E87=\"\",\"\",VLOOKUP(E87,'Buenas prácticas'!$G$8:$H$1007,2,FALSE))","v":""},null,null,null,null,null,null,null,null,null,null,null,{"$f":"IF(F87=\"\",\"\",VLOOKUP(F87,Parámetros!F$11:$P$13,MAX(Parámetros!F$7:$P$7),FALSE))","v":""},{"$f":"IF(G87=\"\",\"\",VLOOKUP(G87,Parámetros!G$11:$P$13,MAX(Parámetros!G$7:$P$7),FALSE))","v":""},{"$f":"IF(H87=\"\",\"\",VLOOKUP(H87,Parámetros!H$11:$P$13,MAX(Parámetros!H$7:$P$7),FALSE))","v":""},{"$f":"IF(I87=\"\",\"\",VLOOKUP(I87,Parámetros!I$11:$P$13,MAX(Parámetros!I$7:$P$7),FALSE))","v":""},{"$f":"IF(J87=\"\",\"\",VLOOKUP(J87,Parámetros!J$11:$P$13,MAX(Parámetros!J$7:$P$7),FALSE))","v":""},{"$f":"IF(K87=\"\",\"\",VLOOKUP(K87,Parámetros!K$11:$P$13,MAX(Parámetros!K$7:$P$7),FALSE))","v":""},{"$f":"IF(L87=\"\",\"\",VLOOKUP(L87,Parámetros!L$11:$P$13,MAX(Parámetros!L$7:$P$7),FALSE))","v":""},{"$f":"IF(M87=\"\",\"\",VLOOKUP(M87,Parámetros!M$11:$P$13,MAX(Parámetros!M$7:$P$7),FALSE))","v":""},{"$f":"IF(N87=\"\",\"\",VLOOKUP(N87,Parámetros!N$11:$P$13,MAX(Parámetros!N$7:$P$7),FALSE))","v":""},{"$f":"IF(O87=\"\",\"\",VLOOKUP(O87,Parámetros!O$11:$P$13,MAX(Parámetros!O$7:$P$7),FALSE))","v":""},""]
[null,null,null,{"$f":"IF(E88=\"\",\"\",VLOOKUP(E88,'Buenas prácticas'!$G$8:$H$1007,2,FALSE))","v":""},null,null,null,null,null,null,null,null,null,null,null,{"$f":"IF(F88=\"\",\"\",VLOOKUP(F88,Parámetros!F$11:$P$13,MAX(Parámetros!F$7:$P$7),FALSE))","v":""},{"$f":"IF(G88=\"\",\"\",VLOOKUP(G88,Parámetros!G$11:$P$13,MAX(Parámetros!G$7:$P$7),FALSE))","v":""},{"$f":"IF(H88=\"\",\"\",VLOOKUP(H88,Parámetros!H$11:$P$13,MAX(Parámetros!H$7:$P$7),FALSE))","v":""},{"$f":"IF(I88=\"\",\"\",VLOOKUP(I88,Parámetros!I$11:$P$13,MAX(Parámetros!I$7:$P$7),FALSE))","v":""},{"$f":"IF(J88=\"\",\"\",VLOOKUP(J88,Parámetros!J$11:$P$13,MAX(Parámetros!J$7:$P$7),FALSE))","v":""},{"$f":"IF(K88=\"\",\"\",VLOOKUP(K88,Parámetros!K$11:$P$13,MAX(Parámetros!K$7:$P$7),FALSE))","v":""},{"$f":"IF(L88=\"\",\"\",VLOOKUP(L88,Parámetros!L$11:$P$13,MAX(Parámetros!L$7:$P$7),FALSE))","v":""},{"$f":"IF(M88=\"\",\"\",VLOOKUP(M88,Parámetros!M$11:$P$13,MAX(Parámetros!M$7:$P$7),FALSE))","v":""},{"$f":"IF(N88=\"\",\"\",VLOOKUP(N88,Parámetros!N$11:$P$13,MAX(Parámetros!N$7:$P$7),FALSE))","v":""},{"$f":"IF(O88=\"\",\"\",VLOOKUP(O88,Parámetros!O$11:$P$13,MAX(Parámetros!O$7:$P$7),FALSE))","v":""},""]
[null,null,null,{"$f":"IF(E89=\"\",\"\",VLOOKUP(E89,'Buenas prácticas'!$G$8:$H$1007,2,FALSE))","v":""},null,null,null,null,null,null,null,null,null,null,null,{"$f":"IF(F89=\"\",\"\",VLOOKUP(F89,Parámetros!F$11:$P$13,MAX(Parámetros!F$7:$P$7),FALSE))","v":""},{"$f":"IF(G89=\"\",\"\",VLOOKUP(G89,Parámetros!G$11:$P$13,MAX(Parámetros!G$7:$P$7),FALSE))","v":""},{"$f":"IF(H89=\"\",\"\",VLOOKUP(H89,Parámetros!H$11:$P$13,MAX(Parámetros!H$7:$P$7),FALSE))","v":""},{"$f":"IF(I89=\"\",\"\",VLOOKUP(I89,Parámetros!I$11:$P$13,MAX(Parámetros!I$7:$P$7),FALSE))","v":""},{"$f":"IF(J89=\"\",\"\",VLOOKUP(J89,Parámetros!J$11:$P$13,MAX(Parámetros!J$7:$P$7),FALSE))","v":""},{"$f":"IF(K89=\"\",\"\",VLOOKUP(K89,Parámetros!K$11:$P$13,MAX(Parámetros!K$7:$P$7),FALSE))","v":""},{"$f":"IF(L89=\"\",\"\",VLOOKUP(L89,Parámetros!L$11:$P$13,MAX(Parámetros!L$7:$P$7),FALSE))","v":""},{"$f":"IF(M89=\"\",\"\",VLOOKUP(M89,Parámetros!M$11:$P$13,MAX(Parámetros!M$7:$P$7),FALSE))","v":""},{"$f":"IF(N89=\"\",\"\",VLOOKUP(N89,Parámetros!N$11:$P$13,MAX(Parámetros!N$7:$P$7),FALSE))","v":""},{"$f":"IF(O89=\"\",\"\",VLOOKUP(O89,Parámetros!O$11:$P$13,MAX(Parámetros!O$7:$P$7),FALSE))","v":""},""]
[null,null,null,{"$f":"IF(E90=\"\",\"\",VLOOKUP(E90,'Buenas prácticas'!$G$8:$H$1007,2,FALSE))","v":""},null,null,null,null,null,null,null,null,null,null,null,{"$f":"IF(F90=\"\",\"\",VLOOKUP(F90,Parámetros!F$11:$P$13,MAX(Parámetros!F$7:$P$7),FALSE))","v":""},{"$f":"IF(G90=\"\",\"\",VLOOKUP(G90,Parámetros!G$11:$P$13,MAX(Parámetros!G$7:$P$7),FALSE))","v":""},{"$f":"IF(H90=\"\",\"\",VLOOKUP(H90,Parámetros!H$11:$P$13,MAX(Parámetros!H$7:$P$7),FALSE))","v":""},{"$f":"IF(I90=\"\",\"\",VLOOKUP(I90,Parámetros!I$11:$P$13,MAX(Parámetros!I$7:$P$7),FALSE))","v":""},{"$f":"IF(J90=\"\",\"\",VLOOKUP(J90,Parámetros!J$11:$P$13,MAX(Parámetros!J$7:$P$7),FALSE))","v":""},{"$f":"IF(K90=\"\",\"\",VLOOKUP(K90,Parámetros!K$11:$P$13,MAX(Parámetros!K$7:$P$7),FALSE))","v":""},{"$f":"IF(L90=\"\",\"\",VLOOKUP(L90,Parámetros!L$11:$P$13,MAX(Parámetros!L$7:$P$7),FALSE))","v":""},{"$f":"IF(M90=\"\",\"\",VLOOKUP(M90,Parámetros!M$11:$P$13,MAX(Parámetros!M$7:$P$7),FALSE))","v":""},{"$f":"IF(N90=\"\",\"\",VLOOKUP(N90,Parámetros!N$11:$P$13,MAX(Parámetros!N$7:$P$7),FALSE))","v":""},{"$f":"IF(O90=\"\",\"\",VLOOKUP(O90,Parámetros!O$11:$P$13,MAX(Parámetros!O$7:$P$7),FALSE))","v":""},""]
[null,null,null,{"$f":"IF(E91=\"\",\"\",VLOOKUP(E91,'Buenas prácticas'!$G$8:$H$1007,2,FALSE))","v":""},null,null,null,null,null,null,null,null,null,null,null,{"$f":"IF(F91=\"\",\"\",VLOOKUP(F91,Parámetros!F$11:$P$13,MAX(Parámetros!F$7:$P$7),FALSE))","v":""},{"$f":"IF(G91=\"\",\"\",VLOOKUP(G91,Parámetros!G$11:$P$13,MAX(Parámetros!G$7:$P$7),FALSE))","v":""},{"$f":"IF(H91=\"\",\"\",VLOOKUP(H91,Parámetros!H$11:$P$13,MAX(Parámetros!H$7:$P$7),FALSE))","v":""},{"$f":"IF(I91=\"\",\"\",VLOOKUP(I91,Parámetros!I$11:$P$13,MAX(Parámetros!I$7:$P$7),FALSE))","v":""},{"$f":"IF(J91=\"\",\"\",VLOOKUP(J91,Parámetros!J$11:$P$13,MAX(Parámetros!J$7:$P$7),FALSE))","v":""},{"$f":"IF(K91=\"\",\"\",VLOOKUP(K91,Parámetros!K$11:$P$13,MAX(Parámetros!K$7:$P$7),FALSE))","v":""},{"$f":"IF(L91=\"\",\"\",VLOOKUP(L91,Parámetros!L$11:$P$13,MAX(Parámetros!L$7:$P$7),FALSE))","v":""},{"$f":"IF(M91=\"\",\"\",VLOOKUP(M91,Parámetros!M$11:$P$13,MAX(Parámetros!M$7:$P$7),FALSE))","v":""},{"$f":"IF(N91=\"\",\"\",VLOOKUP(N91,Parámetros!N$11:$P$13,MAX(Parámetros!N$7:$P$7),FALSE))","v":""},{"$f":"IF(O91=\"\",\"\",VLOOKUP(O91,Parámetros!O$11:$P$13,MAX(Parámetros!O$7:$P$7),FALSE))","v":""},""]
[null,null,null,{"$f":"IF(E92=\"\",\"\",VLOOKUP(E92,'Buenas prácticas'!$G$8:$H$1007,2,FALSE))","v":""},null,null,null,null,null,null,null,null,null,null,null,{"$f":"IF(F92=\"\",\"\",VLOOKUP(F92,Parámetros!F$11:$P$13,MAX(Parámetros!F$7:$P$7),FALSE))","v":""},{"$f":"IF(G92=\"\",\"\",VLOOKUP(G92,Parámetros!G$11:$P$13,MAX(Parámetros!G$7:$P$7),FALSE))","v":""},{"$f":"IF(H92=\"\",\"\",VLOOKUP(H92,Parámetros!H$11:$P$13,MAX(Parámetros!H$7:$P$7),FALSE))","v":""},{"$f":"IF(I92=\"\",\"\",VLOOKUP(I92,Parámetros!I$11:$P$13,MAX(Parámetros!I$7:$P$7),FALSE))","v":""},{"$f":"IF(J92=\"\",\"\",VLOOKUP(J92,Parámetros!J$11:$P$13,MAX(Parámetros!J$7:$P$7),FALSE))","v":""},{"$f":"IF(K92=\"\",\"\",VLOOKUP(K92,Parámetros!K$11:$P$13,MAX(Parámetros!K$7:$P$7),FALSE))","v":""},{"$f":"IF(L92=\"\",\"\",VLOOKUP(L92,Parámetros!L$11:$P$13,MAX(Parámetros!L$7:$P$7),FALSE))","v":""},{"$f":"IF(M92=\"\",\"\",VLOOKUP(M92,Parámetros!M$11:$P$13,MAX(Parámetros!M$7:$P$7),FALSE))","v":""},{"$f":"IF(N92=\"\",\"\",VLOOKUP(N92,Parámetros!N$11:$P$13,MAX(Parámetros!N$7:$P$7),FALSE))","v":""},{"$f":"IF(O92=\"\",\"\",VLOOKUP(O92,Parámetros!O$11:$P$13,MAX(Parámetros!O$7:$P$7),FALSE))","v":""},""]
[null,null,null,{"$f":"IF(E93=\"\",\"\",VLOOKUP(E93,'Buenas prácticas'!$G$8:$H$1007,2,FALSE))","v":""},null,null,null,null,null,null,null,null,null,null,null,{"$f":"IF(F93=\"\",\"\",VLOOKUP(F93,Parámetros!F$11:$P$13,MAX(Parámetros!F$7:$P$7),FALSE))","v":""},{"$f":"IF(G93=\"\",\"\",VLOOKUP(G93,Parámetros!G$11:$P$13,MAX(Parámetros!G$7:$P$7),FALSE))","v":""},{"$f":"IF(H93=\"\",\"\",VLOOKUP(H93,Parámetros!H$11:$P$13,MAX(Parámetros!H$7:$P$7),FALSE))","v":""},{"$f":"IF(I93=\"\",\"\",VLOOKUP(I93,Parámetros!I$11:$P$13,MAX(Parámetros!I$7:$P$7),FALSE))","v":""},{"$f":"IF(J93=\"\",\"\",VLOOKUP(J93,Parámetros!J$11:$P$13,MAX(Parámetros!J$7:$P$7),FALSE))","v":""},{"$f":"IF(K93=\"\",\"\",VLOOKUP(K93,Parámetros!K$11:$P$13,MAX(Parámetros!K$7:$P$7),FALSE))","v":""},{"$f":"IF(L93=\"\",\"\",VLOOKUP(L93,Parámetros!L$11:$P$13,MAX(Parámetros!L$7:$P$7),FALSE))","v":""},{"$f":"IF(M93=\"\",\"\",VLOOKUP(M93,Parámetros!M$11:$P$13,MAX(Parámetros!M$7:$P$7),FALSE))","v":""},{"$f":"IF(N93=\"\",\"\",VLOOKUP(N93,Parámetros!N$11:$P$13,MAX(Parámetros!N$7:$P$7),FALSE))","v":""},{"$f":"IF(O93=\"\",\"\",VLOOKUP(O93,Parámetros!O$11:$P$13,MAX(Parámetros!O$7:$P$7),FALSE))","v":""},""]
[null,null,null,{"$f":"IF(E94=\"\",\"\",VLOOKUP(E94,'Buenas prácticas'!$G$8:$H$1007,2,FALSE))","v":""},null,null,null,null,null,null,null,null,null,null,null,{"$f":"IF(F94=\"\",\"\",VLOOKUP(F94,Parámetros!F$11:$P$13,MAX(Parámetros!F$7:$P$7),FALSE))","v":""},{"$f":"IF(G94=\"\",\"\",VLOOKUP(G94,Parámetros!G$11:$P$13,MAX(Parámetros!G$7:$P$7),FALSE))","v":""},{"$f":"IF(H94=\"\",\"\",VLOOKUP(H94,Parámetros!H$11:$P$13,MAX(Parámetros!H$7:$P$7),FALSE))","v":""},{"$f":"IF(I94=\"\",\"\",VLOOKUP(I94,Parámetros!I$11:$P$13,MAX(Parámetros!I$7:$P$7),FALSE))","v":""},{"$f":"IF(J94=\"\",\"\",VLOOKUP(J94,Parámetros!J$11:$P$13,MAX(Parámetros!J$7:$P$7),FALSE))","v":""},{"$f":"IF(K94=\"\",\"\",VLOOKUP(K94,Parámetros!K$11:$P$13,MAX(Parámetros!K$7:$P$7),FALSE))","v":""},{"$f":"IF(L94=\"\",\"\",VLOOKUP(L94,Parámetros!L$11:$P$13,MAX(Parámetros!L$7:$P$7),FALSE))","v":""},{"$f":"IF(M94=\"\",\"\",VLOOKUP(M94,Parámetros!M$11:$P$13,MAX(Parámetros!M$7:$P$7),FALSE))","v":""},{"$f":"IF(N94=\"\",\"\",VLOOKUP(N94,Parámetros!N$11:$P$13,MAX(Parámetros!N$7:$P$7),FALSE))","v":""},{"$f":"IF(O94=\"\",\"\",VLOOKUP(O94,Parámetros!O$11:$P$13,MAX(Parámetros!O$7:$P$7),FALSE))","v":""},""]
[null,null,null,{"$f":"IF(E95=\"\",\"\",VLOOKUP(E95,'Buenas prácticas'!$G$8:$H$1007,2,FALSE))","v":""},null,null,null,null,null,null,null,null,null,null,null,{"$f":"IF(F95=\"\",\"\",VLOOKUP(F95,Parámetros!F$11:$P$13,MAX(Parámetros!F$7:$P$7),FALSE))","v":""},{"$f":"IF(G95=\"\",\"\",VLOOKUP(G95,Parámetros!G$11:$P$13,MAX(Parámetros!G$7:$P$7),FALSE))","v":""},{"$f":"IF(H95=\"\",\"\",VLOOKUP(H95,Parámetros!H$11:$P$13,MAX(Parámetros!H$7:$P$7),FALSE))","v":""},{"$f":"IF(I95=\"\",\"\",VLOOKUP(I95,Parámetros!I$11:$P$13,MAX(Parámetros!I$7:$P$7),FALSE))","v":""},{"$f":"IF(J95=\"\",\"\",VLOOKUP(J95,Parámetros!J$11:$P$13,MAX(Parámetros!J$7:$P$7),FALSE))","v":""},{"$f":"IF(K95=\"\",\"\",VLOOKUP(K95,Parámetros!K$11:$P$13,MAX(Parámetros!K$7:$P$7),FALSE))","v":""},{"$f":"IF(L95=\"\",\"\",VLOOKUP(L95,Parámetros!L$11:$P$13,MAX(Parámetros!L$7:$P$7),FALSE))","v":""},{"$f":"IF(M95=\"\",\"\",VLOOKUP(M95,Parámetros!M$11:$P$13,MAX(Parámetros!M$7:$P$7),FALSE))","v":""},{"$f":"IF(N95=\"\",\"\",VLOOKUP(N95,Parámetros!N$11:$P$13,MAX(Parámetros!N$7:$P$7),FALSE))","v":""},{"$f":"IF(O95=\"\",\"\",VLOOKUP(O95,Parámetros!O$11:$P$13,MAX(Parámetros!O$7:$P$7),FALSE))","v":""},""]
[null,null,null,{"$f":"IF(E96=\"\",\"\",VLOOKUP(E96,'Buenas prácticas'!$G$8:$H$1007,2,FALSE))","v":""},null,null,null,null,null,null,null,null,null,null,null,{"$f":"IF(F96=\"\",\"\",VLOOKUP(F96,Parámetros!F$11:$P$13,MAX(Parámetros!F$7:$P$7),FALSE))","v":""},{"$f":"IF(G96=\"\",\"\",VLOOKUP(G96,Parámetros!G$11:$P$13,MAX(Parámetros!G$7:$P$7),FALSE))","v":""},{"$f":"IF(H96=\"\",\"\",VLOOKUP(H96,Parámetros!H$11:$P$13,MAX(Parámetros!H$7:$P$7),FALSE))","v":""},{"$f":"IF(I96=\"\",\"\",VLOOKUP(I96,Parámetros!I$11:$P$13,MAX(Parámetros!I$7:$P$7),FALSE))","v":""},{"$f":"IF(J96=\"\",\"\",VLOOKUP(J96,Parámetros!J$11:$P$13,MAX(Parámetros!J$7:$P$7),FALSE))","v":""},{"$f":"IF(K96=\"\",\"\",VLOOKUP(K96,Parámetros!K$11:$P$13,MAX(Parámetros!K$7:$P$7),FALSE))","v":""},{"$f":"IF(L96=\"\",\"\",VLOOKUP(L96,Parámetros!L$11:$P$13,MAX(Parámetros!L$7:$P$7),FALSE))","v":""},{"$f":"IF(M96=\"\",\"\",VLOOKUP(M96,Parámetros!M$11:$P$13,MAX(Parámetros!M$7:$P$7),FALSE))","v":""},{"$f":"IF(N96=\"\",\"\",VLOOKUP(N96,Parámetros!N$11:$P$13,MAX(Parámetros!N$7:$P$7),FALSE))","v":""},{"$f":"IF(O96=\"\",\"\",VLOOKUP(O96,Parámetros!O$11:$P$13,MAX(Parámetros!O$7:$P$7),FALSE))","v":""},""]
[null,null,null,{"$f":"IF(E97=\"\",\"\",VLOOKUP(E97,'Buenas prácticas'!$G$8:$H$1007,2,FALSE))","v":""},null,null,null,null,null,null,null,null,null,null,null,{"$f":"IF(F97=\"\",\"\",VLOOKUP(F97,Parámetros!F$11:$P$13,MAX(Parámetros!F$7:$P$7),FALSE))","v":""},{"$f":"IF(G97=\"\",\"\",VLOOKUP(G97,Parámetros!G$11:$P$13,MAX(Parámetros!G$7:$P$7),FALSE))","v":""},{"$f":"IF(H97=\"\",\"\",VLOOKUP(H97,Parámetros!H$11:$P$13,MAX(Parámetros!H$7:$P$7),FALSE))","v":""},{"$f":"IF(I97=\"\",\"\",VLOOKUP(I97,Parámetros!I$11:$P$13,MAX(Parámetros!I$7:$P$7),FALSE))","v":""},{"$f":"IF(J97=\"\",\"\",VLOOKUP(J97,Parámetros!J$11:$P$13,MAX(Parámetros!J$7:$P$7),FALSE))","v":""},{"$f":"IF(K97=\"\",\"\",VLOOKUP(K97,Parámetros!K$11:$P$13,MAX(Parámetros!K$7:$P$7),FALSE))","v":""},{"$f":"IF(L97=\"\",\"\",VLOOKUP(L97,Parámetros!L$11:$P$13,MAX(Parámetros!L$7:$P$7),FALSE))","v":""},{"$f":"IF(M97=\"\",\"\",VLOOKUP(M97,Parámetros!M$11:$P$13,MAX(Parámetros!M$7:$P$7),FALSE))","v":""},{"$f":"IF(N97=\"\",\"\",VLOOKUP(N97,Parámetros!N$11:$P$13,MAX(Parámetros!N$7:$P$7),FALSE))","v":""},{"$f":"IF(O97=\"\",\"\",VLOOKUP(O97,Parámetros!O$11:$P$13,MAX(Parámetros!O$7:$P$7),FALSE))","v":""},""]
[null,null,null,{"$f":"IF(E98=\"\",\"\",VLOOKUP(E98,'Buenas prácticas'!$G$8:$H$1007,2,FALSE))","v":""},null,null,null,null,null,null,null,null,null,null,null,{"$f":"IF(F98=\"\",\"\",VLOOKUP(F98,Parámetros!F$11:$P$13,MAX(Parámetros!F$7:$P$7),FALSE))","v":""},{"$f":"IF(G98=\"\",\"\",VLOOKUP(G98,Parámetros!G$11:$P$13,MAX(Parámetros!G$7:$P$7),FALSE))","v":""},{"$f":"IF(H98=\"\",\"\",VLOOKUP(H98,Parámetros!H$11:$P$13,MAX(Parámetros!H$7:$P$7),FALSE))","v":""},{"$f":"IF(I98=\"\",\"\",VLOOKUP(I98,Parámetros!I$11:$P$13,MAX(Parámetros!I$7:$P$7),FALSE))","v":""},{"$f":"IF(J98=\"\",\"\",VLOOKUP(J98,Parámetros!J$11:$P$13,MAX(Parámetros!J$7:$P$7),FALSE))","v":""},{"$f":"IF(K98=\"\",\"\",VLOOKUP(K98,Parámetros!K$11:$P$13,MAX(Parámetros!K$7:$P$7),FALSE))","v":""},{"$f":"IF(L98=\"\",\"\",VLOOKUP(L98,Parámetros!L$11:$P$13,MAX(Parámetros!L$7:$P$7),FALSE))","v":""},{"$f":"IF(M98=\"\",\"\",VLOOKUP(M98,Parámetros!M$11:$P$13,MAX(Parámetros!M$7:$P$7),FALSE))","v":""},{"$f":"IF(N98=\"\",\"\",VLOOKUP(N98,Parámetros!N$11:$P$13,MAX(Parámetros!N$7:$P$7),FALSE))","v":""},{"$f":"IF(O98=\"\",\"\",VLOOKUP(O98,Parámetros!O$11:$P$13,MAX(Parámetros!O$7:$P$7),FALSE))","v":""},""]
[null,null,null,{"$f":"IF(E99=\"\",\"\",VLOOKUP(E99,'Buenas prácticas'!$G$8:$H$1007,2,FALSE))","v":""},null,null,null,null,null,null,null,null,null,null,null,{"$f":"IF(F99=\"\",\"\",VLOOKUP(F99,Parámetros!F$11:$P$13,MAX(Parámetros!F$7:$P$7),FALSE))","v":""},{"$f":"IF(G99=\"\",\"\",VLOOKUP(G99,Parámetros!G$11:$P$13,MAX(Parámetros!G$7:$P$7),FALSE))","v":""},{"$f":"IF(H99=\"\",\"\",VLOOKUP(H99,Parámetros!H$11:$P$13,MAX(Parámetros!H$7:$P$7),FALSE))","v":""},{"$f":"IF(I99=\"\",\"\",VLOOKUP(I99,Parámetros!I$11:$P$13,MAX(Parámetros!I$7:$P$7),FALSE))","v":""},{"$f":"IF(J99=\"\",\"\",VLOOKUP(J99,Parámetros!J$11:$P$13,MAX(Parámetros!J$7:$P$7),FALSE))","v":""},{"$f":"IF(K99=\"\",\"\",VLOOKUP(K99,Parámetros!K$11:$P$13,MAX(Parámetros!K$7:$P$7),FALSE))","v":""},{"$f":"IF(L99=\"\",\"\",VLOOKUP(L99,Parámetros!L$11:$P$13,MAX(Parámetros!L$7:$P$7),FALSE))","v":""},{"$f":"IF(M99=\"\",\"\",VLOOKUP(M99,Parámetros!M$11:$P$13,MAX(Parámetros!M$7:$P$7),FALSE))","v":""},{"$f":"IF(N99=\"\",\"\",VLOOKUP(N99,Parámetros!N$11:$P$13,MAX(Parámetros!N$7:$P$7),FALSE))","v":""},{"$f":"IF(O99=\"\",\"\",VLOOKUP(O99,Parámetros!O$11:$P$13,MAX(Parámetros!O$7:$P$7),FALSE))","v":""},""]
[null,null,null,{"$f":"IF(E100=\"\",\"\",VLOOKUP(E100,'Buenas prácticas'!$G$8:$H$1007,2,FALSE))","v":""},null,null,null,null,null,null,null,null,null,null,null,{"$f":"IF(F100=\"\",\"\",VLOOKUP(F100,Parámetros!F$11:$P$13,MAX(Parámetros!F$7:$P$7),FALSE))","v":""},{"$f":"IF(G100=\"\",\"\",VLOOKUP(G100,Parámetros!G$11:$P$13,MAX(Parámetros!G$7:$P$7),FALSE))","v":""},{"$f":"IF(H100=\"\",\"\",VLOOKUP(H100,Parámetros!H$11:$P$13,MAX(Parámetros!H$7:$P$7),FALSE))","v":""},{"$f":"IF(I100=\"\",\"\",VLOOKUP(I100,Parámetros!I$11:$P$13,MAX(Parámetros!I$7:$P$7),FALSE))","v":""},{"$f":"IF(J100=\"\",\"\",VLOOKUP(J100,Parámetros!J$11:$P$13,MAX(Parámetros!J$7:$P$7),FALSE))","v":""},{"$f":"IF(K100=\"\",\"\",VLOOKUP(K100,Parámetros!K$11:$P$13,MAX(Parámetros!K$7:$P$7),FALSE))","v":""},{"$f":"IF(L100=\"\",\"\",VLOOKUP(L100,Parámetros!L$11:$P$13,MAX(Parámetros!L$7:$P$7),FALSE))","v":""},{"$f":"IF(M100=\"\",\"\",VLOOKUP(M100,Parámetros!M$11:$P$13,MAX(Parámetros!M$7:$P$7),FALSE))","v":""},{"$f":"IF(N100=\"\",\"\",VLOOKUP(N100,Parámetros!N$11:$P$13,MAX(Parámetros!N$7:$P$7),FALSE))","v":""},{"$f":"IF(O100=\"\",\"\",VLOOKUP(O100,Parámetros!O$11:$P$13,MAX(Parámetros!O$7:$P$7),FALSE))","v":""},""]
[null,null,null,{"$f":"IF(E101=\"\",\"\",VLOOKUP(E101,'Buenas prácticas'!$G$8:$H$1007,2,FALSE))","v":""},null,null,null,null,null,null,null,null,null,null,null,{"$f":"IF(F101=\"\",\"\",VLOOKUP(F101,Parámetros!F$11:$P$13,MAX(Parámetros!F$7:$P$7),FALSE))","v":""},{"$f":"IF(G101=\"\",\"\",VLOOKUP(G101,Parámetros!G$11:$P$13,MAX(Parámetros!G$7:$P$7),FALSE))","v":""},{"$f":"IF(H101=\"\",\"\",VLOOKUP(H101,Parámetros!H$11:$P$13,MAX(Parámetros!H$7:$P$7),FALSE))","v":""},{"$f":"IF(I101=\"\",\"\",VLOOKUP(I101,Parámetros!I$11:$P$13,MAX(Parámetros!I$7:$P$7),FALSE))","v":""},{"$f":"IF(J101=\"\",\"\",VLOOKUP(J101,Parámetros!J$11:$P$13,MAX(Parámetros!J$7:$P$7),FALSE))","v":""},{"$f":"IF(K101=\"\",\"\",VLOOKUP(K101,Parámetros!K$11:$P$13,MAX(Parámetros!K$7:$P$7),FALSE))","v":""},{"$f":"IF(L101=\"\",\"\",VLOOKUP(L101,Parámetros!L$11:$P$13,MAX(Parámetros!L$7:$P$7),FALSE))","v":""},{"$f":"IF(M101=\"\",\"\",VLOOKUP(M101,Parámetros!M$11:$P$13,MAX(Parámetros!M$7:$P$7),FALSE))","v":""},{"$f":"IF(N101=\"\",\"\",VLOOKUP(N101,Parámetros!N$11:$P$13,MAX(Parámetros!N$7:$P$7),FALSE))","v":""},{"$f":"IF(O101=\"\",\"\",VLOOKUP(O101,Parámetros!O$11:$P$13,MAX(Parámetros!O$7:$P$7),FALSE))","v":""},""]
[null,null,null,{"$f":"IF(E102=\"\",\"\",VLOOKUP(E102,'Buenas prácticas'!$G$8:$H$1007,2,FALSE))","v":""},null,null,null,null,null,null,null,null,null,null,null,{"$f":"IF(F102=\"\",\"\",VLOOKUP(F102,Parámetros!F$11:$P$13,MAX(Parámetros!F$7:$P$7),FALSE))","v":""},{"$f":"IF(G102=\"\",\"\",VLOOKUP(G102,Parámetros!G$11:$P$13,MAX(Parámetros!G$7:$P$7),FALSE))","v":""},{"$f":"IF(H102=\"\",\"\",VLOOKUP(H102,Parámetros!H$11:$P$13,MAX(Parámetros!H$7:$P$7),FALSE))","v":""},{"$f":"IF(I102=\"\",\"\",VLOOKUP(I102,Parámetros!I$11:$P$13,MAX(Parámetros!I$7:$P$7),FALSE))","v":""},{"$f":"IF(J102=\"\",\"\",VLOOKUP(J102,Parámetros!J$11:$P$13,MAX(Parámetros!J$7:$P$7),FALSE))","v":""},{"$f":"IF(K102=\"\",\"\",VLOOKUP(K102,Parámetros!K$11:$P$13,MAX(Parámetros!K$7:$P$7),FALSE))","v":""},{"$f":"IF(L102=\"\",\"\",VLOOKUP(L102,Parámetros!L$11:$P$13,MAX(Parámetros!L$7:$P$7),FALSE))","v":""},{"$f":"IF(M102=\"\",\"\",VLOOKUP(M102,Parámetros!M$11:$P$13,MAX(Parámetros!M$7:$P$7),FALSE))","v":""},{"$f":"IF(N102=\"\",\"\",VLOOKUP(N102,Parámetros!N$11:$P$13,MAX(Parámetros!N$7:$P$7),FALSE))","v":""},{"$f":"IF(O102=\"\",\"\",VLOOKUP(O102,Parámetros!O$11:$P$13,MAX(Parámetros!O$7:$P$7),FALSE))","v":""},""]
[null,null,null,{"$f":"IF(E103=\"\",\"\",VLOOKUP(E103,'Buenas prácticas'!$G$8:$H$1007,2,FALSE))","v":""},null,null,null,null,null,null,null,null,null,null,null,{"$f":"IF(F103=\"\",\"\",VLOOKUP(F103,Parámetros!F$11:$P$13,MAX(Parámetros!F$7:$P$7),FALSE))","v":""},{"$f":"IF(G103=\"\",\"\",VLOOKUP(G103,Parámetros!G$11:$P$13,MAX(Parámetros!G$7:$P$7),FALSE))","v":""},{"$f":"IF(H103=\"\",\"\",VLOOKUP(H103,Parámetros!H$11:$P$13,MAX(Parámetros!H$7:$P$7),FALSE))","v":""},{"$f":"IF(I103=\"\",\"\",VLOOKUP(I103,Parámetros!I$11:$P$13,MAX(Parámetros!I$7:$P$7),FALSE))","v":""},{"$f":"IF(J103=\"\",\"\",VLOOKUP(J103,Parámetros!J$11:$P$13,MAX(Parámetros!J$7:$P$7),FALSE))","v":""},{"$f":"IF(K103=\"\",\"\",VLOOKUP(K103,Parámetros!K$11:$P$13,MAX(Parámetros!K$7:$P$7),FALSE))","v":""},{"$f":"IF(L103=\"\",\"\",VLOOKUP(L103,Parámetros!L$11:$P$13,MAX(Parámetros!L$7:$P$7),FALSE))","v":""},{"$f":"IF(M103=\"\",\"\",VLOOKUP(M103,Parámetros!M$11:$P$13,MAX(Parámetros!M$7:$P$7),FALSE))","v":""},{"$f":"IF(N103=\"\",\"\",VLOOKUP(N103,Parámetros!N$11:$P$13,MAX(Parámetros!N$7:$P$7),FALSE))","v":""},{"$f":"IF(O103=\"\",\"\",VLOOKUP(O103,Parámetros!O$11:$P$13,MAX(Parámetros!O$7:$P$7),FALSE))","v":""},""]
[null,null,null,{"$f":"IF(E104=\"\",\"\",VLOOKUP(E104,'Buenas prácticas'!$G$8:$H$1007,2,FALSE))","v":""},null,null,null,null,null,null,null,null,null,null,null,{"$f":"IF(F104=\"\",\"\",VLOOKUP(F104,Parámetros!F$11:$P$13,MAX(Parámetros!F$7:$P$7),FALSE))","v":""},{"$f":"IF(G104=\"\",\"\",VLOOKUP(G104,Parámetros!G$11:$P$13,MAX(Parámetros!G$7:$P$7),FALSE))","v":""},{"$f":"IF(H104=\"\",\"\",VLOOKUP(H104,Parámetros!H$11:$P$13,MAX(Parámetros!H$7:$P$7),FALSE))","v":""},{"$f":"IF(I104=\"\",\"\",VLOOKUP(I104,Parámetros!I$11:$P$13,MAX(Parámetros!I$7:$P$7),FALSE))","v":""},{"$f":"IF(J104=\"\",\"\",VLOOKUP(J104,Parámetros!J$11:$P$13,MAX(Parámetros!J$7:$P$7),FALSE))","v":""},{"$f":"IF(K104=\"\",\"\",VLOOKUP(K104,Parámetros!K$11:$P$13,MAX(Parámetros!K$7:$P$7),FALSE))","v":""},{"$f":"IF(L104=\"\",\"\",VLOOKUP(L104,Parámetros!L$11:$P$13,MAX(Parámetros!L$7:$P$7),FALSE))","v":""},{"$f":"IF(M104=\"\",\"\",VLOOKUP(M104,Parámetros!M$11:$P$13,MAX(Parámetros!M$7:$P$7),FALSE))","v":""},{"$f":"IF(N104=\"\",\"\",VLOOKUP(N104,Parámetros!N$11:$P$13,MAX(Parámetros!N$7:$P$7),FALSE))","v":""},{"$f":"IF(O104=\"\",\"\",VLOOKUP(O104,Parámetros!O$11:$P$13,MAX(Parámetros!O$7:$P$7),FALSE))","v":""},""]
[null,null,null,{"$f":"IF(E105=\"\",\"\",VLOOKUP(E105,'Buenas prácticas'!$G$8:$H$1007,2,FALSE))","v":""},null,null,null,null,null,null,null,null,null,null,null,{"$f":"IF(F105=\"\",\"\",VLOOKUP(F105,Parámetros!F$11:$P$13,MAX(Parámetros!F$7:$P$7),FALSE))","v":""},{"$f":"IF(G105=\"\",\"\",VLOOKUP(G105,Parámetros!G$11:$P$13,MAX(Parámetros!G$7:$P$7),FALSE))","v":""},{"$f":"IF(H105=\"\",\"\",VLOOKUP(H105,Parámetros!H$11:$P$13,MAX(Parámetros!H$7:$P$7),FALSE))","v":""},{"$f":"IF(I105=\"\",\"\",VLOOKUP(I105,Parámetros!I$11:$P$13,MAX(Parámetros!I$7:$P$7),FALSE))","v":""},{"$f":"IF(J105=\"\",\"\",VLOOKUP(J105,Parámetros!J$11:$P$13,MAX(Parámetros!J$7:$P$7),FALSE))","v":""},{"$f":"IF(K105=\"\",\"\",VLOOKUP(K105,Parámetros!K$11:$P$13,MAX(Parámetros!K$7:$P$7),FALSE))","v":""},{"$f":"IF(L105=\"\",\"\",VLOOKUP(L105,Parámetros!L$11:$P$13,MAX(Parámetros!L$7:$P$7),FALSE))","v":""},{"$f":"IF(M105=\"\",\"\",VLOOKUP(M105,Parámetros!M$11:$P$13,MAX(Parámetros!M$7:$P$7),FALSE))","v":""},{"$f":"IF(N105=\"\",\"\",VLOOKUP(N105,Parámetros!N$11:$P$13,MAX(Parámetros!N$7:$P$7),FALSE))","v":""},{"$f":"IF(O105=\"\",\"\",VLOOKUP(O105,Parámetros!O$11:$P$13,MAX(Parámetros!O$7:$P$7),FALSE))","v":""},""]
[null,null,null,{"$f":"IF(E106=\"\",\"\",VLOOKUP(E106,'Buenas prácticas'!$G$8:$H$1007,2,FALSE))","v":""},null,null,null,null,null,null,null,null,null,null,null,{"$f":"IF(F106=\"\",\"\",VLOOKUP(F106,Parámetros!F$11:$P$13,MAX(Parámetros!F$7:$P$7),FALSE))","v":""},{"$f":"IF(G106=\"\",\"\",VLOOKUP(G106,Parámetros!G$11:$P$13,MAX(Parámetros!G$7:$P$7),FALSE))","v":""},{"$f":"IF(H106=\"\",\"\",VLOOKUP(H106,Parámetros!H$11:$P$13,MAX(Parámetros!H$7:$P$7),FALSE))","v":""},{"$f":"IF(I106=\"\",\"\",VLOOKUP(I106,Parámetros!I$11:$P$13,MAX(Parámetros!I$7:$P$7),FALSE))","v":""},{"$f":"IF(J106=\"\",\"\",VLOOKUP(J106,Parámetros!J$11:$P$13,MAX(Parámetros!J$7:$P$7),FALSE))","v":""},{"$f":"IF(K106=\"\",\"\",VLOOKUP(K106,Parámetros!K$11:$P$13,MAX(Parámetros!K$7:$P$7),FALSE))","v":""},{"$f":"IF(L106=\"\",\"\",VLOOKUP(L106,Parámetros!L$11:$P$13,MAX(Parámetros!L$7:$P$7),FALSE))","v":""},{"$f":"IF(M106=\"\",\"\",VLOOKUP(M106,Parámetros!M$11:$P$13,MAX(Parámetros!M$7:$P$7),FALSE))","v":""},{"$f":"IF(N106=\"\",\"\",VLOOKUP(N106,Parámetros!N$11:$P$13,MAX(Parámetros!N$7:$P$7),FALSE))","v":""},{"$f":"IF(O106=\"\",\"\",VLOOKUP(O106,Parámetros!O$11:$P$13,MAX(Parámetros!O$7:$P$7),FALSE))","v":""},""]
[null,null,null,{"$f":"IF(E107=\"\",\"\",VLOOKUP(E107,'Buenas prácticas'!$G$8:$H$1007,2,FALSE))","v":""},null,null,null,null,null,null,null,null,null,null,null,{"$f":"IF(F107=\"\",\"\",VLOOKUP(F107,Parámetros!F$11:$P$13,MAX(Parámetros!F$7:$P$7),FALSE))","v":""},{"$f":"IF(G107=\"\",\"\",VLOOKUP(G107,Parámetros!G$11:$P$13,MAX(Parámetros!G$7:$P$7),FALSE))","v":""},{"$f":"IF(H107=\"\",\"\",VLOOKUP(H107,Parámetros!H$11:$P$13,MAX(Parámetros!H$7:$P$7),FALSE))","v":""},{"$f":"IF(I107=\"\",\"\",VLOOKUP(I107,Parámetros!I$11:$P$13,MAX(Parámetros!I$7:$P$7),FALSE))","v":""},{"$f":"IF(J107=\"\",\"\",VLOOKUP(J107,Parámetros!J$11:$P$13,MAX(Parámetros!J$7:$P$7),FALSE))","v":""},{"$f":"IF(K107=\"\",\"\",VLOOKUP(K107,Parámetros!K$11:$P$13,MAX(Parámetros!K$7:$P$7),FALSE))","v":""},{"$f":"IF(L107=\"\",\"\",VLOOKUP(L107,Parámetros!L$11:$P$13,MAX(Parámetros!L$7:$P$7),FALSE))","v":""},{"$f":"IF(M107=\"\",\"\",VLOOKUP(M107,Parámetros!M$11:$P$13,MAX(Parámetros!M$7:$P$7),FALSE))","v":""},{"$f":"IF(N107=\"\",\"\",VLOOKUP(N107,Parámetros!N$11:$P$13,MAX(Parámetros!N$7:$P$7),FALSE))","v":""},{"$f":"IF(O107=\"\",\"\",VLOOKUP(O107,Parámetros!O$11:$P$13,MAX(Parámetros!O$7:$P$7),FALSE))","v":""},""]
[null,null,null,{"$f":"IF(E108=\"\",\"\",VLOOKUP(E108,'Buenas prácticas'!$G$8:$H$1007,2,FALSE))","v":""},null,null,null,null,null,null,null,null,null,null,null,{"$f":"IF(F108=\"\",\"\",VLOOKUP(F108,Parámetros!F$11:$P$13,MAX(Parámetros!F$7:$P$7),FALSE))","v":""},{"$f":"IF(G108=\"\",\"\",VLOOKUP(G108,Parámetros!G$11:$P$13,MAX(Parámetros!G$7:$P$7),FALSE))","v":""},{"$f":"IF(H108=\"\",\"\",VLOOKUP(H108,Parámetros!H$11:$P$13,MAX(Parámetros!H$7:$P$7),FALSE))","v":""},{"$f":"IF(I108=\"\",\"\",VLOOKUP(I108,Parámetros!I$11:$P$13,MAX(Parámetros!I$7:$P$7),FALSE))","v":""},{"$f":"IF(J108=\"\",\"\",VLOOKUP(J108,Parámetros!J$11:$P$13,MAX(Parámetros!J$7:$P$7),FALSE))","v":""},{"$f":"IF(K108=\"\",\"\",VLOOKUP(K108,Parámetros!K$11:$P$13,MAX(Parámetros!K$7:$P$7),FALSE))","v":""},{"$f":"IF(L108=\"\",\"\",VLOOKUP(L108,Parámetros!L$11:$P$13,MAX(Parámetros!L$7:$P$7),FALSE))","v":""},{"$f":"IF(M108=\"\",\"\",VLOOKUP(M108,Parámetros!M$11:$P$13,MAX(Parámetros!M$7:$P$7),FALSE))","v":""},{"$f":"IF(N108=\"\",\"\",VLOOKUP(N108,Parámetros!N$11:$P$13,MAX(Parámetros!N$7:$P$7),FALSE))","v":""},{"$f":"IF(O108=\"\",\"\",VLOOKUP(O108,Parámetros!O$11:$P$13,MAX(Parámetros!O$7:$P$7),FALSE))","v":""},""]
[null,null,null,{"$f":"IF(E109=\"\",\"\",VLOOKUP(E109,'Buenas prácticas'!$G$8:$H$1007,2,FALSE))","v":""},null,null,null,null,null,null,null,null,null,null,null,{"$f":"IF(F109=\"\",\"\",VLOOKUP(F109,Parámetros!F$11:$P$13,MAX(Parámetros!F$7:$P$7),FALSE))","v":""},{"$f":"IF(G109=\"\",\"\",VLOOKUP(G109,Parámetros!G$11:$P$13,MAX(Parámetros!G$7:$P$7),FALSE))","v":""},{"$f":"IF(H109=\"\",\"\",VLOOKUP(H109,Parámetros!H$11:$P$13,MAX(Parámetros!H$7:$P$7),FALSE))","v":""},{"$f":"IF(I109=\"\",\"\",VLOOKUP(I109,Parámetros!I$11:$P$13,MAX(Parámetros!I$7:$P$7),FALSE))","v":""},{"$f":"IF(J109=\"\",\"\",VLOOKUP(J109,Parámetros!J$11:$P$13,MAX(Parámetros!J$7:$P$7),FALSE))","v":""},{"$f":"IF(K109=\"\",\"\",VLOOKUP(K109,Parámetros!K$11:$P$13,MAX(Parámetros!K$7:$P$7),FALSE))","v":""},{"$f":"IF(L109=\"\",\"\",VLOOKUP(L109,Parámetros!L$11:$P$13,MAX(Parámetros!L$7:$P$7),FALSE))","v":""},{"$f":"IF(M109=\"\",\"\",VLOOKUP(M109,Parámetros!M$11:$P$13,MAX(Parámetros!M$7:$P$7),FALSE))","v":""},{"$f":"IF(N109=\"\",\"\",VLOOKUP(N109,Parámetros!N$11:$P$13,MAX(Parámetros!N$7:$P$7),FALSE))","v":""},{"$f":"IF(O109=\"\",\"\",VLOOKUP(O109,Parámetros!O$11:$P$13,MAX(Parámetros!O$7:$P$7),FALSE))","v":""},""]
[null,null,null,{"$f":"IF(E110=\"\",\"\",VLOOKUP(E110,'Buenas prácticas'!$G$8:$H$1007,2,FALSE))","v":""},null,null,null,null,null,null,null,null,null,null,null,{"$f":"IF(F110=\"\",\"\",VLOOKUP(F110,Parámetros!F$11:$P$13,MAX(Parámetros!F$7:$P$7),FALSE))","v":""},{"$f":"IF(G110=\"\",\"\",VLOOKUP(G110,Parámetros!G$11:$P$13,MAX(Parámetros!G$7:$P$7),FALSE))","v":""},{"$f":"IF(H110=\"\",\"\",VLOOKUP(H110,Parámetros!H$11:$P$13,MAX(Parámetros!H$7:$P$7),FALSE))","v":""},{"$f":"IF(I110=\"\",\"\",VLOOKUP(I110,Parámetros!I$11:$P$13,MAX(Parámetros!I$7:$P$7),FALSE))","v":""},{"$f":"IF(J110=\"\",\"\",VLOOKUP(J110,Parámetros!J$11:$P$13,MAX(Parámetros!J$7:$P$7),FALSE))","v":""},{"$f":"IF(K110=\"\",\"\",VLOOKUP(K110,Parámetros!K$11:$P$13,MAX(Parámetros!K$7:$P$7),FALSE))","v":""},{"$f":"IF(L110=\"\",\"\",VLOOKUP(L110,Parámetros!L$11:$P$13,MAX(Parámetros!L$7:$P$7),FALSE))","v":""},{"$f":"IF(M110=\"\",\"\",VLOOKUP(M110,Parámetros!M$11:$P$13,MAX(Parámetros!M$7:$P$7),FALSE))","v":""},{"$f":"IF(N110=\"\",\"\",VLOOKUP(N110,Parámetros!N$11:$P$13,MAX(Parámetros!N$7:$P$7),FALSE))","v":""},{"$f":"IF(O110=\"\",\"\",VLOOKUP(O110,Parámetros!O$11:$P$13,MAX(Parámetros!O$7:$P$7),FALSE))","v":""},""]
[null,null,null,{"$f":"IF(E111=\"\",\"\",VLOOKUP(E111,'Buenas prácticas'!$G$8:$H$1007,2,FALSE))","v":""},null,null,null,null,null,null,null,null,null,null,null,{"$f":"IF(F111=\"\",\"\",VLOOKUP(F111,Parámetros!F$11:$P$13,MAX(Parámetros!F$7:$P$7),FALSE))","v":""},{"$f":"IF(G111=\"\",\"\",VLOOKUP(G111,Parámetros!G$11:$P$13,MAX(Parámetros!G$7:$P$7),FALSE))","v":""},{"$f":"IF(H111=\"\",\"\",VLOOKUP(H111,Parámetros!H$11:$P$13,MAX(Parámetros!H$7:$P$7),FALSE))","v":""},{"$f":"IF(I111=\"\",\"\",VLOOKUP(I111,Parámetros!I$11:$P$13,MAX(Parámetros!I$7:$P$7),FALSE))","v":""},{"$f":"IF(J111=\"\",\"\",VLOOKUP(J111,Parámetros!J$11:$P$13,MAX(Parámetros!J$7:$P$7),FALSE))","v":""},{"$f":"IF(K111=\"\",\"\",VLOOKUP(K111,Parámetros!K$11:$P$13,MAX(Parámetros!K$7:$P$7),FALSE))","v":""},{"$f":"IF(L111=\"\",\"\",VLOOKUP(L111,Parámetros!L$11:$P$13,MAX(Parámetros!L$7:$P$7),FALSE))","v":""},{"$f":"IF(M111=\"\",\"\",VLOOKUP(M111,Parámetros!M$11:$P$13,MAX(Parámetros!M$7:$P$7),FALSE))","v":""},{"$f":"IF(N111=\"\",\"\",VLOOKUP(N111,Parámetros!N$11:$P$13,MAX(Parámetros!N$7:$P$7),FALSE))","v":""},{"$f":"IF(O111=\"\",\"\",VLOOKUP(O111,Parámetros!O$11:$P$13,MAX(Parámetros!O$7:$P$7),FALSE))","v":""},""]
[null,null,null,{"$f":"IF(E112=\"\",\"\",VLOOKUP(E112,'Buenas prácticas'!$G$8:$H$1007,2,FALSE))","v":""},null,null,null,null,null,null,null,null,null,null,null,{"$f":"IF(F112=\"\",\"\",VLOOKUP(F112,Parámetros!F$11:$P$13,MAX(Parámetros!F$7:$P$7),FALSE))","v":""},{"$f":"IF(G112=\"\",\"\",VLOOKUP(G112,Parámetros!G$11:$P$13,MAX(Parámetros!G$7:$P$7),FALSE))","v":""},{"$f":"IF(H112=\"\",\"\",VLOOKUP(H112,Parámetros!H$11:$P$13,MAX(Parámetros!H$7:$P$7),FALSE))","v":""},{"$f":"IF(I112=\"\",\"\",VLOOKUP(I112,Parámetros!I$11:$P$13,MAX(Parámetros!I$7:$P$7),FALSE))","v":""},{"$f":"IF(J112=\"\",\"\",VLOOKUP(J112,Parámetros!J$11:$P$13,MAX(Parámetros!J$7:$P$7),FALSE))","v":""},{"$f":"IF(K112=\"\",\"\",VLOOKUP(K112,Parámetros!K$11:$P$13,MAX(Parámetros!K$7:$P$7),FALSE))","v":""},{"$f":"IF(L112=\"\",\"\",VLOOKUP(L112,Parámetros!L$11:$P$13,MAX(Parámetros!L$7:$P$7),FALSE))","v":""},{"$f":"IF(M112=\"\",\"\",VLOOKUP(M112,Parámetros!M$11:$P$13,MAX(Parámetros!M$7:$P$7),FALSE))","v":""},{"$f":"IF(N112=\"\",\"\",VLOOKUP(N112,Parámetros!N$11:$P$13,MAX(Parámetros!N$7:$P$7),FALSE))","v":""},{"$f":"IF(O112=\"\",\"\",VLOOKUP(O112,Parámetros!O$11:$P$13,MAX(Parámetros!O$7:$P$7),FALSE))","v":""},""]
[null,null,null,{"$f":"IF(E113=\"\",\"\",VLOOKUP(E113,'Buenas prácticas'!$G$8:$H$1007,2,FALSE))","v":""},null,null,null,null,null,null,null,null,null,null,null,{"$f":"IF(F113=\"\",\"\",VLOOKUP(F113,Parámetros!F$11:$P$13,MAX(Parámetros!F$7:$P$7),FALSE))","v":""},{"$f":"IF(G113=\"\",\"\",VLOOKUP(G113,Parámetros!G$11:$P$13,MAX(Parámetros!G$7:$P$7),FALSE))","v":""},{"$f":"IF(H113=\"\",\"\",VLOOKUP(H113,Parámetros!H$11:$P$13,MAX(Parámetros!H$7:$P$7),FALSE))","v":""},{"$f":"IF(I113=\"\",\"\",VLOOKUP(I113,Parámetros!I$11:$P$13,MAX(Parámetros!I$7:$P$7),FALSE))","v":""},{"$f":"IF(J113=\"\",\"\",VLOOKUP(J113,Parámetros!J$11:$P$13,MAX(Parámetros!J$7:$P$7),FALSE))","v":""},{"$f":"IF(K113=\"\",\"\",VLOOKUP(K113,Parámetros!K$11:$P$13,MAX(Parámetros!K$7:$P$7),FALSE))","v":""},{"$f":"IF(L113=\"\",\"\",VLOOKUP(L113,Parámetros!L$11:$P$13,MAX(Parámetros!L$7:$P$7),FALSE))","v":""},{"$f":"IF(M113=\"\",\"\",VLOOKUP(M113,Parámetros!M$11:$P$13,MAX(Parámetros!M$7:$P$7),FALSE))","v":""},{"$f":"IF(N113=\"\",\"\",VLOOKUP(N113,Parámetros!N$11:$P$13,MAX(Parámetros!N$7:$P$7),FALSE))","v":""},{"$f":"IF(O113=\"\",\"\",VLOOKUP(O113,Parámetros!O$11:$P$13,MAX(Parámetros!O$7:$P$7),FALSE))","v":""},""]
[null,null,null,{"$f":"IF(E114=\"\",\"\",VLOOKUP(E114,'Buenas prácticas'!$G$8:$H$1007,2,FALSE))","v":""},null,null,null,null,null,null,null,null,null,null,null,{"$f":"IF(F114=\"\",\"\",VLOOKUP(F114,Parámetros!F$11:$P$13,MAX(Parámetros!F$7:$P$7),FALSE))","v":""},{"$f":"IF(G114=\"\",\"\",VLOOKUP(G114,Parámetros!G$11:$P$13,MAX(Parámetros!G$7:$P$7),FALSE))","v":""},{"$f":"IF(H114=\"\",\"\",VLOOKUP(H114,Parámetros!H$11:$P$13,MAX(Parámetros!H$7:$P$7),FALSE))","v":""},{"$f":"IF(I114=\"\",\"\",VLOOKUP(I114,Parámetros!I$11:$P$13,MAX(Parámetros!I$7:$P$7),FALSE))","v":""},{"$f":"IF(J114=\"\",\"\",VLOOKUP(J114,Parámetros!J$11:$P$13,MAX(Parámetros!J$7:$P$7),FALSE))","v":""},{"$f":"IF(K114=\"\",\"\",VLOOKUP(K114,Parámetros!K$11:$P$13,MAX(Parámetros!K$7:$P$7),FALSE))","v":""},{"$f":"IF(L114=\"\",\"\",VLOOKUP(L114,Parámetros!L$11:$P$13,MAX(Parámetros!L$7:$P$7),FALSE))","v":""},{"$f":"IF(M114=\"\",\"\",VLOOKUP(M114,Parámetros!M$11:$P$13,MAX(Parámetros!M$7:$P$7),FALSE))","v":""},{"$f":"IF(N114=\"\",\"\",VLOOKUP(N114,Parámetros!N$11:$P$13,MAX(Parámetros!N$7:$P$7),FALSE))","v":""},{"$f":"IF(O114=\"\",\"\",VLOOKUP(O114,Parámetros!O$11:$P$13,MAX(Parámetros!O$7:$P$7),FALSE))","v":""},""]
[null,null,null,{"$f":"IF(E115=\"\",\"\",VLOOKUP(E115,'Buenas prácticas'!$G$8:$H$1007,2,FALSE))","v":""},null,null,null,null,null,null,null,null,null,null,null,{"$f":"IF(F115=\"\",\"\",VLOOKUP(F115,Parámetros!F$11:$P$13,MAX(Parámetros!F$7:$P$7),FALSE))","v":""},{"$f":"IF(G115=\"\",\"\",VLOOKUP(G115,Parámetros!G$11:$P$13,MAX(Parámetros!G$7:$P$7),FALSE))","v":""},{"$f":"IF(H115=\"\",\"\",VLOOKUP(H115,Parámetros!H$11:$P$13,MAX(Parámetros!H$7:$P$7),FALSE))","v":""},{"$f":"IF(I115=\"\",\"\",VLOOKUP(I115,Parámetros!I$11:$P$13,MAX(Parámetros!I$7:$P$7),FALSE))","v":""},{"$f":"IF(J115=\"\",\"\",VLOOKUP(J115,Parámetros!J$11:$P$13,MAX(Parámetros!J$7:$P$7),FALSE))","v":""},{"$f":"IF(K115=\"\",\"\",VLOOKUP(K115,Parámetros!K$11:$P$13,MAX(Parámetros!K$7:$P$7),FALSE))","v":""},{"$f":"IF(L115=\"\",\"\",VLOOKUP(L115,Parámetros!L$11:$P$13,MAX(Parámetros!L$7:$P$7),FALSE))","v":""},{"$f":"IF(M115=\"\",\"\",VLOOKUP(M115,Parámetros!M$11:$P$13,MAX(Parámetros!M$7:$P$7),FALSE))","v":""},{"$f":"IF(N115=\"\",\"\",VLOOKUP(N115,Parámetros!N$11:$P$13,MAX(Parámetros!N$7:$P$7),FALSE))","v":""},{"$f":"IF(O115=\"\",\"\",VLOOKUP(O115,Parámetros!O$11:$P$13,MAX(Parámetros!O$7:$P$7),FALSE))","v":""},""]
[null,null,null,{"$f":"IF(E116=\"\",\"\",VLOOKUP(E116,'Buenas prácticas'!$G$8:$H$1007,2,FALSE))","v":""},null,null,null,null,null,null,null,null,null,null,null,{"$f":"IF(F116=\"\",\"\",VLOOKUP(F116,Parámetros!F$11:$P$13,MAX(Parámetros!F$7:$P$7),FALSE))","v":""},{"$f":"IF(G116=\"\",\"\",VLOOKUP(G116,Parámetros!G$11:$P$13,MAX(Parámetros!G$7:$P$7),FALSE))","v":""},{"$f":"IF(H116=\"\",\"\",VLOOKUP(H116,Parámetros!H$11:$P$13,MAX(Parámetros!H$7:$P$7),FALSE))","v":""},{"$f":"IF(I116=\"\",\"\",VLOOKUP(I116,Parámetros!I$11:$P$13,MAX(Parámetros!I$7:$P$7),FALSE))","v":""},{"$f":"IF(J116=\"\",\"\",VLOOKUP(J116,Parámetros!J$11:$P$13,MAX(Parámetros!J$7:$P$7),FALSE))","v":""},{"$f":"IF(K116=\"\",\"\",VLOOKUP(K116,Parámetros!K$11:$P$13,MAX(Parámetros!K$7:$P$7),FALSE))","v":""},{"$f":"IF(L116=\"\",\"\",VLOOKUP(L116,Parámetros!L$11:$P$13,MAX(Parámetros!L$7:$P$7),FALSE))","v":""},{"$f":"IF(M116=\"\",\"\",VLOOKUP(M116,Parámetros!M$11:$P$13,MAX(Parámetros!M$7:$P$7),FALSE))","v":""},{"$f":"IF(N116=\"\",\"\",VLOOKUP(N116,Parámetros!N$11:$P$13,MAX(Parámetros!N$7:$P$7),FALSE))","v":""},{"$f":"IF(O116=\"\",\"\",VLOOKUP(O116,Parámetros!O$11:$P$13,MAX(Parámetros!O$7:$P$7),FALSE))","v":""},""]
[null,null,null,{"$f":"IF(E117=\"\",\"\",VLOOKUP(E117,'Buenas prácticas'!$G$8:$H$1007,2,FALSE))","v":""},null,null,null,null,null,null,null,null,null,null,null,{"$f":"IF(F117=\"\",\"\",VLOOKUP(F117,Parámetros!F$11:$P$13,MAX(Parámetros!F$7:$P$7),FALSE))","v":""},{"$f":"IF(G117=\"\",\"\",VLOOKUP(G117,Parámetros!G$11:$P$13,MAX(Parámetros!G$7:$P$7),FALSE))","v":""},{"$f":"IF(H117=\"\",\"\",VLOOKUP(H117,Parámetros!H$11:$P$13,MAX(Parámetros!H$7:$P$7),FALSE))","v":""},{"$f":"IF(I117=\"\",\"\",VLOOKUP(I117,Parámetros!I$11:$P$13,MAX(Parámetros!I$7:$P$7),FALSE))","v":""},{"$f":"IF(J117=\"\",\"\",VLOOKUP(J117,Parámetros!J$11:$P$13,MAX(Parámetros!J$7:$P$7),FALSE))","v":""},{"$f":"IF(K117=\"\",\"\",VLOOKUP(K117,Parámetros!K$11:$P$13,MAX(Parámetros!K$7:$P$7),FALSE))","v":""},{"$f":"IF(L117=\"\",\"\",VLOOKUP(L117,Parámetros!L$11:$P$13,MAX(Parámetros!L$7:$P$7),FALSE))","v":""},{"$f":"IF(M117=\"\",\"\",VLOOKUP(M117,Parámetros!M$11:$P$13,MAX(Parámetros!M$7:$P$7),FALSE))","v":""},{"$f":"IF(N117=\"\",\"\",VLOOKUP(N117,Parámetros!N$11:$P$13,MAX(Parámetros!N$7:$P$7),FALSE))","v":""},{"$f":"IF(O117=\"\",\"\",VLOOKUP(O117,Parámetros!O$11:$P$13,MAX(Parámetros!O$7:$P$7),FALSE))","v":""},""]
[null,null,null,{"$f":"IF(E118=\"\",\"\",VLOOKUP(E118,'Buenas prácticas'!$G$8:$H$1007,2,FALSE))","v":""},null,null,null,null,null,null,null,null,null,null,null,{"$f":"IF(F118=\"\",\"\",VLOOKUP(F118,Parámetros!F$11:$P$13,MAX(Parámetros!F$7:$P$7),FALSE))","v":""},{"$f":"IF(G118=\"\",\"\",VLOOKUP(G118,Parámetros!G$11:$P$13,MAX(Parámetros!G$7:$P$7),FALSE))","v":""},{"$f":"IF(H118=\"\",\"\",VLOOKUP(H118,Parámetros!H$11:$P$13,MAX(Parámetros!H$7:$P$7),FALSE))","v":""},{"$f":"IF(I118=\"\",\"\",VLOOKUP(I118,Parámetros!I$11:$P$13,MAX(Parámetros!I$7:$P$7),FALSE))","v":""},{"$f":"IF(J118=\"\",\"\",VLOOKUP(J118,Parámetros!J$11:$P$13,MAX(Parámetros!J$7:$P$7),FALSE))","v":""},{"$f":"IF(K118=\"\",\"\",VLOOKUP(K118,Parámetros!K$11:$P$13,MAX(Parámetros!K$7:$P$7),FALSE))","v":""},{"$f":"IF(L118=\"\",\"\",VLOOKUP(L118,Parámetros!L$11:$P$13,MAX(Parámetros!L$7:$P$7),FALSE))","v":""},{"$f":"IF(M118=\"\",\"\",VLOOKUP(M118,Parámetros!M$11:$P$13,MAX(Parámetros!M$7:$P$7),FALSE))","v":""},{"$f":"IF(N118=\"\",\"\",VLOOKUP(N118,Parámetros!N$11:$P$13,MAX(Parámetros!N$7:$P$7),FALSE))","v":""},{"$f":"IF(O118=\"\",\"\",VLOOKUP(O118,Parámetros!O$11:$P$13,MAX(Parámetros!O$7:$P$7),FALSE))","v":""},""]
[null,null,null,{"$f":"IF(E119=\"\",\"\",VLOOKUP(E119,'Buenas prácticas'!$G$8:$H$1007,2,FALSE))","v":""},null,null,null,null,null,null,null,null,null,null,null,{"$f":"IF(F119=\"\",\"\",VLOOKUP(F119,Parámetros!F$11:$P$13,MAX(Parámetros!F$7:$P$7),FALSE))","v":""},{"$f":"IF(G119=\"\",\"\",VLOOKUP(G119,Parámetros!G$11:$P$13,MAX(Parámetros!G$7:$P$7),FALSE))","v":""},{"$f":"IF(H119=\"\",\"\",VLOOKUP(H119,Parámetros!H$11:$P$13,MAX(Parámetros!H$7:$P$7),FALSE))","v":""},{"$f":"IF(I119=\"\",\"\",VLOOKUP(I119,Parámetros!I$11:$P$13,MAX(Parámetros!I$7:$P$7),FALSE))","v":""},{"$f":"IF(J119=\"\",\"\",VLOOKUP(J119,Parámetros!J$11:$P$13,MAX(Parámetros!J$7:$P$7),FALSE))","v":""},{"$f":"IF(K119=\"\",\"\",VLOOKUP(K119,Parámetros!K$11:$P$13,MAX(Parámetros!K$7:$P$7),FALSE))","v":""},{"$f":"IF(L119=\"\",\"\",VLOOKUP(L119,Parámetros!L$11:$P$13,MAX(Parámetros!L$7:$P$7),FALSE))","v":""},{"$f":"IF(M119=\"\",\"\",VLOOKUP(M119,Parámetros!M$11:$P$13,MAX(Parámetros!M$7:$P$7),FALSE))","v":""},{"$f":"IF(N119=\"\",\"\",VLOOKUP(N119,Parámetros!N$11:$P$13,MAX(Parámetros!N$7:$P$7),FALSE))","v":""},{"$f":"IF(O119=\"\",\"\",VLOOKUP(O119,Parámetros!O$11:$P$13,MAX(Parámetros!O$7:$P$7),FALSE))","v":""},""]
[null,null,null,{"$f":"IF(E120=\"\",\"\",VLOOKUP(E120,'Buenas prácticas'!$G$8:$H$1007,2,FALSE))","v":""},null,null,null,null,null,null,null,null,null,null,null,{"$f":"IF(F120=\"\",\"\",VLOOKUP(F120,Parámetros!F$11:$P$13,MAX(Parámetros!F$7:$P$7),FALSE))","v":""},{"$f":"IF(G120=\"\",\"\",VLOOKUP(G120,Parámetros!G$11:$P$13,MAX(Parámetros!G$7:$P$7),FALSE))","v":""},{"$f":"IF(H120=\"\",\"\",VLOOKUP(H120,Parámetros!H$11:$P$13,MAX(Parámetros!H$7:$P$7),FALSE))","v":""},{"$f":"IF(I120=\"\",\"\",VLOOKUP(I120,Parámetros!I$11:$P$13,MAX(Parámetros!I$7:$P$7),FALSE))","v":""},{"$f":"IF(J120=\"\",\"\",VLOOKUP(J120,Parámetros!J$11:$P$13,MAX(Parámetros!J$7:$P$7),FALSE))","v":""},{"$f":"IF(K120=\"\",\"\",VLOOKUP(K120,Parámetros!K$11:$P$13,MAX(Parámetros!K$7:$P$7),FALSE))","v":""},{"$f":"IF(L120=\"\",\"\",VLOOKUP(L120,Parámetros!L$11:$P$13,MAX(Parámetros!L$7:$P$7),FALSE))","v":""},{"$f":"IF(M120=\"\",\"\",VLOOKUP(M120,Parámetros!M$11:$P$13,MAX(Parámetros!M$7:$P$7),FALSE))","v":""},{"$f":"IF(N120=\"\",\"\",VLOOKUP(N120,Parámetros!N$11:$P$13,MAX(Parámetros!N$7:$P$7),FALSE))","v":""},{"$f":"IF(O120=\"\",\"\",VLOOKUP(O120,Parámetros!O$11:$P$13,MAX(Parámetros!O$7:$P$7),FALSE))","v":""},""]
[null,null,null,{"$f":"IF(E121=\"\",\"\",VLOOKUP(E121,'Buenas prácticas'!$G$8:$H$1007,2,FALSE))","v":""},null,null,null,null,null,null,null,null,null,null,null,{"$f":"IF(F121=\"\",\"\",VLOOKUP(F121,Parámetros!F$11:$P$13,MAX(Parámetros!F$7:$P$7),FALSE))","v":""},{"$f":"IF(G121=\"\",\"\",VLOOKUP(G121,Parámetros!G$11:$P$13,MAX(Parámetros!G$7:$P$7),FALSE))","v":""},{"$f":"IF(H121=\"\",\"\",VLOOKUP(H121,Parámetros!H$11:$P$13,MAX(Parámetros!H$7:$P$7),FALSE))","v":""},{"$f":"IF(I121=\"\",\"\",VLOOKUP(I121,Parámetros!I$11:$P$13,MAX(Parámetros!I$7:$P$7),FALSE))","v":""},{"$f":"IF(J121=\"\",\"\",VLOOKUP(J121,Parámetros!J$11:$P$13,MAX(Parámetros!J$7:$P$7),FALSE))","v":""},{"$f":"IF(K121=\"\",\"\",VLOOKUP(K121,Parámetros!K$11:$P$13,MAX(Parámetros!K$7:$P$7),FALSE))","v":""},{"$f":"IF(L121=\"\",\"\",VLOOKUP(L121,Parámetros!L$11:$P$13,MAX(Parámetros!L$7:$P$7),FALSE))","v":""},{"$f":"IF(M121=\"\",\"\",VLOOKUP(M121,Parámetros!M$11:$P$13,MAX(Parámetros!M$7:$P$7),FALSE))","v":""},{"$f":"IF(N121=\"\",\"\",VLOOKUP(N121,Parámetros!N$11:$P$13,MAX(Parámetros!N$7:$P$7),FALSE))","v":""},{"$f":"IF(O121=\"\",\"\",VLOOKUP(O121,Parámetros!O$11:$P$13,MAX(Parámetros!O$7:$P$7),FALSE))","v":""},""]
[null,null,null,{"$f":"IF(E122=\"\",\"\",VLOOKUP(E122,'Buenas prácticas'!$G$8:$H$1007,2,FALSE))","v":""},null,null,null,null,null,null,null,null,null,null,null,{"$f":"IF(F122=\"\",\"\",VLOOKUP(F122,Parámetros!F$11:$P$13,MAX(Parámetros!F$7:$P$7),FALSE))","v":""},{"$f":"IF(G122=\"\",\"\",VLOOKUP(G122,Parámetros!G$11:$P$13,MAX(Parámetros!G$7:$P$7),FALSE))","v":""},{"$f":"IF(H122=\"\",\"\",VLOOKUP(H122,Parámetros!H$11:$P$13,MAX(Parámetros!H$7:$P$7),FALSE))","v":""},{"$f":"IF(I122=\"\",\"\",VLOOKUP(I122,Parámetros!I$11:$P$13,MAX(Parámetros!I$7:$P$7),FALSE))","v":""},{"$f":"IF(J122=\"\",\"\",VLOOKUP(J122,Parámetros!J$11:$P$13,MAX(Parámetros!J$7:$P$7),FALSE))","v":""},{"$f":"IF(K122=\"\",\"\",VLOOKUP(K122,Parámetros!K$11:$P$13,MAX(Parámetros!K$7:$P$7),FALSE))","v":""},{"$f":"IF(L122=\"\",\"\",VLOOKUP(L122,Parámetros!L$11:$P$13,MAX(Parámetros!L$7:$P$7),FALSE))","v":""},{"$f":"IF(M122=\"\",\"\",VLOOKUP(M122,Parámetros!M$11:$P$13,MAX(Parámetros!M$7:$P$7),FALSE))","v":""},{"$f":"IF(N122=\"\",\"\",VLOOKUP(N122,Parámetros!N$11:$P$13,MAX(Parámetros!N$7:$P$7),FALSE))","v":""},{"$f":"IF(O122=\"\",\"\",VLOOKUP(O122,Parámetros!O$11:$P$13,MAX(Parámetros!O$7:$P$7),FALSE))","v":""},""]
[null,null,null,{"$f":"IF(E123=\"\",\"\",VLOOKUP(E123,'Buenas prácticas'!$G$8:$H$1007,2,FALSE))","v":""},null,null,null,null,null,null,null,null,null,null,null,{"$f":"IF(F123=\"\",\"\",VLOOKUP(F123,Parámetros!F$11:$P$13,MAX(Parámetros!F$7:$P$7),FALSE))","v":""},{"$f":"IF(G123=\"\",\"\",VLOOKUP(G123,Parámetros!G$11:$P$13,MAX(Parámetros!G$7:$P$7),FALSE))","v":""},{"$f":"IF(H123=\"\",\"\",VLOOKUP(H123,Parámetros!H$11:$P$13,MAX(Parámetros!H$7:$P$7),FALSE))","v":""},{"$f":"IF(I123=\"\",\"\",VLOOKUP(I123,Parámetros!I$11:$P$13,MAX(Parámetros!I$7:$P$7),FALSE))","v":""},{"$f":"IF(J123=\"\",\"\",VLOOKUP(J123,Parámetros!J$11:$P$13,MAX(Parámetros!J$7:$P$7),FALSE))","v":""},{"$f":"IF(K123=\"\",\"\",VLOOKUP(K123,Parámetros!K$11:$P$13,MAX(Parámetros!K$7:$P$7),FALSE))","v":""},{"$f":"IF(L123=\"\",\"\",VLOOKUP(L123,Parámetros!L$11:$P$13,MAX(Parámetros!L$7:$P$7),FALSE))","v":""},{"$f":"IF(M123=\"\",\"\",VLOOKUP(M123,Parámetros!M$11:$P$13,MAX(Parámetros!M$7:$P$7),FALSE))","v":""},{"$f":"IF(N123=\"\",\"\",VLOOKUP(N123,Parámetros!N$11:$P$13,MAX(Parámetros!N$7:$P$7),FALSE))","v":""},{"$f":"IF(O123=\"\",\"\",VLOOKUP(O123,Parámetros!O$11:$P$13,MAX(Parámetros!O$7:$P$7),FALSE))","v":""},""]
[null,null,null,{"$f":"IF(E124=\"\",\"\",VLOOKUP(E124,'Buenas prácticas'!$G$8:$H$1007,2,FALSE))","v":""},null,null,null,null,null,null,null,null,null,null,null,{"$f":"IF(F124=\"\",\"\",VLOOKUP(F124,Parámetros!F$11:$P$13,MAX(Parámetros!F$7:$P$7),FALSE))","v":""},{"$f":"IF(G124=\"\",\"\",VLOOKUP(G124,Parámetros!G$11:$P$13,MAX(Parámetros!G$7:$P$7),FALSE))","v":""},{"$f":"IF(H124=\"\",\"\",VLOOKUP(H124,Parámetros!H$11:$P$13,MAX(Parámetros!H$7:$P$7),FALSE))","v":""},{"$f":"IF(I124=\"\",\"\",VLOOKUP(I124,Parámetros!I$11:$P$13,MAX(Parámetros!I$7:$P$7),FALSE))","v":""},{"$f":"IF(J124=\"\",\"\",VLOOKUP(J124,Parámetros!J$11:$P$13,MAX(Parámetros!J$7:$P$7),FALSE))","v":""},{"$f":"IF(K124=\"\",\"\",VLOOKUP(K124,Parámetros!K$11:$P$13,MAX(Parámetros!K$7:$P$7),FALSE))","v":""},{"$f":"IF(L124=\"\",\"\",VLOOKUP(L124,Parámetros!L$11:$P$13,MAX(Parámetros!L$7:$P$7),FALSE))","v":""},{"$f":"IF(M124=\"\",\"\",VLOOKUP(M124,Parámetros!M$11:$P$13,MAX(Parámetros!M$7:$P$7),FALSE))","v":""},{"$f":"IF(N124=\"\",\"\",VLOOKUP(N124,Parámetros!N$11:$P$13,MAX(Parámetros!N$7:$P$7),FALSE))","v":""},{"$f":"IF(O124=\"\",\"\",VLOOKUP(O124,Parámetros!O$11:$P$13,MAX(Parámetros!O$7:$P$7),FALSE))","v":""},""]
[null,null,null,{"$f":"IF(E125=\"\",\"\",VLOOKUP(E125,'Buenas prácticas'!$G$8:$H$1007,2,FALSE))","v":""},null,null,null,null,null,null,null,null,null,null,null,{"$f":"IF(F125=\"\",\"\",VLOOKUP(F125,Parámetros!F$11:$P$13,MAX(Parámetros!F$7:$P$7),FALSE))","v":""},{"$f":"IF(G125=\"\",\"\",VLOOKUP(G125,Parámetros!G$11:$P$13,MAX(Parámetros!G$7:$P$7),FALSE))","v":""},{"$f":"IF(H125=\"\",\"\",VLOOKUP(H125,Parámetros!H$11:$P$13,MAX(Parámetros!H$7:$P$7),FALSE))","v":""},{"$f":"IF(I125=\"\",\"\",VLOOKUP(I125,Parámetros!I$11:$P$13,MAX(Parámetros!I$7:$P$7),FALSE))","v":""},{"$f":"IF(J125=\"\",\"\",VLOOKUP(J125,Parámetros!J$11:$P$13,MAX(Parámetros!J$7:$P$7),FALSE))","v":""},{"$f":"IF(K125=\"\",\"\",VLOOKUP(K125,Parámetros!K$11:$P$13,MAX(Parámetros!K$7:$P$7),FALSE))","v":""},{"$f":"IF(L125=\"\",\"\",VLOOKUP(L125,Parámetros!L$11:$P$13,MAX(Parámetros!L$7:$P$7),FALSE))","v":""},{"$f":"IF(M125=\"\",\"\",VLOOKUP(M125,Parámetros!M$11:$P$13,MAX(Parámetros!M$7:$P$7),FALSE))","v":""},{"$f":"IF(N125=\"\",\"\",VLOOKUP(N125,Parámetros!N$11:$P$13,MAX(Parámetros!N$7:$P$7),FALSE))","v":""},{"$f":"IF(O125=\"\",\"\",VLOOKUP(O125,Parámetros!O$11:$P$13,MAX(Parámetros!O$7:$P$7),FALSE))","v":""},""]
[null,null,null,{"$f":"IF(E126=\"\",\"\",VLOOKUP(E126,'Buenas prácticas'!$G$8:$H$1007,2,FALSE))","v":""},null,null,null,null,null,null,null,null,null,null,null,{"$f":"IF(F126=\"\",\"\",VLOOKUP(F126,Parámetros!F$11:$P$13,MAX(Parámetros!F$7:$P$7),FALSE))","v":""},{"$f":"IF(G126=\"\",\"\",VLOOKUP(G126,Parámetros!G$11:$P$13,MAX(Parámetros!G$7:$P$7),FALSE))","v":""},{"$f":"IF(H126=\"\",\"\",VLOOKUP(H126,Parámetros!H$11:$P$13,MAX(Parámetros!H$7:$P$7),FALSE))","v":""},{"$f":"IF(I126=\"\",\"\",VLOOKUP(I126,Parámetros!I$11:$P$13,MAX(Parámetros!I$7:$P$7),FALSE))","v":""},{"$f":"IF(J126=\"\",\"\",VLOOKUP(J126,Parámetros!J$11:$P$13,MAX(Parámetros!J$7:$P$7),FALSE))","v":""},{"$f":"IF(K126=\"\",\"\",VLOOKUP(K126,Parámetros!K$11:$P$13,MAX(Parámetros!K$7:$P$7),FALSE))","v":""},{"$f":"IF(L126=\"\",\"\",VLOOKUP(L126,Parámetros!L$11:$P$13,MAX(Parámetros!L$7:$P$7),FALSE))","v":""},{"$f":"IF(M126=\"\",\"\",VLOOKUP(M126,Parámetros!M$11:$P$13,MAX(Parámetros!M$7:$P$7),FALSE))","v":""},{"$f":"IF(N126=\"\",\"\",VLOOKUP(N126,Parámetros!N$11:$P$13,MAX(Parámetros!N$7:$P$7),FALSE))","v":""},{"$f":"IF(O126=\"\",\"\",VLOOKUP(O126,Parámetros!O$11:$P$13,MAX(Parámetros!O$7:$P$7),FALSE))","v":""},""]
[null,null,null,{"$f":"IF(E127=\"\",\"\",VLOOKUP(E127,'Buenas prácticas'!$G$8:$H$1007,2,FALSE))","v":""},null,null,null,null,null,null,null,null,null,null,null,{"$f":"IF(F127=\"\",\"\",VLOOKUP(F127,Parámetros!F$11:$P$13,MAX(Parámetros!F$7:$P$7),FALSE))","v":""},{"$f":"IF(G127=\"\",\"\",VLOOKUP(G127,Parámetros!G$11:$P$13,MAX(Parámetros!G$7:$P$7),FALSE))","v":""},{"$f":"IF(H127=\"\",\"\",VLOOKUP(H127,Parámetros!H$11:$P$13,MAX(Parámetros!H$7:$P$7),FALSE))","v":""},{"$f":"IF(I127=\"\",\"\",VLOOKUP(I127,Parámetros!I$11:$P$13,MAX(Parámetros!I$7:$P$7),FALSE))","v":""},{"$f":"IF(J127=\"\",\"\",VLOOKUP(J127,Parámetros!J$11:$P$13,MAX(Parámetros!J$7:$P$7),FALSE))","v":""},{"$f":"IF(K127=\"\",\"\",VLOOKUP(K127,Parámetros!K$11:$P$13,MAX(Parámetros!K$7:$P$7),FALSE))","v":""},{"$f":"IF(L127=\"\",\"\",VLOOKUP(L127,Parámetros!L$11:$P$13,MAX(Parámetros!L$7:$P$7),FALSE))","v":""},{"$f":"IF(M127=\"\",\"\",VLOOKUP(M127,Parámetros!M$11:$P$13,MAX(Parámetros!M$7:$P$7),FALSE))","v":""},{"$f":"IF(N127=\"\",\"\",VLOOKUP(N127,Parámetros!N$11:$P$13,MAX(Parámetros!N$7:$P$7),FALSE))","v":""},{"$f":"IF(O127=\"\",\"\",VLOOKUP(O127,Parámetros!O$11:$P$13,MAX(Parámetros!O$7:$P$7),FALSE))","v":""},""]
[null,null,null,{"$f":"IF(E128=\"\",\"\",VLOOKUP(E128,'Buenas prácticas'!$G$8:$H$1007,2,FALSE))","v":""},null,null,null,null,null,null,null,null,null,null,null,{"$f":"IF(F128=\"\",\"\",VLOOKUP(F128,Parámetros!F$11:$P$13,MAX(Parámetros!F$7:$P$7),FALSE))","v":""},{"$f":"IF(G128=\"\",\"\",VLOOKUP(G128,Parámetros!G$11:$P$13,MAX(Parámetros!G$7:$P$7),FALSE))","v":""},{"$f":"IF(H128=\"\",\"\",VLOOKUP(H128,Parámetros!H$11:$P$13,MAX(Parámetros!H$7:$P$7),FALSE))","v":""},{"$f":"IF(I128=\"\",\"\",VLOOKUP(I128,Parámetros!I$11:$P$13,MAX(Parámetros!I$7:$P$7),FALSE))","v":""},{"$f":"IF(J128=\"\",\"\",VLOOKUP(J128,Parámetros!J$11:$P$13,MAX(Parámetros!J$7:$P$7),FALSE))","v":""},{"$f":"IF(K128=\"\",\"\",VLOOKUP(K128,Parámetros!K$11:$P$13,MAX(Parámetros!K$7:$P$7),FALSE))","v":""},{"$f":"IF(L128=\"\",\"\",VLOOKUP(L128,Parámetros!L$11:$P$13,MAX(Parámetros!L$7:$P$7),FALSE))","v":""},{"$f":"IF(M128=\"\",\"\",VLOOKUP(M128,Parámetros!M$11:$P$13,MAX(Parámetros!M$7:$P$7),FALSE))","v":""},{"$f":"IF(N128=\"\",\"\",VLOOKUP(N128,Parámetros!N$11:$P$13,MAX(Parámetros!N$7:$P$7),FALSE))","v":""},{"$f":"IF(O128=\"\",\"\",VLOOKUP(O128,Parámetros!O$11:$P$13,MAX(Parámetros!O$7:$P$7),FALSE))","v":""},""]
[null,null,null,{"$f":"IF(E129=\"\",\"\",VLOOKUP(E129,'Buenas prácticas'!$G$8:$H$1007,2,FALSE))","v":""},null,null,null,null,null,null,null,null,null,null,null,{"$f":"IF(F129=\"\",\"\",VLOOKUP(F129,Parámetros!F$11:$P$13,MAX(Parámetros!F$7:$P$7),FALSE))","v":""},{"$f":"IF(G129=\"\",\"\",VLOOKUP(G129,Parámetros!G$11:$P$13,MAX(Parámetros!G$7:$P$7),FALSE))","v":""},{"$f":"IF(H129=\"\",\"\",VLOOKUP(H129,Parámetros!H$11:$P$13,MAX(Parámetros!H$7:$P$7),FALSE))","v":""},{"$f":"IF(I129=\"\",\"\",VLOOKUP(I129,Parámetros!I$11:$P$13,MAX(Parámetros!I$7:$P$7),FALSE))","v":""},{"$f":"IF(J129=\"\",\"\",VLOOKUP(J129,Parámetros!J$11:$P$13,MAX(Parámetros!J$7:$P$7),FALSE))","v":""},{"$f":"IF(K129=\"\",\"\",VLOOKUP(K129,Parámetros!K$11:$P$13,MAX(Parámetros!K$7:$P$7),FALSE))","v":""},{"$f":"IF(L129=\"\",\"\",VLOOKUP(L129,Parámetros!L$11:$P$13,MAX(Parámetros!L$7:$P$7),FALSE))","v":""},{"$f":"IF(M129=\"\",\"\",VLOOKUP(M129,Parámetros!M$11:$P$13,MAX(Parámetros!M$7:$P$7),FALSE))","v":""},{"$f":"IF(N129=\"\",\"\",VLOOKUP(N129,Parámetros!N$11:$P$13,MAX(Parámetros!N$7:$P$7),FALSE))","v":""},{"$f":"IF(O129=\"\",\"\",VLOOKUP(O129,Parámetros!O$11:$P$13,MAX(Parámetros!O$7:$P$7),FALSE))","v":""},""]
[null,null,null,{"$f":"IF(E130=\"\",\"\",VLOOKUP(E130,'Buenas prácticas'!$G$8:$H$1007,2,FALSE))","v":""},null,null,null,null,null,null,null,null,null,null,null,{"$f":"IF(F130=\"\",\"\",VLOOKUP(F130,Parámetros!F$11:$P$13,MAX(Parámetros!F$7:$P$7),FALSE))","v":""},{"$f":"IF(G130=\"\",\"\",VLOOKUP(G130,Parámetros!G$11:$P$13,MAX(Parámetros!G$7:$P$7),FALSE))","v":""},{"$f":"IF(H130=\"\",\"\",VLOOKUP(H130,Parámetros!H$11:$P$13,MAX(Parámetros!H$7:$P$7),FALSE))","v":""},{"$f":"IF(I130=\"\",\"\",VLOOKUP(I130,Parámetros!I$11:$P$13,MAX(Parámetros!I$7:$P$7),FALSE))","v":""},{"$f":"IF(J130=\"\",\"\",VLOOKUP(J130,Parámetros!J$11:$P$13,MAX(Parámetros!J$7:$P$7),FALSE))","v":""},{"$f":"IF(K130=\"\",\"\",VLOOKUP(K130,Parámetros!K$11:$P$13,MAX(Parámetros!K$7:$P$7),FALSE))","v":""},{"$f":"IF(L130=\"\",\"\",VLOOKUP(L130,Parámetros!L$11:$P$13,MAX(Parámetros!L$7:$P$7),FALSE))","v":""},{"$f":"IF(M130=\"\",\"\",VLOOKUP(M130,Parámetros!M$11:$P$13,MAX(Parámetros!M$7:$P$7),FALSE))","v":""},{"$f":"IF(N130=\"\",\"\",VLOOKUP(N130,Parámetros!N$11:$P$13,MAX(Parámetros!N$7:$P$7),FALSE))","v":""},{"$f":"IF(O130=\"\",\"\",VLOOKUP(O130,Parámetros!O$11:$P$13,MAX(Parámetros!O$7:$P$7),FALSE))","v":""},""]
[null,null,null,{"$f":"IF(E131=\"\",\"\",VLOOKUP(E131,'Buenas prácticas'!$G$8:$H$1007,2,FALSE))","v":""},null,null,null,null,null,null,null,null,null,null,null,{"$f":"IF(F131=\"\",\"\",VLOOKUP(F131,Parámetros!F$11:$P$13,MAX(Parámetros!F$7:$P$7),FALSE))","v":""},{"$f":"IF(G131=\"\",\"\",VLOOKUP(G131,Parámetros!G$11:$P$13,MAX(Parámetros!G$7:$P$7),FALSE))","v":""},{"$f":"IF(H131=\"\",\"\",VLOOKUP(H131,Parámetros!H$11:$P$13,MAX(Parámetros!H$7:$P$7),FALSE))","v":""},{"$f":"IF(I131=\"\",\"\",VLOOKUP(I131,Parámetros!I$11:$P$13,MAX(Parámetros!I$7:$P$7),FALSE))","v":""},{"$f":"IF(J131=\"\",\"\",VLOOKUP(J131,Parámetros!J$11:$P$13,MAX(Parámetros!J$7:$P$7),FALSE))","v":""},{"$f":"IF(K131=\"\",\"\",VLOOKUP(K131,Parámetros!K$11:$P$13,MAX(Parámetros!K$7:$P$7),FALSE))","v":""},{"$f":"IF(L131=\"\",\"\",VLOOKUP(L131,Parámetros!L$11:$P$13,MAX(Parámetros!L$7:$P$7),FALSE))","v":""},{"$f":"IF(M131=\"\",\"\",VLOOKUP(M131,Parámetros!M$11:$P$13,MAX(Parámetros!M$7:$P$7),FALSE))","v":""},{"$f":"IF(N131=\"\",\"\",VLOOKUP(N131,Parámetros!N$11:$P$13,MAX(Parámetros!N$7:$P$7),FALSE))","v":""},{"$f":"IF(O131=\"\",\"\",VLOOKUP(O131,Parámetros!O$11:$P$13,MAX(Parámetros!O$7:$P$7),FALSE))","v":""},""]
[null,null,null,{"$f":"IF(E132=\"\",\"\",VLOOKUP(E132,'Buenas prácticas'!$G$8:$H$1007,2,FALSE))","v":""},null,null,null,null,null,null,null,null,null,null,null,{"$f":"IF(F132=\"\",\"\",VLOOKUP(F132,Parámetros!F$11:$P$13,MAX(Parámetros!F$7:$P$7),FALSE))","v":""},{"$f":"IF(G132=\"\",\"\",VLOOKUP(G132,Parámetros!G$11:$P$13,MAX(Parámetros!G$7:$P$7),FALSE))","v":""},{"$f":"IF(H132=\"\",\"\",VLOOKUP(H132,Parámetros!H$11:$P$13,MAX(Parámetros!H$7:$P$7),FALSE))","v":""},{"$f":"IF(I132=\"\",\"\",VLOOKUP(I132,Parámetros!I$11:$P$13,MAX(Parámetros!I$7:$P$7),FALSE))","v":""},{"$f":"IF(J132=\"\",\"\",VLOOKUP(J132,Parámetros!J$11:$P$13,MAX(Parámetros!J$7:$P$7),FALSE))","v":""},{"$f":"IF(K132=\"\",\"\",VLOOKUP(K132,Parámetros!K$11:$P$13,MAX(Parámetros!K$7:$P$7),FALSE))","v":""},{"$f":"IF(L132=\"\",\"\",VLOOKUP(L132,Parámetros!L$11:$P$13,MAX(Parámetros!L$7:$P$7),FALSE))","v":""},{"$f":"IF(M132=\"\",\"\",VLOOKUP(M132,Parámetros!M$11:$P$13,MAX(Parámetros!M$7:$P$7),FALSE))","v":""},{"$f":"IF(N132=\"\",\"\",VLOOKUP(N132,Parámetros!N$11:$P$13,MAX(Parámetros!N$7:$P$7),FALSE))","v":""},{"$f":"IF(O132=\"\",\"\",VLOOKUP(O132,Parámetros!O$11:$P$13,MAX(Parámetros!O$7:$P$7),FALSE))","v":""},""]
[null,null,null,{"$f":"IF(E133=\"\",\"\",VLOOKUP(E133,'Buenas prácticas'!$G$8:$H$1007,2,FALSE))","v":""},null,null,null,null,null,null,null,null,null,null,null,{"$f":"IF(F133=\"\",\"\",VLOOKUP(F133,Parámetros!F$11:$P$13,MAX(Parámetros!F$7:$P$7),FALSE))","v":""},{"$f":"IF(G133=\"\",\"\",VLOOKUP(G133,Parámetros!G$11:$P$13,MAX(Parámetros!G$7:$P$7),FALSE))","v":""},{"$f":"IF(H133=\"\",\"\",VLOOKUP(H133,Parámetros!H$11:$P$13,MAX(Parámetros!H$7:$P$7),FALSE))","v":""},{"$f":"IF(I133=\"\",\"\",VLOOKUP(I133,Parámetros!I$11:$P$13,MAX(Parámetros!I$7:$P$7),FALSE))","v":""},{"$f":"IF(J133=\"\",\"\",VLOOKUP(J133,Parámetros!J$11:$P$13,MAX(Parámetros!J$7:$P$7),FALSE))","v":""},{"$f":"IF(K133=\"\",\"\",VLOOKUP(K133,Parámetros!K$11:$P$13,MAX(Parámetros!K$7:$P$7),FALSE))","v":""},{"$f":"IF(L133=\"\",\"\",VLOOKUP(L133,Parámetros!L$11:$P$13,MAX(Parámetros!L$7:$P$7),FALSE))","v":""},{"$f":"IF(M133=\"\",\"\",VLOOKUP(M133,Parámetros!M$11:$P$13,MAX(Parámetros!M$7:$P$7),FALSE))","v":""},{"$f":"IF(N133=\"\",\"\",VLOOKUP(N133,Parámetros!N$11:$P$13,MAX(Parámetros!N$7:$P$7),FALSE))","v":""},{"$f":"IF(O133=\"\",\"\",VLOOKUP(O133,Parámetros!O$11:$P$13,MAX(Parámetros!O$7:$P$7),FALSE))","v":""},""]
[null,null,null,{"$f":"IF(E134=\"\",\"\",VLOOKUP(E134,'Buenas prácticas'!$G$8:$H$1007,2,FALSE))","v":""},null,null,null,null,null,null,null,null,null,null,null,{"$f":"IF(F134=\"\",\"\",VLOOKUP(F134,Parámetros!F$11:$P$13,MAX(Parámetros!F$7:$P$7),FALSE))","v":""},{"$f":"IF(G134=\"\",\"\",VLOOKUP(G134,Parámetros!G$11:$P$13,MAX(Parámetros!G$7:$P$7),FALSE))","v":""},{"$f":"IF(H134=\"\",\"\",VLOOKUP(H134,Parámetros!H$11:$P$13,MAX(Parámetros!H$7:$P$7),FALSE))","v":""},{"$f":"IF(I134=\"\",\"\",VLOOKUP(I134,Parámetros!I$11:$P$13,MAX(Parámetros!I$7:$P$7),FALSE))","v":""},{"$f":"IF(J134=\"\",\"\",VLOOKUP(J134,Parámetros!J$11:$P$13,MAX(Parámetros!J$7:$P$7),FALSE))","v":""},{"$f":"IF(K134=\"\",\"\",VLOOKUP(K134,Parámetros!K$11:$P$13,MAX(Parámetros!K$7:$P$7),FALSE))","v":""},{"$f":"IF(L134=\"\",\"\",VLOOKUP(L134,Parámetros!L$11:$P$13,MAX(Parámetros!L$7:$P$7),FALSE))","v":""},{"$f":"IF(M134=\"\",\"\",VLOOKUP(M134,Parámetros!M$11:$P$13,MAX(Parámetros!M$7:$P$7),FALSE))","v":""},{"$f":"IF(N134=\"\",\"\",VLOOKUP(N134,Parámetros!N$11:$P$13,MAX(Parámetros!N$7:$P$7),FALSE))","v":""},{"$f":"IF(O134=\"\",\"\",VLOOKUP(O134,Parámetros!O$11:$P$13,MAX(Parámetros!O$7:$P$7),FALSE))","v":""},""]
[null,null,null,{"$f":"IF(E135=\"\",\"\",VLOOKUP(E135,'Buenas prácticas'!$G$8:$H$1007,2,FALSE))","v":""},null,null,null,null,null,null,null,null,null,null,null,{"$f":"IF(F135=\"\",\"\",VLOOKUP(F135,Parámetros!F$11:$P$13,MAX(Parámetros!F$7:$P$7),FALSE))","v":""},{"$f":"IF(G135=\"\",\"\",VLOOKUP(G135,Parámetros!G$11:$P$13,MAX(Parámetros!G$7:$P$7),FALSE))","v":""},{"$f":"IF(H135=\"\",\"\",VLOOKUP(H135,Parámetros!H$11:$P$13,MAX(Parámetros!H$7:$P$7),FALSE))","v":""},{"$f":"IF(I135=\"\",\"\",VLOOKUP(I135,Parámetros!I$11:$P$13,MAX(Parámetros!I$7:$P$7),FALSE))","v":""},{"$f":"IF(J135=\"\",\"\",VLOOKUP(J135,Parámetros!J$11:$P$13,MAX(Parámetros!J$7:$P$7),FALSE))","v":""},{"$f":"IF(K135=\"\",\"\",VLOOKUP(K135,Parámetros!K$11:$P$13,MAX(Parámetros!K$7:$P$7),FALSE))","v":""},{"$f":"IF(L135=\"\",\"\",VLOOKUP(L135,Parámetros!L$11:$P$13,MAX(Parámetros!L$7:$P$7),FALSE))","v":""},{"$f":"IF(M135=\"\",\"\",VLOOKUP(M135,Parámetros!M$11:$P$13,MAX(Parámetros!M$7:$P$7),FALSE))","v":""},{"$f":"IF(N135=\"\",\"\",VLOOKUP(N135,Parámetros!N$11:$P$13,MAX(Parámetros!N$7:$P$7),FALSE))","v":""},{"$f":"IF(O135=\"\",\"\",VLOOKUP(O135,Parámetros!O$11:$P$13,MAX(Parámetros!O$7:$P$7),FALSE))","v":""},""]
[null,null,null,{"$f":"IF(E136=\"\",\"\",VLOOKUP(E136,'Buenas prácticas'!$G$8:$H$1007,2,FALSE))","v":""},null,null,null,null,null,null,null,null,null,null,null,{"$f":"IF(F136=\"\",\"\",VLOOKUP(F136,Parámetros!F$11:$P$13,MAX(Parámetros!F$7:$P$7),FALSE))","v":""},{"$f":"IF(G136=\"\",\"\",VLOOKUP(G136,Parámetros!G$11:$P$13,MAX(Parámetros!G$7:$P$7),FALSE))","v":""},{"$f":"IF(H136=\"\",\"\",VLOOKUP(H136,Parámetros!H$11:$P$13,MAX(Parámetros!H$7:$P$7),FALSE))","v":""},{"$f":"IF(I136=\"\",\"\",VLOOKUP(I136,Parámetros!I$11:$P$13,MAX(Parámetros!I$7:$P$7),FALSE))","v":""},{"$f":"IF(J136=\"\",\"\",VLOOKUP(J136,Parámetros!J$11:$P$13,MAX(Parámetros!J$7:$P$7),FALSE))","v":""},{"$f":"IF(K136=\"\",\"\",VLOOKUP(K136,Parámetros!K$11:$P$13,MAX(Parámetros!K$7:$P$7),FALSE))","v":""},{"$f":"IF(L136=\"\",\"\",VLOOKUP(L136,Parámetros!L$11:$P$13,MAX(Parámetros!L$7:$P$7),FALSE))","v":""},{"$f":"IF(M136=\"\",\"\",VLOOKUP(M136,Parámetros!M$11:$P$13,MAX(Parámetros!M$7:$P$7),FALSE))","v":""},{"$f":"IF(N136=\"\",\"\",VLOOKUP(N136,Parámetros!N$11:$P$13,MAX(Parámetros!N$7:$P$7),FALSE))","v":""},{"$f":"IF(O136=\"\",\"\",VLOOKUP(O136,Parámetros!O$11:$P$13,MAX(Parámetros!O$7:$P$7),FALSE))","v":""},""]
[null,null,null,{"$f":"IF(E137=\"\",\"\",VLOOKUP(E137,'Buenas prácticas'!$G$8:$H$1007,2,FALSE))","v":""},null,null,null,null,null,null,null,null,null,null,null,{"$f":"IF(F137=\"\",\"\",VLOOKUP(F137,Parámetros!F$11:$P$13,MAX(Parámetros!F$7:$P$7),FALSE))","v":""},{"$f":"IF(G137=\"\",\"\",VLOOKUP(G137,Parámetros!G$11:$P$13,MAX(Parámetros!G$7:$P$7),FALSE))","v":""},{"$f":"IF(H137=\"\",\"\",VLOOKUP(H137,Parámetros!H$11:$P$13,MAX(Parámetros!H$7:$P$7),FALSE))","v":""},{"$f":"IF(I137=\"\",\"\",VLOOKUP(I137,Parámetros!I$11:$P$13,MAX(Parámetros!I$7:$P$7),FALSE))","v":""},{"$f":"IF(J137=\"\",\"\",VLOOKUP(J137,Parámetros!J$11:$P$13,MAX(Parámetros!J$7:$P$7),FALSE))","v":""},{"$f":"IF(K137=\"\",\"\",VLOOKUP(K137,Parámetros!K$11:$P$13,MAX(Parámetros!K$7:$P$7),FALSE))","v":""},{"$f":"IF(L137=\"\",\"\",VLOOKUP(L137,Parámetros!L$11:$P$13,MAX(Parámetros!L$7:$P$7),FALSE))","v":""},{"$f":"IF(M137=\"\",\"\",VLOOKUP(M137,Parámetros!M$11:$P$13,MAX(Parámetros!M$7:$P$7),FALSE))","v":""},{"$f":"IF(N137=\"\",\"\",VLOOKUP(N137,Parámetros!N$11:$P$13,MAX(Parámetros!N$7:$P$7),FALSE))","v":""},{"$f":"IF(O137=\"\",\"\",VLOOKUP(O137,Parámetros!O$11:$P$13,MAX(Parámetros!O$7:$P$7),FALSE))","v":""},{"$f":"IF(SUMPRODUCT($P137:$Y137,$P$6:$Y$6)=0,\"\",SUMPRODUCT($P137:$Y137,$P$6:$Y$6)/3)","v":""}]
[null,null,null,{"$f":"IF(E138=\"\",\"\",VLOOKUP(E138,'Buenas prácticas'!$G$8:$H$1007,2,FALSE))","v":""},null,null,null,null,null,null,null,null,null,null,null,{"$f":"IF(F138=\"\",\"\",VLOOKUP(F138,Parámetros!F$11:$P$13,MAX(Parámetros!F$7:$P$7),FALSE))","v":""},{"$f":"IF(G138=\"\",\"\",VLOOKUP(G138,Parámetros!G$11:$P$13,MAX(Parámetros!G$7:$P$7),FALSE))","v":""},{"$f":"IF(H138=\"\",\"\",VLOOKUP(H138,Parámetros!H$11:$P$13,MAX(Parámetros!H$7:$P$7),FALSE))","v":""},{"$f":"IF(I138=\"\",\"\",VLOOKUP(I138,Parámetros!I$11:$P$13,MAX(Parámetros!I$7:$P$7),FALSE))","v":""},{"$f":"IF(J138=\"\",\"\",VLOOKUP(J138,Parámetros!J$11:$P$13,MAX(Parámetros!J$7:$P$7),FALSE))","v":""},{"$f":"IF(K138=\"\",\"\",VLOOKUP(K138,Parámetros!K$11:$P$13,MAX(Parámetros!K$7:$P$7),FALSE))","v":""},{"$f":"IF(L138=\"\",\"\",VLOOKUP(L138,Parámetros!L$11:$P$13,MAX(Parámetros!L$7:$P$7),FALSE))","v":""},{"$f":"IF(M138=\"\",\"\",VLOOKUP(M138,Parámetros!M$11:$P$13,MAX(Parámetros!M$7:$P$7),FALSE))","v":""},{"$f":"IF(N138=\"\",\"\",VLOOKUP(N138,Parámetros!N$11:$P$13,MAX(Parámetros!N$7:$P$7),FALSE))","v":""},{"$f":"IF(O138=\"\",\"\",VLOOKUP(O138,Parámetros!O$11:$P$13,MAX(Parámetros!O$7:$P$7),FALSE))","v":""},""]
[null,null,null,{"$f":"IF(E139=\"\",\"\",VLOOKUP(E139,'Buenas prácticas'!$G$8:$H$1007,2,FALSE))","v":""},null,null,null,null,null,null,null,null,null,null,null,{"$f":"IF(F139=\"\",\"\",VLOOKUP(F139,Parámetros!F$11:$P$13,MAX(Parámetros!F$7:$P$7),FALSE))","v":""},{"$f":"IF(G139=\"\",\"\",VLOOKUP(G139,Parámetros!G$11:$P$13,MAX(Parámetros!G$7:$P$7),FALSE))","v":""},{"$f":"IF(H139=\"\",\"\",VLOOKUP(H139,Parámetros!H$11:$P$13,MAX(Parámetros!H$7:$P$7),FALSE))","v":""},{"$f":"IF(I139=\"\",\"\",VLOOKUP(I139,Parámetros!I$11:$P$13,MAX(Parámetros!I$7:$P$7),FALSE))","v":""},{"$f":"IF(J139=\"\",\"\",VLOOKUP(J139,Parámetros!J$11:$P$13,MAX(Parámetros!J$7:$P$7),FALSE))","v":""},{"$f":"IF(K139=\"\",\"\",VLOOKUP(K139,Parámetros!K$11:$P$13,MAX(Parámetros!K$7:$P$7),FALSE))","v":""},{"$f":"IF(L139=\"\",\"\",VLOOKUP(L139,Parámetros!L$11:$P$13,MAX(Parámetros!L$7:$P$7),FALSE))","v":""},{"$f":"IF(M139=\"\",\"\",VLOOKUP(M139,Parámetros!M$11:$P$13,MAX(Parámetros!M$7:$P$7),FALSE))","v":""},{"$f":"IF(N139=\"\",\"\",VLOOKUP(N139,Parámetros!N$11:$P$13,MAX(Parámetros!N$7:$P$7),FALSE))","v":""},{"$f":"IF(O139=\"\",\"\",VLOOKUP(O139,Parámetros!O$11:$P$13,MAX(Parámetros!O$7:$P$7),FALSE))","v":""},""]
[null,null,null,{"$f":"IF(E140=\"\",\"\",VLOOKUP(E140,'Buenas prácticas'!$G$8:$H$1007,2,FALSE))","v":""},null,null,null,null,null,null,null,null,null,null,null,{"$f":"IF(F140=\"\",\"\",VLOOKUP(F140,Parámetros!F$11:$P$13,MAX(Parámetros!F$7:$P$7),FALSE))","v":""},{"$f":"IF(G140=\"\",\"\",VLOOKUP(G140,Parámetros!G$11:$P$13,MAX(Parámetros!G$7:$P$7),FALSE))","v":""},{"$f":"IF(H140=\"\",\"\",VLOOKUP(H140,Parámetros!H$11:$P$13,MAX(Parámetros!H$7:$P$7),FALSE))","v":""},{"$f":"IF(I140=\"\",\"\",VLOOKUP(I140,Parámetros!I$11:$P$13,MAX(Parámetros!I$7:$P$7),FALSE))","v":""},{"$f":"IF(J140=\"\",\"\",VLOOKUP(J140,Parámetros!J$11:$P$13,MAX(Parámetros!J$7:$P$7),FALSE))","v":""},{"$f":"IF(K140=\"\",\"\",VLOOKUP(K140,Parámetros!K$11:$P$13,MAX(Parámetros!K$7:$P$7),FALSE))","v":""},{"$f":"IF(L140=\"\",\"\",VLOOKUP(L140,Parámetros!L$11:$P$13,MAX(Parámetros!L$7:$P$7),FALSE))","v":""},{"$f":"IF(M140=\"\",\"\",VLOOKUP(M140,Parámetros!M$11:$P$13,MAX(Parámetros!M$7:$P$7),FALSE))","v":""},{"$f":"IF(N140=\"\",\"\",VLOOKUP(N140,Parámetros!N$11:$P$13,MAX(Parámetros!N$7:$P$7),FALSE))","v":""},{"$f":"IF(O140=\"\",\"\",VLOOKUP(O140,Parámetros!O$11:$P$13,MAX(Parámetros!O$7:$P$7),FALSE))","v":""},""]
[null,null,null,{"$f":"IF(E141=\"\",\"\",VLOOKUP(E141,'Buenas prácticas'!$G$8:$H$1007,2,FALSE))","v":""},null,null,null,null,null,null,null,null,null,null,null,{"$f":"IF(F141=\"\",\"\",VLOOKUP(F141,Parámetros!F$11:$P$13,MAX(Parámetros!F$7:$P$7),FALSE))","v":""},{"$f":"IF(G141=\"\",\"\",VLOOKUP(G141,Parámetros!G$11:$P$13,MAX(Parámetros!G$7:$P$7),FALSE))","v":""},{"$f":"IF(H141=\"\",\"\",VLOOKUP(H141,Parámetros!H$11:$P$13,MAX(Parámetros!H$7:$P$7),FALSE))","v":""},{"$f":"IF(I141=\"\",\"\",VLOOKUP(I141,Parámetros!I$11:$P$13,MAX(Parámetros!I$7:$P$7),FALSE))","v":""},{"$f":"IF(J141=\"\",\"\",VLOOKUP(J141,Parámetros!J$11:$P$13,MAX(Parámetros!J$7:$P$7),FALSE))","v":""},{"$f":"IF(K141=\"\",\"\",VLOOKUP(K141,Parámetros!K$11:$P$13,MAX(Parámetros!K$7:$P$7),FALSE))","v":""},{"$f":"IF(L141=\"\",\"\",VLOOKUP(L141,Parámetros!L$11:$P$13,MAX(Parámetros!L$7:$P$7),FALSE))","v":""},{"$f":"IF(M141=\"\",\"\",VLOOKUP(M141,Parámetros!M$11:$P$13,MAX(Parámetros!M$7:$P$7),FALSE))","v":""},{"$f":"IF(N141=\"\",\"\",VLOOKUP(N141,Parámetros!N$11:$P$13,MAX(Parámetros!N$7:$P$7),FALSE))","v":""},{"$f":"IF(O141=\"\",\"\",VLOOKUP(O141,Parámetros!O$11:$P$13,MAX(Parámetros!O$7:$P$7),FALSE))","v":""},""]
[null,null,null,{"$f":"IF(E142=\"\",\"\",VLOOKUP(E142,'Buenas prácticas'!$G$8:$H$1007,2,FALSE))","v":""},null,null,null,null,null,null,null,null,null,null,null,{"$f":"IF(F142=\"\",\"\",VLOOKUP(F142,Parámetros!F$11:$P$13,MAX(Parámetros!F$7:$P$7),FALSE))","v":""},{"$f":"IF(G142=\"\",\"\",VLOOKUP(G142,Parámetros!G$11:$P$13,MAX(Parámetros!G$7:$P$7),FALSE))","v":""},{"$f":"IF(H142=\"\",\"\",VLOOKUP(H142,Parámetros!H$11:$P$13,MAX(Parámetros!H$7:$P$7),FALSE))","v":""},{"$f":"IF(I142=\"\",\"\",VLOOKUP(I142,Parámetros!I$11:$P$13,MAX(Parámetros!I$7:$P$7),FALSE))","v":""},{"$f":"IF(J142=\"\",\"\",VLOOKUP(J142,Parámetros!J$11:$P$13,MAX(Parámetros!J$7:$P$7),FALSE))","v":""},{"$f":"IF(K142=\"\",\"\",VLOOKUP(K142,Parámetros!K$11:$P$13,MAX(Parámetros!K$7:$P$7),FALSE))","v":""},{"$f":"IF(L142=\"\",\"\",VLOOKUP(L142,Parámetros!L$11:$P$13,MAX(Parámetros!L$7:$P$7),FALSE))","v":""},{"$f":"IF(M142=\"\",\"\",VLOOKUP(M142,Parámetros!M$11:$P$13,MAX(Parámetros!M$7:$P$7),FALSE))","v":""},{"$f":"IF(N142=\"\",\"\",VLOOKUP(N142,Parámetros!N$11:$P$13,MAX(Parámetros!N$7:$P$7),FALSE))","v":""},{"$f":"IF(O142=\"\",\"\",VLOOKUP(O142,Parámetros!O$11:$P$13,MAX(Parámetros!O$7:$P$7),FALSE))","v":""},""]
[null,null,null,{"$f":"IF(E143=\"\",\"\",VLOOKUP(E143,'Buenas prácticas'!$G$8:$H$1007,2,FALSE))","v":""},null,null,null,null,null,null,null,null,null,null,null,{"$f":"IF(F143=\"\",\"\",VLOOKUP(F143,Parámetros!F$11:$P$13,MAX(Parámetros!F$7:$P$7),FALSE))","v":""},{"$f":"IF(G143=\"\",\"\",VLOOKUP(G143,Parámetros!G$11:$P$13,MAX(Parámetros!G$7:$P$7),FALSE))","v":""},{"$f":"IF(H143=\"\",\"\",VLOOKUP(H143,Parámetros!H$11:$P$13,MAX(Parámetros!H$7:$P$7),FALSE))","v":""},{"$f":"IF(I143=\"\",\"\",VLOOKUP(I143,Parámetros!I$11:$P$13,MAX(Parámetros!I$7:$P$7),FALSE))","v":""},{"$f":"IF(J143=\"\",\"\",VLOOKUP(J143,Parámetros!J$11:$P$13,MAX(Parámetros!J$7:$P$7),FALSE))","v":""},{"$f":"IF(K143=\"\",\"\",VLOOKUP(K143,Parámetros!K$11:$P$13,MAX(Parámetros!K$7:$P$7),FALSE))","v":""},{"$f":"IF(L143=\"\",\"\",VLOOKUP(L143,Parámetros!L$11:$P$13,MAX(Parámetros!L$7:$P$7),FALSE))","v":""},{"$f":"IF(M143=\"\",\"\",VLOOKUP(M143,Parámetros!M$11:$P$13,MAX(Parámetros!M$7:$P$7),FALSE))","v":""},{"$f":"IF(N143=\"\",\"\",VLOOKUP(N143,Parámetros!N$11:$P$13,MAX(Parámetros!N$7:$P$7),FALSE))","v":""},{"$f":"IF(O143=\"\",\"\",VLOOKUP(O143,Parámetros!O$11:$P$13,MAX(Parámetros!O$7:$P$7),FALSE))","v":""},""]
[null,null,null,{"$f":"IF(E144=\"\",\"\",VLOOKUP(E144,'Buenas prácticas'!$G$8:$H$1007,2,FALSE))","v":""},null,null,null,null,null,null,null,null,null,null,null,{"$f":"IF(F144=\"\",\"\",VLOOKUP(F144,Parámetros!F$11:$P$13,MAX(Parámetros!F$7:$P$7),FALSE))","v":""},{"$f":"IF(G144=\"\",\"\",VLOOKUP(G144,Parámetros!G$11:$P$13,MAX(Parámetros!G$7:$P$7),FALSE))","v":""},{"$f":"IF(H144=\"\",\"\",VLOOKUP(H144,Parámetros!H$11:$P$13,MAX(Parámetros!H$7:$P$7),FALSE))","v":""},{"$f":"IF(I144=\"\",\"\",VLOOKUP(I144,Parámetros!I$11:$P$13,MAX(Parámetros!I$7:$P$7),FALSE))","v":""},{"$f":"IF(J144=\"\",\"\",VLOOKUP(J144,Parámetros!J$11:$P$13,MAX(Parámetros!J$7:$P$7),FALSE))","v":""},{"$f":"IF(K144=\"\",\"\",VLOOKUP(K144,Parámetros!K$11:$P$13,MAX(Parámetros!K$7:$P$7),FALSE))","v":""},{"$f":"IF(L144=\"\",\"\",VLOOKUP(L144,Parámetros!L$11:$P$13,MAX(Parámetros!L$7:$P$7),FALSE))","v":""},{"$f":"IF(M144=\"\",\"\",VLOOKUP(M144,Parámetros!M$11:$P$13,MAX(Parámetros!M$7:$P$7),FALSE))","v":""},{"$f":"IF(N144=\"\",\"\",VLOOKUP(N144,Parámetros!N$11:$P$13,MAX(Parámetros!N$7:$P$7),FALSE))","v":""},{"$f":"IF(O144=\"\",\"\",VLOOKUP(O144,Parámetros!O$11:$P$13,MAX(Parámetros!O$7:$P$7),FALSE))","v":""},""]
[null,null,null,{"$f":"IF(E145=\"\",\"\",VLOOKUP(E145,'Buenas prácticas'!$G$8:$H$1007,2,FALSE))","v":""},null,null,null,null,null,null,null,null,null,null,null,{"$f":"IF(F145=\"\",\"\",VLOOKUP(F145,Parámetros!F$11:$P$13,MAX(Parámetros!F$7:$P$7),FALSE))","v":""},{"$f":"IF(G145=\"\",\"\",VLOOKUP(G145,Parámetros!G$11:$P$13,MAX(Parámetros!G$7:$P$7),FALSE))","v":""},{"$f":"IF(H145=\"\",\"\",VLOOKUP(H145,Parámetros!H$11:$P$13,MAX(Parámetros!H$7:$P$7),FALSE))","v":""},{"$f":"IF(I145=\"\",\"\",VLOOKUP(I145,Parámetros!I$11:$P$13,MAX(Parámetros!I$7:$P$7),FALSE))","v":""},{"$f":"IF(J145=\"\",\"\",VLOOKUP(J145,Parámetros!J$11:$P$13,MAX(Parámetros!J$7:$P$7),FALSE))","v":""},{"$f":"IF(K145=\"\",\"\",VLOOKUP(K145,Parámetros!K$11:$P$13,MAX(Parámetros!K$7:$P$7),FALSE))","v":""},{"$f":"IF(L145=\"\",\"\",VLOOKUP(L145,Parámetros!L$11:$P$13,MAX(Parámetros!L$7:$P$7),FALSE))","v":""},{"$f":"IF(M145=\"\",\"\",VLOOKUP(M145,Parámetros!M$11:$P$13,MAX(Parámetros!M$7:$P$7),FALSE))","v":""},{"$f":"IF(N145=\"\",\"\",VLOOKUP(N145,Parámetros!N$11:$P$13,MAX(Parámetros!N$7:$P$7),FALSE))","v":""},{"$f":"IF(O145=\"\",\"\",VLOOKUP(O145,Parámetros!O$11:$P$13,MAX(Parámetros!O$7:$P$7),FALSE))","v":""},""]
[null,null,null,{"$f":"IF(E146=\"\",\"\",VLOOKUP(E146,'Buenas prácticas'!$G$8:$H$1007,2,FALSE))","v":""},null,null,null,null,null,null,null,null,null,null,null,{"$f":"IF(F146=\"\",\"\",VLOOKUP(F146,Parámetros!F$11:$P$13,MAX(Parámetros!F$7:$P$7),FALSE))","v":""},{"$f":"IF(G146=\"\",\"\",VLOOKUP(G146,Parámetros!G$11:$P$13,MAX(Parámetros!G$7:$P$7),FALSE))","v":""},{"$f":"IF(H146=\"\",\"\",VLOOKUP(H146,Parámetros!H$11:$P$13,MAX(Parámetros!H$7:$P$7),FALSE))","v":""},{"$f":"IF(I146=\"\",\"\",VLOOKUP(I146,Parámetros!I$11:$P$13,MAX(Parámetros!I$7:$P$7),FALSE))","v":""},{"$f":"IF(J146=\"\",\"\",VLOOKUP(J146,Parámetros!J$11:$P$13,MAX(Parámetros!J$7:$P$7),FALSE))","v":""},{"$f":"IF(K146=\"\",\"\",VLOOKUP(K146,Parámetros!K$11:$P$13,MAX(Parámetros!K$7:$P$7),FALSE))","v":""},{"$f":"IF(L146=\"\",\"\",VLOOKUP(L146,Parámetros!L$11:$P$13,MAX(Parámetros!L$7:$P$7),FALSE))","v":""},{"$f":"IF(M146=\"\",\"\",VLOOKUP(M146,Parámetros!M$11:$P$13,MAX(Parámetros!M$7:$P$7),FALSE))","v":""},{"$f":"IF(N146=\"\",\"\",VLOOKUP(N146,Parámetros!N$11:$P$13,MAX(Parámetros!N$7:$P$7),FALSE))","v":""},{"$f":"IF(O146=\"\",\"\",VLOOKUP(O146,Parámetros!O$11:$P$13,MAX(Parámetros!O$7:$P$7),FALSE))","v":""},""]
[null,null,null,{"$f":"IF(E147=\"\",\"\",VLOOKUP(E147,'Buenas prácticas'!$G$8:$H$1007,2,FALSE))","v":""},null,null,null,null,null,null,null,null,null,null,null,{"$f":"IF(F147=\"\",\"\",VLOOKUP(F147,Parámetros!F$11:$P$13,MAX(Parámetros!F$7:$P$7),FALSE))","v":""},{"$f":"IF(G147=\"\",\"\",VLOOKUP(G147,Parámetros!G$11:$P$13,MAX(Parámetros!G$7:$P$7),FALSE))","v":""},{"$f":"IF(H147=\"\",\"\",VLOOKUP(H147,Parámetros!H$11:$P$13,MAX(Parámetros!H$7:$P$7),FALSE))","v":""},{"$f":"IF(I147=\"\",\"\",VLOOKUP(I147,Parámetros!I$11:$P$13,MAX(Parámetros!I$7:$P$7),FALSE))","v":""},{"$f":"IF(J147=\"\",\"\",VLOOKUP(J147,Parámetros!J$11:$P$13,MAX(Parámetros!J$7:$P$7),FALSE))","v":""},{"$f":"IF(K147=\"\",\"\",VLOOKUP(K147,Parámetros!K$11:$P$13,MAX(Parámetros!K$7:$P$7),FALSE))","v":""},{"$f":"IF(L147=\"\",\"\",VLOOKUP(L147,Parámetros!L$11:$P$13,MAX(Parámetros!L$7:$P$7),FALSE))","v":""},{"$f":"IF(M147=\"\",\"\",VLOOKUP(M147,Parámetros!M$11:$P$13,MAX(Parámetros!M$7:$P$7),FALSE))","v":""},{"$f":"IF(N147=\"\",\"\",VLOOKUP(N147,Parámetros!N$11:$P$13,MAX(Parámetros!N$7:$P$7),FALSE))","v":""},{"$f":"IF(O147=\"\",\"\",VLOOKUP(O147,Parámetros!O$11:$P$13,MAX(Parámetros!O$7:$P$7),FALSE))","v":""},""]
[null,null,null,{"$f":"IF(E148=\"\",\"\",VLOOKUP(E148,'Buenas prácticas'!$G$8:$H$1007,2,FALSE))","v":""},null,null,null,null,null,null,null,null,null,null,null,{"$f":"IF(F148=\"\",\"\",VLOOKUP(F148,Parámetros!F$11:$P$13,MAX(Parámetros!F$7:$P$7),FALSE))","v":""},{"$f":"IF(G148=\"\",\"\",VLOOKUP(G148,Parámetros!G$11:$P$13,MAX(Parámetros!G$7:$P$7),FALSE))","v":""},{"$f":"IF(H148=\"\",\"\",VLOOKUP(H148,Parámetros!H$11:$P$13,MAX(Parámetros!H$7:$P$7),FALSE))","v":""},{"$f":"IF(I148=\"\",\"\",VLOOKUP(I148,Parámetros!I$11:$P$13,MAX(Parámetros!I$7:$P$7),FALSE))","v":""},{"$f":"IF(J148=\"\",\"\",VLOOKUP(J148,Parámetros!J$11:$P$13,MAX(Parámetros!J$7:$P$7),FALSE))","v":""},{"$f":"IF(K148=\"\",\"\",VLOOKUP(K148,Parámetros!K$11:$P$13,MAX(Parámetros!K$7:$P$7),FALSE))","v":""},{"$f":"IF(L148=\"\",\"\",VLOOKUP(L148,Parámetros!L$11:$P$13,MAX(Parámetros!L$7:$P$7),FALSE))","v":""},{"$f":"IF(M148=\"\",\"\",VLOOKUP(M148,Parámetros!M$11:$P$13,MAX(Parámetros!M$7:$P$7),FALSE))","v":""},{"$f":"IF(N148=\"\",\"\",VLOOKUP(N148,Parámetros!N$11:$P$13,MAX(Parámetros!N$7:$P$7),FALSE))","v":""},{"$f":"IF(O148=\"\",\"\",VLOOKUP(O148,Parámetros!O$11:$P$13,MAX(Parámetros!O$7:$P$7),FALSE))","v":""},""]
[null,null,null,{"$f":"IF(E149=\"\",\"\",VLOOKUP(E149,'Buenas prácticas'!$G$8:$H$1007,2,FALSE))","v":""},null,null,null,null,null,null,null,null,null,null,null,{"$f":"IF(F149=\"\",\"\",VLOOKUP(F149,Parámetros!F$11:$P$13,MAX(Parámetros!F$7:$P$7),FALSE))","v":""},{"$f":"IF(G149=\"\",\"\",VLOOKUP(G149,Parámetros!G$11:$P$13,MAX(Parámetros!G$7:$P$7),FALSE))","v":""},{"$f":"IF(H149=\"\",\"\",VLOOKUP(H149,Parámetros!H$11:$P$13,MAX(Parámetros!H$7:$P$7),FALSE))","v":""},{"$f":"IF(I149=\"\",\"\",VLOOKUP(I149,Parámetros!I$11:$P$13,MAX(Parámetros!I$7:$P$7),FALSE))","v":""},{"$f":"IF(J149=\"\",\"\",VLOOKUP(J149,Parámetros!J$11:$P$13,MAX(Parámetros!J$7:$P$7),FALSE))","v":""},{"$f":"IF(K149=\"\",\"\",VLOOKUP(K149,Parámetros!K$11:$P$13,MAX(Parámetros!K$7:$P$7),FALSE))","v":""},{"$f":"IF(L149=\"\",\"\",VLOOKUP(L149,Parámetros!L$11:$P$13,MAX(Parámetros!L$7:$P$7),FALSE))","v":""},{"$f":"IF(M149=\"\",\"\",VLOOKUP(M149,Parámetros!M$11:$P$13,MAX(Parámetros!M$7:$P$7),FALSE))","v":""},{"$f":"IF(N149=\"\",\"\",VLOOKUP(N149,Parámetros!N$11:$P$13,MAX(Parámetros!N$7:$P$7),FALSE))","v":""},{"$f":"IF(O149=\"\",\"\",VLOOKUP(O149,Parámetros!O$11:$P$13,MAX(Parámetros!O$7:$P$7),FALSE))","v":""},""]
[null,null,null,{"$f":"IF(E150=\"\",\"\",VLOOKUP(E150,'Buenas prácticas'!$G$8:$H$1007,2,FALSE))","v":""},null,null,null,null,null,null,null,null,null,null,null,{"$f":"IF(F150=\"\",\"\",VLOOKUP(F150,Parámetros!F$11:$P$13,MAX(Parámetros!F$7:$P$7),FALSE))","v":""},{"$f":"IF(G150=\"\",\"\",VLOOKUP(G150,Parámetros!G$11:$P$13,MAX(Parámetros!G$7:$P$7),FALSE))","v":""},{"$f":"IF(H150=\"\",\"\",VLOOKUP(H150,Parámetros!H$11:$P$13,MAX(Parámetros!H$7:$P$7),FALSE))","v":""},{"$f":"IF(I150=\"\",\"\",VLOOKUP(I150,Parámetros!I$11:$P$13,MAX(Parámetros!I$7:$P$7),FALSE))","v":""},{"$f":"IF(J150=\"\",\"\",VLOOKUP(J150,Parámetros!J$11:$P$13,MAX(Parámetros!J$7:$P$7),FALSE))","v":""},{"$f":"IF(K150=\"\",\"\",VLOOKUP(K150,Parámetros!K$11:$P$13,MAX(Parámetros!K$7:$P$7),FALSE))","v":""},{"$f":"IF(L150=\"\",\"\",VLOOKUP(L150,Parámetros!L$11:$P$13,MAX(Parámetros!L$7:$P$7),FALSE))","v":""},{"$f":"IF(M150=\"\",\"\",VLOOKUP(M150,Parámetros!M$11:$P$13,MAX(Parámetros!M$7:$P$7),FALSE))","v":""},{"$f":"IF(N150=\"\",\"\",VLOOKUP(N150,Parámetros!N$11:$P$13,MAX(Parámetros!N$7:$P$7),FALSE))","v":""},{"$f":"IF(O150=\"\",\"\",VLOOKUP(O150,Parámetros!O$11:$P$13,MAX(Parámetros!O$7:$P$7),FALSE))","v":""},""]
[null,null,null,{"$f":"IF(E151=\"\",\"\",VLOOKUP(E151,'Buenas prácticas'!$G$8:$H$1007,2,FALSE))","v":""},null,null,null,null,null,null,null,null,null,null,null,{"$f":"IF(F151=\"\",\"\",VLOOKUP(F151,Parámetros!F$11:$P$13,MAX(Parámetros!F$7:$P$7),FALSE))","v":""},{"$f":"IF(G151=\"\",\"\",VLOOKUP(G151,Parámetros!G$11:$P$13,MAX(Parámetros!G$7:$P$7),FALSE))","v":""},{"$f":"IF(H151=\"\",\"\",VLOOKUP(H151,Parámetros!H$11:$P$13,MAX(Parámetros!H$7:$P$7),FALSE))","v":""},{"$f":"IF(I151=\"\",\"\",VLOOKUP(I151,Parámetros!I$11:$P$13,MAX(Parámetros!I$7:$P$7),FALSE))","v":""},{"$f":"IF(J151=\"\",\"\",VLOOKUP(J151,Parámetros!J$11:$P$13,MAX(Parámetros!J$7:$P$7),FALSE))","v":""},{"$f":"IF(K151=\"\",\"\",VLOOKUP(K151,Parámetros!K$11:$P$13,MAX(Parámetros!K$7:$P$7),FALSE))","v":""},{"$f":"IF(L151=\"\",\"\",VLOOKUP(L151,Parámetros!L$11:$P$13,MAX(Parámetros!L$7:$P$7),FALSE))","v":""},{"$f":"IF(M151=\"\",\"\",VLOOKUP(M151,Parámetros!M$11:$P$13,MAX(Parámetros!M$7:$P$7),FALSE))","v":""},{"$f":"IF(N151=\"\",\"\",VLOOKUP(N151,Parámetros!N$11:$P$13,MAX(Parámetros!N$7:$P$7),FALSE))","v":""},{"$f":"IF(O151=\"\",\"\",VLOOKUP(O151,Parámetros!O$11:$P$13,MAX(Parámetros!O$7:$P$7),FALSE))","v":""},""]
[null,null,null,{"$f":"IF(E152=\"\",\"\",VLOOKUP(E152,'Buenas prácticas'!$G$8:$H$1007,2,FALSE))","v":""},null,null,null,null,null,null,null,null,null,null,null,{"$f":"IF(F152=\"\",\"\",VLOOKUP(F152,Parámetros!F$11:$P$13,MAX(Parámetros!F$7:$P$7),FALSE))","v":""},{"$f":"IF(G152=\"\",\"\",VLOOKUP(G152,Parámetros!G$11:$P$13,MAX(Parámetros!G$7:$P$7),FALSE))","v":""},{"$f":"IF(H152=\"\",\"\",VLOOKUP(H152,Parámetros!H$11:$P$13,MAX(Parámetros!H$7:$P$7),FALSE))","v":""},{"$f":"IF(I152=\"\",\"\",VLOOKUP(I152,Parámetros!I$11:$P$13,MAX(Parámetros!I$7:$P$7),FALSE))","v":""},{"$f":"IF(J152=\"\",\"\",VLOOKUP(J152,Parámetros!J$11:$P$13,MAX(Parámetros!J$7:$P$7),FALSE))","v":""},{"$f":"IF(K152=\"\",\"\",VLOOKUP(K152,Parámetros!K$11:$P$13,MAX(Parámetros!K$7:$P$7),FALSE))","v":""},{"$f":"IF(L152=\"\",\"\",VLOOKUP(L152,Parámetros!L$11:$P$13,MAX(Parámetros!L$7:$P$7),FALSE))","v":""},{"$f":"IF(M152=\"\",\"\",VLOOKUP(M152,Parámetros!M$11:$P$13,MAX(Parámetros!M$7:$P$7),FALSE))","v":""},{"$f":"IF(N152=\"\",\"\",VLOOKUP(N152,Parámetros!N$11:$P$13,MAX(Parámetros!N$7:$P$7),FALSE))","v":""},{"$f":"IF(O152=\"\",\"\",VLOOKUP(O152,Parámetros!O$11:$P$13,MAX(Parámetros!O$7:$P$7),FALSE))","v":""},""]
[null,null,null,{"$f":"IF(E153=\"\",\"\",VLOOKUP(E153,'Buenas prácticas'!$G$8:$H$1007,2,FALSE))","v":""},null,null,null,null,null,null,null,null,null,null,null,{"$f":"IF(F153=\"\",\"\",VLOOKUP(F153,Parámetros!F$11:$P$13,MAX(Parámetros!F$7:$P$7),FALSE))","v":""},{"$f":"IF(G153=\"\",\"\",VLOOKUP(G153,Parámetros!G$11:$P$13,MAX(Parámetros!G$7:$P$7),FALSE))","v":""},{"$f":"IF(H153=\"\",\"\",VLOOKUP(H153,Parámetros!H$11:$P$13,MAX(Parámetros!H$7:$P$7),FALSE))","v":""},{"$f":"IF(I153=\"\",\"\",VLOOKUP(I153,Parámetros!I$11:$P$13,MAX(Parámetros!I$7:$P$7),FALSE))","v":""},{"$f":"IF(J153=\"\",\"\",VLOOKUP(J153,Parámetros!J$11:$P$13,MAX(Parámetros!J$7:$P$7),FALSE))","v":""},{"$f":"IF(K153=\"\",\"\",VLOOKUP(K153,Parámetros!K$11:$P$13,MAX(Parámetros!K$7:$P$7),FALSE))","v":""},{"$f":"IF(L153=\"\",\"\",VLOOKUP(L153,Parámetros!L$11:$P$13,MAX(Parámetros!L$7:$P$7),FALSE))","v":""},{"$f":"IF(M153=\"\",\"\",VLOOKUP(M153,Parámetros!M$11:$P$13,MAX(Parámetros!M$7:$P$7),FALSE))","v":""},{"$f":"IF(N153=\"\",\"\",VLOOKUP(N153,Parámetros!N$11:$P$13,MAX(Parámetros!N$7:$P$7),FALSE))","v":""},{"$f":"IF(O153=\"\",\"\",VLOOKUP(O153,Parámetros!O$11:$P$13,MAX(Parámetros!O$7:$P$7),FALSE))","v":""},""]
[null,null,null,{"$f":"IF(E154=\"\",\"\",VLOOKUP(E154,'Buenas prácticas'!$G$8:$H$1007,2,FALSE))","v":""},null,null,null,null,null,null,null,null,null,null,null,{"$f":"IF(F154=\"\",\"\",VLOOKUP(F154,Parámetros!F$11:$P$13,MAX(Parámetros!F$7:$P$7),FALSE))","v":""},{"$f":"IF(G154=\"\",\"\",VLOOKUP(G154,Parámetros!G$11:$P$13,MAX(Parámetros!G$7:$P$7),FALSE))","v":""},{"$f":"IF(H154=\"\",\"\",VLOOKUP(H154,Parámetros!H$11:$P$13,MAX(Parámetros!H$7:$P$7),FALSE))","v":""},{"$f":"IF(I154=\"\",\"\",VLOOKUP(I154,Parámetros!I$11:$P$13,MAX(Parámetros!I$7:$P$7),FALSE))","v":""},{"$f":"IF(J154=\"\",\"\",VLOOKUP(J154,Parámetros!J$11:$P$13,MAX(Parámetros!J$7:$P$7),FALSE))","v":""},{"$f":"IF(K154=\"\",\"\",VLOOKUP(K154,Parámetros!K$11:$P$13,MAX(Parámetros!K$7:$P$7),FALSE))","v":""},{"$f":"IF(L154=\"\",\"\",VLOOKUP(L154,Parámetros!L$11:$P$13,MAX(Parámetros!L$7:$P$7),FALSE))","v":""},{"$f":"IF(M154=\"\",\"\",VLOOKUP(M154,Parámetros!M$11:$P$13,MAX(Parámetros!M$7:$P$7),FALSE))","v":""},{"$f":"IF(N154=\"\",\"\",VLOOKUP(N154,Parámetros!N$11:$P$13,MAX(Parámetros!N$7:$P$7),FALSE))","v":""},{"$f":"IF(O154=\"\",\"\",VLOOKUP(O154,Parámetros!O$11:$P$13,MAX(Parámetros!O$7:$P$7),FALSE))","v":""},""]
[null,null,null,{"$f":"IF(E155=\"\",\"\",VLOOKUP(E155,'Buenas prácticas'!$G$8:$H$1007,2,FALSE))","v":""},null,null,null,null,null,null,null,null,null,null,null,{"$f":"IF(F155=\"\",\"\",VLOOKUP(F155,Parámetros!F$11:$P$13,MAX(Parámetros!F$7:$P$7),FALSE))","v":""},{"$f":"IF(G155=\"\",\"\",VLOOKUP(G155,Parámetros!G$11:$P$13,MAX(Parámetros!G$7:$P$7),FALSE))","v":""},{"$f":"IF(H155=\"\",\"\",VLOOKUP(H155,Parámetros!H$11:$P$13,MAX(Parámetros!H$7:$P$7),FALSE))","v":""},{"$f":"IF(I155=\"\",\"\",VLOOKUP(I155,Parámetros!I$11:$P$13,MAX(Parámetros!I$7:$P$7),FALSE))","v":""},{"$f":"IF(J155=\"\",\"\",VLOOKUP(J155,Parámetros!J$11:$P$13,MAX(Parámetros!J$7:$P$7),FALSE))","v":""},{"$f":"IF(K155=\"\",\"\",VLOOKUP(K155,Parámetros!K$11:$P$13,MAX(Parámetros!K$7:$P$7),FALSE))","v":""},{"$f":"IF(L155=\"\",\"\",VLOOKUP(L155,Parámetros!L$11:$P$13,MAX(Parámetros!L$7:$P$7),FALSE))","v":""},{"$f":"IF(M155=\"\",\"\",VLOOKUP(M155,Parámetros!M$11:$P$13,MAX(Parámetros!M$7:$P$7),FALSE))","v":""},{"$f":"IF(N155=\"\",\"\",VLOOKUP(N155,Parámetros!N$11:$P$13,MAX(Parámetros!N$7:$P$7),FALSE))","v":""},{"$f":"IF(O155=\"\",\"\",VLOOKUP(O155,Parámetros!O$11:$P$13,MAX(Parámetros!O$7:$P$7),FALSE))","v":""},""]
[null,null,null,{"$f":"IF(E156=\"\",\"\",VLOOKUP(E156,'Buenas prácticas'!$G$8:$H$1007,2,FALSE))","v":""},null,null,null,null,null,null,null,null,null,null,null,{"$f":"IF(F156=\"\",\"\",VLOOKUP(F156,Parámetros!F$11:$P$13,MAX(Parámetros!F$7:$P$7),FALSE))","v":""},{"$f":"IF(G156=\"\",\"\",VLOOKUP(G156,Parámetros!G$11:$P$13,MAX(Parámetros!G$7:$P$7),FALSE))","v":""},{"$f":"IF(H156=\"\",\"\",VLOOKUP(H156,Parámetros!H$11:$P$13,MAX(Parámetros!H$7:$P$7),FALSE))","v":""},{"$f":"IF(I156=\"\",\"\",VLOOKUP(I156,Parámetros!I$11:$P$13,MAX(Parámetros!I$7:$P$7),FALSE))","v":""},{"$f":"IF(J156=\"\",\"\",VLOOKUP(J156,Parámetros!J$11:$P$13,MAX(Parámetros!J$7:$P$7),FALSE))","v":""},{"$f":"IF(K156=\"\",\"\",VLOOKUP(K156,Parámetros!K$11:$P$13,MAX(Parámetros!K$7:$P$7),FALSE))","v":""},{"$f":"IF(L156=\"\",\"\",VLOOKUP(L156,Parámetros!L$11:$P$13,MAX(Parámetros!L$7:$P$7),FALSE))","v":""},{"$f":"IF(M156=\"\",\"\",VLOOKUP(M156,Parámetros!M$11:$P$13,MAX(Parámetros!M$7:$P$7),FALSE))","v":""},{"$f":"IF(N156=\"\",\"\",VLOOKUP(N156,Parámetros!N$11:$P$13,MAX(Parámetros!N$7:$P$7),FALSE))","v":""},{"$f":"IF(O156=\"\",\"\",VLOOKUP(O156,Parámetros!O$11:$P$13,MAX(Parámetros!O$7:$P$7),FALSE))","v":""},""]
[null,null,null,{"$f":"IF(E157=\"\",\"\",VLOOKUP(E157,'Buenas prácticas'!$G$8:$H$1007,2,FALSE))","v":""},null,null,null,null,null,null,null,null,null,null,null,{"$f":"IF(F157=\"\",\"\",VLOOKUP(F157,Parámetros!F$11:$P$13,MAX(Parámetros!F$7:$P$7),FALSE))","v":""},{"$f":"IF(G157=\"\",\"\",VLOOKUP(G157,Parámetros!G$11:$P$13,MAX(Parámetros!G$7:$P$7),FALSE))","v":""},{"$f":"IF(H157=\"\",\"\",VLOOKUP(H157,Parámetros!H$11:$P$13,MAX(Parámetros!H$7:$P$7),FALSE))","v":""},{"$f":"IF(I157=\"\",\"\",VLOOKUP(I157,Parámetros!I$11:$P$13,MAX(Parámetros!I$7:$P$7),FALSE))","v":""},{"$f":"IF(J157=\"\",\"\",VLOOKUP(J157,Parámetros!J$11:$P$13,MAX(Parámetros!J$7:$P$7),FALSE))","v":""},{"$f":"IF(K157=\"\",\"\",VLOOKUP(K157,Parámetros!K$11:$P$13,MAX(Parámetros!K$7:$P$7),FALSE))","v":""},{"$f":"IF(L157=\"\",\"\",VLOOKUP(L157,Parámetros!L$11:$P$13,MAX(Parámetros!L$7:$P$7),FALSE))","v":""},{"$f":"IF(M157=\"\",\"\",VLOOKUP(M157,Parámetros!M$11:$P$13,MAX(Parámetros!M$7:$P$7),FALSE))","v":""},{"$f":"IF(N157=\"\",\"\",VLOOKUP(N157,Parámetros!N$11:$P$13,MAX(Parámetros!N$7:$P$7),FALSE))","v":""},{"$f":"IF(O157=\"\",\"\",VLOOKUP(O157,Parámetros!O$11:$P$13,MAX(Parámetros!O$7:$P$7),FALSE))","v":""},""]
[null,null,null,{"$f":"IF(E158=\"\",\"\",VLOOKUP(E158,'Buenas prácticas'!$G$8:$H$1007,2,FALSE))","v":""},null,null,null,null,null,null,null,null,null,null,null,{"$f":"IF(F158=\"\",\"\",VLOOKUP(F158,Parámetros!F$11:$P$13,MAX(Parámetros!F$7:$P$7),FALSE))","v":""},{"$f":"IF(G158=\"\",\"\",VLOOKUP(G158,Parámetros!G$11:$P$13,MAX(Parámetros!G$7:$P$7),FALSE))","v":""},{"$f":"IF(H158=\"\",\"\",VLOOKUP(H158,Parámetros!H$11:$P$13,MAX(Parámetros!H$7:$P$7),FALSE))","v":""},{"$f":"IF(I158=\"\",\"\",VLOOKUP(I158,Parámetros!I$11:$P$13,MAX(Parámetros!I$7:$P$7),FALSE))","v":""},{"$f":"IF(J158=\"\",\"\",VLOOKUP(J158,Parámetros!J$11:$P$13,MAX(Parámetros!J$7:$P$7),FALSE))","v":""},{"$f":"IF(K158=\"\",\"\",VLOOKUP(K158,Parámetros!K$11:$P$13,MAX(Parámetros!K$7:$P$7),FALSE))","v":""},{"$f":"IF(L158=\"\",\"\",VLOOKUP(L158,Parámetros!L$11:$P$13,MAX(Parámetros!L$7:$P$7),FALSE))","v":""},{"$f":"IF(M158=\"\",\"\",VLOOKUP(M158,Parámetros!M$11:$P$13,MAX(Parámetros!M$7:$P$7),FALSE))","v":""},{"$f":"IF(N158=\"\",\"\",VLOOKUP(N158,Parámetros!N$11:$P$13,MAX(Parámetros!N$7:$P$7),FALSE))","v":""},{"$f":"IF(O158=\"\",\"\",VLOOKUP(O158,Parámetros!O$11:$P$13,MAX(Parámetros!O$7:$P$7),FALSE))","v":""},""]
[null,null,null,{"$f":"IF(E159=\"\",\"\",VLOOKUP(E159,'Buenas prácticas'!$G$8:$H$1007,2,FALSE))","v":""},null,null,null,null,null,null,null,null,null,null,null,{"$f":"IF(F159=\"\",\"\",VLOOKUP(F159,Parámetros!F$11:$P$13,MAX(Parámetros!F$7:$P$7),FALSE))","v":""},{"$f":"IF(G159=\"\",\"\",VLOOKUP(G159,Parámetros!G$11:$P$13,MAX(Parámetros!G$7:$P$7),FALSE))","v":""},{"$f":"IF(H159=\"\",\"\",VLOOKUP(H159,Parámetros!H$11:$P$13,MAX(Parámetros!H$7:$P$7),FALSE))","v":""},{"$f":"IF(I159=\"\",\"\",VLOOKUP(I159,Parámetros!I$11:$P$13,MAX(Parámetros!I$7:$P$7),FALSE))","v":""},{"$f":"IF(J159=\"\",\"\",VLOOKUP(J159,Parámetros!J$11:$P$13,MAX(Parámetros!J$7:$P$7),FALSE))","v":""},{"$f":"IF(K159=\"\",\"\",VLOOKUP(K159,Parámetros!K$11:$P$13,MAX(Parámetros!K$7:$P$7),FALSE))","v":""},{"$f":"IF(L159=\"\",\"\",VLOOKUP(L159,Parámetros!L$11:$P$13,MAX(Parámetros!L$7:$P$7),FALSE))","v":""},{"$f":"IF(M159=\"\",\"\",VLOOKUP(M159,Parámetros!M$11:$P$13,MAX(Parámetros!M$7:$P$7),FALSE))","v":""},{"$f":"IF(N159=\"\",\"\",VLOOKUP(N159,Parámetros!N$11:$P$13,MAX(Parámetros!N$7:$P$7),FALSE))","v":""},{"$f":"IF(O159=\"\",\"\",VLOOKUP(O159,Parámetros!O$11:$P$13,MAX(Parámetros!O$7:$P$7),FALSE))","v":""},""]
[null,null,null,{"$f":"IF(E160=\"\",\"\",VLOOKUP(E160,'Buenas prácticas'!$G$8:$H$1007,2,FALSE))","v":""},null,null,null,null,null,null,null,null,null,null,null,{"$f":"IF(F160=\"\",\"\",VLOOKUP(F160,Parámetros!F$11:$P$13,MAX(Parámetros!F$7:$P$7),FALSE))","v":""},{"$f":"IF(G160=\"\",\"\",VLOOKUP(G160,Parámetros!G$11:$P$13,MAX(Parámetros!G$7:$P$7),FALSE))","v":""},{"$f":"IF(H160=\"\",\"\",VLOOKUP(H160,Parámetros!H$11:$P$13,MAX(Parámetros!H$7:$P$7),FALSE))","v":""},{"$f":"IF(I160=\"\",\"\",VLOOKUP(I160,Parámetros!I$11:$P$13,MAX(Parámetros!I$7:$P$7),FALSE))","v":""},{"$f":"IF(J160=\"\",\"\",VLOOKUP(J160,Parámetros!J$11:$P$13,MAX(Parámetros!J$7:$P$7),FALSE))","v":""},{"$f":"IF(K160=\"\",\"\",VLOOKUP(K160,Parámetros!K$11:$P$13,MAX(Parámetros!K$7:$P$7),FALSE))","v":""},{"$f":"IF(L160=\"\",\"\",VLOOKUP(L160,Parámetros!L$11:$P$13,MAX(Parámetros!L$7:$P$7),FALSE))","v":""},{"$f":"IF(M160=\"\",\"\",VLOOKUP(M160,Parámetros!M$11:$P$13,MAX(Parámetros!M$7:$P$7),FALSE))","v":""},{"$f":"IF(N160=\"\",\"\",VLOOKUP(N160,Parámetros!N$11:$P$13,MAX(Parámetros!N$7:$P$7),FALSE))","v":""},{"$f":"IF(O160=\"\",\"\",VLOOKUP(O160,Parámetros!O$11:$P$13,MAX(Parámetros!O$7:$P$7),FALSE))","v":""},""]
[null,null,null,{"$f":"IF(E161=\"\",\"\",VLOOKUP(E161,'Buenas prácticas'!$G$8:$H$1007,2,FALSE))","v":""},null,null,null,null,null,null,null,null,null,null,null,{"$f":"IF(F161=\"\",\"\",VLOOKUP(F161,Parámetros!F$11:$P$13,MAX(Parámetros!F$7:$P$7),FALSE))","v":""},{"$f":"IF(G161=\"\",\"\",VLOOKUP(G161,Parámetros!G$11:$P$13,MAX(Parámetros!G$7:$P$7),FALSE))","v":""},{"$f":"IF(H161=\"\",\"\",VLOOKUP(H161,Parámetros!H$11:$P$13,MAX(Parámetros!H$7:$P$7),FALSE))","v":""},{"$f":"IF(I161=\"\",\"\",VLOOKUP(I161,Parámetros!I$11:$P$13,MAX(Parámetros!I$7:$P$7),FALSE))","v":""},{"$f":"IF(J161=\"\",\"\",VLOOKUP(J161,Parámetros!J$11:$P$13,MAX(Parámetros!J$7:$P$7),FALSE))","v":""},{"$f":"IF(K161=\"\",\"\",VLOOKUP(K161,Parámetros!K$11:$P$13,MAX(Parámetros!K$7:$P$7),FALSE))","v":""},{"$f":"IF(L161=\"\",\"\",VLOOKUP(L161,Parámetros!L$11:$P$13,MAX(Parámetros!L$7:$P$7),FALSE))","v":""},{"$f":"IF(M161=\"\",\"\",VLOOKUP(M161,Parámetros!M$11:$P$13,MAX(Parámetros!M$7:$P$7),FALSE))","v":""},{"$f":"IF(N161=\"\",\"\",VLOOKUP(N161,Parámetros!N$11:$P$13,MAX(Parámetros!N$7:$P$7),FALSE))","v":""},{"$f":"IF(O161=\"\",\"\",VLOOKUP(O161,Parámetros!O$11:$P$13,MAX(Parámetros!O$7:$P$7),FALSE))","v":""},""]
[null,null,null,{"$f":"IF(E162=\"\",\"\",VLOOKUP(E162,'Buenas prácticas'!$G$8:$H$1007,2,FALSE))","v":""},null,null,null,null,null,null,null,null,null,null,null,{"$f":"IF(F162=\"\",\"\",VLOOKUP(F162,Parámetros!F$11:$P$13,MAX(Parámetros!F$7:$P$7),FALSE))","v":""},{"$f":"IF(G162=\"\",\"\",VLOOKUP(G162,Parámetros!G$11:$P$13,MAX(Parámetros!G$7:$P$7),FALSE))","v":""},{"$f":"IF(H162=\"\",\"\",VLOOKUP(H162,Parámetros!H$11:$P$13,MAX(Parámetros!H$7:$P$7),FALSE))","v":""},{"$f":"IF(I162=\"\",\"\",VLOOKUP(I162,Parámetros!I$11:$P$13,MAX(Parámetros!I$7:$P$7),FALSE))","v":""},{"$f":"IF(J162=\"\",\"\",VLOOKUP(J162,Parámetros!J$11:$P$13,MAX(Parámetros!J$7:$P$7),FALSE))","v":""},{"$f":"IF(K162=\"\",\"\",VLOOKUP(K162,Parámetros!K$11:$P$13,MAX(Parámetros!K$7:$P$7),FALSE))","v":""},{"$f":"IF(L162=\"\",\"\",VLOOKUP(L162,Parámetros!L$11:$P$13,MAX(Parámetros!L$7:$P$7),FALSE))","v":""},{"$f":"IF(M162=\"\",\"\",VLOOKUP(M162,Parámetros!M$11:$P$13,MAX(Parámetros!M$7:$P$7),FALSE))","v":""},{"$f":"IF(N162=\"\",\"\",VLOOKUP(N162,Parámetros!N$11:$P$13,MAX(Parámetros!N$7:$P$7),FALSE))","v":""},{"$f":"IF(O162=\"\",\"\",VLOOKUP(O162,Parámetros!O$11:$P$13,MAX(Parámetros!O$7:$P$7),FALSE))","v":""},""]
[null,null,null,{"$f":"IF(E163=\"\",\"\",VLOOKUP(E163,'Buenas prácticas'!$G$8:$H$1007,2,FALSE))","v":""},null,null,null,null,null,null,null,null,null,null,null,{"$f":"IF(F163=\"\",\"\",VLOOKUP(F163,Parámetros!F$11:$P$13,MAX(Parámetros!F$7:$P$7),FALSE))","v":""},{"$f":"IF(G163=\"\",\"\",VLOOKUP(G163,Parámetros!G$11:$P$13,MAX(Parámetros!G$7:$P$7),FALSE))","v":""},{"$f":"IF(H163=\"\",\"\",VLOOKUP(H163,Parámetros!H$11:$P$13,MAX(Parámetros!H$7:$P$7),FALSE))","v":""},{"$f":"IF(I163=\"\",\"\",VLOOKUP(I163,Parámetros!I$11:$P$13,MAX(Parámetros!I$7:$P$7),FALSE))","v":""},{"$f":"IF(J163=\"\",\"\",VLOOKUP(J163,Parámetros!J$11:$P$13,MAX(Parámetros!J$7:$P$7),FALSE))","v":""},{"$f":"IF(K163=\"\",\"\",VLOOKUP(K163,Parámetros!K$11:$P$13,MAX(Parámetros!K$7:$P$7),FALSE))","v":""},{"$f":"IF(L163=\"\",\"\",VLOOKUP(L163,Parámetros!L$11:$P$13,MAX(Parámetros!L$7:$P$7),FALSE))","v":""},{"$f":"IF(M163=\"\",\"\",VLOOKUP(M163,Parámetros!M$11:$P$13,MAX(Parámetros!M$7:$P$7),FALSE))","v":""},{"$f":"IF(N163=\"\",\"\",VLOOKUP(N163,Parámetros!N$11:$P$13,MAX(Parámetros!N$7:$P$7),FALSE))","v":""},{"$f":"IF(O163=\"\",\"\",VLOOKUP(O163,Parámetros!O$11:$P$13,MAX(Parámetros!O$7:$P$7),FALSE))","v":""},""]
[null,null,null,{"$f":"IF(E164=\"\",\"\",VLOOKUP(E164,'Buenas prácticas'!$G$8:$H$1007,2,FALSE))","v":""},null,null,null,null,null,null,null,null,null,null,null,{"$f":"IF(F164=\"\",\"\",VLOOKUP(F164,Parámetros!F$11:$P$13,MAX(Parámetros!F$7:$P$7),FALSE))","v":""},{"$f":"IF(G164=\"\",\"\",VLOOKUP(G164,Parámetros!G$11:$P$13,MAX(Parámetros!G$7:$P$7),FALSE))","v":""},{"$f":"IF(H164=\"\",\"\",VLOOKUP(H164,Parámetros!H$11:$P$13,MAX(Parámetros!H$7:$P$7),FALSE))","v":""},{"$f":"IF(I164=\"\",\"\",VLOOKUP(I164,Parámetros!I$11:$P$13,MAX(Parámetros!I$7:$P$7),FALSE))","v":""},{"$f":"IF(J164=\"\",\"\",VLOOKUP(J164,Parámetros!J$11:$P$13,MAX(Parámetros!J$7:$P$7),FALSE))","v":""},{"$f":"IF(K164=\"\",\"\",VLOOKUP(K164,Parámetros!K$11:$P$13,MAX(Parámetros!K$7:$P$7),FALSE))","v":""},{"$f":"IF(L164=\"\",\"\",VLOOKUP(L164,Parámetros!L$11:$P$13,MAX(Parámetros!L$7:$P$7),FALSE))","v":""},{"$f":"IF(M164=\"\",\"\",VLOOKUP(M164,Parámetros!M$11:$P$13,MAX(Parámetros!M$7:$P$7),FALSE))","v":""},{"$f":"IF(N164=\"\",\"\",VLOOKUP(N164,Parámetros!N$11:$P$13,MAX(Parámetros!N$7:$P$7),FALSE))","v":""},{"$f":"IF(O164=\"\",\"\",VLOOKUP(O164,Parámetros!O$11:$P$13,MAX(Parámetros!O$7:$P$7),FALSE))","v":""},""]
[null,null,null,{"$f":"IF(E165=\"\",\"\",VLOOKUP(E165,'Buenas prácticas'!$G$8:$H$1007,2,FALSE))","v":""},null,null,null,null,null,null,null,null,null,null,null,{"$f":"IF(F165=\"\",\"\",VLOOKUP(F165,Parámetros!F$11:$P$13,MAX(Parámetros!F$7:$P$7),FALSE))","v":""},{"$f":"IF(G165=\"\",\"\",VLOOKUP(G165,Parámetros!G$11:$P$13,MAX(Parámetros!G$7:$P$7),FALSE))","v":""},{"$f":"IF(H165=\"\",\"\",VLOOKUP(H165,Parámetros!H$11:$P$13,MAX(Parámetros!H$7:$P$7),FALSE))","v":""},{"$f":"IF(I165=\"\",\"\",VLOOKUP(I165,Parámetros!I$11:$P$13,MAX(Parámetros!I$7:$P$7),FALSE))","v":""},{"$f":"IF(J165=\"\",\"\",VLOOKUP(J165,Parámetros!J$11:$P$13,MAX(Parámetros!J$7:$P$7),FALSE))","v":""},{"$f":"IF(K165=\"\",\"\",VLOOKUP(K165,Parámetros!K$11:$P$13,MAX(Parámetros!K$7:$P$7),FALSE))","v":""},{"$f":"IF(L165=\"\",\"\",VLOOKUP(L165,Parámetros!L$11:$P$13,MAX(Parámetros!L$7:$P$7),FALSE))","v":""},{"$f":"IF(M165=\"\",\"\",VLOOKUP(M165,Parámetros!M$11:$P$13,MAX(Parámetros!M$7:$P$7),FALSE))","v":""},{"$f":"IF(N165=\"\",\"\",VLOOKUP(N165,Parámetros!N$11:$P$13,MAX(Parámetros!N$7:$P$7),FALSE))","v":""},{"$f":"IF(O165=\"\",\"\",VLOOKUP(O165,Parámetros!O$11:$P$13,MAX(Parámetros!O$7:$P$7),FALSE))","v":""},""]
[null,null,null,{"$f":"IF(E166=\"\",\"\",VLOOKUP(E166,'Buenas prácticas'!$G$8:$H$1007,2,FALSE))","v":""},null,null,null,null,null,null,null,null,null,null,null,{"$f":"IF(F166=\"\",\"\",VLOOKUP(F166,Parámetros!F$11:$P$13,MAX(Parámetros!F$7:$P$7),FALSE))","v":""},{"$f":"IF(G166=\"\",\"\",VLOOKUP(G166,Parámetros!G$11:$P$13,MAX(Parámetros!G$7:$P$7),FALSE))","v":""},{"$f":"IF(H166=\"\",\"\",VLOOKUP(H166,Parámetros!H$11:$P$13,MAX(Parámetros!H$7:$P$7),FALSE))","v":""},{"$f":"IF(I166=\"\",\"\",VLOOKUP(I166,Parámetros!I$11:$P$13,MAX(Parámetros!I$7:$P$7),FALSE))","v":""},{"$f":"IF(J166=\"\",\"\",VLOOKUP(J166,Parámetros!J$11:$P$13,MAX(Parámetros!J$7:$P$7),FALSE))","v":""},{"$f":"IF(K166=\"\",\"\",VLOOKUP(K166,Parámetros!K$11:$P$13,MAX(Parámetros!K$7:$P$7),FALSE))","v":""},{"$f":"IF(L166=\"\",\"\",VLOOKUP(L166,Parámetros!L$11:$P$13,MAX(Parámetros!L$7:$P$7),FALSE))","v":""},{"$f":"IF(M166=\"\",\"\",VLOOKUP(M166,Parámetros!M$11:$P$13,MAX(Parámetros!M$7:$P$7),FALSE))","v":""},{"$f":"IF(N166=\"\",\"\",VLOOKUP(N166,Parámetros!N$11:$P$13,MAX(Parámetros!N$7:$P$7),FALSE))","v":""},{"$f":"IF(O166=\"\",\"\",VLOOKUP(O166,Parámetros!O$11:$P$13,MAX(Parámetros!O$7:$P$7),FALSE))","v":""},""]
[null,null,null,{"$f":"IF(E167=\"\",\"\",VLOOKUP(E167,'Buenas prácticas'!$G$8:$H$1007,2,FALSE))","v":""},null,null,null,null,null,null,null,null,null,null,null,{"$f":"IF(F167=\"\",\"\",VLOOKUP(F167,Parámetros!F$11:$P$13,MAX(Parámetros!F$7:$P$7),FALSE))","v":""},{"$f":"IF(G167=\"\",\"\",VLOOKUP(G167,Parámetros!G$11:$P$13,MAX(Parámetros!G$7:$P$7),FALSE))","v":""},{"$f":"IF(H167=\"\",\"\",VLOOKUP(H167,Parámetros!H$11:$P$13,MAX(Parámetros!H$7:$P$7),FALSE))","v":""},{"$f":"IF(I167=\"\",\"\",VLOOKUP(I167,Parámetros!I$11:$P$13,MAX(Parámetros!I$7:$P$7),FALSE))","v":""},{"$f":"IF(J167=\"\",\"\",VLOOKUP(J167,Parámetros!J$11:$P$13,MAX(Parámetros!J$7:$P$7),FALSE))","v":""},{"$f":"IF(K167=\"\",\"\",VLOOKUP(K167,Parámetros!K$11:$P$13,MAX(Parámetros!K$7:$P$7),FALSE))","v":""},{"$f":"IF(L167=\"\",\"\",VLOOKUP(L167,Parámetros!L$11:$P$13,MAX(Parámetros!L$7:$P$7),FALSE))","v":""},{"$f":"IF(M167=\"\",\"\",VLOOKUP(M167,Parámetros!M$11:$P$13,MAX(Parámetros!M$7:$P$7),FALSE))","v":""},{"$f":"IF(N167=\"\",\"\",VLOOKUP(N167,Parámetros!N$11:$P$13,MAX(Parámetros!N$7:$P$7),FALSE))","v":""},{"$f":"IF(O167=\"\",\"\",VLOOKUP(O167,Parámetros!O$11:$P$13,MAX(Parámetros!O$7:$P$7),FALSE))","v":""},""]
[null,null,null,{"$f":"IF(E168=\"\",\"\",VLOOKUP(E168,'Buenas prácticas'!$G$8:$H$1007,2,FALSE))","v":""},null,null,null,null,null,null,null,null,null,null,null,{"$f":"IF(F168=\"\",\"\",VLOOKUP(F168,Parámetros!F$11:$P$13,MAX(Parámetros!F$7:$P$7),FALSE))","v":""},{"$f":"IF(G168=\"\",\"\",VLOOKUP(G168,Parámetros!G$11:$P$13,MAX(Parámetros!G$7:$P$7),FALSE))","v":""},{"$f":"IF(H168=\"\",\"\",VLOOKUP(H168,Parámetros!H$11:$P$13,MAX(Parámetros!H$7:$P$7),FALSE))","v":""},{"$f":"IF(I168=\"\",\"\",VLOOKUP(I168,Parámetros!I$11:$P$13,MAX(Parámetros!I$7:$P$7),FALSE))","v":""},{"$f":"IF(J168=\"\",\"\",VLOOKUP(J168,Parámetros!J$11:$P$13,MAX(Parámetros!J$7:$P$7),FALSE))","v":""},{"$f":"IF(K168=\"\",\"\",VLOOKUP(K168,Parámetros!K$11:$P$13,MAX(Parámetros!K$7:$P$7),FALSE))","v":""},{"$f":"IF(L168=\"\",\"\",VLOOKUP(L168,Parámetros!L$11:$P$13,MAX(Parámetros!L$7:$P$7),FALSE))","v":""},{"$f":"IF(M168=\"\",\"\",VLOOKUP(M168,Parámetros!M$11:$P$13,MAX(Parámetros!M$7:$P$7),FALSE))","v":""},{"$f":"IF(N168=\"\",\"\",VLOOKUP(N168,Parámetros!N$11:$P$13,MAX(Parámetros!N$7:$P$7),FALSE))","v":""},{"$f":"IF(O168=\"\",\"\",VLOOKUP(O168,Parámetros!O$11:$P$13,MAX(Parámetros!O$7:$P$7),FALSE))","v":""},""]
[null,null,null,{"$f":"IF(E169=\"\",\"\",VLOOKUP(E169,'Buenas prácticas'!$G$8:$H$1007,2,FALSE))","v":""},null,null,null,null,null,null,null,null,null,null,null,{"$f":"IF(F169=\"\",\"\",VLOOKUP(F169,Parámetros!F$11:$P$13,MAX(Parámetros!F$7:$P$7),FALSE))","v":""},{"$f":"IF(G169=\"\",\"\",VLOOKUP(G169,Parámetros!G$11:$P$13,MAX(Parámetros!G$7:$P$7),FALSE))","v":""},{"$f":"IF(H169=\"\",\"\",VLOOKUP(H169,Parámetros!H$11:$P$13,MAX(Parámetros!H$7:$P$7),FALSE))","v":""},{"$f":"IF(I169=\"\",\"\",VLOOKUP(I169,Parámetros!I$11:$P$13,MAX(Parámetros!I$7:$P$7),FALSE))","v":""},{"$f":"IF(J169=\"\",\"\",VLOOKUP(J169,Parámetros!J$11:$P$13,MAX(Parámetros!J$7:$P$7),FALSE))","v":""},{"$f":"IF(K169=\"\",\"\",VLOOKUP(K169,Parámetros!K$11:$P$13,MAX(Parámetros!K$7:$P$7),FALSE))","v":""},{"$f":"IF(L169=\"\",\"\",VLOOKUP(L169,Parámetros!L$11:$P$13,MAX(Parámetros!L$7:$P$7),FALSE))","v":""},{"$f":"IF(M169=\"\",\"\",VLOOKUP(M169,Parámetros!M$11:$P$13,MAX(Parámetros!M$7:$P$7),FALSE))","v":""},{"$f":"IF(N169=\"\",\"\",VLOOKUP(N169,Parámetros!N$11:$P$13,MAX(Parámetros!N$7:$P$7),FALSE))","v":""},{"$f":"IF(O169=\"\",\"\",VLOOKUP(O169,Parámetros!O$11:$P$13,MAX(Parámetros!O$7:$P$7),FALSE))","v":""},""]
[null,null,null,{"$f":"IF(E170=\"\",\"\",VLOOKUP(E170,'Buenas prácticas'!$G$8:$H$1007,2,FALSE))","v":""},null,null,null,null,null,null,null,null,null,null,null,{"$f":"IF(F170=\"\",\"\",VLOOKUP(F170,Parámetros!F$11:$P$13,MAX(Parámetros!F$7:$P$7),FALSE))","v":""},{"$f":"IF(G170=\"\",\"\",VLOOKUP(G170,Parámetros!G$11:$P$13,MAX(Parámetros!G$7:$P$7),FALSE))","v":""},{"$f":"IF(H170=\"\",\"\",VLOOKUP(H170,Parámetros!H$11:$P$13,MAX(Parámetros!H$7:$P$7),FALSE))","v":""},{"$f":"IF(I170=\"\",\"\",VLOOKUP(I170,Parámetros!I$11:$P$13,MAX(Parámetros!I$7:$P$7),FALSE))","v":""},{"$f":"IF(J170=\"\",\"\",VLOOKUP(J170,Parámetros!J$11:$P$13,MAX(Parámetros!J$7:$P$7),FALSE))","v":""},{"$f":"IF(K170=\"\",\"\",VLOOKUP(K170,Parámetros!K$11:$P$13,MAX(Parámetros!K$7:$P$7),FALSE))","v":""},{"$f":"IF(L170=\"\",\"\",VLOOKUP(L170,Parámetros!L$11:$P$13,MAX(Parámetros!L$7:$P$7),FALSE))","v":""},{"$f":"IF(M170=\"\",\"\",VLOOKUP(M170,Parámetros!M$11:$P$13,MAX(Parámetros!M$7:$P$7),FALSE))","v":""},{"$f":"IF(N170=\"\",\"\",VLOOKUP(N170,Parámetros!N$11:$P$13,MAX(Parámetros!N$7:$P$7),FALSE))","v":""},{"$f":"IF(O170=\"\",\"\",VLOOKUP(O170,Parámetros!O$11:$P$13,MAX(Parámetros!O$7:$P$7),FALSE))","v":""},""]
[null,null,null,{"$f":"IF(E171=\"\",\"\",VLOOKUP(E171,'Buenas prácticas'!$G$8:$H$1007,2,FALSE))","v":""},null,null,null,null,null,null,null,null,null,null,null,{"$f":"IF(F171=\"\",\"\",VLOOKUP(F171,Parámetros!F$11:$P$13,MAX(Parámetros!F$7:$P$7),FALSE))","v":""},{"$f":"IF(G171=\"\",\"\",VLOOKUP(G171,Parámetros!G$11:$P$13,MAX(Parámetros!G$7:$P$7),FALSE))","v":""},{"$f":"IF(H171=\"\",\"\",VLOOKUP(H171,Parámetros!H$11:$P$13,MAX(Parámetros!H$7:$P$7),FALSE))","v":""},{"$f":"IF(I171=\"\",\"\",VLOOKUP(I171,Parámetros!I$11:$P$13,MAX(Parámetros!I$7:$P$7),FALSE))","v":""},{"$f":"IF(J171=\"\",\"\",VLOOKUP(J171,Parámetros!J$11:$P$13,MAX(Parámetros!J$7:$P$7),FALSE))","v":""},{"$f":"IF(K171=\"\",\"\",VLOOKUP(K171,Parámetros!K$11:$P$13,MAX(Parámetros!K$7:$P$7),FALSE))","v":""},{"$f":"IF(L171=\"\",\"\",VLOOKUP(L171,Parámetros!L$11:$P$13,MAX(Parámetros!L$7:$P$7),FALSE))","v":""},{"$f":"IF(M171=\"\",\"\",VLOOKUP(M171,Parámetros!M$11:$P$13,MAX(Parámetros!M$7:$P$7),FALSE))","v":""},{"$f":"IF(N171=\"\",\"\",VLOOKUP(N171,Parámetros!N$11:$P$13,MAX(Parámetros!N$7:$P$7),FALSE))","v":""},{"$f":"IF(O171=\"\",\"\",VLOOKUP(O171,Parámetros!O$11:$P$13,MAX(Parámetros!O$7:$P$7),FALSE))","v":""},""]
[null,null,null,{"$f":"IF(E172=\"\",\"\",VLOOKUP(E172,'Buenas prácticas'!$G$8:$H$1007,2,FALSE))","v":""},null,null,null,null,null,null,null,null,null,null,null,{"$f":"IF(F172=\"\",\"\",VLOOKUP(F172,Parámetros!F$11:$P$13,MAX(Parámetros!F$7:$P$7),FALSE))","v":""},{"$f":"IF(G172=\"\",\"\",VLOOKUP(G172,Parámetros!G$11:$P$13,MAX(Parámetros!G$7:$P$7),FALSE))","v":""},{"$f":"IF(H172=\"\",\"\",VLOOKUP(H172,Parámetros!H$11:$P$13,MAX(Parámetros!H$7:$P$7),FALSE))","v":""},{"$f":"IF(I172=\"\",\"\",VLOOKUP(I172,Parámetros!I$11:$P$13,MAX(Parámetros!I$7:$P$7),FALSE))","v":""},{"$f":"IF(J172=\"\",\"\",VLOOKUP(J172,Parámetros!J$11:$P$13,MAX(Parámetros!J$7:$P$7),FALSE))","v":""},{"$f":"IF(K172=\"\",\"\",VLOOKUP(K172,Parámetros!K$11:$P$13,MAX(Parámetros!K$7:$P$7),FALSE))","v":""},{"$f":"IF(L172=\"\",\"\",VLOOKUP(L172,Parámetros!L$11:$P$13,MAX(Parámetros!L$7:$P$7),FALSE))","v":""},{"$f":"IF(M172=\"\",\"\",VLOOKUP(M172,Parámetros!M$11:$P$13,MAX(Parámetros!M$7:$P$7),FALSE))","v":""},{"$f":"IF(N172=\"\",\"\",VLOOKUP(N172,Parámetros!N$11:$P$13,MAX(Parámetros!N$7:$P$7),FALSE))","v":""},{"$f":"IF(O172=\"\",\"\",VLOOKUP(O172,Parámetros!O$11:$P$13,MAX(Parámetros!O$7:$P$7),FALSE))","v":""},""]
[null,null,null,{"$f":"IF(E173=\"\",\"\",VLOOKUP(E173,'Buenas prácticas'!$G$8:$H$1007,2,FALSE))","v":""},null,null,null,null,null,null,null,null,null,null,null,{"$f":"IF(F173=\"\",\"\",VLOOKUP(F173,Parámetros!F$11:$P$13,MAX(Parámetros!F$7:$P$7),FALSE))","v":""},{"$f":"IF(G173=\"\",\"\",VLOOKUP(G173,Parámetros!G$11:$P$13,MAX(Parámetros!G$7:$P$7),FALSE))","v":""},{"$f":"IF(H173=\"\",\"\",VLOOKUP(H173,Parámetros!H$11:$P$13,MAX(Parámetros!H$7:$P$7),FALSE))","v":""},{"$f":"IF(I173=\"\",\"\",VLOOKUP(I173,Parámetros!I$11:$P$13,MAX(Parámetros!I$7:$P$7),FALSE))","v":""},{"$f":"IF(J173=\"\",\"\",VLOOKUP(J173,Parámetros!J$11:$P$13,MAX(Parámetros!J$7:$P$7),FALSE))","v":""},{"$f":"IF(K173=\"\",\"\",VLOOKUP(K173,Parámetros!K$11:$P$13,MAX(Parámetros!K$7:$P$7),FALSE))","v":""},{"$f":"IF(L173=\"\",\"\",VLOOKUP(L173,Parámetros!L$11:$P$13,MAX(Parámetros!L$7:$P$7),FALSE))","v":""},{"$f":"IF(M173=\"\",\"\",VLOOKUP(M173,Parámetros!M$11:$P$13,MAX(Parámetros!M$7:$P$7),FALSE))","v":""},{"$f":"IF(N173=\"\",\"\",VLOOKUP(N173,Parámetros!N$11:$P$13,MAX(Parámetros!N$7:$P$7),FALSE))","v":""},{"$f":"IF(O173=\"\",\"\",VLOOKUP(O173,Parámetros!O$11:$P$13,MAX(Parámetros!O$7:$P$7),FALSE))","v":""},""]
[null,null,null,{"$f":"IF(E174=\"\",\"\",VLOOKUP(E174,'Buenas prácticas'!$G$8:$H$1007,2,FALSE))","v":""},null,null,null,null,null,null,null,null,null,null,null,{"$f":"IF(F174=\"\",\"\",VLOOKUP(F174,Parámetros!F$11:$P$13,MAX(Parámetros!F$7:$P$7),FALSE))","v":""},{"$f":"IF(G174=\"\",\"\",VLOOKUP(G174,Parámetros!G$11:$P$13,MAX(Parámetros!G$7:$P$7),FALSE))","v":""},{"$f":"IF(H174=\"\",\"\",VLOOKUP(H174,Parámetros!H$11:$P$13,MAX(Parámetros!H$7:$P$7),FALSE))","v":""},{"$f":"IF(I174=\"\",\"\",VLOOKUP(I174,Parámetros!I$11:$P$13,MAX(Parámetros!I$7:$P$7),FALSE))","v":""},{"$f":"IF(J174=\"\",\"\",VLOOKUP(J174,Parámetros!J$11:$P$13,MAX(Parámetros!J$7:$P$7),FALSE))","v":""},{"$f":"IF(K174=\"\",\"\",VLOOKUP(K174,Parámetros!K$11:$P$13,MAX(Parámetros!K$7:$P$7),FALSE))","v":""},{"$f":"IF(L174=\"\",\"\",VLOOKUP(L174,Parámetros!L$11:$P$13,MAX(Parámetros!L$7:$P$7),FALSE))","v":""},{"$f":"IF(M174=\"\",\"\",VLOOKUP(M174,Parámetros!M$11:$P$13,MAX(Parámetros!M$7:$P$7),FALSE))","v":""},{"$f":"IF(N174=\"\",\"\",VLOOKUP(N174,Parámetros!N$11:$P$13,MAX(Parámetros!N$7:$P$7),FALSE))","v":""},{"$f":"IF(O174=\"\",\"\",VLOOKUP(O174,Parámetros!O$11:$P$13,MAX(Parámetros!O$7:$P$7),FALSE))","v":""},""]
[null,null,null,{"$f":"IF(E175=\"\",\"\",VLOOKUP(E175,'Buenas prácticas'!$G$8:$H$1007,2,FALSE))","v":""},null,null,null,null,null,null,null,null,null,null,null,{"$f":"IF(F175=\"\",\"\",VLOOKUP(F175,Parámetros!F$11:$P$13,MAX(Parámetros!F$7:$P$7),FALSE))","v":""},{"$f":"IF(G175=\"\",\"\",VLOOKUP(G175,Parámetros!G$11:$P$13,MAX(Parámetros!G$7:$P$7),FALSE))","v":""},{"$f":"IF(H175=\"\",\"\",VLOOKUP(H175,Parámetros!H$11:$P$13,MAX(Parámetros!H$7:$P$7),FALSE))","v":""},{"$f":"IF(I175=\"\",\"\",VLOOKUP(I175,Parámetros!I$11:$P$13,MAX(Parámetros!I$7:$P$7),FALSE))","v":""},{"$f":"IF(J175=\"\",\"\",VLOOKUP(J175,Parámetros!J$11:$P$13,MAX(Parámetros!J$7:$P$7),FALSE))","v":""},{"$f":"IF(K175=\"\",\"\",VLOOKUP(K175,Parámetros!K$11:$P$13,MAX(Parámetros!K$7:$P$7),FALSE))","v":""},{"$f":"IF(L175=\"\",\"\",VLOOKUP(L175,Parámetros!L$11:$P$13,MAX(Parámetros!L$7:$P$7),FALSE))","v":""},{"$f":"IF(M175=\"\",\"\",VLOOKUP(M175,Parámetros!M$11:$P$13,MAX(Parámetros!M$7:$P$7),FALSE))","v":""},{"$f":"IF(N175=\"\",\"\",VLOOKUP(N175,Parámetros!N$11:$P$13,MAX(Parámetros!N$7:$P$7),FALSE))","v":""},{"$f":"IF(O175=\"\",\"\",VLOOKUP(O175,Parámetros!O$11:$P$13,MAX(Parámetros!O$7:$P$7),FALSE))","v":""},""]
[null,null,null,{"$f":"IF(E176=\"\",\"\",VLOOKUP(E176,'Buenas prácticas'!$G$8:$H$1007,2,FALSE))","v":""},null,null,null,null,null,null,null,null,null,null,null,{"$f":"IF(F176=\"\",\"\",VLOOKUP(F176,Parámetros!F$11:$P$13,MAX(Parámetros!F$7:$P$7),FALSE))","v":""},{"$f":"IF(G176=\"\",\"\",VLOOKUP(G176,Parámetros!G$11:$P$13,MAX(Parámetros!G$7:$P$7),FALSE))","v":""},{"$f":"IF(H176=\"\",\"\",VLOOKUP(H176,Parámetros!H$11:$P$13,MAX(Parámetros!H$7:$P$7),FALSE))","v":""},{"$f":"IF(I176=\"\",\"\",VLOOKUP(I176,Parámetros!I$11:$P$13,MAX(Parámetros!I$7:$P$7),FALSE))","v":""},{"$f":"IF(J176=\"\",\"\",VLOOKUP(J176,Parámetros!J$11:$P$13,MAX(Parámetros!J$7:$P$7),FALSE))","v":""},{"$f":"IF(K176=\"\",\"\",VLOOKUP(K176,Parámetros!K$11:$P$13,MAX(Parámetros!K$7:$P$7),FALSE))","v":""},{"$f":"IF(L176=\"\",\"\",VLOOKUP(L176,Parámetros!L$11:$P$13,MAX(Parámetros!L$7:$P$7),FALSE))","v":""},{"$f":"IF(M176=\"\",\"\",VLOOKUP(M176,Parámetros!M$11:$P$13,MAX(Parámetros!M$7:$P$7),FALSE))","v":""},{"$f":"IF(N176=\"\",\"\",VLOOKUP(N176,Parámetros!N$11:$P$13,MAX(Parámetros!N$7:$P$7),FALSE))","v":""},{"$f":"IF(O176=\"\",\"\",VLOOKUP(O176,Parámetros!O$11:$P$13,MAX(Parámetros!O$7:$P$7),FALSE))","v":""},""]
[null,null,null,{"$f":"IF(E177=\"\",\"\",VLOOKUP(E177,'Buenas prácticas'!$G$8:$H$1007,2,FALSE))","v":""},null,null,null,null,null,null,null,null,null,null,null,{"$f":"IF(F177=\"\",\"\",VLOOKUP(F177,Parámetros!F$11:$P$13,MAX(Parámetros!F$7:$P$7),FALSE))","v":""},{"$f":"IF(G177=\"\",\"\",VLOOKUP(G177,Parámetros!G$11:$P$13,MAX(Parámetros!G$7:$P$7),FALSE))","v":""},{"$f":"IF(H177=\"\",\"\",VLOOKUP(H177,Parámetros!H$11:$P$13,MAX(Parámetros!H$7:$P$7),FALSE))","v":""},{"$f":"IF(I177=\"\",\"\",VLOOKUP(I177,Parámetros!I$11:$P$13,MAX(Parámetros!I$7:$P$7),FALSE))","v":""},{"$f":"IF(J177=\"\",\"\",VLOOKUP(J177,Parámetros!J$11:$P$13,MAX(Parámetros!J$7:$P$7),FALSE))","v":""},{"$f":"IF(K177=\"\",\"\",VLOOKUP(K177,Parámetros!K$11:$P$13,MAX(Parámetros!K$7:$P$7),FALSE))","v":""},{"$f":"IF(L177=\"\",\"\",VLOOKUP(L177,Parámetros!L$11:$P$13,MAX(Parámetros!L$7:$P$7),FALSE))","v":""},{"$f":"IF(M177=\"\",\"\",VLOOKUP(M177,Parámetros!M$11:$P$13,MAX(Parámetros!M$7:$P$7),FALSE))","v":""},{"$f":"IF(N177=\"\",\"\",VLOOKUP(N177,Parámetros!N$11:$P$13,MAX(Parámetros!N$7:$P$7),FALSE))","v":""},{"$f":"IF(O177=\"\",\"\",VLOOKUP(O177,Parámetros!O$11:$P$13,MAX(Parámetros!O$7:$P$7),FALSE))","v":""},""]
[null,null,null,{"$f":"IF(E178=\"\",\"\",VLOOKUP(E178,'Buenas prácticas'!$G$8:$H$1007,2,FALSE))","v":""},null,null,null,null,null,null,null,null,null,null,null,{"$f":"IF(F178=\"\",\"\",VLOOKUP(F178,Parámetros!F$11:$P$13,MAX(Parámetros!F$7:$P$7),FALSE))","v":""},{"$f":"IF(G178=\"\",\"\",VLOOKUP(G178,Parámetros!G$11:$P$13,MAX(Parámetros!G$7:$P$7),FALSE))","v":""},{"$f":"IF(H178=\"\",\"\",VLOOKUP(H178,Parámetros!H$11:$P$13,MAX(Parámetros!H$7:$P$7),FALSE))","v":""},{"$f":"IF(I178=\"\",\"\",VLOOKUP(I178,Parámetros!I$11:$P$13,MAX(Parámetros!I$7:$P$7),FALSE))","v":""},{"$f":"IF(J178=\"\",\"\",VLOOKUP(J178,Parámetros!J$11:$P$13,MAX(Parámetros!J$7:$P$7),FALSE))","v":""},{"$f":"IF(K178=\"\",\"\",VLOOKUP(K178,Parámetros!K$11:$P$13,MAX(Parámetros!K$7:$P$7),FALSE))","v":""},{"$f":"IF(L178=\"\",\"\",VLOOKUP(L178,Parámetros!L$11:$P$13,MAX(Parámetros!L$7:$P$7),FALSE))","v":""},{"$f":"IF(M178=\"\",\"\",VLOOKUP(M178,Parámetros!M$11:$P$13,MAX(Parámetros!M$7:$P$7),FALSE))","v":""},{"$f":"IF(N178=\"\",\"\",VLOOKUP(N178,Parámetros!N$11:$P$13,MAX(Parámetros!N$7:$P$7),FALSE))","v":""},{"$f":"IF(O178=\"\",\"\",VLOOKUP(O178,Parámetros!O$11:$P$13,MAX(Parámetros!O$7:$P$7),FALSE))","v":""},""]
[null,null,null,{"$f":"IF(E179=\"\",\"\",VLOOKUP(E179,'Buenas prácticas'!$G$8:$H$1007,2,FALSE))","v":""},null,null,null,null,null,null,null,null,null,null,null,{"$f":"IF(F179=\"\",\"\",VLOOKUP(F179,Parámetros!F$11:$P$13,MAX(Parámetros!F$7:$P$7),FALSE))","v":""},{"$f":"IF(G179=\"\",\"\",VLOOKUP(G179,Parámetros!G$11:$P$13,MAX(Parámetros!G$7:$P$7),FALSE))","v":""},{"$f":"IF(H179=\"\",\"\",VLOOKUP(H179,Parámetros!H$11:$P$13,MAX(Parámetros!H$7:$P$7),FALSE))","v":""},{"$f":"IF(I179=\"\",\"\",VLOOKUP(I179,Parámetros!I$11:$P$13,MAX(Parámetros!I$7:$P$7),FALSE))","v":""},{"$f":"IF(J179=\"\",\"\",VLOOKUP(J179,Parámetros!J$11:$P$13,MAX(Parámetros!J$7:$P$7),FALSE))","v":""},{"$f":"IF(K179=\"\",\"\",VLOOKUP(K179,Parámetros!K$11:$P$13,MAX(Parámetros!K$7:$P$7),FALSE))","v":""},{"$f":"IF(L179=\"\",\"\",VLOOKUP(L179,Parámetros!L$11:$P$13,MAX(Parámetros!L$7:$P$7),FALSE))","v":""},{"$f":"IF(M179=\"\",\"\",VLOOKUP(M179,Parámetros!M$11:$P$13,MAX(Parámetros!M$7:$P$7),FALSE))","v":""},{"$f":"IF(N179=\"\",\"\",VLOOKUP(N179,Parámetros!N$11:$P$13,MAX(Parámetros!N$7:$P$7),FALSE))","v":""},{"$f":"IF(O179=\"\",\"\",VLOOKUP(O179,Parámetros!O$11:$P$13,MAX(Parámetros!O$7:$P$7),FALSE))","v":""},""]
[null,null,null,{"$f":"IF(E180=\"\",\"\",VLOOKUP(E180,'Buenas prácticas'!$G$8:$H$1007,2,FALSE))","v":""},null,null,null,null,null,null,null,null,null,null,null,{"$f":"IF(F180=\"\",\"\",VLOOKUP(F180,Parámetros!F$11:$P$13,MAX(Parámetros!F$7:$P$7),FALSE))","v":""},{"$f":"IF(G180=\"\",\"\",VLOOKUP(G180,Parámetros!G$11:$P$13,MAX(Parámetros!G$7:$P$7),FALSE))","v":""},{"$f":"IF(H180=\"\",\"\",VLOOKUP(H180,Parámetros!H$11:$P$13,MAX(Parámetros!H$7:$P$7),FALSE))","v":""},{"$f":"IF(I180=\"\",\"\",VLOOKUP(I180,Parámetros!I$11:$P$13,MAX(Parámetros!I$7:$P$7),FALSE))","v":""},{"$f":"IF(J180=\"\",\"\",VLOOKUP(J180,Parámetros!J$11:$P$13,MAX(Parámetros!J$7:$P$7),FALSE))","v":""},{"$f":"IF(K180=\"\",\"\",VLOOKUP(K180,Parámetros!K$11:$P$13,MAX(Parámetros!K$7:$P$7),FALSE))","v":""},{"$f":"IF(L180=\"\",\"\",VLOOKUP(L180,Parámetros!L$11:$P$13,MAX(Parámetros!L$7:$P$7),FALSE))","v":""},{"$f":"IF(M180=\"\",\"\",VLOOKUP(M180,Parámetros!M$11:$P$13,MAX(Parámetros!M$7:$P$7),FALSE))","v":""},{"$f":"IF(N180=\"\",\"\",VLOOKUP(N180,Parámetros!N$11:$P$13,MAX(Parámetros!N$7:$P$7),FALSE))","v":""},{"$f":"IF(O180=\"\",\"\",VLOOKUP(O180,Parámetros!O$11:$P$13,MAX(Parámetros!O$7:$P$7),FALSE))","v":""},""]
[null,null,null,{"$f":"IF(E181=\"\",\"\",VLOOKUP(E181,'Buenas prácticas'!$G$8:$H$1007,2,FALSE))","v":""},null,null,null,null,null,null,null,null,null,null,null,{"$f":"IF(F181=\"\",\"\",VLOOKUP(F181,Parámetros!F$11:$P$13,MAX(Parámetros!F$7:$P$7),FALSE))","v":""},{"$f":"IF(G181=\"\",\"\",VLOOKUP(G181,Parámetros!G$11:$P$13,MAX(Parámetros!G$7:$P$7),FALSE))","v":""},{"$f":"IF(H181=\"\",\"\",VLOOKUP(H181,Parámetros!H$11:$P$13,MAX(Parámetros!H$7:$P$7),FALSE))","v":""},{"$f":"IF(I181=\"\",\"\",VLOOKUP(I181,Parámetros!I$11:$P$13,MAX(Parámetros!I$7:$P$7),FALSE))","v":""},{"$f":"IF(J181=\"\",\"\",VLOOKUP(J181,Parámetros!J$11:$P$13,MAX(Parámetros!J$7:$P$7),FALSE))","v":""},{"$f":"IF(K181=\"\",\"\",VLOOKUP(K181,Parámetros!K$11:$P$13,MAX(Parámetros!K$7:$P$7),FALSE))","v":""},{"$f":"IF(L181=\"\",\"\",VLOOKUP(L181,Parámetros!L$11:$P$13,MAX(Parámetros!L$7:$P$7),FALSE))","v":""},{"$f":"IF(M181=\"\",\"\",VLOOKUP(M181,Parámetros!M$11:$P$13,MAX(Parámetros!M$7:$P$7),FALSE))","v":""},{"$f":"IF(N181=\"\",\"\",VLOOKUP(N181,Parámetros!N$11:$P$13,MAX(Parámetros!N$7:$P$7),FALSE))","v":""},{"$f":"IF(O181=\"\",\"\",VLOOKUP(O181,Parámetros!O$11:$P$13,MAX(Parámetros!O$7:$P$7),FALSE))","v":""},""]
[null,null,null,{"$f":"IF(E182=\"\",\"\",VLOOKUP(E182,'Buenas prácticas'!$G$8:$H$1007,2,FALSE))","v":""},null,null,null,null,null,null,null,null,null,null,null,{"$f":"IF(F182=\"\",\"\",VLOOKUP(F182,Parámetros!F$11:$P$13,MAX(Parámetros!F$7:$P$7),FALSE))","v":""},{"$f":"IF(G182=\"\",\"\",VLOOKUP(G182,Parámetros!G$11:$P$13,MAX(Parámetros!G$7:$P$7),FALSE))","v":""},{"$f":"IF(H182=\"\",\"\",VLOOKUP(H182,Parámetros!H$11:$P$13,MAX(Parámetros!H$7:$P$7),FALSE))","v":""},{"$f":"IF(I182=\"\",\"\",VLOOKUP(I182,Parámetros!I$11:$P$13,MAX(Parámetros!I$7:$P$7),FALSE))","v":""},{"$f":"IF(J182=\"\",\"\",VLOOKUP(J182,Parámetros!J$11:$P$13,MAX(Parámetros!J$7:$P$7),FALSE))","v":""},{"$f":"IF(K182=\"\",\"\",VLOOKUP(K182,Parámetros!K$11:$P$13,MAX(Parámetros!K$7:$P$7),FALSE))","v":""},{"$f":"IF(L182=\"\",\"\",VLOOKUP(L182,Parámetros!L$11:$P$13,MAX(Parámetros!L$7:$P$7),FALSE))","v":""},{"$f":"IF(M182=\"\",\"\",VLOOKUP(M182,Parámetros!M$11:$P$13,MAX(Parámetros!M$7:$P$7),FALSE))","v":""},{"$f":"IF(N182=\"\",\"\",VLOOKUP(N182,Parámetros!N$11:$P$13,MAX(Parámetros!N$7:$P$7),FALSE))","v":""},{"$f":"IF(O182=\"\",\"\",VLOOKUP(O182,Parámetros!O$11:$P$13,MAX(Parámetros!O$7:$P$7),FALSE))","v":""},""]
[null,null,null,{"$f":"IF(E183=\"\",\"\",VLOOKUP(E183,'Buenas prácticas'!$G$8:$H$1007,2,FALSE))","v":""},null,null,null,null,null,null,null,null,null,null,null,{"$f":"IF(F183=\"\",\"\",VLOOKUP(F183,Parámetros!F$11:$P$13,MAX(Parámetros!F$7:$P$7),FALSE))","v":""},{"$f":"IF(G183=\"\",\"\",VLOOKUP(G183,Parámetros!G$11:$P$13,MAX(Parámetros!G$7:$P$7),FALSE))","v":""},{"$f":"IF(H183=\"\",\"\",VLOOKUP(H183,Parámetros!H$11:$P$13,MAX(Parámetros!H$7:$P$7),FALSE))","v":""},{"$f":"IF(I183=\"\",\"\",VLOOKUP(I183,Parámetros!I$11:$P$13,MAX(Parámetros!I$7:$P$7),FALSE))","v":""},{"$f":"IF(J183=\"\",\"\",VLOOKUP(J183,Parámetros!J$11:$P$13,MAX(Parámetros!J$7:$P$7),FALSE))","v":""},{"$f":"IF(K183=\"\",\"\",VLOOKUP(K183,Parámetros!K$11:$P$13,MAX(Parámetros!K$7:$P$7),FALSE))","v":""},{"$f":"IF(L183=\"\",\"\",VLOOKUP(L183,Parámetros!L$11:$P$13,MAX(Parámetros!L$7:$P$7),FALSE))","v":""},{"$f":"IF(M183=\"\",\"\",VLOOKUP(M183,Parámetros!M$11:$P$13,MAX(Parámetros!M$7:$P$7),FALSE))","v":""},{"$f":"IF(N183=\"\",\"\",VLOOKUP(N183,Parámetros!N$11:$P$13,MAX(Parámetros!N$7:$P$7),FALSE))","v":""},{"$f":"IF(O183=\"\",\"\",VLOOKUP(O183,Parámetros!O$11:$P$13,MAX(Parámetros!O$7:$P$7),FALSE))","v":""},""]
[null,null,null,{"$f":"IF(E184=\"\",\"\",VLOOKUP(E184,'Buenas prácticas'!$G$8:$H$1007,2,FALSE))","v":""},null,null,null,null,null,null,null,null,null,null,null,{"$f":"IF(F184=\"\",\"\",VLOOKUP(F184,Parámetros!F$11:$P$13,MAX(Parámetros!F$7:$P$7),FALSE))","v":""},{"$f":"IF(G184=\"\",\"\",VLOOKUP(G184,Parámetros!G$11:$P$13,MAX(Parámetros!G$7:$P$7),FALSE))","v":""},{"$f":"IF(H184=\"\",\"\",VLOOKUP(H184,Parámetros!H$11:$P$13,MAX(Parámetros!H$7:$P$7),FALSE))","v":""},{"$f":"IF(I184=\"\",\"\",VLOOKUP(I184,Parámetros!I$11:$P$13,MAX(Parámetros!I$7:$P$7),FALSE))","v":""},{"$f":"IF(J184=\"\",\"\",VLOOKUP(J184,Parámetros!J$11:$P$13,MAX(Parámetros!J$7:$P$7),FALSE))","v":""},{"$f":"IF(K184=\"\",\"\",VLOOKUP(K184,Parámetros!K$11:$P$13,MAX(Parámetros!K$7:$P$7),FALSE))","v":""},{"$f":"IF(L184=\"\",\"\",VLOOKUP(L184,Parámetros!L$11:$P$13,MAX(Parámetros!L$7:$P$7),FALSE))","v":""},{"$f":"IF(M184=\"\",\"\",VLOOKUP(M184,Parámetros!M$11:$P$13,MAX(Parámetros!M$7:$P$7),FALSE))","v":""},{"$f":"IF(N184=\"\",\"\",VLOOKUP(N184,Parámetros!N$11:$P$13,MAX(Parámetros!N$7:$P$7),FALSE))","v":""},{"$f":"IF(O184=\"\",\"\",VLOOKUP(O184,Parámetros!O$11:$P$13,MAX(Parámetros!O$7:$P$7),FALSE))","v":""},""]
[null,null,null,{"$f":"IF(E185=\"\",\"\",VLOOKUP(E185,'Buenas prácticas'!$G$8:$H$1007,2,FALSE))","v":""},null,null,null,null,null,null,null,null,null,null,null,{"$f":"IF(F185=\"\",\"\",VLOOKUP(F185,Parámetros!F$11:$P$13,MAX(Parámetros!F$7:$P$7),FALSE))","v":""},{"$f":"IF(G185=\"\",\"\",VLOOKUP(G185,Parámetros!G$11:$P$13,MAX(Parámetros!G$7:$P$7),FALSE))","v":""},{"$f":"IF(H185=\"\",\"\",VLOOKUP(H185,Parámetros!H$11:$P$13,MAX(Parámetros!H$7:$P$7),FALSE))","v":""},{"$f":"IF(I185=\"\",\"\",VLOOKUP(I185,Parámetros!I$11:$P$13,MAX(Parámetros!I$7:$P$7),FALSE))","v":""},{"$f":"IF(J185=\"\",\"\",VLOOKUP(J185,Parámetros!J$11:$P$13,MAX(Parámetros!J$7:$P$7),FALSE))","v":""},{"$f":"IF(K185=\"\",\"\",VLOOKUP(K185,Parámetros!K$11:$P$13,MAX(Parámetros!K$7:$P$7),FALSE))","v":""},{"$f":"IF(L185=\"\",\"\",VLOOKUP(L185,Parámetros!L$11:$P$13,MAX(Parámetros!L$7:$P$7),FALSE))","v":""},{"$f":"IF(M185=\"\",\"\",VLOOKUP(M185,Parámetros!M$11:$P$13,MAX(Parámetros!M$7:$P$7),FALSE))","v":""},{"$f":"IF(N185=\"\",\"\",VLOOKUP(N185,Parámetros!N$11:$P$13,MAX(Parámetros!N$7:$P$7),FALSE))","v":""},{"$f":"IF(O185=\"\",\"\",VLOOKUP(O185,Parámetros!O$11:$P$13,MAX(Parámetros!O$7:$P$7),FALSE))","v":""},""]
[null,null,null,{"$f":"IF(E186=\"\",\"\",VLOOKUP(E186,'Buenas prácticas'!$G$8:$H$1007,2,FALSE))","v":""},null,null,null,null,null,null,null,null,null,null,null,{"$f":"IF(F186=\"\",\"\",VLOOKUP(F186,Parámetros!F$11:$P$13,MAX(Parámetros!F$7:$P$7),FALSE))","v":""},{"$f":"IF(G186=\"\",\"\",VLOOKUP(G186,Parámetros!G$11:$P$13,MAX(Parámetros!G$7:$P$7),FALSE))","v":""},{"$f":"IF(H186=\"\",\"\",VLOOKUP(H186,Parámetros!H$11:$P$13,MAX(Parámetros!H$7:$P$7),FALSE))","v":""},{"$f":"IF(I186=\"\",\"\",VLOOKUP(I186,Parámetros!I$11:$P$13,MAX(Parámetros!I$7:$P$7),FALSE))","v":""},{"$f":"IF(J186=\"\",\"\",VLOOKUP(J186,Parámetros!J$11:$P$13,MAX(Parámetros!J$7:$P$7),FALSE))","v":""},{"$f":"IF(K186=\"\",\"\",VLOOKUP(K186,Parámetros!K$11:$P$13,MAX(Parámetros!K$7:$P$7),FALSE))","v":""},{"$f":"IF(L186=\"\",\"\",VLOOKUP(L186,Parámetros!L$11:$P$13,MAX(Parámetros!L$7:$P$7),FALSE))","v":""},{"$f":"IF(M186=\"\",\"\",VLOOKUP(M186,Parámetros!M$11:$P$13,MAX(Parámetros!M$7:$P$7),FALSE))","v":""},{"$f":"IF(N186=\"\",\"\",VLOOKUP(N186,Parámetros!N$11:$P$13,MAX(Parámetros!N$7:$P$7),FALSE))","v":""},{"$f":"IF(O186=\"\",\"\",VLOOKUP(O186,Parámetros!O$11:$P$13,MAX(Parámetros!O$7:$P$7),FALSE))","v":""},""]
[null,null,null,{"$f":"IF(E187=\"\",\"\",VLOOKUP(E187,'Buenas prácticas'!$G$8:$H$1007,2,FALSE))","v":""},null,null,null,null,null,null,null,null,null,null,null,{"$f":"IF(F187=\"\",\"\",VLOOKUP(F187,Parámetros!F$11:$P$13,MAX(Parámetros!F$7:$P$7),FALSE))","v":""},{"$f":"IF(G187=\"\",\"\",VLOOKUP(G187,Parámetros!G$11:$P$13,MAX(Parámetros!G$7:$P$7),FALSE))","v":""},{"$f":"IF(H187=\"\",\"\",VLOOKUP(H187,Parámetros!H$11:$P$13,MAX(Parámetros!H$7:$P$7),FALSE))","v":""},{"$f":"IF(I187=\"\",\"\",VLOOKUP(I187,Parámetros!I$11:$P$13,MAX(Parámetros!I$7:$P$7),FALSE))","v":""},{"$f":"IF(J187=\"\",\"\",VLOOKUP(J187,Parámetros!J$11:$P$13,MAX(Parámetros!J$7:$P$7),FALSE))","v":""},{"$f":"IF(K187=\"\",\"\",VLOOKUP(K187,Parámetros!K$11:$P$13,MAX(Parámetros!K$7:$P$7),FALSE))","v":""},{"$f":"IF(L187=\"\",\"\",VLOOKUP(L187,Parámetros!L$11:$P$13,MAX(Parámetros!L$7:$P$7),FALSE))","v":""},{"$f":"IF(M187=\"\",\"\",VLOOKUP(M187,Parámetros!M$11:$P$13,MAX(Parámetros!M$7:$P$7),FALSE))","v":""},{"$f":"IF(N187=\"\",\"\",VLOOKUP(N187,Parámetros!N$11:$P$13,MAX(Parámetros!N$7:$P$7),FALSE))","v":""},{"$f":"IF(O187=\"\",\"\",VLOOKUP(O187,Parámetros!O$11:$P$13,MAX(Parámetros!O$7:$P$7),FALSE))","v":""},""]
[null,null,null,{"$f":"IF(E188=\"\",\"\",VLOOKUP(E188,'Buenas prácticas'!$G$8:$H$1007,2,FALSE))","v":""},null,null,null,null,null,null,null,null,null,null,null,{"$f":"IF(F188=\"\",\"\",VLOOKUP(F188,Parámetros!F$11:$P$13,MAX(Parámetros!F$7:$P$7),FALSE))","v":""},{"$f":"IF(G188=\"\",\"\",VLOOKUP(G188,Parámetros!G$11:$P$13,MAX(Parámetros!G$7:$P$7),FALSE))","v":""},{"$f":"IF(H188=\"\",\"\",VLOOKUP(H188,Parámetros!H$11:$P$13,MAX(Parámetros!H$7:$P$7),FALSE))","v":""},{"$f":"IF(I188=\"\",\"\",VLOOKUP(I188,Parámetros!I$11:$P$13,MAX(Parámetros!I$7:$P$7),FALSE))","v":""},{"$f":"IF(J188=\"\",\"\",VLOOKUP(J188,Parámetros!J$11:$P$13,MAX(Parámetros!J$7:$P$7),FALSE))","v":""},{"$f":"IF(K188=\"\",\"\",VLOOKUP(K188,Parámetros!K$11:$P$13,MAX(Parámetros!K$7:$P$7),FALSE))","v":""},{"$f":"IF(L188=\"\",\"\",VLOOKUP(L188,Parámetros!L$11:$P$13,MAX(Parámetros!L$7:$P$7),FALSE))","v":""},{"$f":"IF(M188=\"\",\"\",VLOOKUP(M188,Parámetros!M$11:$P$13,MAX(Parámetros!M$7:$P$7),FALSE))","v":""},{"$f":"IF(N188=\"\",\"\",VLOOKUP(N188,Parámetros!N$11:$P$13,MAX(Parámetros!N$7:$P$7),FALSE))","v":""},{"$f":"IF(O188=\"\",\"\",VLOOKUP(O188,Parámetros!O$11:$P$13,MAX(Parámetros!O$7:$P$7),FALSE))","v":""},""]
[null,null,null,{"$f":"IF(E189=\"\",\"\",VLOOKUP(E189,'Buenas prácticas'!$G$8:$H$1007,2,FALSE))","v":""},null,null,null,null,null,null,null,null,null,null,null,{"$f":"IF(F189=\"\",\"\",VLOOKUP(F189,Parámetros!F$11:$P$13,MAX(Parámetros!F$7:$P$7),FALSE))","v":""},{"$f":"IF(G189=\"\",\"\",VLOOKUP(G189,Parámetros!G$11:$P$13,MAX(Parámetros!G$7:$P$7),FALSE))","v":""},{"$f":"IF(H189=\"\",\"\",VLOOKUP(H189,Parámetros!H$11:$P$13,MAX(Parámetros!H$7:$P$7),FALSE))","v":""},{"$f":"IF(I189=\"\",\"\",VLOOKUP(I189,Parámetros!I$11:$P$13,MAX(Parámetros!I$7:$P$7),FALSE))","v":""},{"$f":"IF(J189=\"\",\"\",VLOOKUP(J189,Parámetros!J$11:$P$13,MAX(Parámetros!J$7:$P$7),FALSE))","v":""},{"$f":"IF(K189=\"\",\"\",VLOOKUP(K189,Parámetros!K$11:$P$13,MAX(Parámetros!K$7:$P$7),FALSE))","v":""},{"$f":"IF(L189=\"\",\"\",VLOOKUP(L189,Parámetros!L$11:$P$13,MAX(Parámetros!L$7:$P$7),FALSE))","v":""},{"$f":"IF(M189=\"\",\"\",VLOOKUP(M189,Parámetros!M$11:$P$13,MAX(Parámetros!M$7:$P$7),FALSE))","v":""},{"$f":"IF(N189=\"\",\"\",VLOOKUP(N189,Parámetros!N$11:$P$13,MAX(Parámetros!N$7:$P$7),FALSE))","v":""},{"$f":"IF(O189=\"\",\"\",VLOOKUP(O189,Parámetros!O$11:$P$13,MAX(Parámetros!O$7:$P$7),FALSE))","v":""},""]
[null,null,null,{"$f":"IF(E190=\"\",\"\",VLOOKUP(E190,'Buenas prácticas'!$G$8:$H$1007,2,FALSE))","v":""},null,null,null,null,null,null,null,null,null,null,null,{"$f":"IF(F190=\"\",\"\",VLOOKUP(F190,Parámetros!F$11:$P$13,MAX(Parámetros!F$7:$P$7),FALSE))","v":""},{"$f":"IF(G190=\"\",\"\",VLOOKUP(G190,Parámetros!G$11:$P$13,MAX(Parámetros!G$7:$P$7),FALSE))","v":""},{"$f":"IF(H190=\"\",\"\",VLOOKUP(H190,Parámetros!H$11:$P$13,MAX(Parámetros!H$7:$P$7),FALSE))","v":""},{"$f":"IF(I190=\"\",\"\",VLOOKUP(I190,Parámetros!I$11:$P$13,MAX(Parámetros!I$7:$P$7),FALSE))","v":""},{"$f":"IF(J190=\"\",\"\",VLOOKUP(J190,Parámetros!J$11:$P$13,MAX(Parámetros!J$7:$P$7),FALSE))","v":""},{"$f":"IF(K190=\"\",\"\",VLOOKUP(K190,Parámetros!K$11:$P$13,MAX(Parámetros!K$7:$P$7),FALSE))","v":""},{"$f":"IF(L190=\"\",\"\",VLOOKUP(L190,Parámetros!L$11:$P$13,MAX(Parámetros!L$7:$P$7),FALSE))","v":""},{"$f":"IF(M190=\"\",\"\",VLOOKUP(M190,Parámetros!M$11:$P$13,MAX(Parámetros!M$7:$P$7),FALSE))","v":""},{"$f":"IF(N190=\"\",\"\",VLOOKUP(N190,Parámetros!N$11:$P$13,MAX(Parámetros!N$7:$P$7),FALSE))","v":""},{"$f":"IF(O190=\"\",\"\",VLOOKUP(O190,Parámetros!O$11:$P$13,MAX(Parámetros!O$7:$P$7),FALSE))","v":""},""]
[null,null,null,{"$f":"IF(E191=\"\",\"\",VLOOKUP(E191,'Buenas prácticas'!$G$8:$H$1007,2,FALSE))","v":""},null,null,null,null,null,null,null,null,null,null,null,{"$f":"IF(F191=\"\",\"\",VLOOKUP(F191,Parámetros!F$11:$P$13,MAX(Parámetros!F$7:$P$7),FALSE))","v":""},{"$f":"IF(G191=\"\",\"\",VLOOKUP(G191,Parámetros!G$11:$P$13,MAX(Parámetros!G$7:$P$7),FALSE))","v":""},{"$f":"IF(H191=\"\",\"\",VLOOKUP(H191,Parámetros!H$11:$P$13,MAX(Parámetros!H$7:$P$7),FALSE))","v":""},{"$f":"IF(I191=\"\",\"\",VLOOKUP(I191,Parámetros!I$11:$P$13,MAX(Parámetros!I$7:$P$7),FALSE))","v":""},{"$f":"IF(J191=\"\",\"\",VLOOKUP(J191,Parámetros!J$11:$P$13,MAX(Parámetros!J$7:$P$7),FALSE))","v":""},{"$f":"IF(K191=\"\",\"\",VLOOKUP(K191,Parámetros!K$11:$P$13,MAX(Parámetros!K$7:$P$7),FALSE))","v":""},{"$f":"IF(L191=\"\",\"\",VLOOKUP(L191,Parámetros!L$11:$P$13,MAX(Parámetros!L$7:$P$7),FALSE))","v":""},{"$f":"IF(M191=\"\",\"\",VLOOKUP(M191,Parámetros!M$11:$P$13,MAX(Parámetros!M$7:$P$7),FALSE))","v":""},{"$f":"IF(N191=\"\",\"\",VLOOKUP(N191,Parámetros!N$11:$P$13,MAX(Parámetros!N$7:$P$7),FALSE))","v":""},{"$f":"IF(O191=\"\",\"\",VLOOKUP(O191,Parámetros!O$11:$P$13,MAX(Parámetros!O$7:$P$7),FALSE))","v":""},""]
[null,null,null,{"$f":"IF(E192=\"\",\"\",VLOOKUP(E192,'Buenas prácticas'!$G$8:$H$1007,2,FALSE))","v":""},null,null,null,null,null,null,null,null,null,null,null,{"$f":"IF(F192=\"\",\"\",VLOOKUP(F192,Parámetros!F$11:$P$13,MAX(Parámetros!F$7:$P$7),FALSE))","v":""},{"$f":"IF(G192=\"\",\"\",VLOOKUP(G192,Parámetros!G$11:$P$13,MAX(Parámetros!G$7:$P$7),FALSE))","v":""},{"$f":"IF(H192=\"\",\"\",VLOOKUP(H192,Parámetros!H$11:$P$13,MAX(Parámetros!H$7:$P$7),FALSE))","v":""},{"$f":"IF(I192=\"\",\"\",VLOOKUP(I192,Parámetros!I$11:$P$13,MAX(Parámetros!I$7:$P$7),FALSE))","v":""},{"$f":"IF(J192=\"\",\"\",VLOOKUP(J192,Parámetros!J$11:$P$13,MAX(Parámetros!J$7:$P$7),FALSE))","v":""},{"$f":"IF(K192=\"\",\"\",VLOOKUP(K192,Parámetros!K$11:$P$13,MAX(Parámetros!K$7:$P$7),FALSE))","v":""},{"$f":"IF(L192=\"\",\"\",VLOOKUP(L192,Parámetros!L$11:$P$13,MAX(Parámetros!L$7:$P$7),FALSE))","v":""},{"$f":"IF(M192=\"\",\"\",VLOOKUP(M192,Parámetros!M$11:$P$13,MAX(Parámetros!M$7:$P$7),FALSE))","v":""},{"$f":"IF(N192=\"\",\"\",VLOOKUP(N192,Parámetros!N$11:$P$13,MAX(Parámetros!N$7:$P$7),FALSE))","v":""},{"$f":"IF(O192=\"\",\"\",VLOOKUP(O192,Parámetros!O$11:$P$13,MAX(Parámetros!O$7:$P$7),FALSE))","v":""},""]
[null,null,null,{"$f":"IF(E193=\"\",\"\",VLOOKUP(E193,'Buenas prácticas'!$G$8:$H$1007,2,FALSE))","v":""},null,null,null,null,null,null,null,null,null,null,null,{"$f":"IF(F193=\"\",\"\",VLOOKUP(F193,Parámetros!F$11:$P$13,MAX(Parámetros!F$7:$P$7),FALSE))","v":""},{"$f":"IF(G193=\"\",\"\",VLOOKUP(G193,Parámetros!G$11:$P$13,MAX(Parámetros!G$7:$P$7),FALSE))","v":""},{"$f":"IF(H193=\"\",\"\",VLOOKUP(H193,Parámetros!H$11:$P$13,MAX(Parámetros!H$7:$P$7),FALSE))","v":""},{"$f":"IF(I193=\"\",\"\",VLOOKUP(I193,Parámetros!I$11:$P$13,MAX(Parámetros!I$7:$P$7),FALSE))","v":""},{"$f":"IF(J193=\"\",\"\",VLOOKUP(J193,Parámetros!J$11:$P$13,MAX(Parámetros!J$7:$P$7),FALSE))","v":""},{"$f":"IF(K193=\"\",\"\",VLOOKUP(K193,Parámetros!K$11:$P$13,MAX(Parámetros!K$7:$P$7),FALSE))","v":""},{"$f":"IF(L193=\"\",\"\",VLOOKUP(L193,Parámetros!L$11:$P$13,MAX(Parámetros!L$7:$P$7),FALSE))","v":""},{"$f":"IF(M193=\"\",\"\",VLOOKUP(M193,Parámetros!M$11:$P$13,MAX(Parámetros!M$7:$P$7),FALSE))","v":""},{"$f":"IF(N193=\"\",\"\",VLOOKUP(N193,Parámetros!N$11:$P$13,MAX(Parámetros!N$7:$P$7),FALSE))","v":""},{"$f":"IF(O193=\"\",\"\",VLOOKUP(O193,Parámetros!O$11:$P$13,MAX(Parámetros!O$7:$P$7),FALSE))","v":""},""]
[null,null,null,{"$f":"IF(E194=\"\",\"\",VLOOKUP(E194,'Buenas prácticas'!$G$8:$H$1007,2,FALSE))","v":""},null,null,null,null,null,null,null,null,null,null,null,{"$f":"IF(F194=\"\",\"\",VLOOKUP(F194,Parámetros!F$11:$P$13,MAX(Parámetros!F$7:$P$7),FALSE))","v":""},{"$f":"IF(G194=\"\",\"\",VLOOKUP(G194,Parámetros!G$11:$P$13,MAX(Parámetros!G$7:$P$7),FALSE))","v":""},{"$f":"IF(H194=\"\",\"\",VLOOKUP(H194,Parámetros!H$11:$P$13,MAX(Parámetros!H$7:$P$7),FALSE))","v":""},{"$f":"IF(I194=\"\",\"\",VLOOKUP(I194,Parámetros!I$11:$P$13,MAX(Parámetros!I$7:$P$7),FALSE))","v":""},{"$f":"IF(J194=\"\",\"\",VLOOKUP(J194,Parámetros!J$11:$P$13,MAX(Parámetros!J$7:$P$7),FALSE))","v":""},{"$f":"IF(K194=\"\",\"\",VLOOKUP(K194,Parámetros!K$11:$P$13,MAX(Parámetros!K$7:$P$7),FALSE))","v":""},{"$f":"IF(L194=\"\",\"\",VLOOKUP(L194,Parámetros!L$11:$P$13,MAX(Parámetros!L$7:$P$7),FALSE))","v":""},{"$f":"IF(M194=\"\",\"\",VLOOKUP(M194,Parámetros!M$11:$P$13,MAX(Parámetros!M$7:$P$7),FALSE))","v":""},{"$f":"IF(N194=\"\",\"\",VLOOKUP(N194,Parámetros!N$11:$P$13,MAX(Parámetros!N$7:$P$7),FALSE))","v":""},{"$f":"IF(O194=\"\",\"\",VLOOKUP(O194,Parámetros!O$11:$P$13,MAX(Parámetros!O$7:$P$7),FALSE))","v":""},""]
[null,null,null,{"$f":"IF(E195=\"\",\"\",VLOOKUP(E195,'Buenas prácticas'!$G$8:$H$1007,2,FALSE))","v":""},null,null,null,null,null,null,null,null,null,null,null,{"$f":"IF(F195=\"\",\"\",VLOOKUP(F195,Parámetros!F$11:$P$13,MAX(Parámetros!F$7:$P$7),FALSE))","v":""},{"$f":"IF(G195=\"\",\"\",VLOOKUP(G195,Parámetros!G$11:$P$13,MAX(Parámetros!G$7:$P$7),FALSE))","v":""},{"$f":"IF(H195=\"\",\"\",VLOOKUP(H195,Parámetros!H$11:$P$13,MAX(Parámetros!H$7:$P$7),FALSE))","v":""},{"$f":"IF(I195=\"\",\"\",VLOOKUP(I195,Parámetros!I$11:$P$13,MAX(Parámetros!I$7:$P$7),FALSE))","v":""},{"$f":"IF(J195=\"\",\"\",VLOOKUP(J195,Parámetros!J$11:$P$13,MAX(Parámetros!J$7:$P$7),FALSE))","v":""},{"$f":"IF(K195=\"\",\"\",VLOOKUP(K195,Parámetros!K$11:$P$13,MAX(Parámetros!K$7:$P$7),FALSE))","v":""},{"$f":"IF(L195=\"\",\"\",VLOOKUP(L195,Parámetros!L$11:$P$13,MAX(Parámetros!L$7:$P$7),FALSE))","v":""},{"$f":"IF(M195=\"\",\"\",VLOOKUP(M195,Parámetros!M$11:$P$13,MAX(Parámetros!M$7:$P$7),FALSE))","v":""},{"$f":"IF(N195=\"\",\"\",VLOOKUP(N195,Parámetros!N$11:$P$13,MAX(Parámetros!N$7:$P$7),FALSE))","v":""},{"$f":"IF(O195=\"\",\"\",VLOOKUP(O195,Parámetros!O$11:$P$13,MAX(Parámetros!O$7:$P$7),FALSE))","v":""},""]
[null,null,null,{"$f":"IF(E196=\"\",\"\",VLOOKUP(E196,'Buenas prácticas'!$G$8:$H$1007,2,FALSE))","v":""},null,null,null,null,null,null,null,null,null,null,null,{"$f":"IF(F196=\"\",\"\",VLOOKUP(F196,Parámetros!F$11:$P$13,MAX(Parámetros!F$7:$P$7),FALSE))","v":""},{"$f":"IF(G196=\"\",\"\",VLOOKUP(G196,Parámetros!G$11:$P$13,MAX(Parámetros!G$7:$P$7),FALSE))","v":""},{"$f":"IF(H196=\"\",\"\",VLOOKUP(H196,Parámetros!H$11:$P$13,MAX(Parámetros!H$7:$P$7),FALSE))","v":""},{"$f":"IF(I196=\"\",\"\",VLOOKUP(I196,Parámetros!I$11:$P$13,MAX(Parámetros!I$7:$P$7),FALSE))","v":""},{"$f":"IF(J196=\"\",\"\",VLOOKUP(J196,Parámetros!J$11:$P$13,MAX(Parámetros!J$7:$P$7),FALSE))","v":""},{"$f":"IF(K196=\"\",\"\",VLOOKUP(K196,Parámetros!K$11:$P$13,MAX(Parámetros!K$7:$P$7),FALSE))","v":""},{"$f":"IF(L196=\"\",\"\",VLOOKUP(L196,Parámetros!L$11:$P$13,MAX(Parámetros!L$7:$P$7),FALSE))","v":""},{"$f":"IF(M196=\"\",\"\",VLOOKUP(M196,Parámetros!M$11:$P$13,MAX(Parámetros!M$7:$P$7),FALSE))","v":""},{"$f":"IF(N196=\"\",\"\",VLOOKUP(N196,Parámetros!N$11:$P$13,MAX(Parámetros!N$7:$P$7),FALSE))","v":""},{"$f":"IF(O196=\"\",\"\",VLOOKUP(O196,Parámetros!O$11:$P$13,MAX(Parámetros!O$7:$P$7),FALSE))","v":""},""]
[null,null,null,{"$f":"IF(E197=\"\",\"\",VLOOKUP(E197,'Buenas prácticas'!$G$8:$H$1007,2,FALSE))","v":""},null,null,null,null,null,null,null,null,null,null,null,{"$f":"IF(F197=\"\",\"\",VLOOKUP(F197,Parámetros!F$11:$P$13,MAX(Parámetros!F$7:$P$7),FALSE))","v":""},{"$f":"IF(G197=\"\",\"\",VLOOKUP(G197,Parámetros!G$11:$P$13,MAX(Parámetros!G$7:$P$7),FALSE))","v":""},{"$f":"IF(H197=\"\",\"\",VLOOKUP(H197,Parámetros!H$11:$P$13,MAX(Parámetros!H$7:$P$7),FALSE))","v":""},{"$f":"IF(I197=\"\",\"\",VLOOKUP(I197,Parámetros!I$11:$P$13,MAX(Parámetros!I$7:$P$7),FALSE))","v":""},{"$f":"IF(J197=\"\",\"\",VLOOKUP(J197,Parámetros!J$11:$P$13,MAX(Parámetros!J$7:$P$7),FALSE))","v":""},{"$f":"IF(K197=\"\",\"\",VLOOKUP(K197,Parámetros!K$11:$P$13,MAX(Parámetros!K$7:$P$7),FALSE))","v":""},{"$f":"IF(L197=\"\",\"\",VLOOKUP(L197,Parámetros!L$11:$P$13,MAX(Parámetros!L$7:$P$7),FALSE))","v":""},{"$f":"IF(M197=\"\",\"\",VLOOKUP(M197,Parámetros!M$11:$P$13,MAX(Parámetros!M$7:$P$7),FALSE))","v":""},{"$f":"IF(N197=\"\",\"\",VLOOKUP(N197,Parámetros!N$11:$P$13,MAX(Parámetros!N$7:$P$7),FALSE))","v":""},{"$f":"IF(O197=\"\",\"\",VLOOKUP(O197,Parámetros!O$11:$P$13,MAX(Parámetros!O$7:$P$7),FALSE))","v":""},""]
[null,null,null,{"$f":"IF(E198=\"\",\"\",VLOOKUP(E198,'Buenas prácticas'!$G$8:$H$1007,2,FALSE))","v":""},null,null,null,null,null,null,null,null,null,null,null,{"$f":"IF(F198=\"\",\"\",VLOOKUP(F198,Parámetros!F$11:$P$13,MAX(Parámetros!F$7:$P$7),FALSE))","v":""},{"$f":"IF(G198=\"\",\"\",VLOOKUP(G198,Parámetros!G$11:$P$13,MAX(Parámetros!G$7:$P$7),FALSE))","v":""},{"$f":"IF(H198=\"\",\"\",VLOOKUP(H198,Parámetros!H$11:$P$13,MAX(Parámetros!H$7:$P$7),FALSE))","v":""},{"$f":"IF(I198=\"\",\"\",VLOOKUP(I198,Parámetros!I$11:$P$13,MAX(Parámetros!I$7:$P$7),FALSE))","v":""},{"$f":"IF(J198=\"\",\"\",VLOOKUP(J198,Parámetros!J$11:$P$13,MAX(Parámetros!J$7:$P$7),FALSE))","v":""},{"$f":"IF(K198=\"\",\"\",VLOOKUP(K198,Parámetros!K$11:$P$13,MAX(Parámetros!K$7:$P$7),FALSE))","v":""},{"$f":"IF(L198=\"\",\"\",VLOOKUP(L198,Parámetros!L$11:$P$13,MAX(Parámetros!L$7:$P$7),FALSE))","v":""},{"$f":"IF(M198=\"\",\"\",VLOOKUP(M198,Parámetros!M$11:$P$13,MAX(Parámetros!M$7:$P$7),FALSE))","v":""},{"$f":"IF(N198=\"\",\"\",VLOOKUP(N198,Parámetros!N$11:$P$13,MAX(Parámetros!N$7:$P$7),FALSE))","v":""},{"$f":"IF(O198=\"\",\"\",VLOOKUP(O198,Parámetros!O$11:$P$13,MAX(Parámetros!O$7:$P$7),FALSE))","v":""},""]
[null,null,null,{"$f":"IF(E199=\"\",\"\",VLOOKUP(E199,'Buenas prácticas'!$G$8:$H$1007,2,FALSE))","v":""},null,null,null,null,null,null,null,null,null,null,null,{"$f":"IF(F199=\"\",\"\",VLOOKUP(F199,Parámetros!F$11:$P$13,MAX(Parámetros!F$7:$P$7),FALSE))","v":""},{"$f":"IF(G199=\"\",\"\",VLOOKUP(G199,Parámetros!G$11:$P$13,MAX(Parámetros!G$7:$P$7),FALSE))","v":""},{"$f":"IF(H199=\"\",\"\",VLOOKUP(H199,Parámetros!H$11:$P$13,MAX(Parámetros!H$7:$P$7),FALSE))","v":""},{"$f":"IF(I199=\"\",\"\",VLOOKUP(I199,Parámetros!I$11:$P$13,MAX(Parámetros!I$7:$P$7),FALSE))","v":""},{"$f":"IF(J199=\"\",\"\",VLOOKUP(J199,Parámetros!J$11:$P$13,MAX(Parámetros!J$7:$P$7),FALSE))","v":""},{"$f":"IF(K199=\"\",\"\",VLOOKUP(K199,Parámetros!K$11:$P$13,MAX(Parámetros!K$7:$P$7),FALSE))","v":""},{"$f":"IF(L199=\"\",\"\",VLOOKUP(L199,Parámetros!L$11:$P$13,MAX(Parámetros!L$7:$P$7),FALSE))","v":""},{"$f":"IF(M199=\"\",\"\",VLOOKUP(M199,Parámetros!M$11:$P$13,MAX(Parámetros!M$7:$P$7),FALSE))","v":""},{"$f":"IF(N199=\"\",\"\",VLOOKUP(N199,Parámetros!N$11:$P$13,MAX(Parámetros!N$7:$P$7),FALSE))","v":""},{"$f":"IF(O199=\"\",\"\",VLOOKUP(O199,Parámetros!O$11:$P$13,MAX(Parámetros!O$7:$P$7),FALSE))","v":""},""]
[null,null,null,{"$f":"IF(E200=\"\",\"\",VLOOKUP(E200,'Buenas prácticas'!$G$8:$H$1007,2,FALSE))","v":""},null,null,null,null,null,null,null,null,null,null,null,{"$f":"IF(F200=\"\",\"\",VLOOKUP(F200,Parámetros!F$11:$P$13,MAX(Parámetros!F$7:$P$7),FALSE))","v":""},{"$f":"IF(G200=\"\",\"\",VLOOKUP(G200,Parámetros!G$11:$P$13,MAX(Parámetros!G$7:$P$7),FALSE))","v":""},{"$f":"IF(H200=\"\",\"\",VLOOKUP(H200,Parámetros!H$11:$P$13,MAX(Parámetros!H$7:$P$7),FALSE))","v":""},{"$f":"IF(I200=\"\",\"\",VLOOKUP(I200,Parámetros!I$11:$P$13,MAX(Parámetros!I$7:$P$7),FALSE))","v":""},{"$f":"IF(J200=\"\",\"\",VLOOKUP(J200,Parámetros!J$11:$P$13,MAX(Parámetros!J$7:$P$7),FALSE))","v":""},{"$f":"IF(K200=\"\",\"\",VLOOKUP(K200,Parámetros!K$11:$P$13,MAX(Parámetros!K$7:$P$7),FALSE))","v":""},{"$f":"IF(L200=\"\",\"\",VLOOKUP(L200,Parámetros!L$11:$P$13,MAX(Parámetros!L$7:$P$7),FALSE))","v":""},{"$f":"IF(M200=\"\",\"\",VLOOKUP(M200,Parámetros!M$11:$P$13,MAX(Parámetros!M$7:$P$7),FALSE))","v":""},{"$f":"IF(N200=\"\",\"\",VLOOKUP(N200,Parámetros!N$11:$P$13,MAX(Parámetros!N$7:$P$7),FALSE))","v":""},{"$f":"IF(O200=\"\",\"\",VLOOKUP(O200,Parámetros!O$11:$P$13,MAX(Parámetros!O$7:$P$7),FALSE))","v":""},""]
[null,null,null,{"$f":"IF(E201=\"\",\"\",VLOOKUP(E201,'Buenas prácticas'!$G$8:$H$1007,2,FALSE))","v":""},null,null,null,null,null,null,null,null,null,null,null,{"$f":"IF(F201=\"\",\"\",VLOOKUP(F201,Parámetros!F$11:$P$13,MAX(Parámetros!F$7:$P$7),FALSE))","v":""},{"$f":"IF(G201=\"\",\"\",VLOOKUP(G201,Parámetros!G$11:$P$13,MAX(Parámetros!G$7:$P$7),FALSE))","v":""},{"$f":"IF(H201=\"\",\"\",VLOOKUP(H201,Parámetros!H$11:$P$13,MAX(Parámetros!H$7:$P$7),FALSE))","v":""},{"$f":"IF(I201=\"\",\"\",VLOOKUP(I201,Parámetros!I$11:$P$13,MAX(Parámetros!I$7:$P$7),FALSE))","v":""},{"$f":"IF(J201=\"\",\"\",VLOOKUP(J201,Parámetros!J$11:$P$13,MAX(Parámetros!J$7:$P$7),FALSE))","v":""},{"$f":"IF(K201=\"\",\"\",VLOOKUP(K201,Parámetros!K$11:$P$13,MAX(Parámetros!K$7:$P$7),FALSE))","v":""},{"$f":"IF(L201=\"\",\"\",VLOOKUP(L201,Parámetros!L$11:$P$13,MAX(Parámetros!L$7:$P$7),FALSE))","v":""},{"$f":"IF(M201=\"\",\"\",VLOOKUP(M201,Parámetros!M$11:$P$13,MAX(Parámetros!M$7:$P$7),FALSE))","v":""},{"$f":"IF(N201=\"\",\"\",VLOOKUP(N201,Parámetros!N$11:$P$13,MAX(Parámetros!N$7:$P$7),FALSE))","v":""},{"$f":"IF(O201=\"\",\"\",VLOOKUP(O201,Parámetros!O$11:$P$13,MAX(Parámetros!O$7:$P$7),FALSE))","v":""},{"$f":"IF(SUMPRODUCT($P201:$Y201,$P$6:$Y$6)=0,\"\",SUMPRODUCT($P201:$Y201,$P$6:$Y$6)/3)","v":""}]
[null,null,null,{"$f":"IF(E202=\"\",\"\",VLOOKUP(E202,'Buenas prácticas'!$G$8:$H$1007,2,FALSE))","v":""},null,null,null,null,null,null,null,null,null,null,null,{"$f":"IF(F202=\"\",\"\",VLOOKUP(F202,Parámetros!F$11:$P$13,MAX(Parámetros!F$7:$P$7),FALSE))","v":""},{"$f":"IF(G202=\"\",\"\",VLOOKUP(G202,Parámetros!G$11:$P$13,MAX(Parámetros!G$7:$P$7),FALSE))","v":""},{"$f":"IF(H202=\"\",\"\",VLOOKUP(H202,Parámetros!H$11:$P$13,MAX(Parámetros!H$7:$P$7),FALSE))","v":""},{"$f":"IF(I202=\"\",\"\",VLOOKUP(I202,Parámetros!I$11:$P$13,MAX(Parámetros!I$7:$P$7),FALSE))","v":""},{"$f":"IF(J202=\"\",\"\",VLOOKUP(J202,Parámetros!J$11:$P$13,MAX(Parámetros!J$7:$P$7),FALSE))","v":""},{"$f":"IF(K202=\"\",\"\",VLOOKUP(K202,Parámetros!K$11:$P$13,MAX(Parámetros!K$7:$P$7),FALSE))","v":""},{"$f":"IF(L202=\"\",\"\",VLOOKUP(L202,Parámetros!L$11:$P$13,MAX(Parámetros!L$7:$P$7),FALSE))","v":""},{"$f":"IF(M202=\"\",\"\",VLOOKUP(M202,Parámetros!M$11:$P$13,MAX(Parámetros!M$7:$P$7),FALSE))","v":""},{"$f":"IF(N202=\"\",\"\",VLOOKUP(N202,Parámetros!N$11:$P$13,MAX(Parámetros!N$7:$P$7),FALSE))","v":""},{"$f":"IF(O202=\"\",\"\",VLOOKUP(O202,Parámetros!O$11:$P$13,MAX(Parámetros!O$7:$P$7),FALSE))","v":""},""]
[null,null,null,{"$f":"IF(E203=\"\",\"\",VLOOKUP(E203,'Buenas prácticas'!$G$8:$H$1007,2,FALSE))","v":""},null,null,null,null,null,null,null,null,null,null,null,{"$f":"IF(F203=\"\",\"\",VLOOKUP(F203,Parámetros!F$11:$P$13,MAX(Parámetros!F$7:$P$7),FALSE))","v":""},{"$f":"IF(G203=\"\",\"\",VLOOKUP(G203,Parámetros!G$11:$P$13,MAX(Parámetros!G$7:$P$7),FALSE))","v":""},{"$f":"IF(H203=\"\",\"\",VLOOKUP(H203,Parámetros!H$11:$P$13,MAX(Parámetros!H$7:$P$7),FALSE))","v":""},{"$f":"IF(I203=\"\",\"\",VLOOKUP(I203,Parámetros!I$11:$P$13,MAX(Parámetros!I$7:$P$7),FALSE))","v":""},{"$f":"IF(J203=\"\",\"\",VLOOKUP(J203,Parámetros!J$11:$P$13,MAX(Parámetros!J$7:$P$7),FALSE))","v":""},{"$f":"IF(K203=\"\",\"\",VLOOKUP(K203,Parámetros!K$11:$P$13,MAX(Parámetros!K$7:$P$7),FALSE))","v":""},{"$f":"IF(L203=\"\",\"\",VLOOKUP(L203,Parámetros!L$11:$P$13,MAX(Parámetros!L$7:$P$7),FALSE))","v":""},{"$f":"IF(M203=\"\",\"\",VLOOKUP(M203,Parámetros!M$11:$P$13,MAX(Parámetros!M$7:$P$7),FALSE))","v":""},{"$f":"IF(N203=\"\",\"\",VLOOKUP(N203,Parámetros!N$11:$P$13,MAX(Parámetros!N$7:$P$7),FALSE))","v":""},{"$f":"IF(O203=\"\",\"\",VLOOKUP(O203,Parámetros!O$11:$P$13,MAX(Parámetros!O$7:$P$7),FALSE))","v":""},""]
[null,null,null,{"$f":"IF(E204=\"\",\"\",VLOOKUP(E204,'Buenas prácticas'!$G$8:$H$1007,2,FALSE))","v":""},null,null,null,null,null,null,null,null,null,null,null,{"$f":"IF(F204=\"\",\"\",VLOOKUP(F204,Parámetros!F$11:$P$13,MAX(Parámetros!F$7:$P$7),FALSE))","v":""},{"$f":"IF(G204=\"\",\"\",VLOOKUP(G204,Parámetros!G$11:$P$13,MAX(Parámetros!G$7:$P$7),FALSE))","v":""},{"$f":"IF(H204=\"\",\"\",VLOOKUP(H204,Parámetros!H$11:$P$13,MAX(Parámetros!H$7:$P$7),FALSE))","v":""},{"$f":"IF(I204=\"\",\"\",VLOOKUP(I204,Parámetros!I$11:$P$13,MAX(Parámetros!I$7:$P$7),FALSE))","v":""},{"$f":"IF(J204=\"\",\"\",VLOOKUP(J204,Parámetros!J$11:$P$13,MAX(Parámetros!J$7:$P$7),FALSE))","v":""},{"$f":"IF(K204=\"\",\"\",VLOOKUP(K204,Parámetros!K$11:$P$13,MAX(Parámetros!K$7:$P$7),FALSE))","v":""},{"$f":"IF(L204=\"\",\"\",VLOOKUP(L204,Parámetros!L$11:$P$13,MAX(Parámetros!L$7:$P$7),FALSE))","v":""},{"$f":"IF(M204=\"\",\"\",VLOOKUP(M204,Parámetros!M$11:$P$13,MAX(Parámetros!M$7:$P$7),FALSE))","v":""},{"$f":"IF(N204=\"\",\"\",VLOOKUP(N204,Parámetros!N$11:$P$13,MAX(Parámetros!N$7:$P$7),FALSE))","v":""},{"$f":"IF(O204=\"\",\"\",VLOOKUP(O204,Parámetros!O$11:$P$13,MAX(Parámetros!O$7:$P$7),FALSE))","v":""},""]
[null,null,null,{"$f":"IF(E205=\"\",\"\",VLOOKUP(E205,'Buenas prácticas'!$G$8:$H$1007,2,FALSE))","v":""},null,null,null,null,null,null,null,null,null,null,null,{"$f":"IF(F205=\"\",\"\",VLOOKUP(F205,Parámetros!F$11:$P$13,MAX(Parámetros!F$7:$P$7),FALSE))","v":""},{"$f":"IF(G205=\"\",\"\",VLOOKUP(G205,Parámetros!G$11:$P$13,MAX(Parámetros!G$7:$P$7),FALSE))","v":""},{"$f":"IF(H205=\"\",\"\",VLOOKUP(H205,Parámetros!H$11:$P$13,MAX(Parámetros!H$7:$P$7),FALSE))","v":""},{"$f":"IF(I205=\"\",\"\",VLOOKUP(I205,Parámetros!I$11:$P$13,MAX(Parámetros!I$7:$P$7),FALSE))","v":""},{"$f":"IF(J205=\"\",\"\",VLOOKUP(J205,Parámetros!J$11:$P$13,MAX(Parámetros!J$7:$P$7),FALSE))","v":""},{"$f":"IF(K205=\"\",\"\",VLOOKUP(K205,Parámetros!K$11:$P$13,MAX(Parámetros!K$7:$P$7),FALSE))","v":""},{"$f":"IF(L205=\"\",\"\",VLOOKUP(L205,Parámetros!L$11:$P$13,MAX(Parámetros!L$7:$P$7),FALSE))","v":""},{"$f":"IF(M205=\"\",\"\",VLOOKUP(M205,Parámetros!M$11:$P$13,MAX(Parámetros!M$7:$P$7),FALSE))","v":""},{"$f":"IF(N205=\"\",\"\",VLOOKUP(N205,Parámetros!N$11:$P$13,MAX(Parámetros!N$7:$P$7),FALSE))","v":""},{"$f":"IF(O205=\"\",\"\",VLOOKUP(O205,Parámetros!O$11:$P$13,MAX(Parámetros!O$7:$P$7),FALSE))","v":""},""]
[null,null,null,{"$f":"IF(E206=\"\",\"\",VLOOKUP(E206,'Buenas prácticas'!$G$8:$H$1007,2,FALSE))","v":""},null,null,null,null,null,null,null,null,null,null,null,{"$f":"IF(F206=\"\",\"\",VLOOKUP(F206,Parámetros!F$11:$P$13,MAX(Parámetros!F$7:$P$7),FALSE))","v":""},{"$f":"IF(G206=\"\",\"\",VLOOKUP(G206,Parámetros!G$11:$P$13,MAX(Parámetros!G$7:$P$7),FALSE))","v":""},{"$f":"IF(H206=\"\",\"\",VLOOKUP(H206,Parámetros!H$11:$P$13,MAX(Parámetros!H$7:$P$7),FALSE))","v":""},{"$f":"IF(I206=\"\",\"\",VLOOKUP(I206,Parámetros!I$11:$P$13,MAX(Parámetros!I$7:$P$7),FALSE))","v":""},{"$f":"IF(J206=\"\",\"\",VLOOKUP(J206,Parámetros!J$11:$P$13,MAX(Parámetros!J$7:$P$7),FALSE))","v":""},{"$f":"IF(K206=\"\",\"\",VLOOKUP(K206,Parámetros!K$11:$P$13,MAX(Parámetros!K$7:$P$7),FALSE))","v":""},{"$f":"IF(L206=\"\",\"\",VLOOKUP(L206,Parámetros!L$11:$P$13,MAX(Parámetros!L$7:$P$7),FALSE))","v":""},{"$f":"IF(M206=\"\",\"\",VLOOKUP(M206,Parámetros!M$11:$P$13,MAX(Parámetros!M$7:$P$7),FALSE))","v":""},{"$f":"IF(N206=\"\",\"\",VLOOKUP(N206,Parámetros!N$11:$P$13,MAX(Parámetros!N$7:$P$7),FALSE))","v":""},{"$f":"IF(O206=\"\",\"\",VLOOKUP(O206,Parámetros!O$11:$P$13,MAX(Parámetros!O$7:$P$7),FALSE))","v":""},""]
[null,null,null,{"$f":"IF(E207=\"\",\"\",VLOOKUP(E207,'Buenas prácticas'!$G$8:$H$1007,2,FALSE))","v":""},null,null,null,null,null,null,null,null,null,null,null,{"$f":"IF(F207=\"\",\"\",VLOOKUP(F207,Parámetros!F$11:$P$13,MAX(Parámetros!F$7:$P$7),FALSE))","v":""},{"$f":"IF(G207=\"\",\"\",VLOOKUP(G207,Parámetros!G$11:$P$13,MAX(Parámetros!G$7:$P$7),FALSE))","v":""},{"$f":"IF(H207=\"\",\"\",VLOOKUP(H207,Parámetros!H$11:$P$13,MAX(Parámetros!H$7:$P$7),FALSE))","v":""},{"$f":"IF(I207=\"\",\"\",VLOOKUP(I207,Parámetros!I$11:$P$13,MAX(Parámetros!I$7:$P$7),FALSE))","v":""},{"$f":"IF(J207=\"\",\"\",VLOOKUP(J207,Parámetros!J$11:$P$13,MAX(Parámetros!J$7:$P$7),FALSE))","v":""},{"$f":"IF(K207=\"\",\"\",VLOOKUP(K207,Parámetros!K$11:$P$13,MAX(Parámetros!K$7:$P$7),FALSE))","v":""},{"$f":"IF(L207=\"\",\"\",VLOOKUP(L207,Parámetros!L$11:$P$13,MAX(Parámetros!L$7:$P$7),FALSE))","v":""},{"$f":"IF(M207=\"\",\"\",VLOOKUP(M207,Parámetros!M$11:$P$13,MAX(Parámetros!M$7:$P$7),FALSE))","v":""},{"$f":"IF(N207=\"\",\"\",VLOOKUP(N207,Parámetros!N$11:$P$13,MAX(Parámetros!N$7:$P$7),FALSE))","v":""},{"$f":"IF(O207=\"\",\"\",VLOOKUP(O207,Parámetros!O$11:$P$13,MAX(Parámetros!O$7:$P$7),FALSE))","v":""},""]
[null,null,null,{"$f":"IF(E208=\"\",\"\",VLOOKUP(E208,'Buenas prácticas'!$G$8:$H$1007,2,FALSE))","v":""},null,null,null,null,null,null,null,null,null,null,null,{"$f":"IF(F208=\"\",\"\",VLOOKUP(F208,Parámetros!F$11:$P$13,MAX(Parámetros!F$7:$P$7),FALSE))","v":""},{"$f":"IF(G208=\"\",\"\",VLOOKUP(G208,Parámetros!G$11:$P$13,MAX(Parámetros!G$7:$P$7),FALSE))","v":""},{"$f":"IF(H208=\"\",\"\",VLOOKUP(H208,Parámetros!H$11:$P$13,MAX(Parámetros!H$7:$P$7),FALSE))","v":""},{"$f":"IF(I208=\"\",\"\",VLOOKUP(I208,Parámetros!I$11:$P$13,MAX(Parámetros!I$7:$P$7),FALSE))","v":""},{"$f":"IF(J208=\"\",\"\",VLOOKUP(J208,Parámetros!J$11:$P$13,MAX(Parámetros!J$7:$P$7),FALSE))","v":""},{"$f":"IF(K208=\"\",\"\",VLOOKUP(K208,Parámetros!K$11:$P$13,MAX(Parámetros!K$7:$P$7),FALSE))","v":""},{"$f":"IF(L208=\"\",\"\",VLOOKUP(L208,Parámetros!L$11:$P$13,MAX(Parámetros!L$7:$P$7),FALSE))","v":""},{"$f":"IF(M208=\"\",\"\",VLOOKUP(M208,Parámetros!M$11:$P$13,MAX(Parámetros!M$7:$P$7),FALSE))","v":""},{"$f":"IF(N208=\"\",\"\",VLOOKUP(N208,Parámetros!N$11:$P$13,MAX(Parámetros!N$7:$P$7),FALSE))","v":""},{"$f":"IF(O208=\"\",\"\",VLOOKUP(O208,Parámetros!O$11:$P$13,MAX(Parámetros!O$7:$P$7),FALSE))","v":""},""]
[null,null,null,{"$f":"IF(E209=\"\",\"\",VLOOKUP(E209,'Buenas prácticas'!$G$8:$H$1007,2,FALSE))","v":""},null,null,null,null,null,null,null,null,null,null,null,{"$f":"IF(F209=\"\",\"\",VLOOKUP(F209,Parámetros!F$11:$P$13,MAX(Parámetros!F$7:$P$7),FALSE))","v":""},{"$f":"IF(G209=\"\",\"\",VLOOKUP(G209,Parámetros!G$11:$P$13,MAX(Parámetros!G$7:$P$7),FALSE))","v":""},{"$f":"IF(H209=\"\",\"\",VLOOKUP(H209,Parámetros!H$11:$P$13,MAX(Parámetros!H$7:$P$7),FALSE))","v":""},{"$f":"IF(I209=\"\",\"\",VLOOKUP(I209,Parámetros!I$11:$P$13,MAX(Parámetros!I$7:$P$7),FALSE))","v":""},{"$f":"IF(J209=\"\",\"\",VLOOKUP(J209,Parámetros!J$11:$P$13,MAX(Parámetros!J$7:$P$7),FALSE))","v":""},{"$f":"IF(K209=\"\",\"\",VLOOKUP(K209,Parámetros!K$11:$P$13,MAX(Parámetros!K$7:$P$7),FALSE))","v":""},{"$f":"IF(L209=\"\",\"\",VLOOKUP(L209,Parámetros!L$11:$P$13,MAX(Parámetros!L$7:$P$7),FALSE))","v":""},{"$f":"IF(M209=\"\",\"\",VLOOKUP(M209,Parámetros!M$11:$P$13,MAX(Parámetros!M$7:$P$7),FALSE))","v":""},{"$f":"IF(N209=\"\",\"\",VLOOKUP(N209,Parámetros!N$11:$P$13,MAX(Parámetros!N$7:$P$7),FALSE))","v":""},{"$f":"IF(O209=\"\",\"\",VLOOKUP(O209,Parámetros!O$11:$P$13,MAX(Parámetros!O$7:$P$7),FALSE))","v":""},""]
[null,null,null,{"$f":"IF(E210=\"\",\"\",VLOOKUP(E210,'Buenas prácticas'!$G$8:$H$1007,2,FALSE))","v":""},null,null,null,null,null,null,null,null,null,null,null,{"$f":"IF(F210=\"\",\"\",VLOOKUP(F210,Parámetros!F$11:$P$13,MAX(Parámetros!F$7:$P$7),FALSE))","v":""},{"$f":"IF(G210=\"\",\"\",VLOOKUP(G210,Parámetros!G$11:$P$13,MAX(Parámetros!G$7:$P$7),FALSE))","v":""},{"$f":"IF(H210=\"\",\"\",VLOOKUP(H210,Parámetros!H$11:$P$13,MAX(Parámetros!H$7:$P$7),FALSE))","v":""},{"$f":"IF(I210=\"\",\"\",VLOOKUP(I210,Parámetros!I$11:$P$13,MAX(Parámetros!I$7:$P$7),FALSE))","v":""},{"$f":"IF(J210=\"\",\"\",VLOOKUP(J210,Parámetros!J$11:$P$13,MAX(Parámetros!J$7:$P$7),FALSE))","v":""},{"$f":"IF(K210=\"\",\"\",VLOOKUP(K210,Parámetros!K$11:$P$13,MAX(Parámetros!K$7:$P$7),FALSE))","v":""},{"$f":"IF(L210=\"\",\"\",VLOOKUP(L210,Parámetros!L$11:$P$13,MAX(Parámetros!L$7:$P$7),FALSE))","v":""},{"$f":"IF(M210=\"\",\"\",VLOOKUP(M210,Parámetros!M$11:$P$13,MAX(Parámetros!M$7:$P$7),FALSE))","v":""},{"$f":"IF(N210=\"\",\"\",VLOOKUP(N210,Parámetros!N$11:$P$13,MAX(Parámetros!N$7:$P$7),FALSE))","v":""},{"$f":"IF(O210=\"\",\"\",VLOOKUP(O210,Parámetros!O$11:$P$13,MAX(Parámetros!O$7:$P$7),FALSE))","v":""},""]
[null,null,null,{"$f":"IF(E211=\"\",\"\",VLOOKUP(E211,'Buenas prácticas'!$G$8:$H$1007,2,FALSE))","v":""},null,null,null,null,null,null,null,null,null,null,null,{"$f":"IF(F211=\"\",\"\",VLOOKUP(F211,Parámetros!F$11:$P$13,MAX(Parámetros!F$7:$P$7),FALSE))","v":""},{"$f":"IF(G211=\"\",\"\",VLOOKUP(G211,Parámetros!G$11:$P$13,MAX(Parámetros!G$7:$P$7),FALSE))","v":""},{"$f":"IF(H211=\"\",\"\",VLOOKUP(H211,Parámetros!H$11:$P$13,MAX(Parámetros!H$7:$P$7),FALSE))","v":""},{"$f":"IF(I211=\"\",\"\",VLOOKUP(I211,Parámetros!I$11:$P$13,MAX(Parámetros!I$7:$P$7),FALSE))","v":""},{"$f":"IF(J211=\"\",\"\",VLOOKUP(J211,Parámetros!J$11:$P$13,MAX(Parámetros!J$7:$P$7),FALSE))","v":""},{"$f":"IF(K211=\"\",\"\",VLOOKUP(K211,Parámetros!K$11:$P$13,MAX(Parámetros!K$7:$P$7),FALSE))","v":""},{"$f":"IF(L211=\"\",\"\",VLOOKUP(L211,Parámetros!L$11:$P$13,MAX(Parámetros!L$7:$P$7),FALSE))","v":""},{"$f":"IF(M211=\"\",\"\",VLOOKUP(M211,Parámetros!M$11:$P$13,MAX(Parámetros!M$7:$P$7),FALSE))","v":""},{"$f":"IF(N211=\"\",\"\",VLOOKUP(N211,Parámetros!N$11:$P$13,MAX(Parámetros!N$7:$P$7),FALSE))","v":""},{"$f":"IF(O211=\"\",\"\",VLOOKUP(O211,Parámetros!O$11:$P$13,MAX(Parámetros!O$7:$P$7),FALSE))","v":""},""]
[null,null,null,{"$f":"IF(E212=\"\",\"\",VLOOKUP(E212,'Buenas prácticas'!$G$8:$H$1007,2,FALSE))","v":""},null,null,null,null,null,null,null,null,null,null,null,{"$f":"IF(F212=\"\",\"\",VLOOKUP(F212,Parámetros!F$11:$P$13,MAX(Parámetros!F$7:$P$7),FALSE))","v":""},{"$f":"IF(G212=\"\",\"\",VLOOKUP(G212,Parámetros!G$11:$P$13,MAX(Parámetros!G$7:$P$7),FALSE))","v":""},{"$f":"IF(H212=\"\",\"\",VLOOKUP(H212,Parámetros!H$11:$P$13,MAX(Parámetros!H$7:$P$7),FALSE))","v":""},{"$f":"IF(I212=\"\",\"\",VLOOKUP(I212,Parámetros!I$11:$P$13,MAX(Parámetros!I$7:$P$7),FALSE))","v":""},{"$f":"IF(J212=\"\",\"\",VLOOKUP(J212,Parámetros!J$11:$P$13,MAX(Parámetros!J$7:$P$7),FALSE))","v":""},{"$f":"IF(K212=\"\",\"\",VLOOKUP(K212,Parámetros!K$11:$P$13,MAX(Parámetros!K$7:$P$7),FALSE))","v":""},{"$f":"IF(L212=\"\",\"\",VLOOKUP(L212,Parámetros!L$11:$P$13,MAX(Parámetros!L$7:$P$7),FALSE))","v":""},{"$f":"IF(M212=\"\",\"\",VLOOKUP(M212,Parámetros!M$11:$P$13,MAX(Parámetros!M$7:$P$7),FALSE))","v":""},{"$f":"IF(N212=\"\",\"\",VLOOKUP(N212,Parámetros!N$11:$P$13,MAX(Parámetros!N$7:$P$7),FALSE))","v":""},{"$f":"IF(O212=\"\",\"\",VLOOKUP(O212,Parámetros!O$11:$P$13,MAX(Parámetros!O$7:$P$7),FALSE))","v":""},""]
[null,null,null,{"$f":"IF(E213=\"\",\"\",VLOOKUP(E213,'Buenas prácticas'!$G$8:$H$1007,2,FALSE))","v":""},null,null,null,null,null,null,null,null,null,null,null,{"$f":"IF(F213=\"\",\"\",VLOOKUP(F213,Parámetros!F$11:$P$13,MAX(Parámetros!F$7:$P$7),FALSE))","v":""},{"$f":"IF(G213=\"\",\"\",VLOOKUP(G213,Parámetros!G$11:$P$13,MAX(Parámetros!G$7:$P$7),FALSE))","v":""},{"$f":"IF(H213=\"\",\"\",VLOOKUP(H213,Parámetros!H$11:$P$13,MAX(Parámetros!H$7:$P$7),FALSE))","v":""},{"$f":"IF(I213=\"\",\"\",VLOOKUP(I213,Parámetros!I$11:$P$13,MAX(Parámetros!I$7:$P$7),FALSE))","v":""},{"$f":"IF(J213=\"\",\"\",VLOOKUP(J213,Parámetros!J$11:$P$13,MAX(Parámetros!J$7:$P$7),FALSE))","v":""},{"$f":"IF(K213=\"\",\"\",VLOOKUP(K213,Parámetros!K$11:$P$13,MAX(Parámetros!K$7:$P$7),FALSE))","v":""},{"$f":"IF(L213=\"\",\"\",VLOOKUP(L213,Parámetros!L$11:$P$13,MAX(Parámetros!L$7:$P$7),FALSE))","v":""},{"$f":"IF(M213=\"\",\"\",VLOOKUP(M213,Parámetros!M$11:$P$13,MAX(Parámetros!M$7:$P$7),FALSE))","v":""},{"$f":"IF(N213=\"\",\"\",VLOOKUP(N213,Parámetros!N$11:$P$13,MAX(Parámetros!N$7:$P$7),FALSE))","v":""},{"$f":"IF(O213=\"\",\"\",VLOOKUP(O213,Parámetros!O$11:$P$13,MAX(Parámetros!O$7:$P$7),FALSE))","v":""},""]
[null,null,null,{"$f":"IF(E214=\"\",\"\",VLOOKUP(E214,'Buenas prácticas'!$G$8:$H$1007,2,FALSE))","v":""},null,null,null,null,null,null,null,null,null,null,null,{"$f":"IF(F214=\"\",\"\",VLOOKUP(F214,Parámetros!F$11:$P$13,MAX(Parámetros!F$7:$P$7),FALSE))","v":""},{"$f":"IF(G214=\"\",\"\",VLOOKUP(G214,Parámetros!G$11:$P$13,MAX(Parámetros!G$7:$P$7),FALSE))","v":""},{"$f":"IF(H214=\"\",\"\",VLOOKUP(H214,Parámetros!H$11:$P$13,MAX(Parámetros!H$7:$P$7),FALSE))","v":""},{"$f":"IF(I214=\"\",\"\",VLOOKUP(I214,Parámetros!I$11:$P$13,MAX(Parámetros!I$7:$P$7),FALSE))","v":""},{"$f":"IF(J214=\"\",\"\",VLOOKUP(J214,Parámetros!J$11:$P$13,MAX(Parámetros!J$7:$P$7),FALSE))","v":""},{"$f":"IF(K214=\"\",\"\",VLOOKUP(K214,Parámetros!K$11:$P$13,MAX(Parámetros!K$7:$P$7),FALSE))","v":""},{"$f":"IF(L214=\"\",\"\",VLOOKUP(L214,Parámetros!L$11:$P$13,MAX(Parámetros!L$7:$P$7),FALSE))","v":""},{"$f":"IF(M214=\"\",\"\",VLOOKUP(M214,Parámetros!M$11:$P$13,MAX(Parámetros!M$7:$P$7),FALSE))","v":""},{"$f":"IF(N214=\"\",\"\",VLOOKUP(N214,Parámetros!N$11:$P$13,MAX(Parámetros!N$7:$P$7),FALSE))","v":""},{"$f":"IF(O214=\"\",\"\",VLOOKUP(O214,Parámetros!O$11:$P$13,MAX(Parámetros!O$7:$P$7),FALSE))","v":""},""]
[null,null,null,{"$f":"IF(E215=\"\",\"\",VLOOKUP(E215,'Buenas prácticas'!$G$8:$H$1007,2,FALSE))","v":""},null,null,null,null,null,null,null,null,null,null,null,{"$f":"IF(F215=\"\",\"\",VLOOKUP(F215,Parámetros!F$11:$P$13,MAX(Parámetros!F$7:$P$7),FALSE))","v":""},{"$f":"IF(G215=\"\",\"\",VLOOKUP(G215,Parámetros!G$11:$P$13,MAX(Parámetros!G$7:$P$7),FALSE))","v":""},{"$f":"IF(H215=\"\",\"\",VLOOKUP(H215,Parámetros!H$11:$P$13,MAX(Parámetros!H$7:$P$7),FALSE))","v":""},{"$f":"IF(I215=\"\",\"\",VLOOKUP(I215,Parámetros!I$11:$P$13,MAX(Parámetros!I$7:$P$7),FALSE))","v":""},{"$f":"IF(J215=\"\",\"\",VLOOKUP(J215,Parámetros!J$11:$P$13,MAX(Parámetros!J$7:$P$7),FALSE))","v":""},{"$f":"IF(K215=\"\",\"\",VLOOKUP(K215,Parámetros!K$11:$P$13,MAX(Parámetros!K$7:$P$7),FALSE))","v":""},{"$f":"IF(L215=\"\",\"\",VLOOKUP(L215,Parámetros!L$11:$P$13,MAX(Parámetros!L$7:$P$7),FALSE))","v":""},{"$f":"IF(M215=\"\",\"\",VLOOKUP(M215,Parámetros!M$11:$P$13,MAX(Parámetros!M$7:$P$7),FALSE))","v":""},{"$f":"IF(N215=\"\",\"\",VLOOKUP(N215,Parámetros!N$11:$P$13,MAX(Parámetros!N$7:$P$7),FALSE))","v":""},{"$f":"IF(O215=\"\",\"\",VLOOKUP(O215,Parámetros!O$11:$P$13,MAX(Parámetros!O$7:$P$7),FALSE))","v":""},""]
[null,null,null,{"$f":"IF(E216=\"\",\"\",VLOOKUP(E216,'Buenas prácticas'!$G$8:$H$1007,2,FALSE))","v":""},null,null,null,null,null,null,null,null,null,null,null,{"$f":"IF(F216=\"\",\"\",VLOOKUP(F216,Parámetros!F$11:$P$13,MAX(Parámetros!F$7:$P$7),FALSE))","v":""},{"$f":"IF(G216=\"\",\"\",VLOOKUP(G216,Parámetros!G$11:$P$13,MAX(Parámetros!G$7:$P$7),FALSE))","v":""},{"$f":"IF(H216=\"\",\"\",VLOOKUP(H216,Parámetros!H$11:$P$13,MAX(Parámetros!H$7:$P$7),FALSE))","v":""},{"$f":"IF(I216=\"\",\"\",VLOOKUP(I216,Parámetros!I$11:$P$13,MAX(Parámetros!I$7:$P$7),FALSE))","v":""},{"$f":"IF(J216=\"\",\"\",VLOOKUP(J216,Parámetros!J$11:$P$13,MAX(Parámetros!J$7:$P$7),FALSE))","v":""},{"$f":"IF(K216=\"\",\"\",VLOOKUP(K216,Parámetros!K$11:$P$13,MAX(Parámetros!K$7:$P$7),FALSE))","v":""},{"$f":"IF(L216=\"\",\"\",VLOOKUP(L216,Parámetros!L$11:$P$13,MAX(Parámetros!L$7:$P$7),FALSE))","v":""},{"$f":"IF(M216=\"\",\"\",VLOOKUP(M216,Parámetros!M$11:$P$13,MAX(Parámetros!M$7:$P$7),FALSE))","v":""},{"$f":"IF(N216=\"\",\"\",VLOOKUP(N216,Parámetros!N$11:$P$13,MAX(Parámetros!N$7:$P$7),FALSE))","v":""},{"$f":"IF(O216=\"\",\"\",VLOOKUP(O216,Parámetros!O$11:$P$13,MAX(Parámetros!O$7:$P$7),FALSE))","v":""},""]
[null,null,null,{"$f":"IF(E217=\"\",\"\",VLOOKUP(E217,'Buenas prácticas'!$G$8:$H$1007,2,FALSE))","v":""},null,null,null,null,null,null,null,null,null,null,null,{"$f":"IF(F217=\"\",\"\",VLOOKUP(F217,Parámetros!F$11:$P$13,MAX(Parámetros!F$7:$P$7),FALSE))","v":""},{"$f":"IF(G217=\"\",\"\",VLOOKUP(G217,Parámetros!G$11:$P$13,MAX(Parámetros!G$7:$P$7),FALSE))","v":""},{"$f":"IF(H217=\"\",\"\",VLOOKUP(H217,Parámetros!H$11:$P$13,MAX(Parámetros!H$7:$P$7),FALSE))","v":""},{"$f":"IF(I217=\"\",\"\",VLOOKUP(I217,Parámetros!I$11:$P$13,MAX(Parámetros!I$7:$P$7),FALSE))","v":""},{"$f":"IF(J217=\"\",\"\",VLOOKUP(J217,Parámetros!J$11:$P$13,MAX(Parámetros!J$7:$P$7),FALSE))","v":""},{"$f":"IF(K217=\"\",\"\",VLOOKUP(K217,Parámetros!K$11:$P$13,MAX(Parámetros!K$7:$P$7),FALSE))","v":""},{"$f":"IF(L217=\"\",\"\",VLOOKUP(L217,Parámetros!L$11:$P$13,MAX(Parámetros!L$7:$P$7),FALSE))","v":""},{"$f":"IF(M217=\"\",\"\",VLOOKUP(M217,Parámetros!M$11:$P$13,MAX(Parámetros!M$7:$P$7),FALSE))","v":""},{"$f":"IF(N217=\"\",\"\",VLOOKUP(N217,Parámetros!N$11:$P$13,MAX(Parámetros!N$7:$P$7),FALSE))","v":""},{"$f":"IF(O217=\"\",\"\",VLOOKUP(O217,Parámetros!O$11:$P$13,MAX(Parámetros!O$7:$P$7),FALSE))","v":""},""]
[null,null,null,{"$f":"IF(E218=\"\",\"\",VLOOKUP(E218,'Buenas prácticas'!$G$8:$H$1007,2,FALSE))","v":""},null,null,null,null,null,null,null,null,null,null,null,{"$f":"IF(F218=\"\",\"\",VLOOKUP(F218,Parámetros!F$11:$P$13,MAX(Parámetros!F$7:$P$7),FALSE))","v":""},{"$f":"IF(G218=\"\",\"\",VLOOKUP(G218,Parámetros!G$11:$P$13,MAX(Parámetros!G$7:$P$7),FALSE))","v":""},{"$f":"IF(H218=\"\",\"\",VLOOKUP(H218,Parámetros!H$11:$P$13,MAX(Parámetros!H$7:$P$7),FALSE))","v":""},{"$f":"IF(I218=\"\",\"\",VLOOKUP(I218,Parámetros!I$11:$P$13,MAX(Parámetros!I$7:$P$7),FALSE))","v":""},{"$f":"IF(J218=\"\",\"\",VLOOKUP(J218,Parámetros!J$11:$P$13,MAX(Parámetros!J$7:$P$7),FALSE))","v":""},{"$f":"IF(K218=\"\",\"\",VLOOKUP(K218,Parámetros!K$11:$P$13,MAX(Parámetros!K$7:$P$7),FALSE))","v":""},{"$f":"IF(L218=\"\",\"\",VLOOKUP(L218,Parámetros!L$11:$P$13,MAX(Parámetros!L$7:$P$7),FALSE))","v":""},{"$f":"IF(M218=\"\",\"\",VLOOKUP(M218,Parámetros!M$11:$P$13,MAX(Parámetros!M$7:$P$7),FALSE))","v":""},{"$f":"IF(N218=\"\",\"\",VLOOKUP(N218,Parámetros!N$11:$P$13,MAX(Parámetros!N$7:$P$7),FALSE))","v":""},{"$f":"IF(O218=\"\",\"\",VLOOKUP(O218,Parámetros!O$11:$P$13,MAX(Parámetros!O$7:$P$7),FALSE))","v":""},""]
[null,null,null,{"$f":"IF(E219=\"\",\"\",VLOOKUP(E219,'Buenas prácticas'!$G$8:$H$1007,2,FALSE))","v":""},null,null,null,null,null,null,null,null,null,null,null,{"$f":"IF(F219=\"\",\"\",VLOOKUP(F219,Parámetros!F$11:$P$13,MAX(Parámetros!F$7:$P$7),FALSE))","v":""},{"$f":"IF(G219=\"\",\"\",VLOOKUP(G219,Parámetros!G$11:$P$13,MAX(Parámetros!G$7:$P$7),FALSE))","v":""},{"$f":"IF(H219=\"\",\"\",VLOOKUP(H219,Parámetros!H$11:$P$13,MAX(Parámetros!H$7:$P$7),FALSE))","v":""},{"$f":"IF(I219=\"\",\"\",VLOOKUP(I219,Parámetros!I$11:$P$13,MAX(Parámetros!I$7:$P$7),FALSE))","v":""},{"$f":"IF(J219=\"\",\"\",VLOOKUP(J219,Parámetros!J$11:$P$13,MAX(Parámetros!J$7:$P$7),FALSE))","v":""},{"$f":"IF(K219=\"\",\"\",VLOOKUP(K219,Parámetros!K$11:$P$13,MAX(Parámetros!K$7:$P$7),FALSE))","v":""},{"$f":"IF(L219=\"\",\"\",VLOOKUP(L219,Parámetros!L$11:$P$13,MAX(Parámetros!L$7:$P$7),FALSE))","v":""},{"$f":"IF(M219=\"\",\"\",VLOOKUP(M219,Parámetros!M$11:$P$13,MAX(Parámetros!M$7:$P$7),FALSE))","v":""},{"$f":"IF(N219=\"\",\"\",VLOOKUP(N219,Parámetros!N$11:$P$13,MAX(Parámetros!N$7:$P$7),FALSE))","v":""},{"$f":"IF(O219=\"\",\"\",VLOOKUP(O219,Parámetros!O$11:$P$13,MAX(Parámetros!O$7:$P$7),FALSE))","v":""},""]
[null,null,null,{"$f":"IF(E220=\"\",\"\",VLOOKUP(E220,'Buenas prácticas'!$G$8:$H$1007,2,FALSE))","v":""},null,null,null,null,null,null,null,null,null,null,null,{"$f":"IF(F220=\"\",\"\",VLOOKUP(F220,Parámetros!F$11:$P$13,MAX(Parámetros!F$7:$P$7),FALSE))","v":""},{"$f":"IF(G220=\"\",\"\",VLOOKUP(G220,Parámetros!G$11:$P$13,MAX(Parámetros!G$7:$P$7),FALSE))","v":""},{"$f":"IF(H220=\"\",\"\",VLOOKUP(H220,Parámetros!H$11:$P$13,MAX(Parámetros!H$7:$P$7),FALSE))","v":""},{"$f":"IF(I220=\"\",\"\",VLOOKUP(I220,Parámetros!I$11:$P$13,MAX(Parámetros!I$7:$P$7),FALSE))","v":""},{"$f":"IF(J220=\"\",\"\",VLOOKUP(J220,Parámetros!J$11:$P$13,MAX(Parámetros!J$7:$P$7),FALSE))","v":""},{"$f":"IF(K220=\"\",\"\",VLOOKUP(K220,Parámetros!K$11:$P$13,MAX(Parámetros!K$7:$P$7),FALSE))","v":""},{"$f":"IF(L220=\"\",\"\",VLOOKUP(L220,Parámetros!L$11:$P$13,MAX(Parámetros!L$7:$P$7),FALSE))","v":""},{"$f":"IF(M220=\"\",\"\",VLOOKUP(M220,Parámetros!M$11:$P$13,MAX(Parámetros!M$7:$P$7),FALSE))","v":""},{"$f":"IF(N220=\"\",\"\",VLOOKUP(N220,Parámetros!N$11:$P$13,MAX(Parámetros!N$7:$P$7),FALSE))","v":""},{"$f":"IF(O220=\"\",\"\",VLOOKUP(O220,Parámetros!O$11:$P$13,MAX(Parámetros!O$7:$P$7),FALSE))","v":""},""]
[null,null,null,{"$f":"IF(E221=\"\",\"\",VLOOKUP(E221,'Buenas prácticas'!$G$8:$H$1007,2,FALSE))","v":""},null,null,null,null,null,null,null,null,null,null,null,{"$f":"IF(F221=\"\",\"\",VLOOKUP(F221,Parámetros!F$11:$P$13,MAX(Parámetros!F$7:$P$7),FALSE))","v":""},{"$f":"IF(G221=\"\",\"\",VLOOKUP(G221,Parámetros!G$11:$P$13,MAX(Parámetros!G$7:$P$7),FALSE))","v":""},{"$f":"IF(H221=\"\",\"\",VLOOKUP(H221,Parámetros!H$11:$P$13,MAX(Parámetros!H$7:$P$7),FALSE))","v":""},{"$f":"IF(I221=\"\",\"\",VLOOKUP(I221,Parámetros!I$11:$P$13,MAX(Parámetros!I$7:$P$7),FALSE))","v":""},{"$f":"IF(J221=\"\",\"\",VLOOKUP(J221,Parámetros!J$11:$P$13,MAX(Parámetros!J$7:$P$7),FALSE))","v":""},{"$f":"IF(K221=\"\",\"\",VLOOKUP(K221,Parámetros!K$11:$P$13,MAX(Parámetros!K$7:$P$7),FALSE))","v":""},{"$f":"IF(L221=\"\",\"\",VLOOKUP(L221,Parámetros!L$11:$P$13,MAX(Parámetros!L$7:$P$7),FALSE))","v":""},{"$f":"IF(M221=\"\",\"\",VLOOKUP(M221,Parámetros!M$11:$P$13,MAX(Parámetros!M$7:$P$7),FALSE))","v":""},{"$f":"IF(N221=\"\",\"\",VLOOKUP(N221,Parámetros!N$11:$P$13,MAX(Parámetros!N$7:$P$7),FALSE))","v":""},{"$f":"IF(O221=\"\",\"\",VLOOKUP(O221,Parámetros!O$11:$P$13,MAX(Parámetros!O$7:$P$7),FALSE))","v":""},""]
[null,null,null,{"$f":"IF(E222=\"\",\"\",VLOOKUP(E222,'Buenas prácticas'!$G$8:$H$1007,2,FALSE))","v":""},null,null,null,null,null,null,null,null,null,null,null,{"$f":"IF(F222=\"\",\"\",VLOOKUP(F222,Parámetros!F$11:$P$13,MAX(Parámetros!F$7:$P$7),FALSE))","v":""},{"$f":"IF(G222=\"\",\"\",VLOOKUP(G222,Parámetros!G$11:$P$13,MAX(Parámetros!G$7:$P$7),FALSE))","v":""},{"$f":"IF(H222=\"\",\"\",VLOOKUP(H222,Parámetros!H$11:$P$13,MAX(Parámetros!H$7:$P$7),FALSE))","v":""},{"$f":"IF(I222=\"\",\"\",VLOOKUP(I222,Parámetros!I$11:$P$13,MAX(Parámetros!I$7:$P$7),FALSE))","v":""},{"$f":"IF(J222=\"\",\"\",VLOOKUP(J222,Parámetros!J$11:$P$13,MAX(Parámetros!J$7:$P$7),FALSE))","v":""},{"$f":"IF(K222=\"\",\"\",VLOOKUP(K222,Parámetros!K$11:$P$13,MAX(Parámetros!K$7:$P$7),FALSE))","v":""},{"$f":"IF(L222=\"\",\"\",VLOOKUP(L222,Parámetros!L$11:$P$13,MAX(Parámetros!L$7:$P$7),FALSE))","v":""},{"$f":"IF(M222=\"\",\"\",VLOOKUP(M222,Parámetros!M$11:$P$13,MAX(Parámetros!M$7:$P$7),FALSE))","v":""},{"$f":"IF(N222=\"\",\"\",VLOOKUP(N222,Parámetros!N$11:$P$13,MAX(Parámetros!N$7:$P$7),FALSE))","v":""},{"$f":"IF(O222=\"\",\"\",VLOOKUP(O222,Parámetros!O$11:$P$13,MAX(Parámetros!O$7:$P$7),FALSE))","v":""},""]
[null,null,null,{"$f":"IF(E223=\"\",\"\",VLOOKUP(E223,'Buenas prácticas'!$G$8:$H$1007,2,FALSE))","v":""},null,null,null,null,null,null,null,null,null,null,null,{"$f":"IF(F223=\"\",\"\",VLOOKUP(F223,Parámetros!F$11:$P$13,MAX(Parámetros!F$7:$P$7),FALSE))","v":""},{"$f":"IF(G223=\"\",\"\",VLOOKUP(G223,Parámetros!G$11:$P$13,MAX(Parámetros!G$7:$P$7),FALSE))","v":""},{"$f":"IF(H223=\"\",\"\",VLOOKUP(H223,Parámetros!H$11:$P$13,MAX(Parámetros!H$7:$P$7),FALSE))","v":""},{"$f":"IF(I223=\"\",\"\",VLOOKUP(I223,Parámetros!I$11:$P$13,MAX(Parámetros!I$7:$P$7),FALSE))","v":""},{"$f":"IF(J223=\"\",\"\",VLOOKUP(J223,Parámetros!J$11:$P$13,MAX(Parámetros!J$7:$P$7),FALSE))","v":""},{"$f":"IF(K223=\"\",\"\",VLOOKUP(K223,Parámetros!K$11:$P$13,MAX(Parámetros!K$7:$P$7),FALSE))","v":""},{"$f":"IF(L223=\"\",\"\",VLOOKUP(L223,Parámetros!L$11:$P$13,MAX(Parámetros!L$7:$P$7),FALSE))","v":""},{"$f":"IF(M223=\"\",\"\",VLOOKUP(M223,Parámetros!M$11:$P$13,MAX(Parámetros!M$7:$P$7),FALSE))","v":""},{"$f":"IF(N223=\"\",\"\",VLOOKUP(N223,Parámetros!N$11:$P$13,MAX(Parámetros!N$7:$P$7),FALSE))","v":""},{"$f":"IF(O223=\"\",\"\",VLOOKUP(O223,Parámetros!O$11:$P$13,MAX(Parámetros!O$7:$P$7),FALSE))","v":""},""]
[null,null,null,{"$f":"IF(E224=\"\",\"\",VLOOKUP(E224,'Buenas prácticas'!$G$8:$H$1007,2,FALSE))","v":""},null,null,null,null,null,null,null,null,null,null,null,{"$f":"IF(F224=\"\",\"\",VLOOKUP(F224,Parámetros!F$11:$P$13,MAX(Parámetros!F$7:$P$7),FALSE))","v":""},{"$f":"IF(G224=\"\",\"\",VLOOKUP(G224,Parámetros!G$11:$P$13,MAX(Parámetros!G$7:$P$7),FALSE))","v":""},{"$f":"IF(H224=\"\",\"\",VLOOKUP(H224,Parámetros!H$11:$P$13,MAX(Parámetros!H$7:$P$7),FALSE))","v":""},{"$f":"IF(I224=\"\",\"\",VLOOKUP(I224,Parámetros!I$11:$P$13,MAX(Parámetros!I$7:$P$7),FALSE))","v":""},{"$f":"IF(J224=\"\",\"\",VLOOKUP(J224,Parámetros!J$11:$P$13,MAX(Parámetros!J$7:$P$7),FALSE))","v":""},{"$f":"IF(K224=\"\",\"\",VLOOKUP(K224,Parámetros!K$11:$P$13,MAX(Parámetros!K$7:$P$7),FALSE))","v":""},{"$f":"IF(L224=\"\",\"\",VLOOKUP(L224,Parámetros!L$11:$P$13,MAX(Parámetros!L$7:$P$7),FALSE))","v":""},{"$f":"IF(M224=\"\",\"\",VLOOKUP(M224,Parámetros!M$11:$P$13,MAX(Parámetros!M$7:$P$7),FALSE))","v":""},{"$f":"IF(N224=\"\",\"\",VLOOKUP(N224,Parámetros!N$11:$P$13,MAX(Parámetros!N$7:$P$7),FALSE))","v":""},{"$f":"IF(O224=\"\",\"\",VLOOKUP(O224,Parámetros!O$11:$P$13,MAX(Parámetros!O$7:$P$7),FALSE))","v":""},""]
[null,null,null,{"$f":"IF(E225=\"\",\"\",VLOOKUP(E225,'Buenas prácticas'!$G$8:$H$1007,2,FALSE))","v":""},null,null,null,null,null,null,null,null,null,null,null,{"$f":"IF(F225=\"\",\"\",VLOOKUP(F225,Parámetros!F$11:$P$13,MAX(Parámetros!F$7:$P$7),FALSE))","v":""},{"$f":"IF(G225=\"\",\"\",VLOOKUP(G225,Parámetros!G$11:$P$13,MAX(Parámetros!G$7:$P$7),FALSE))","v":""},{"$f":"IF(H225=\"\",\"\",VLOOKUP(H225,Parámetros!H$11:$P$13,MAX(Parámetros!H$7:$P$7),FALSE))","v":""},{"$f":"IF(I225=\"\",\"\",VLOOKUP(I225,Parámetros!I$11:$P$13,MAX(Parámetros!I$7:$P$7),FALSE))","v":""},{"$f":"IF(J225=\"\",\"\",VLOOKUP(J225,Parámetros!J$11:$P$13,MAX(Parámetros!J$7:$P$7),FALSE))","v":""},{"$f":"IF(K225=\"\",\"\",VLOOKUP(K225,Parámetros!K$11:$P$13,MAX(Parámetros!K$7:$P$7),FALSE))","v":""},{"$f":"IF(L225=\"\",\"\",VLOOKUP(L225,Parámetros!L$11:$P$13,MAX(Parámetros!L$7:$P$7),FALSE))","v":""},{"$f":"IF(M225=\"\",\"\",VLOOKUP(M225,Parámetros!M$11:$P$13,MAX(Parámetros!M$7:$P$7),FALSE))","v":""},{"$f":"IF(N225=\"\",\"\",VLOOKUP(N225,Parámetros!N$11:$P$13,MAX(Parámetros!N$7:$P$7),FALSE))","v":""},{"$f":"IF(O225=\"\",\"\",VLOOKUP(O225,Parámetros!O$11:$P$13,MAX(Parámetros!O$7:$P$7),FALSE))","v":""},""]
[null,null,null,{"$f":"IF(E226=\"\",\"\",VLOOKUP(E226,'Buenas prácticas'!$G$8:$H$1007,2,FALSE))","v":""},null,null,null,null,null,null,null,null,null,null,null,{"$f":"IF(F226=\"\",\"\",VLOOKUP(F226,Parámetros!F$11:$P$13,MAX(Parámetros!F$7:$P$7),FALSE))","v":""},{"$f":"IF(G226=\"\",\"\",VLOOKUP(G226,Parámetros!G$11:$P$13,MAX(Parámetros!G$7:$P$7),FALSE))","v":""},{"$f":"IF(H226=\"\",\"\",VLOOKUP(H226,Parámetros!H$11:$P$13,MAX(Parámetros!H$7:$P$7),FALSE))","v":""},{"$f":"IF(I226=\"\",\"\",VLOOKUP(I226,Parámetros!I$11:$P$13,MAX(Parámetros!I$7:$P$7),FALSE))","v":""},{"$f":"IF(J226=\"\",\"\",VLOOKUP(J226,Parámetros!J$11:$P$13,MAX(Parámetros!J$7:$P$7),FALSE))","v":""},{"$f":"IF(K226=\"\",\"\",VLOOKUP(K226,Parámetros!K$11:$P$13,MAX(Parámetros!K$7:$P$7),FALSE))","v":""},{"$f":"IF(L226=\"\",\"\",VLOOKUP(L226,Parámetros!L$11:$P$13,MAX(Parámetros!L$7:$P$7),FALSE))","v":""},{"$f":"IF(M226=\"\",\"\",VLOOKUP(M226,Parámetros!M$11:$P$13,MAX(Parámetros!M$7:$P$7),FALSE))","v":""},{"$f":"IF(N226=\"\",\"\",VLOOKUP(N226,Parámetros!N$11:$P$13,MAX(Parámetros!N$7:$P$7),FALSE))","v":""},{"$f":"IF(O226=\"\",\"\",VLOOKUP(O226,Parámetros!O$11:$P$13,MAX(Parámetros!O$7:$P$7),FALSE))","v":""},""]
[null,null,null,{"$f":"IF(E227=\"\",\"\",VLOOKUP(E227,'Buenas prácticas'!$G$8:$H$1007,2,FALSE))","v":""},null,null,null,null,null,null,null,null,null,null,null,{"$f":"IF(F227=\"\",\"\",VLOOKUP(F227,Parámetros!F$11:$P$13,MAX(Parámetros!F$7:$P$7),FALSE))","v":""},{"$f":"IF(G227=\"\",\"\",VLOOKUP(G227,Parámetros!G$11:$P$13,MAX(Parámetros!G$7:$P$7),FALSE))","v":""},{"$f":"IF(H227=\"\",\"\",VLOOKUP(H227,Parámetros!H$11:$P$13,MAX(Parámetros!H$7:$P$7),FALSE))","v":""},{"$f":"IF(I227=\"\",\"\",VLOOKUP(I227,Parámetros!I$11:$P$13,MAX(Parámetros!I$7:$P$7),FALSE))","v":""},{"$f":"IF(J227=\"\",\"\",VLOOKUP(J227,Parámetros!J$11:$P$13,MAX(Parámetros!J$7:$P$7),FALSE))","v":""},{"$f":"IF(K227=\"\",\"\",VLOOKUP(K227,Parámetros!K$11:$P$13,MAX(Parámetros!K$7:$P$7),FALSE))","v":""},{"$f":"IF(L227=\"\",\"\",VLOOKUP(L227,Parámetros!L$11:$P$13,MAX(Parámetros!L$7:$P$7),FALSE))","v":""},{"$f":"IF(M227=\"\",\"\",VLOOKUP(M227,Parámetros!M$11:$P$13,MAX(Parámetros!M$7:$P$7),FALSE))","v":""},{"$f":"IF(N227=\"\",\"\",VLOOKUP(N227,Parámetros!N$11:$P$13,MAX(Parámetros!N$7:$P$7),FALSE))","v":""},{"$f":"IF(O227=\"\",\"\",VLOOKUP(O227,Parámetros!O$11:$P$13,MAX(Parámetros!O$7:$P$7),FALSE))","v":""},""]
[null,null,null,{"$f":"IF(E228=\"\",\"\",VLOOKUP(E228,'Buenas prácticas'!$G$8:$H$1007,2,FALSE))","v":""},null,null,null,null,null,null,null,null,null,null,null,{"$f":"IF(F228=\"\",\"\",VLOOKUP(F228,Parámetros!F$11:$P$13,MAX(Parámetros!F$7:$P$7),FALSE))","v":""},{"$f":"IF(G228=\"\",\"\",VLOOKUP(G228,Parámetros!G$11:$P$13,MAX(Parámetros!G$7:$P$7),FALSE))","v":""},{"$f":"IF(H228=\"\",\"\",VLOOKUP(H228,Parámetros!H$11:$P$13,MAX(Parámetros!H$7:$P$7),FALSE))","v":""},{"$f":"IF(I228=\"\",\"\",VLOOKUP(I228,Parámetros!I$11:$P$13,MAX(Parámetros!I$7:$P$7),FALSE))","v":""},{"$f":"IF(J228=\"\",\"\",VLOOKUP(J228,Parámetros!J$11:$P$13,MAX(Parámetros!J$7:$P$7),FALSE))","v":""},{"$f":"IF(K228=\"\",\"\",VLOOKUP(K228,Parámetros!K$11:$P$13,MAX(Parámetros!K$7:$P$7),FALSE))","v":""},{"$f":"IF(L228=\"\",\"\",VLOOKUP(L228,Parámetros!L$11:$P$13,MAX(Parámetros!L$7:$P$7),FALSE))","v":""},{"$f":"IF(M228=\"\",\"\",VLOOKUP(M228,Parámetros!M$11:$P$13,MAX(Parámetros!M$7:$P$7),FALSE))","v":""},{"$f":"IF(N228=\"\",\"\",VLOOKUP(N228,Parámetros!N$11:$P$13,MAX(Parámetros!N$7:$P$7),FALSE))","v":""},{"$f":"IF(O228=\"\",\"\",VLOOKUP(O228,Parámetros!O$11:$P$13,MAX(Parámetros!O$7:$P$7),FALSE))","v":""},""]
[null,null,null,{"$f":"IF(E229=\"\",\"\",VLOOKUP(E229,'Buenas prácticas'!$G$8:$H$1007,2,FALSE))","v":""},null,null,null,null,null,null,null,null,null,null,null,{"$f":"IF(F229=\"\",\"\",VLOOKUP(F229,Parámetros!F$11:$P$13,MAX(Parámetros!F$7:$P$7),FALSE))","v":""},{"$f":"IF(G229=\"\",\"\",VLOOKUP(G229,Parámetros!G$11:$P$13,MAX(Parámetros!G$7:$P$7),FALSE))","v":""},{"$f":"IF(H229=\"\",\"\",VLOOKUP(H229,Parámetros!H$11:$P$13,MAX(Parámetros!H$7:$P$7),FALSE))","v":""},{"$f":"IF(I229=\"\",\"\",VLOOKUP(I229,Parámetros!I$11:$P$13,MAX(Parámetros!I$7:$P$7),FALSE))","v":""},{"$f":"IF(J229=\"\",\"\",VLOOKUP(J229,Parámetros!J$11:$P$13,MAX(Parámetros!J$7:$P$7),FALSE))","v":""},{"$f":"IF(K229=\"\",\"\",VLOOKUP(K229,Parámetros!K$11:$P$13,MAX(Parámetros!K$7:$P$7),FALSE))","v":""},{"$f":"IF(L229=\"\",\"\",VLOOKUP(L229,Parámetros!L$11:$P$13,MAX(Parámetros!L$7:$P$7),FALSE))","v":""},{"$f":"IF(M229=\"\",\"\",VLOOKUP(M229,Parámetros!M$11:$P$13,MAX(Parámetros!M$7:$P$7),FALSE))","v":""},{"$f":"IF(N229=\"\",\"\",VLOOKUP(N229,Parámetros!N$11:$P$13,MAX(Parámetros!N$7:$P$7),FALSE))","v":""},{"$f":"IF(O229=\"\",\"\",VLOOKUP(O229,Parámetros!O$11:$P$13,MAX(Parámetros!O$7:$P$7),FALSE))","v":""},""]
[null,null,null,{"$f":"IF(E230=\"\",\"\",VLOOKUP(E230,'Buenas prácticas'!$G$8:$H$1007,2,FALSE))","v":""},null,null,null,null,null,null,null,null,null,null,null,{"$f":"IF(F230=\"\",\"\",VLOOKUP(F230,Parámetros!F$11:$P$13,MAX(Parámetros!F$7:$P$7),FALSE))","v":""},{"$f":"IF(G230=\"\",\"\",VLOOKUP(G230,Parámetros!G$11:$P$13,MAX(Parámetros!G$7:$P$7),FALSE))","v":""},{"$f":"IF(H230=\"\",\"\",VLOOKUP(H230,Parámetros!H$11:$P$13,MAX(Parámetros!H$7:$P$7),FALSE))","v":""},{"$f":"IF(I230=\"\",\"\",VLOOKUP(I230,Parámetros!I$11:$P$13,MAX(Parámetros!I$7:$P$7),FALSE))","v":""},{"$f":"IF(J230=\"\",\"\",VLOOKUP(J230,Parámetros!J$11:$P$13,MAX(Parámetros!J$7:$P$7),FALSE))","v":""},{"$f":"IF(K230=\"\",\"\",VLOOKUP(K230,Parámetros!K$11:$P$13,MAX(Parámetros!K$7:$P$7),FALSE))","v":""},{"$f":"IF(L230=\"\",\"\",VLOOKUP(L230,Parámetros!L$11:$P$13,MAX(Parámetros!L$7:$P$7),FALSE))","v":""},{"$f":"IF(M230=\"\",\"\",VLOOKUP(M230,Parámetros!M$11:$P$13,MAX(Parámetros!M$7:$P$7),FALSE))","v":""},{"$f":"IF(N230=\"\",\"\",VLOOKUP(N230,Parámetros!N$11:$P$13,MAX(Parámetros!N$7:$P$7),FALSE))","v":""},{"$f":"IF(O230=\"\",\"\",VLOOKUP(O230,Parámetros!O$11:$P$13,MAX(Parámetros!O$7:$P$7),FALSE))","v":""},""]
[null,null,null,{"$f":"IF(E231=\"\",\"\",VLOOKUP(E231,'Buenas prácticas'!$G$8:$H$1007,2,FALSE))","v":""},null,null,null,null,null,null,null,null,null,null,null,{"$f":"IF(F231=\"\",\"\",VLOOKUP(F231,Parámetros!F$11:$P$13,MAX(Parámetros!F$7:$P$7),FALSE))","v":""},{"$f":"IF(G231=\"\",\"\",VLOOKUP(G231,Parámetros!G$11:$P$13,MAX(Parámetros!G$7:$P$7),FALSE))","v":""},{"$f":"IF(H231=\"\",\"\",VLOOKUP(H231,Parámetros!H$11:$P$13,MAX(Parámetros!H$7:$P$7),FALSE))","v":""},{"$f":"IF(I231=\"\",\"\",VLOOKUP(I231,Parámetros!I$11:$P$13,MAX(Parámetros!I$7:$P$7),FALSE))","v":""},{"$f":"IF(J231=\"\",\"\",VLOOKUP(J231,Parámetros!J$11:$P$13,MAX(Parámetros!J$7:$P$7),FALSE))","v":""},{"$f":"IF(K231=\"\",\"\",VLOOKUP(K231,Parámetros!K$11:$P$13,MAX(Parámetros!K$7:$P$7),FALSE))","v":""},{"$f":"IF(L231=\"\",\"\",VLOOKUP(L231,Parámetros!L$11:$P$13,MAX(Parámetros!L$7:$P$7),FALSE))","v":""},{"$f":"IF(M231=\"\",\"\",VLOOKUP(M231,Parámetros!M$11:$P$13,MAX(Parámetros!M$7:$P$7),FALSE))","v":""},{"$f":"IF(N231=\"\",\"\",VLOOKUP(N231,Parámetros!N$11:$P$13,MAX(Parámetros!N$7:$P$7),FALSE))","v":""},{"$f":"IF(O231=\"\",\"\",VLOOKUP(O231,Parámetros!O$11:$P$13,MAX(Parámetros!O$7:$P$7),FALSE))","v":""},""]
[null,null,null,{"$f":"IF(E232=\"\",\"\",VLOOKUP(E232,'Buenas prácticas'!$G$8:$H$1007,2,FALSE))","v":""},null,null,null,null,null,null,null,null,null,null,null,{"$f":"IF(F232=\"\",\"\",VLOOKUP(F232,Parámetros!F$11:$P$13,MAX(Parámetros!F$7:$P$7),FALSE))","v":""},{"$f":"IF(G232=\"\",\"\",VLOOKUP(G232,Parámetros!G$11:$P$13,MAX(Parámetros!G$7:$P$7),FALSE))","v":""},{"$f":"IF(H232=\"\",\"\",VLOOKUP(H232,Parámetros!H$11:$P$13,MAX(Parámetros!H$7:$P$7),FALSE))","v":""},{"$f":"IF(I232=\"\",\"\",VLOOKUP(I232,Parámetros!I$11:$P$13,MAX(Parámetros!I$7:$P$7),FALSE))","v":""},{"$f":"IF(J232=\"\",\"\",VLOOKUP(J232,Parámetros!J$11:$P$13,MAX(Parámetros!J$7:$P$7),FALSE))","v":""},{"$f":"IF(K232=\"\",\"\",VLOOKUP(K232,Parámetros!K$11:$P$13,MAX(Parámetros!K$7:$P$7),FALSE))","v":""},{"$f":"IF(L232=\"\",\"\",VLOOKUP(L232,Parámetros!L$11:$P$13,MAX(Parámetros!L$7:$P$7),FALSE))","v":""},{"$f":"IF(M232=\"\",\"\",VLOOKUP(M232,Parámetros!M$11:$P$13,MAX(Parámetros!M$7:$P$7),FALSE))","v":""},{"$f":"IF(N232=\"\",\"\",VLOOKUP(N232,Parámetros!N$11:$P$13,MAX(Parámetros!N$7:$P$7),FALSE))","v":""},{"$f":"IF(O232=\"\",\"\",VLOOKUP(O232,Parámetros!O$11:$P$13,MAX(Parámetros!O$7:$P$7),FALSE))","v":""},""]
[null,null,null,{"$f":"IF(E233=\"\",\"\",VLOOKUP(E233,'Buenas prácticas'!$G$8:$H$1007,2,FALSE))","v":""},null,null,null,null,null,null,null,null,null,null,null,{"$f":"IF(F233=\"\",\"\",VLOOKUP(F233,Parámetros!F$11:$P$13,MAX(Parámetros!F$7:$P$7),FALSE))","v":""},{"$f":"IF(G233=\"\",\"\",VLOOKUP(G233,Parámetros!G$11:$P$13,MAX(Parámetros!G$7:$P$7),FALSE))","v":""},{"$f":"IF(H233=\"\",\"\",VLOOKUP(H233,Parámetros!H$11:$P$13,MAX(Parámetros!H$7:$P$7),FALSE))","v":""},{"$f":"IF(I233=\"\",\"\",VLOOKUP(I233,Parámetros!I$11:$P$13,MAX(Parámetros!I$7:$P$7),FALSE))","v":""},{"$f":"IF(J233=\"\",\"\",VLOOKUP(J233,Parámetros!J$11:$P$13,MAX(Parámetros!J$7:$P$7),FALSE))","v":""},{"$f":"IF(K233=\"\",\"\",VLOOKUP(K233,Parámetros!K$11:$P$13,MAX(Parámetros!K$7:$P$7),FALSE))","v":""},{"$f":"IF(L233=\"\",\"\",VLOOKUP(L233,Parámetros!L$11:$P$13,MAX(Parámetros!L$7:$P$7),FALSE))","v":""},{"$f":"IF(M233=\"\",\"\",VLOOKUP(M233,Parámetros!M$11:$P$13,MAX(Parámetros!M$7:$P$7),FALSE))","v":""},{"$f":"IF(N233=\"\",\"\",VLOOKUP(N233,Parámetros!N$11:$P$13,MAX(Parámetros!N$7:$P$7),FALSE))","v":""},{"$f":"IF(O233=\"\",\"\",VLOOKUP(O233,Parámetros!O$11:$P$13,MAX(Parámetros!O$7:$P$7),FALSE))","v":""},""]
[null,null,null,{"$f":"IF(E234=\"\",\"\",VLOOKUP(E234,'Buenas prácticas'!$G$8:$H$1007,2,FALSE))","v":""},null,null,null,null,null,null,null,null,null,null,null,{"$f":"IF(F234=\"\",\"\",VLOOKUP(F234,Parámetros!F$11:$P$13,MAX(Parámetros!F$7:$P$7),FALSE))","v":""},{"$f":"IF(G234=\"\",\"\",VLOOKUP(G234,Parámetros!G$11:$P$13,MAX(Parámetros!G$7:$P$7),FALSE))","v":""},{"$f":"IF(H234=\"\",\"\",VLOOKUP(H234,Parámetros!H$11:$P$13,MAX(Parámetros!H$7:$P$7),FALSE))","v":""},{"$f":"IF(I234=\"\",\"\",VLOOKUP(I234,Parámetros!I$11:$P$13,MAX(Parámetros!I$7:$P$7),FALSE))","v":""},{"$f":"IF(J234=\"\",\"\",VLOOKUP(J234,Parámetros!J$11:$P$13,MAX(Parámetros!J$7:$P$7),FALSE))","v":""},{"$f":"IF(K234=\"\",\"\",VLOOKUP(K234,Parámetros!K$11:$P$13,MAX(Parámetros!K$7:$P$7),FALSE))","v":""},{"$f":"IF(L234=\"\",\"\",VLOOKUP(L234,Parámetros!L$11:$P$13,MAX(Parámetros!L$7:$P$7),FALSE))","v":""},{"$f":"IF(M234=\"\",\"\",VLOOKUP(M234,Parámetros!M$11:$P$13,MAX(Parámetros!M$7:$P$7),FALSE))","v":""},{"$f":"IF(N234=\"\",\"\",VLOOKUP(N234,Parámetros!N$11:$P$13,MAX(Parámetros!N$7:$P$7),FALSE))","v":""},{"$f":"IF(O234=\"\",\"\",VLOOKUP(O234,Parámetros!O$11:$P$13,MAX(Parámetros!O$7:$P$7),FALSE))","v":""},""]
[null,null,null,{"$f":"IF(E235=\"\",\"\",VLOOKUP(E235,'Buenas prácticas'!$G$8:$H$1007,2,FALSE))","v":""},null,null,null,null,null,null,null,null,null,null,null,{"$f":"IF(F235=\"\",\"\",VLOOKUP(F235,Parámetros!F$11:$P$13,MAX(Parámetros!F$7:$P$7),FALSE))","v":""},{"$f":"IF(G235=\"\",\"\",VLOOKUP(G235,Parámetros!G$11:$P$13,MAX(Parámetros!G$7:$P$7),FALSE))","v":""},{"$f":"IF(H235=\"\",\"\",VLOOKUP(H235,Parámetros!H$11:$P$13,MAX(Parámetros!H$7:$P$7),FALSE))","v":""},{"$f":"IF(I235=\"\",\"\",VLOOKUP(I235,Parámetros!I$11:$P$13,MAX(Parámetros!I$7:$P$7),FALSE))","v":""},{"$f":"IF(J235=\"\",\"\",VLOOKUP(J235,Parámetros!J$11:$P$13,MAX(Parámetros!J$7:$P$7),FALSE))","v":""},{"$f":"IF(K235=\"\",\"\",VLOOKUP(K235,Parámetros!K$11:$P$13,MAX(Parámetros!K$7:$P$7),FALSE))","v":""},{"$f":"IF(L235=\"\",\"\",VLOOKUP(L235,Parámetros!L$11:$P$13,MAX(Parámetros!L$7:$P$7),FALSE))","v":""},{"$f":"IF(M235=\"\",\"\",VLOOKUP(M235,Parámetros!M$11:$P$13,MAX(Parámetros!M$7:$P$7),FALSE))","v":""},{"$f":"IF(N235=\"\",\"\",VLOOKUP(N235,Parámetros!N$11:$P$13,MAX(Parámetros!N$7:$P$7),FALSE))","v":""},{"$f":"IF(O235=\"\",\"\",VLOOKUP(O235,Parámetros!O$11:$P$13,MAX(Parámetros!O$7:$P$7),FALSE))","v":""},""]
[null,null,null,{"$f":"IF(E236=\"\",\"\",VLOOKUP(E236,'Buenas prácticas'!$G$8:$H$1007,2,FALSE))","v":""},null,null,null,null,null,null,null,null,null,null,null,{"$f":"IF(F236=\"\",\"\",VLOOKUP(F236,Parámetros!F$11:$P$13,MAX(Parámetros!F$7:$P$7),FALSE))","v":""},{"$f":"IF(G236=\"\",\"\",VLOOKUP(G236,Parámetros!G$11:$P$13,MAX(Parámetros!G$7:$P$7),FALSE))","v":""},{"$f":"IF(H236=\"\",\"\",VLOOKUP(H236,Parámetros!H$11:$P$13,MAX(Parámetros!H$7:$P$7),FALSE))","v":""},{"$f":"IF(I236=\"\",\"\",VLOOKUP(I236,Parámetros!I$11:$P$13,MAX(Parámetros!I$7:$P$7),FALSE))","v":""},{"$f":"IF(J236=\"\",\"\",VLOOKUP(J236,Parámetros!J$11:$P$13,MAX(Parámetros!J$7:$P$7),FALSE))","v":""},{"$f":"IF(K236=\"\",\"\",VLOOKUP(K236,Parámetros!K$11:$P$13,MAX(Parámetros!K$7:$P$7),FALSE))","v":""},{"$f":"IF(L236=\"\",\"\",VLOOKUP(L236,Parámetros!L$11:$P$13,MAX(Parámetros!L$7:$P$7),FALSE))","v":""},{"$f":"IF(M236=\"\",\"\",VLOOKUP(M236,Parámetros!M$11:$P$13,MAX(Parámetros!M$7:$P$7),FALSE))","v":""},{"$f":"IF(N236=\"\",\"\",VLOOKUP(N236,Parámetros!N$11:$P$13,MAX(Parámetros!N$7:$P$7),FALSE))","v":""},{"$f":"IF(O236=\"\",\"\",VLOOKUP(O236,Parámetros!O$11:$P$13,MAX(Parámetros!O$7:$P$7),FALSE))","v":""},""]
[null,null,null,{"$f":"IF(E237=\"\",\"\",VLOOKUP(E237,'Buenas prácticas'!$G$8:$H$1007,2,FALSE))","v":""},null,null,null,null,null,null,null,null,null,null,null,{"$f":"IF(F237=\"\",\"\",VLOOKUP(F237,Parámetros!F$11:$P$13,MAX(Parámetros!F$7:$P$7),FALSE))","v":""},{"$f":"IF(G237=\"\",\"\",VLOOKUP(G237,Parámetros!G$11:$P$13,MAX(Parámetros!G$7:$P$7),FALSE))","v":""},{"$f":"IF(H237=\"\",\"\",VLOOKUP(H237,Parámetros!H$11:$P$13,MAX(Parámetros!H$7:$P$7),FALSE))","v":""},{"$f":"IF(I237=\"\",\"\",VLOOKUP(I237,Parámetros!I$11:$P$13,MAX(Parámetros!I$7:$P$7),FALSE))","v":""},{"$f":"IF(J237=\"\",\"\",VLOOKUP(J237,Parámetros!J$11:$P$13,MAX(Parámetros!J$7:$P$7),FALSE))","v":""},{"$f":"IF(K237=\"\",\"\",VLOOKUP(K237,Parámetros!K$11:$P$13,MAX(Parámetros!K$7:$P$7),FALSE))","v":""},{"$f":"IF(L237=\"\",\"\",VLOOKUP(L237,Parámetros!L$11:$P$13,MAX(Parámetros!L$7:$P$7),FALSE))","v":""},{"$f":"IF(M237=\"\",\"\",VLOOKUP(M237,Parámetros!M$11:$P$13,MAX(Parámetros!M$7:$P$7),FALSE))","v":""},{"$f":"IF(N237=\"\",\"\",VLOOKUP(N237,Parámetros!N$11:$P$13,MAX(Parámetros!N$7:$P$7),FALSE))","v":""},{"$f":"IF(O237=\"\",\"\",VLOOKUP(O237,Parámetros!O$11:$P$13,MAX(Parámetros!O$7:$P$7),FALSE))","v":""},""]
[null,null,null,{"$f":"IF(E238=\"\",\"\",VLOOKUP(E238,'Buenas prácticas'!$G$8:$H$1007,2,FALSE))","v":""},null,null,null,null,null,null,null,null,null,null,null,{"$f":"IF(F238=\"\",\"\",VLOOKUP(F238,Parámetros!F$11:$P$13,MAX(Parámetros!F$7:$P$7),FALSE))","v":""},{"$f":"IF(G238=\"\",\"\",VLOOKUP(G238,Parámetros!G$11:$P$13,MAX(Parámetros!G$7:$P$7),FALSE))","v":""},{"$f":"IF(H238=\"\",\"\",VLOOKUP(H238,Parámetros!H$11:$P$13,MAX(Parámetros!H$7:$P$7),FALSE))","v":""},{"$f":"IF(I238=\"\",\"\",VLOOKUP(I238,Parámetros!I$11:$P$13,MAX(Parámetros!I$7:$P$7),FALSE))","v":""},{"$f":"IF(J238=\"\",\"\",VLOOKUP(J238,Parámetros!J$11:$P$13,MAX(Parámetros!J$7:$P$7),FALSE))","v":""},{"$f":"IF(K238=\"\",\"\",VLOOKUP(K238,Parámetros!K$11:$P$13,MAX(Parámetros!K$7:$P$7),FALSE))","v":""},{"$f":"IF(L238=\"\",\"\",VLOOKUP(L238,Parámetros!L$11:$P$13,MAX(Parámetros!L$7:$P$7),FALSE))","v":""},{"$f":"IF(M238=\"\",\"\",VLOOKUP(M238,Parámetros!M$11:$P$13,MAX(Parámetros!M$7:$P$7),FALSE))","v":""},{"$f":"IF(N238=\"\",\"\",VLOOKUP(N238,Parámetros!N$11:$P$13,MAX(Parámetros!N$7:$P$7),FALSE))","v":""},{"$f":"IF(O238=\"\",\"\",VLOOKUP(O238,Parámetros!O$11:$P$13,MAX(Parámetros!O$7:$P$7),FALSE))","v":""},""]
[null,null,null,{"$f":"IF(E239=\"\",\"\",VLOOKUP(E239,'Buenas prácticas'!$G$8:$H$1007,2,FALSE))","v":""},null,null,null,null,null,null,null,null,null,null,null,{"$f":"IF(F239=\"\",\"\",VLOOKUP(F239,Parámetros!F$11:$P$13,MAX(Parámetros!F$7:$P$7),FALSE))","v":""},{"$f":"IF(G239=\"\",\"\",VLOOKUP(G239,Parámetros!G$11:$P$13,MAX(Parámetros!G$7:$P$7),FALSE))","v":""},{"$f":"IF(H239=\"\",\"\",VLOOKUP(H239,Parámetros!H$11:$P$13,MAX(Parámetros!H$7:$P$7),FALSE))","v":""},{"$f":"IF(I239=\"\",\"\",VLOOKUP(I239,Parámetros!I$11:$P$13,MAX(Parámetros!I$7:$P$7),FALSE))","v":""},{"$f":"IF(J239=\"\",\"\",VLOOKUP(J239,Parámetros!J$11:$P$13,MAX(Parámetros!J$7:$P$7),FALSE))","v":""},{"$f":"IF(K239=\"\",\"\",VLOOKUP(K239,Parámetros!K$11:$P$13,MAX(Parámetros!K$7:$P$7),FALSE))","v":""},{"$f":"IF(L239=\"\",\"\",VLOOKUP(L239,Parámetros!L$11:$P$13,MAX(Parámetros!L$7:$P$7),FALSE))","v":""},{"$f":"IF(M239=\"\",\"\",VLOOKUP(M239,Parámetros!M$11:$P$13,MAX(Parámetros!M$7:$P$7),FALSE))","v":""},{"$f":"IF(N239=\"\",\"\",VLOOKUP(N239,Parámetros!N$11:$P$13,MAX(Parámetros!N$7:$P$7),FALSE))","v":""},{"$f":"IF(O239=\"\",\"\",VLOOKUP(O239,Parámetros!O$11:$P$13,MAX(Parámetros!O$7:$P$7),FALSE))","v":""},""]
[null,null,null,{"$f":"IF(E240=\"\",\"\",VLOOKUP(E240,'Buenas prácticas'!$G$8:$H$1007,2,FALSE))","v":""},null,null,null,null,null,null,null,null,null,null,null,{"$f":"IF(F240=\"\",\"\",VLOOKUP(F240,Parámetros!F$11:$P$13,MAX(Parámetros!F$7:$P$7),FALSE))","v":""},{"$f":"IF(G240=\"\",\"\",VLOOKUP(G240,Parámetros!G$11:$P$13,MAX(Parámetros!G$7:$P$7),FALSE))","v":""},{"$f":"IF(H240=\"\",\"\",VLOOKUP(H240,Parámetros!H$11:$P$13,MAX(Parámetros!H$7:$P$7),FALSE))","v":""},{"$f":"IF(I240=\"\",\"\",VLOOKUP(I240,Parámetros!I$11:$P$13,MAX(Parámetros!I$7:$P$7),FALSE))","v":""},{"$f":"IF(J240=\"\",\"\",VLOOKUP(J240,Parámetros!J$11:$P$13,MAX(Parámetros!J$7:$P$7),FALSE))","v":""},{"$f":"IF(K240=\"\",\"\",VLOOKUP(K240,Parámetros!K$11:$P$13,MAX(Parámetros!K$7:$P$7),FALSE))","v":""},{"$f":"IF(L240=\"\",\"\",VLOOKUP(L240,Parámetros!L$11:$P$13,MAX(Parámetros!L$7:$P$7),FALSE))","v":""},{"$f":"IF(M240=\"\",\"\",VLOOKUP(M240,Parámetros!M$11:$P$13,MAX(Parámetros!M$7:$P$7),FALSE))","v":""},{"$f":"IF(N240=\"\",\"\",VLOOKUP(N240,Parámetros!N$11:$P$13,MAX(Parámetros!N$7:$P$7),FALSE))","v":""},{"$f":"IF(O240=\"\",\"\",VLOOKUP(O240,Parámetros!O$11:$P$13,MAX(Parámetros!O$7:$P$7),FALSE))","v":""},""]
[null,null,null,{"$f":"IF(E241=\"\",\"\",VLOOKUP(E241,'Buenas prácticas'!$G$8:$H$1007,2,FALSE))","v":""},null,null,null,null,null,null,null,null,null,null,null,{"$f":"IF(F241=\"\",\"\",VLOOKUP(F241,Parámetros!F$11:$P$13,MAX(Parámetros!F$7:$P$7),FALSE))","v":""},{"$f":"IF(G241=\"\",\"\",VLOOKUP(G241,Parámetros!G$11:$P$13,MAX(Parámetros!G$7:$P$7),FALSE))","v":""},{"$f":"IF(H241=\"\",\"\",VLOOKUP(H241,Parámetros!H$11:$P$13,MAX(Parámetros!H$7:$P$7),FALSE))","v":""},{"$f":"IF(I241=\"\",\"\",VLOOKUP(I241,Parámetros!I$11:$P$13,MAX(Parámetros!I$7:$P$7),FALSE))","v":""},{"$f":"IF(J241=\"\",\"\",VLOOKUP(J241,Parámetros!J$11:$P$13,MAX(Parámetros!J$7:$P$7),FALSE))","v":""},{"$f":"IF(K241=\"\",\"\",VLOOKUP(K241,Parámetros!K$11:$P$13,MAX(Parámetros!K$7:$P$7),FALSE))","v":""},{"$f":"IF(L241=\"\",\"\",VLOOKUP(L241,Parámetros!L$11:$P$13,MAX(Parámetros!L$7:$P$7),FALSE))","v":""},{"$f":"IF(M241=\"\",\"\",VLOOKUP(M241,Parámetros!M$11:$P$13,MAX(Parámetros!M$7:$P$7),FALSE))","v":""},{"$f":"IF(N241=\"\",\"\",VLOOKUP(N241,Parámetros!N$11:$P$13,MAX(Parámetros!N$7:$P$7),FALSE))","v":""},{"$f":"IF(O241=\"\",\"\",VLOOKUP(O241,Parámetros!O$11:$P$13,MAX(Parámetros!O$7:$P$7),FALSE))","v":""},""]
[null,null,null,{"$f":"IF(E242=\"\",\"\",VLOOKUP(E242,'Buenas prácticas'!$G$8:$H$1007,2,FALSE))","v":""},null,null,null,null,null,null,null,null,null,null,null,{"$f":"IF(F242=\"\",\"\",VLOOKUP(F242,Parámetros!F$11:$P$13,MAX(Parámetros!F$7:$P$7),FALSE))","v":""},{"$f":"IF(G242=\"\",\"\",VLOOKUP(G242,Parámetros!G$11:$P$13,MAX(Parámetros!G$7:$P$7),FALSE))","v":""},{"$f":"IF(H242=\"\",\"\",VLOOKUP(H242,Parámetros!H$11:$P$13,MAX(Parámetros!H$7:$P$7),FALSE))","v":""},{"$f":"IF(I242=\"\",\"\",VLOOKUP(I242,Parámetros!I$11:$P$13,MAX(Parámetros!I$7:$P$7),FALSE))","v":""},{"$f":"IF(J242=\"\",\"\",VLOOKUP(J242,Parámetros!J$11:$P$13,MAX(Parámetros!J$7:$P$7),FALSE))","v":""},{"$f":"IF(K242=\"\",\"\",VLOOKUP(K242,Parámetros!K$11:$P$13,MAX(Parámetros!K$7:$P$7),FALSE))","v":""},{"$f":"IF(L242=\"\",\"\",VLOOKUP(L242,Parámetros!L$11:$P$13,MAX(Parámetros!L$7:$P$7),FALSE))","v":""},{"$f":"IF(M242=\"\",\"\",VLOOKUP(M242,Parámetros!M$11:$P$13,MAX(Parámetros!M$7:$P$7),FALSE))","v":""},{"$f":"IF(N242=\"\",\"\",VLOOKUP(N242,Parámetros!N$11:$P$13,MAX(Parámetros!N$7:$P$7),FALSE))","v":""},{"$f":"IF(O242=\"\",\"\",VLOOKUP(O242,Parámetros!O$11:$P$13,MAX(Parámetros!O$7:$P$7),FALSE))","v":""},""]
[null,null,null,{"$f":"IF(E243=\"\",\"\",VLOOKUP(E243,'Buenas prácticas'!$G$8:$H$1007,2,FALSE))","v":""},null,null,null,null,null,null,null,null,null,null,null,{"$f":"IF(F243=\"\",\"\",VLOOKUP(F243,Parámetros!F$11:$P$13,MAX(Parámetros!F$7:$P$7),FALSE))","v":""},{"$f":"IF(G243=\"\",\"\",VLOOKUP(G243,Parámetros!G$11:$P$13,MAX(Parámetros!G$7:$P$7),FALSE))","v":""},{"$f":"IF(H243=\"\",\"\",VLOOKUP(H243,Parámetros!H$11:$P$13,MAX(Parámetros!H$7:$P$7),FALSE))","v":""},{"$f":"IF(I243=\"\",\"\",VLOOKUP(I243,Parámetros!I$11:$P$13,MAX(Parámetros!I$7:$P$7),FALSE))","v":""},{"$f":"IF(J243=\"\",\"\",VLOOKUP(J243,Parámetros!J$11:$P$13,MAX(Parámetros!J$7:$P$7),FALSE))","v":""},{"$f":"IF(K243=\"\",\"\",VLOOKUP(K243,Parámetros!K$11:$P$13,MAX(Parámetros!K$7:$P$7),FALSE))","v":""},{"$f":"IF(L243=\"\",\"\",VLOOKUP(L243,Parámetros!L$11:$P$13,MAX(Parámetros!L$7:$P$7),FALSE))","v":""},{"$f":"IF(M243=\"\",\"\",VLOOKUP(M243,Parámetros!M$11:$P$13,MAX(Parámetros!M$7:$P$7),FALSE))","v":""},{"$f":"IF(N243=\"\",\"\",VLOOKUP(N243,Parámetros!N$11:$P$13,MAX(Parámetros!N$7:$P$7),FALSE))","v":""},{"$f":"IF(O243=\"\",\"\",VLOOKUP(O243,Parámetros!O$11:$P$13,MAX(Parámetros!O$7:$P$7),FALSE))","v":""},""]
[null,null,null,{"$f":"IF(E244=\"\",\"\",VLOOKUP(E244,'Buenas prácticas'!$G$8:$H$1007,2,FALSE))","v":""},null,null,null,null,null,null,null,null,null,null,null,{"$f":"IF(F244=\"\",\"\",VLOOKUP(F244,Parámetros!F$11:$P$13,MAX(Parámetros!F$7:$P$7),FALSE))","v":""},{"$f":"IF(G244=\"\",\"\",VLOOKUP(G244,Parámetros!G$11:$P$13,MAX(Parámetros!G$7:$P$7),FALSE))","v":""},{"$f":"IF(H244=\"\",\"\",VLOOKUP(H244,Parámetros!H$11:$P$13,MAX(Parámetros!H$7:$P$7),FALSE))","v":""},{"$f":"IF(I244=\"\",\"\",VLOOKUP(I244,Parámetros!I$11:$P$13,MAX(Parámetros!I$7:$P$7),FALSE))","v":""},{"$f":"IF(J244=\"\",\"\",VLOOKUP(J244,Parámetros!J$11:$P$13,MAX(Parámetros!J$7:$P$7),FALSE))","v":""},{"$f":"IF(K244=\"\",\"\",VLOOKUP(K244,Parámetros!K$11:$P$13,MAX(Parámetros!K$7:$P$7),FALSE))","v":""},{"$f":"IF(L244=\"\",\"\",VLOOKUP(L244,Parámetros!L$11:$P$13,MAX(Parámetros!L$7:$P$7),FALSE))","v":""},{"$f":"IF(M244=\"\",\"\",VLOOKUP(M244,Parámetros!M$11:$P$13,MAX(Parámetros!M$7:$P$7),FALSE))","v":""},{"$f":"IF(N244=\"\",\"\",VLOOKUP(N244,Parámetros!N$11:$P$13,MAX(Parámetros!N$7:$P$7),FALSE))","v":""},{"$f":"IF(O244=\"\",\"\",VLOOKUP(O244,Parámetros!O$11:$P$13,MAX(Parámetros!O$7:$P$7),FALSE))","v":""},""]
[null,null,null,{"$f":"IF(E245=\"\",\"\",VLOOKUP(E245,'Buenas prácticas'!$G$8:$H$1007,2,FALSE))","v":""},null,null,null,null,null,null,null,null,null,null,null,{"$f":"IF(F245=\"\",\"\",VLOOKUP(F245,Parámetros!F$11:$P$13,MAX(Parámetros!F$7:$P$7),FALSE))","v":""},{"$f":"IF(G245=\"\",\"\",VLOOKUP(G245,Parámetros!G$11:$P$13,MAX(Parámetros!G$7:$P$7),FALSE))","v":""},{"$f":"IF(H245=\"\",\"\",VLOOKUP(H245,Parámetros!H$11:$P$13,MAX(Parámetros!H$7:$P$7),FALSE))","v":""},{"$f":"IF(I245=\"\",\"\",VLOOKUP(I245,Parámetros!I$11:$P$13,MAX(Parámetros!I$7:$P$7),FALSE))","v":""},{"$f":"IF(J245=\"\",\"\",VLOOKUP(J245,Parámetros!J$11:$P$13,MAX(Parámetros!J$7:$P$7),FALSE))","v":""},{"$f":"IF(K245=\"\",\"\",VLOOKUP(K245,Parámetros!K$11:$P$13,MAX(Parámetros!K$7:$P$7),FALSE))","v":""},{"$f":"IF(L245=\"\",\"\",VLOOKUP(L245,Parámetros!L$11:$P$13,MAX(Parámetros!L$7:$P$7),FALSE))","v":""},{"$f":"IF(M245=\"\",\"\",VLOOKUP(M245,Parámetros!M$11:$P$13,MAX(Parámetros!M$7:$P$7),FALSE))","v":""},{"$f":"IF(N245=\"\",\"\",VLOOKUP(N245,Parámetros!N$11:$P$13,MAX(Parámetros!N$7:$P$7),FALSE))","v":""},{"$f":"IF(O245=\"\",\"\",VLOOKUP(O245,Parámetros!O$11:$P$13,MAX(Parámetros!O$7:$P$7),FALSE))","v":""},""]
[null,null,null,{"$f":"IF(E246=\"\",\"\",VLOOKUP(E246,'Buenas prácticas'!$G$8:$H$1007,2,FALSE))","v":""},null,null,null,null,null,null,null,null,null,null,null,{"$f":"IF(F246=\"\",\"\",VLOOKUP(F246,Parámetros!F$11:$P$13,MAX(Parámetros!F$7:$P$7),FALSE))","v":""},{"$f":"IF(G246=\"\",\"\",VLOOKUP(G246,Parámetros!G$11:$P$13,MAX(Parámetros!G$7:$P$7),FALSE))","v":""},{"$f":"IF(H246=\"\",\"\",VLOOKUP(H246,Parámetros!H$11:$P$13,MAX(Parámetros!H$7:$P$7),FALSE))","v":""},{"$f":"IF(I246=\"\",\"\",VLOOKUP(I246,Parámetros!I$11:$P$13,MAX(Parámetros!I$7:$P$7),FALSE))","v":""},{"$f":"IF(J246=\"\",\"\",VLOOKUP(J246,Parámetros!J$11:$P$13,MAX(Parámetros!J$7:$P$7),FALSE))","v":""},{"$f":"IF(K246=\"\",\"\",VLOOKUP(K246,Parámetros!K$11:$P$13,MAX(Parámetros!K$7:$P$7),FALSE))","v":""},{"$f":"IF(L246=\"\",\"\",VLOOKUP(L246,Parámetros!L$11:$P$13,MAX(Parámetros!L$7:$P$7),FALSE))","v":""},{"$f":"IF(M246=\"\",\"\",VLOOKUP(M246,Parámetros!M$11:$P$13,MAX(Parámetros!M$7:$P$7),FALSE))","v":""},{"$f":"IF(N246=\"\",\"\",VLOOKUP(N246,Parámetros!N$11:$P$13,MAX(Parámetros!N$7:$P$7),FALSE))","v":""},{"$f":"IF(O246=\"\",\"\",VLOOKUP(O246,Parámetros!O$11:$P$13,MAX(Parámetros!O$7:$P$7),FALSE))","v":""},""]
[null,null,null,{"$f":"IF(E247=\"\",\"\",VLOOKUP(E247,'Buenas prácticas'!$G$8:$H$1007,2,FALSE))","v":""},null,null,null,null,null,null,null,null,null,null,null,{"$f":"IF(F247=\"\",\"\",VLOOKUP(F247,Parámetros!F$11:$P$13,MAX(Parámetros!F$7:$P$7),FALSE))","v":""},{"$f":"IF(G247=\"\",\"\",VLOOKUP(G247,Parámetros!G$11:$P$13,MAX(Parámetros!G$7:$P$7),FALSE))","v":""},{"$f":"IF(H247=\"\",\"\",VLOOKUP(H247,Parámetros!H$11:$P$13,MAX(Parámetros!H$7:$P$7),FALSE))","v":""},{"$f":"IF(I247=\"\",\"\",VLOOKUP(I247,Parámetros!I$11:$P$13,MAX(Parámetros!I$7:$P$7),FALSE))","v":""},{"$f":"IF(J247=\"\",\"\",VLOOKUP(J247,Parámetros!J$11:$P$13,MAX(Parámetros!J$7:$P$7),FALSE))","v":""},{"$f":"IF(K247=\"\",\"\",VLOOKUP(K247,Parámetros!K$11:$P$13,MAX(Parámetros!K$7:$P$7),FALSE))","v":""},{"$f":"IF(L247=\"\",\"\",VLOOKUP(L247,Parámetros!L$11:$P$13,MAX(Parámetros!L$7:$P$7),FALSE))","v":""},{"$f":"IF(M247=\"\",\"\",VLOOKUP(M247,Parámetros!M$11:$P$13,MAX(Parámetros!M$7:$P$7),FALSE))","v":""},{"$f":"IF(N247=\"\",\"\",VLOOKUP(N247,Parámetros!N$11:$P$13,MAX(Parámetros!N$7:$P$7),FALSE))","v":""},{"$f":"IF(O247=\"\",\"\",VLOOKUP(O247,Parámetros!O$11:$P$13,MAX(Parámetros!O$7:$P$7),FALSE))","v":""},""]
[null,null,null,{"$f":"IF(E248=\"\",\"\",VLOOKUP(E248,'Buenas prácticas'!$G$8:$H$1007,2,FALSE))","v":""},null,null,null,null,null,null,null,null,null,null,null,{"$f":"IF(F248=\"\",\"\",VLOOKUP(F248,Parámetros!F$11:$P$13,MAX(Parámetros!F$7:$P$7),FALSE))","v":""},{"$f":"IF(G248=\"\",\"\",VLOOKUP(G248,Parámetros!G$11:$P$13,MAX(Parámetros!G$7:$P$7),FALSE))","v":""},{"$f":"IF(H248=\"\",\"\",VLOOKUP(H248,Parámetros!H$11:$P$13,MAX(Parámetros!H$7:$P$7),FALSE))","v":""},{"$f":"IF(I248=\"\",\"\",VLOOKUP(I248,Parámetros!I$11:$P$13,MAX(Parámetros!I$7:$P$7),FALSE))","v":""},{"$f":"IF(J248=\"\",\"\",VLOOKUP(J248,Parámetros!J$11:$P$13,MAX(Parámetros!J$7:$P$7),FALSE))","v":""},{"$f":"IF(K248=\"\",\"\",VLOOKUP(K248,Parámetros!K$11:$P$13,MAX(Parámetros!K$7:$P$7),FALSE))","v":""},{"$f":"IF(L248=\"\",\"\",VLOOKUP(L248,Parámetros!L$11:$P$13,MAX(Parámetros!L$7:$P$7),FALSE))","v":""},{"$f":"IF(M248=\"\",\"\",VLOOKUP(M248,Parámetros!M$11:$P$13,MAX(Parámetros!M$7:$P$7),FALSE))","v":""},{"$f":"IF(N248=\"\",\"\",VLOOKUP(N248,Parámetros!N$11:$P$13,MAX(Parámetros!N$7:$P$7),FALSE))","v":""},{"$f":"IF(O248=\"\",\"\",VLOOKUP(O248,Parámetros!O$11:$P$13,MAX(Parámetros!O$7:$P$7),FALSE))","v":""},""]
[null,null,null,{"$f":"IF(E249=\"\",\"\",VLOOKUP(E249,'Buenas prácticas'!$G$8:$H$1007,2,FALSE))","v":""},null,null,null,null,null,null,null,null,null,null,null,{"$f":"IF(F249=\"\",\"\",VLOOKUP(F249,Parámetros!F$11:$P$13,MAX(Parámetros!F$7:$P$7),FALSE))","v":""},{"$f":"IF(G249=\"\",\"\",VLOOKUP(G249,Parámetros!G$11:$P$13,MAX(Parámetros!G$7:$P$7),FALSE))","v":""},{"$f":"IF(H249=\"\",\"\",VLOOKUP(H249,Parámetros!H$11:$P$13,MAX(Parámetros!H$7:$P$7),FALSE))","v":""},{"$f":"IF(I249=\"\",\"\",VLOOKUP(I249,Parámetros!I$11:$P$13,MAX(Parámetros!I$7:$P$7),FALSE))","v":""},{"$f":"IF(J249=\"\",\"\",VLOOKUP(J249,Parámetros!J$11:$P$13,MAX(Parámetros!J$7:$P$7),FALSE))","v":""},{"$f":"IF(K249=\"\",\"\",VLOOKUP(K249,Parámetros!K$11:$P$13,MAX(Parámetros!K$7:$P$7),FALSE))","v":""},{"$f":"IF(L249=\"\",\"\",VLOOKUP(L249,Parámetros!L$11:$P$13,MAX(Parámetros!L$7:$P$7),FALSE))","v":""},{"$f":"IF(M249=\"\",\"\",VLOOKUP(M249,Parámetros!M$11:$P$13,MAX(Parámetros!M$7:$P$7),FALSE))","v":""},{"$f":"IF(N249=\"\",\"\",VLOOKUP(N249,Parámetros!N$11:$P$13,MAX(Parámetros!N$7:$P$7),FALSE))","v":""},{"$f":"IF(O249=\"\",\"\",VLOOKUP(O249,Parámetros!O$11:$P$13,MAX(Parámetros!O$7:$P$7),FALSE))","v":""},""]
[null,null,null,{"$f":"IF(E250=\"\",\"\",VLOOKUP(E250,'Buenas prácticas'!$G$8:$H$1007,2,FALSE))","v":""},null,null,null,null,null,null,null,null,null,null,null,{"$f":"IF(F250=\"\",\"\",VLOOKUP(F250,Parámetros!F$11:$P$13,MAX(Parámetros!F$7:$P$7),FALSE))","v":""},{"$f":"IF(G250=\"\",\"\",VLOOKUP(G250,Parámetros!G$11:$P$13,MAX(Parámetros!G$7:$P$7),FALSE))","v":""},{"$f":"IF(H250=\"\",\"\",VLOOKUP(H250,Parámetros!H$11:$P$13,MAX(Parámetros!H$7:$P$7),FALSE))","v":""},{"$f":"IF(I250=\"\",\"\",VLOOKUP(I250,Parámetros!I$11:$P$13,MAX(Parámetros!I$7:$P$7),FALSE))","v":""},{"$f":"IF(J250=\"\",\"\",VLOOKUP(J250,Parámetros!J$11:$P$13,MAX(Parámetros!J$7:$P$7),FALSE))","v":""},{"$f":"IF(K250=\"\",\"\",VLOOKUP(K250,Parámetros!K$11:$P$13,MAX(Parámetros!K$7:$P$7),FALSE))","v":""},{"$f":"IF(L250=\"\",\"\",VLOOKUP(L250,Parámetros!L$11:$P$13,MAX(Parámetros!L$7:$P$7),FALSE))","v":""},{"$f":"IF(M250=\"\",\"\",VLOOKUP(M250,Parámetros!M$11:$P$13,MAX(Parámetros!M$7:$P$7),FALSE))","v":""},{"$f":"IF(N250=\"\",\"\",VLOOKUP(N250,Parámetros!N$11:$P$13,MAX(Parámetros!N$7:$P$7),FALSE))","v":""},{"$f":"IF(O250=\"\",\"\",VLOOKUP(O250,Parámetros!O$11:$P$13,MAX(Parámetros!O$7:$P$7),FALSE))","v":""},""]
[null,null,null,{"$f":"IF(E251=\"\",\"\",VLOOKUP(E251,'Buenas prácticas'!$G$8:$H$1007,2,FALSE))","v":""},null,null,null,null,null,null,null,null,null,null,null,{"$f":"IF(F251=\"\",\"\",VLOOKUP(F251,Parámetros!F$11:$P$13,MAX(Parámetros!F$7:$P$7),FALSE))","v":""},{"$f":"IF(G251=\"\",\"\",VLOOKUP(G251,Parámetros!G$11:$P$13,MAX(Parámetros!G$7:$P$7),FALSE))","v":""},{"$f":"IF(H251=\"\",\"\",VLOOKUP(H251,Parámetros!H$11:$P$13,MAX(Parámetros!H$7:$P$7),FALSE))","v":""},{"$f":"IF(I251=\"\",\"\",VLOOKUP(I251,Parámetros!I$11:$P$13,MAX(Parámetros!I$7:$P$7),FALSE))","v":""},{"$f":"IF(J251=\"\",\"\",VLOOKUP(J251,Parámetros!J$11:$P$13,MAX(Parámetros!J$7:$P$7),FALSE))","v":""},{"$f":"IF(K251=\"\",\"\",VLOOKUP(K251,Parámetros!K$11:$P$13,MAX(Parámetros!K$7:$P$7),FALSE))","v":""},{"$f":"IF(L251=\"\",\"\",VLOOKUP(L251,Parámetros!L$11:$P$13,MAX(Parámetros!L$7:$P$7),FALSE))","v":""},{"$f":"IF(M251=\"\",\"\",VLOOKUP(M251,Parámetros!M$11:$P$13,MAX(Parámetros!M$7:$P$7),FALSE))","v":""},{"$f":"IF(N251=\"\",\"\",VLOOKUP(N251,Parámetros!N$11:$P$13,MAX(Parámetros!N$7:$P$7),FALSE))","v":""},{"$f":"IF(O251=\"\",\"\",VLOOKUP(O251,Parámetros!O$11:$P$13,MAX(Parámetros!O$7:$P$7),FALSE))","v":""},""]
[null,null,null,{"$f":"IF(E252=\"\",\"\",VLOOKUP(E252,'Buenas prácticas'!$G$8:$H$1007,2,FALSE))","v":""},null,null,null,null,null,null,null,null,null,null,null,{"$f":"IF(F252=\"\",\"\",VLOOKUP(F252,Parámetros!F$11:$P$13,MAX(Parámetros!F$7:$P$7),FALSE))","v":""},{"$f":"IF(G252=\"\",\"\",VLOOKUP(G252,Parámetros!G$11:$P$13,MAX(Parámetros!G$7:$P$7),FALSE))","v":""},{"$f":"IF(H252=\"\",\"\",VLOOKUP(H252,Parámetros!H$11:$P$13,MAX(Parámetros!H$7:$P$7),FALSE))","v":""},{"$f":"IF(I252=\"\",\"\",VLOOKUP(I252,Parámetros!I$11:$P$13,MAX(Parámetros!I$7:$P$7),FALSE))","v":""},{"$f":"IF(J252=\"\",\"\",VLOOKUP(J252,Parámetros!J$11:$P$13,MAX(Parámetros!J$7:$P$7),FALSE))","v":""},{"$f":"IF(K252=\"\",\"\",VLOOKUP(K252,Parámetros!K$11:$P$13,MAX(Parámetros!K$7:$P$7),FALSE))","v":""},{"$f":"IF(L252=\"\",\"\",VLOOKUP(L252,Parámetros!L$11:$P$13,MAX(Parámetros!L$7:$P$7),FALSE))","v":""},{"$f":"IF(M252=\"\",\"\",VLOOKUP(M252,Parámetros!M$11:$P$13,MAX(Parámetros!M$7:$P$7),FALSE))","v":""},{"$f":"IF(N252=\"\",\"\",VLOOKUP(N252,Parámetros!N$11:$P$13,MAX(Parámetros!N$7:$P$7),FALSE))","v":""},{"$f":"IF(O252=\"\",\"\",VLOOKUP(O252,Parámetros!O$11:$P$13,MAX(Parámetros!O$7:$P$7),FALSE))","v":""},""]
[null,null,null,{"$f":"IF(E253=\"\",\"\",VLOOKUP(E253,'Buenas prácticas'!$G$8:$H$1007,2,FALSE))","v":""},null,null,null,null,null,null,null,null,null,null,null,{"$f":"IF(F253=\"\",\"\",VLOOKUP(F253,Parámetros!F$11:$P$13,MAX(Parámetros!F$7:$P$7),FALSE))","v":""},{"$f":"IF(G253=\"\",\"\",VLOOKUP(G253,Parámetros!G$11:$P$13,MAX(Parámetros!G$7:$P$7),FALSE))","v":""},{"$f":"IF(H253=\"\",\"\",VLOOKUP(H253,Parámetros!H$11:$P$13,MAX(Parámetros!H$7:$P$7),FALSE))","v":""},{"$f":"IF(I253=\"\",\"\",VLOOKUP(I253,Parámetros!I$11:$P$13,MAX(Parámetros!I$7:$P$7),FALSE))","v":""},{"$f":"IF(J253=\"\",\"\",VLOOKUP(J253,Parámetros!J$11:$P$13,MAX(Parámetros!J$7:$P$7),FALSE))","v":""},{"$f":"IF(K253=\"\",\"\",VLOOKUP(K253,Parámetros!K$11:$P$13,MAX(Parámetros!K$7:$P$7),FALSE))","v":""},{"$f":"IF(L253=\"\",\"\",VLOOKUP(L253,Parámetros!L$11:$P$13,MAX(Parámetros!L$7:$P$7),FALSE))","v":""},{"$f":"IF(M253=\"\",\"\",VLOOKUP(M253,Parámetros!M$11:$P$13,MAX(Parámetros!M$7:$P$7),FALSE))","v":""},{"$f":"IF(N253=\"\",\"\",VLOOKUP(N253,Parámetros!N$11:$P$13,MAX(Parámetros!N$7:$P$7),FALSE))","v":""},{"$f":"IF(O253=\"\",\"\",VLOOKUP(O253,Parámetros!O$11:$P$13,MAX(Parámetros!O$7:$P$7),FALSE))","v":""},""]
[null,null,null,{"$f":"IF(E254=\"\",\"\",VLOOKUP(E254,'Buenas prácticas'!$G$8:$H$1007,2,FALSE))","v":""},null,null,null,null,null,null,null,null,null,null,null,{"$f":"IF(F254=\"\",\"\",VLOOKUP(F254,Parámetros!F$11:$P$13,MAX(Parámetros!F$7:$P$7),FALSE))","v":""},{"$f":"IF(G254=\"\",\"\",VLOOKUP(G254,Parámetros!G$11:$P$13,MAX(Parámetros!G$7:$P$7),FALSE))","v":""},{"$f":"IF(H254=\"\",\"\",VLOOKUP(H254,Parámetros!H$11:$P$13,MAX(Parámetros!H$7:$P$7),FALSE))","v":""},{"$f":"IF(I254=\"\",\"\",VLOOKUP(I254,Parámetros!I$11:$P$13,MAX(Parámetros!I$7:$P$7),FALSE))","v":""},{"$f":"IF(J254=\"\",\"\",VLOOKUP(J254,Parámetros!J$11:$P$13,MAX(Parámetros!J$7:$P$7),FALSE))","v":""},{"$f":"IF(K254=\"\",\"\",VLOOKUP(K254,Parámetros!K$11:$P$13,MAX(Parámetros!K$7:$P$7),FALSE))","v":""},{"$f":"IF(L254=\"\",\"\",VLOOKUP(L254,Parámetros!L$11:$P$13,MAX(Parámetros!L$7:$P$7),FALSE))","v":""},{"$f":"IF(M254=\"\",\"\",VLOOKUP(M254,Parámetros!M$11:$P$13,MAX(Parámetros!M$7:$P$7),FALSE))","v":""},{"$f":"IF(N254=\"\",\"\",VLOOKUP(N254,Parámetros!N$11:$P$13,MAX(Parámetros!N$7:$P$7),FALSE))","v":""},{"$f":"IF(O254=\"\",\"\",VLOOKUP(O254,Parámetros!O$11:$P$13,MAX(Parámetros!O$7:$P$7),FALSE))","v":""},""]
[null,null,null,{"$f":"IF(E255=\"\",\"\",VLOOKUP(E255,'Buenas prácticas'!$G$8:$H$1007,2,FALSE))","v":""},null,null,null,null,null,null,null,null,null,null,null,{"$f":"IF(F255=\"\",\"\",VLOOKUP(F255,Parámetros!F$11:$P$13,MAX(Parámetros!F$7:$P$7),FALSE))","v":""},{"$f":"IF(G255=\"\",\"\",VLOOKUP(G255,Parámetros!G$11:$P$13,MAX(Parámetros!G$7:$P$7),FALSE))","v":""},{"$f":"IF(H255=\"\",\"\",VLOOKUP(H255,Parámetros!H$11:$P$13,MAX(Parámetros!H$7:$P$7),FALSE))","v":""},{"$f":"IF(I255=\"\",\"\",VLOOKUP(I255,Parámetros!I$11:$P$13,MAX(Parámetros!I$7:$P$7),FALSE))","v":""},{"$f":"IF(J255=\"\",\"\",VLOOKUP(J255,Parámetros!J$11:$P$13,MAX(Parámetros!J$7:$P$7),FALSE))","v":""},{"$f":"IF(K255=\"\",\"\",VLOOKUP(K255,Parámetros!K$11:$P$13,MAX(Parámetros!K$7:$P$7),FALSE))","v":""},{"$f":"IF(L255=\"\",\"\",VLOOKUP(L255,Parámetros!L$11:$P$13,MAX(Parámetros!L$7:$P$7),FALSE))","v":""},{"$f":"IF(M255=\"\",\"\",VLOOKUP(M255,Parámetros!M$11:$P$13,MAX(Parámetros!M$7:$P$7),FALSE))","v":""},{"$f":"IF(N255=\"\",\"\",VLOOKUP(N255,Parámetros!N$11:$P$13,MAX(Parámetros!N$7:$P$7),FALSE))","v":""},{"$f":"IF(O255=\"\",\"\",VLOOKUP(O255,Parámetros!O$11:$P$13,MAX(Parámetros!O$7:$P$7),FALSE))","v":""},""]
[null,null,null,{"$f":"IF(E256=\"\",\"\",VLOOKUP(E256,'Buenas prácticas'!$G$8:$H$1007,2,FALSE))","v":""},null,null,null,null,null,null,null,null,null,null,null,{"$f":"IF(F256=\"\",\"\",VLOOKUP(F256,Parámetros!F$11:$P$13,MAX(Parámetros!F$7:$P$7),FALSE))","v":""},{"$f":"IF(G256=\"\",\"\",VLOOKUP(G256,Parámetros!G$11:$P$13,MAX(Parámetros!G$7:$P$7),FALSE))","v":""},{"$f":"IF(H256=\"\",\"\",VLOOKUP(H256,Parámetros!H$11:$P$13,MAX(Parámetros!H$7:$P$7),FALSE))","v":""},{"$f":"IF(I256=\"\",\"\",VLOOKUP(I256,Parámetros!I$11:$P$13,MAX(Parámetros!I$7:$P$7),FALSE))","v":""},{"$f":"IF(J256=\"\",\"\",VLOOKUP(J256,Parámetros!J$11:$P$13,MAX(Parámetros!J$7:$P$7),FALSE))","v":""},{"$f":"IF(K256=\"\",\"\",VLOOKUP(K256,Parámetros!K$11:$P$13,MAX(Parámetros!K$7:$P$7),FALSE))","v":""},{"$f":"IF(L256=\"\",\"\",VLOOKUP(L256,Parámetros!L$11:$P$13,MAX(Parámetros!L$7:$P$7),FALSE))","v":""},{"$f":"IF(M256=\"\",\"\",VLOOKUP(M256,Parámetros!M$11:$P$13,MAX(Parámetros!M$7:$P$7),FALSE))","v":""},{"$f":"IF(N256=\"\",\"\",VLOOKUP(N256,Parámetros!N$11:$P$13,MAX(Parámetros!N$7:$P$7),FALSE))","v":""},{"$f":"IF(O256=\"\",\"\",VLOOKUP(O256,Parámetros!O$11:$P$13,MAX(Parámetros!O$7:$P$7),FALSE))","v":""},""]
[null,null,null,{"$f":"IF(E257=\"\",\"\",VLOOKUP(E257,'Buenas prácticas'!$G$8:$H$1007,2,FALSE))","v":""},null,null,null,null,null,null,null,null,null,null,null,{"$f":"IF(F257=\"\",\"\",VLOOKUP(F257,Parámetros!F$11:$P$13,MAX(Parámetros!F$7:$P$7),FALSE))","v":""},{"$f":"IF(G257=\"\",\"\",VLOOKUP(G257,Parámetros!G$11:$P$13,MAX(Parámetros!G$7:$P$7),FALSE))","v":""},{"$f":"IF(H257=\"\",\"\",VLOOKUP(H257,Parámetros!H$11:$P$13,MAX(Parámetros!H$7:$P$7),FALSE))","v":""},{"$f":"IF(I257=\"\",\"\",VLOOKUP(I257,Parámetros!I$11:$P$13,MAX(Parámetros!I$7:$P$7),FALSE))","v":""},{"$f":"IF(J257=\"\",\"\",VLOOKUP(J257,Parámetros!J$11:$P$13,MAX(Parámetros!J$7:$P$7),FALSE))","v":""},{"$f":"IF(K257=\"\",\"\",VLOOKUP(K257,Parámetros!K$11:$P$13,MAX(Parámetros!K$7:$P$7),FALSE))","v":""},{"$f":"IF(L257=\"\",\"\",VLOOKUP(L257,Parámetros!L$11:$P$13,MAX(Parámetros!L$7:$P$7),FALSE))","v":""},{"$f":"IF(M257=\"\",\"\",VLOOKUP(M257,Parámetros!M$11:$P$13,MAX(Parámetros!M$7:$P$7),FALSE))","v":""},{"$f":"IF(N257=\"\",\"\",VLOOKUP(N257,Parámetros!N$11:$P$13,MAX(Parámetros!N$7:$P$7),FALSE))","v":""},{"$f":"IF(O257=\"\",\"\",VLOOKUP(O257,Parámetros!O$11:$P$13,MAX(Parámetros!O$7:$P$7),FALSE))","v":""},""]
[null,null,null,{"$f":"IF(E258=\"\",\"\",VLOOKUP(E258,'Buenas prácticas'!$G$8:$H$1007,2,FALSE))","v":""},null,null,null,null,null,null,null,null,null,null,null,{"$f":"IF(F258=\"\",\"\",VLOOKUP(F258,Parámetros!F$11:$P$13,MAX(Parámetros!F$7:$P$7),FALSE))","v":""},{"$f":"IF(G258=\"\",\"\",VLOOKUP(G258,Parámetros!G$11:$P$13,MAX(Parámetros!G$7:$P$7),FALSE))","v":""},{"$f":"IF(H258=\"\",\"\",VLOOKUP(H258,Parámetros!H$11:$P$13,MAX(Parámetros!H$7:$P$7),FALSE))","v":""},{"$f":"IF(I258=\"\",\"\",VLOOKUP(I258,Parámetros!I$11:$P$13,MAX(Parámetros!I$7:$P$7),FALSE))","v":""},{"$f":"IF(J258=\"\",\"\",VLOOKUP(J258,Parámetros!J$11:$P$13,MAX(Parámetros!J$7:$P$7),FALSE))","v":""},{"$f":"IF(K258=\"\",\"\",VLOOKUP(K258,Parámetros!K$11:$P$13,MAX(Parámetros!K$7:$P$7),FALSE))","v":""},{"$f":"IF(L258=\"\",\"\",VLOOKUP(L258,Parámetros!L$11:$P$13,MAX(Parámetros!L$7:$P$7),FALSE))","v":""},{"$f":"IF(M258=\"\",\"\",VLOOKUP(M258,Parámetros!M$11:$P$13,MAX(Parámetros!M$7:$P$7),FALSE))","v":""},{"$f":"IF(N258=\"\",\"\",VLOOKUP(N258,Parámetros!N$11:$P$13,MAX(Parámetros!N$7:$P$7),FALSE))","v":""},{"$f":"IF(O258=\"\",\"\",VLOOKUP(O258,Parámetros!O$11:$P$13,MAX(Parámetros!O$7:$P$7),FALSE))","v":""},""]
[null,null,null,{"$f":"IF(E259=\"\",\"\",VLOOKUP(E259,'Buenas prácticas'!$G$8:$H$1007,2,FALSE))","v":""},null,null,null,null,null,null,null,null,null,null,null,{"$f":"IF(F259=\"\",\"\",VLOOKUP(F259,Parámetros!F$11:$P$13,MAX(Parámetros!F$7:$P$7),FALSE))","v":""},{"$f":"IF(G259=\"\",\"\",VLOOKUP(G259,Parámetros!G$11:$P$13,MAX(Parámetros!G$7:$P$7),FALSE))","v":""},{"$f":"IF(H259=\"\",\"\",VLOOKUP(H259,Parámetros!H$11:$P$13,MAX(Parámetros!H$7:$P$7),FALSE))","v":""},{"$f":"IF(I259=\"\",\"\",VLOOKUP(I259,Parámetros!I$11:$P$13,MAX(Parámetros!I$7:$P$7),FALSE))","v":""},{"$f":"IF(J259=\"\",\"\",VLOOKUP(J259,Parámetros!J$11:$P$13,MAX(Parámetros!J$7:$P$7),FALSE))","v":""},{"$f":"IF(K259=\"\",\"\",VLOOKUP(K259,Parámetros!K$11:$P$13,MAX(Parámetros!K$7:$P$7),FALSE))","v":""},{"$f":"IF(L259=\"\",\"\",VLOOKUP(L259,Parámetros!L$11:$P$13,MAX(Parámetros!L$7:$P$7),FALSE))","v":""},{"$f":"IF(M259=\"\",\"\",VLOOKUP(M259,Parámetros!M$11:$P$13,MAX(Parámetros!M$7:$P$7),FALSE))","v":""},{"$f":"IF(N259=\"\",\"\",VLOOKUP(N259,Parámetros!N$11:$P$13,MAX(Parámetros!N$7:$P$7),FALSE))","v":""},{"$f":"IF(O259=\"\",\"\",VLOOKUP(O259,Parámetros!O$11:$P$13,MAX(Parámetros!O$7:$P$7),FALSE))","v":""},""]
[null,null,null,{"$f":"IF(E260=\"\",\"\",VLOOKUP(E260,'Buenas prácticas'!$G$8:$H$1007,2,FALSE))","v":""},null,null,null,null,null,null,null,null,null,null,null,{"$f":"IF(F260=\"\",\"\",VLOOKUP(F260,Parámetros!F$11:$P$13,MAX(Parámetros!F$7:$P$7),FALSE))","v":""},{"$f":"IF(G260=\"\",\"\",VLOOKUP(G260,Parámetros!G$11:$P$13,MAX(Parámetros!G$7:$P$7),FALSE))","v":""},{"$f":"IF(H260=\"\",\"\",VLOOKUP(H260,Parámetros!H$11:$P$13,MAX(Parámetros!H$7:$P$7),FALSE))","v":""},{"$f":"IF(I260=\"\",\"\",VLOOKUP(I260,Parámetros!I$11:$P$13,MAX(Parámetros!I$7:$P$7),FALSE))","v":""},{"$f":"IF(J260=\"\",\"\",VLOOKUP(J260,Parámetros!J$11:$P$13,MAX(Parámetros!J$7:$P$7),FALSE))","v":""},{"$f":"IF(K260=\"\",\"\",VLOOKUP(K260,Parámetros!K$11:$P$13,MAX(Parámetros!K$7:$P$7),FALSE))","v":""},{"$f":"IF(L260=\"\",\"\",VLOOKUP(L260,Parámetros!L$11:$P$13,MAX(Parámetros!L$7:$P$7),FALSE))","v":""},{"$f":"IF(M260=\"\",\"\",VLOOKUP(M260,Parámetros!M$11:$P$13,MAX(Parámetros!M$7:$P$7),FALSE))","v":""},{"$f":"IF(N260=\"\",\"\",VLOOKUP(N260,Parámetros!N$11:$P$13,MAX(Parámetros!N$7:$P$7),FALSE))","v":""},{"$f":"IF(O260=\"\",\"\",VLOOKUP(O260,Parámetros!O$11:$P$13,MAX(Parámetros!O$7:$P$7),FALSE))","v":""},""]
[null,null,null,{"$f":"IF(E261=\"\",\"\",VLOOKUP(E261,'Buenas prácticas'!$G$8:$H$1007,2,FALSE))","v":""},null,null,null,null,null,null,null,null,null,null,null,{"$f":"IF(F261=\"\",\"\",VLOOKUP(F261,Parámetros!F$11:$P$13,MAX(Parámetros!F$7:$P$7),FALSE))","v":""},{"$f":"IF(G261=\"\",\"\",VLOOKUP(G261,Parámetros!G$11:$P$13,MAX(Parámetros!G$7:$P$7),FALSE))","v":""},{"$f":"IF(H261=\"\",\"\",VLOOKUP(H261,Parámetros!H$11:$P$13,MAX(Parámetros!H$7:$P$7),FALSE))","v":""},{"$f":"IF(I261=\"\",\"\",VLOOKUP(I261,Parámetros!I$11:$P$13,MAX(Parámetros!I$7:$P$7),FALSE))","v":""},{"$f":"IF(J261=\"\",\"\",VLOOKUP(J261,Parámetros!J$11:$P$13,MAX(Parámetros!J$7:$P$7),FALSE))","v":""},{"$f":"IF(K261=\"\",\"\",VLOOKUP(K261,Parámetros!K$11:$P$13,MAX(Parámetros!K$7:$P$7),FALSE))","v":""},{"$f":"IF(L261=\"\",\"\",VLOOKUP(L261,Parámetros!L$11:$P$13,MAX(Parámetros!L$7:$P$7),FALSE))","v":""},{"$f":"IF(M261=\"\",\"\",VLOOKUP(M261,Parámetros!M$11:$P$13,MAX(Parámetros!M$7:$P$7),FALSE))","v":""},{"$f":"IF(N261=\"\",\"\",VLOOKUP(N261,Parámetros!N$11:$P$13,MAX(Parámetros!N$7:$P$7),FALSE))","v":""},{"$f":"IF(O261=\"\",\"\",VLOOKUP(O261,Parámetros!O$11:$P$13,MAX(Parámetros!O$7:$P$7),FALSE))","v":""},""]
[null,null,null,{"$f":"IF(E262=\"\",\"\",VLOOKUP(E262,'Buenas prácticas'!$G$8:$H$1007,2,FALSE))","v":""},null,null,null,null,null,null,null,null,null,null,null,{"$f":"IF(F262=\"\",\"\",VLOOKUP(F262,Parámetros!F$11:$P$13,MAX(Parámetros!F$7:$P$7),FALSE))","v":""},{"$f":"IF(G262=\"\",\"\",VLOOKUP(G262,Parámetros!G$11:$P$13,MAX(Parámetros!G$7:$P$7),FALSE))","v":""},{"$f":"IF(H262=\"\",\"\",VLOOKUP(H262,Parámetros!H$11:$P$13,MAX(Parámetros!H$7:$P$7),FALSE))","v":""},{"$f":"IF(I262=\"\",\"\",VLOOKUP(I262,Parámetros!I$11:$P$13,MAX(Parámetros!I$7:$P$7),FALSE))","v":""},{"$f":"IF(J262=\"\",\"\",VLOOKUP(J262,Parámetros!J$11:$P$13,MAX(Parámetros!J$7:$P$7),FALSE))","v":""},{"$f":"IF(K262=\"\",\"\",VLOOKUP(K262,Parámetros!K$11:$P$13,MAX(Parámetros!K$7:$P$7),FALSE))","v":""},{"$f":"IF(L262=\"\",\"\",VLOOKUP(L262,Parámetros!L$11:$P$13,MAX(Parámetros!L$7:$P$7),FALSE))","v":""},{"$f":"IF(M262=\"\",\"\",VLOOKUP(M262,Parámetros!M$11:$P$13,MAX(Parámetros!M$7:$P$7),FALSE))","v":""},{"$f":"IF(N262=\"\",\"\",VLOOKUP(N262,Parámetros!N$11:$P$13,MAX(Parámetros!N$7:$P$7),FALSE))","v":""},{"$f":"IF(O262=\"\",\"\",VLOOKUP(O262,Parámetros!O$11:$P$13,MAX(Parámetros!O$7:$P$7),FALSE))","v":""},""]
[null,null,null,{"$f":"IF(E263=\"\",\"\",VLOOKUP(E263,'Buenas prácticas'!$G$8:$H$1007,2,FALSE))","v":""},null,null,null,null,null,null,null,null,null,null,null,{"$f":"IF(F263=\"\",\"\",VLOOKUP(F263,Parámetros!F$11:$P$13,MAX(Parámetros!F$7:$P$7),FALSE))","v":""},{"$f":"IF(G263=\"\",\"\",VLOOKUP(G263,Parámetros!G$11:$P$13,MAX(Parámetros!G$7:$P$7),FALSE))","v":""},{"$f":"IF(H263=\"\",\"\",VLOOKUP(H263,Parámetros!H$11:$P$13,MAX(Parámetros!H$7:$P$7),FALSE))","v":""},{"$f":"IF(I263=\"\",\"\",VLOOKUP(I263,Parámetros!I$11:$P$13,MAX(Parámetros!I$7:$P$7),FALSE))","v":""},{"$f":"IF(J263=\"\",\"\",VLOOKUP(J263,Parámetros!J$11:$P$13,MAX(Parámetros!J$7:$P$7),FALSE))","v":""},{"$f":"IF(K263=\"\",\"\",VLOOKUP(K263,Parámetros!K$11:$P$13,MAX(Parámetros!K$7:$P$7),FALSE))","v":""},{"$f":"IF(L263=\"\",\"\",VLOOKUP(L263,Parámetros!L$11:$P$13,MAX(Parámetros!L$7:$P$7),FALSE))","v":""},{"$f":"IF(M263=\"\",\"\",VLOOKUP(M263,Parámetros!M$11:$P$13,MAX(Parámetros!M$7:$P$7),FALSE))","v":""},{"$f":"IF(N263=\"\",\"\",VLOOKUP(N263,Parámetros!N$11:$P$13,MAX(Parámetros!N$7:$P$7),FALSE))","v":""},{"$f":"IF(O263=\"\",\"\",VLOOKUP(O263,Parámetros!O$11:$P$13,MAX(Parámetros!O$7:$P$7),FALSE))","v":""},""]
[null,null,null,{"$f":"IF(E264=\"\",\"\",VLOOKUP(E264,'Buenas prácticas'!$G$8:$H$1007,2,FALSE))","v":""},null,null,null,null,null,null,null,null,null,null,null,{"$f":"IF(F264=\"\",\"\",VLOOKUP(F264,Parámetros!F$11:$P$13,MAX(Parámetros!F$7:$P$7),FALSE))","v":""},{"$f":"IF(G264=\"\",\"\",VLOOKUP(G264,Parámetros!G$11:$P$13,MAX(Parámetros!G$7:$P$7),FALSE))","v":""},{"$f":"IF(H264=\"\",\"\",VLOOKUP(H264,Parámetros!H$11:$P$13,MAX(Parámetros!H$7:$P$7),FALSE))","v":""},{"$f":"IF(I264=\"\",\"\",VLOOKUP(I264,Parámetros!I$11:$P$13,MAX(Parámetros!I$7:$P$7),FALSE))","v":""},{"$f":"IF(J264=\"\",\"\",VLOOKUP(J264,Parámetros!J$11:$P$13,MAX(Parámetros!J$7:$P$7),FALSE))","v":""},{"$f":"IF(K264=\"\",\"\",VLOOKUP(K264,Parámetros!K$11:$P$13,MAX(Parámetros!K$7:$P$7),FALSE))","v":""},{"$f":"IF(L264=\"\",\"\",VLOOKUP(L264,Parámetros!L$11:$P$13,MAX(Parámetros!L$7:$P$7),FALSE))","v":""},{"$f":"IF(M264=\"\",\"\",VLOOKUP(M264,Parámetros!M$11:$P$13,MAX(Parámetros!M$7:$P$7),FALSE))","v":""},{"$f":"IF(N264=\"\",\"\",VLOOKUP(N264,Parámetros!N$11:$P$13,MAX(Parámetros!N$7:$P$7),FALSE))","v":""},{"$f":"IF(O264=\"\",\"\",VLOOKUP(O264,Parámetros!O$11:$P$13,MAX(Parámetros!O$7:$P$7),FALSE))","v":""},""]
[null,null,null,{"$f":"IF(E265=\"\",\"\",VLOOKUP(E265,'Buenas prácticas'!$G$8:$H$1007,2,FALSE))","v":""},null,null,null,null,null,null,null,null,null,null,null,{"$f":"IF(F265=\"\",\"\",VLOOKUP(F265,Parámetros!F$11:$P$13,MAX(Parámetros!F$7:$P$7),FALSE))","v":""},{"$f":"IF(G265=\"\",\"\",VLOOKUP(G265,Parámetros!G$11:$P$13,MAX(Parámetros!G$7:$P$7),FALSE))","v":""},{"$f":"IF(H265=\"\",\"\",VLOOKUP(H265,Parámetros!H$11:$P$13,MAX(Parámetros!H$7:$P$7),FALSE))","v":""},{"$f":"IF(I265=\"\",\"\",VLOOKUP(I265,Parámetros!I$11:$P$13,MAX(Parámetros!I$7:$P$7),FALSE))","v":""},{"$f":"IF(J265=\"\",\"\",VLOOKUP(J265,Parámetros!J$11:$P$13,MAX(Parámetros!J$7:$P$7),FALSE))","v":""},{"$f":"IF(K265=\"\",\"\",VLOOKUP(K265,Parámetros!K$11:$P$13,MAX(Parámetros!K$7:$P$7),FALSE))","v":""},{"$f":"IF(L265=\"\",\"\",VLOOKUP(L265,Parámetros!L$11:$P$13,MAX(Parámetros!L$7:$P$7),FALSE))","v":""},{"$f":"IF(M265=\"\",\"\",VLOOKUP(M265,Parámetros!M$11:$P$13,MAX(Parámetros!M$7:$P$7),FALSE))","v":""},{"$f":"IF(N265=\"\",\"\",VLOOKUP(N265,Parámetros!N$11:$P$13,MAX(Parámetros!N$7:$P$7),FALSE))","v":""},{"$f":"IF(O265=\"\",\"\",VLOOKUP(O265,Parámetros!O$11:$P$13,MAX(Parámetros!O$7:$P$7),FALSE))","v":""},{"$f":"IF(SUMPRODUCT($P265:$Y265,$P$6:$Y$6)=0,\"\",SUMPRODUCT($P265:$Y265,$P$6:$Y$6)/3)","v":""}]
[null,null,null,{"$f":"IF(E266=\"\",\"\",VLOOKUP(E266,'Buenas prácticas'!$G$8:$H$1007,2,FALSE))","v":""},null,null,null,null,null,null,null,null,null,null,null,{"$f":"IF(F266=\"\",\"\",VLOOKUP(F266,Parámetros!F$11:$P$13,MAX(Parámetros!F$7:$P$7),FALSE))","v":""},{"$f":"IF(G266=\"\",\"\",VLOOKUP(G266,Parámetros!G$11:$P$13,MAX(Parámetros!G$7:$P$7),FALSE))","v":""},{"$f":"IF(H266=\"\",\"\",VLOOKUP(H266,Parámetros!H$11:$P$13,MAX(Parámetros!H$7:$P$7),FALSE))","v":""},{"$f":"IF(I266=\"\",\"\",VLOOKUP(I266,Parámetros!I$11:$P$13,MAX(Parámetros!I$7:$P$7),FALSE))","v":""},{"$f":"IF(J266=\"\",\"\",VLOOKUP(J266,Parámetros!J$11:$P$13,MAX(Parámetros!J$7:$P$7),FALSE))","v":""},{"$f":"IF(K266=\"\",\"\",VLOOKUP(K266,Parámetros!K$11:$P$13,MAX(Parámetros!K$7:$P$7),FALSE))","v":""},{"$f":"IF(L266=\"\",\"\",VLOOKUP(L266,Parámetros!L$11:$P$13,MAX(Parámetros!L$7:$P$7),FALSE))","v":""},{"$f":"IF(M266=\"\",\"\",VLOOKUP(M266,Parámetros!M$11:$P$13,MAX(Parámetros!M$7:$P$7),FALSE))","v":""},{"$f":"IF(N266=\"\",\"\",VLOOKUP(N266,Parámetros!N$11:$P$13,MAX(Parámetros!N$7:$P$7),FALSE))","v":""},{"$f":"IF(O266=\"\",\"\",VLOOKUP(O266,Parámetros!O$11:$P$13,MAX(Parámetros!O$7:$P$7),FALSE))","v":""},""]
[null,null,null,{"$f":"IF(E267=\"\",\"\",VLOOKUP(E267,'Buenas prácticas'!$G$8:$H$1007,2,FALSE))","v":""},null,null,null,null,null,null,null,null,null,null,null,{"$f":"IF(F267=\"\",\"\",VLOOKUP(F267,Parámetros!F$11:$P$13,MAX(Parámetros!F$7:$P$7),FALSE))","v":""},{"$f":"IF(G267=\"\",\"\",VLOOKUP(G267,Parámetros!G$11:$P$13,MAX(Parámetros!G$7:$P$7),FALSE))","v":""},{"$f":"IF(H267=\"\",\"\",VLOOKUP(H267,Parámetros!H$11:$P$13,MAX(Parámetros!H$7:$P$7),FALSE))","v":""},{"$f":"IF(I267=\"\",\"\",VLOOKUP(I267,Parámetros!I$11:$P$13,MAX(Parámetros!I$7:$P$7),FALSE))","v":""},{"$f":"IF(J267=\"\",\"\",VLOOKUP(J267,Parámetros!J$11:$P$13,MAX(Parámetros!J$7:$P$7),FALSE))","v":""},{"$f":"IF(K267=\"\",\"\",VLOOKUP(K267,Parámetros!K$11:$P$13,MAX(Parámetros!K$7:$P$7),FALSE))","v":""},{"$f":"IF(L267=\"\",\"\",VLOOKUP(L267,Parámetros!L$11:$P$13,MAX(Parámetros!L$7:$P$7),FALSE))","v":""},{"$f":"IF(M267=\"\",\"\",VLOOKUP(M267,Parámetros!M$11:$P$13,MAX(Parámetros!M$7:$P$7),FALSE))","v":""},{"$f":"IF(N267=\"\",\"\",VLOOKUP(N267,Parámetros!N$11:$P$13,MAX(Parámetros!N$7:$P$7),FALSE))","v":""},{"$f":"IF(O267=\"\",\"\",VLOOKUP(O267,Parámetros!O$11:$P$13,MAX(Parámetros!O$7:$P$7),FALSE))","v":""},""]
[null,null,null,{"$f":"IF(E268=\"\",\"\",VLOOKUP(E268,'Buenas prácticas'!$G$8:$H$1007,2,FALSE))","v":""},null,null,null,null,null,null,null,null,null,null,null,{"$f":"IF(F268=\"\",\"\",VLOOKUP(F268,Parámetros!F$11:$P$13,MAX(Parámetros!F$7:$P$7),FALSE))","v":""},{"$f":"IF(G268=\"\",\"\",VLOOKUP(G268,Parámetros!G$11:$P$13,MAX(Parámetros!G$7:$P$7),FALSE))","v":""},{"$f":"IF(H268=\"\",\"\",VLOOKUP(H268,Parámetros!H$11:$P$13,MAX(Parámetros!H$7:$P$7),FALSE))","v":""},{"$f":"IF(I268=\"\",\"\",VLOOKUP(I268,Parámetros!I$11:$P$13,MAX(Parámetros!I$7:$P$7),FALSE))","v":""},{"$f":"IF(J268=\"\",\"\",VLOOKUP(J268,Parámetros!J$11:$P$13,MAX(Parámetros!J$7:$P$7),FALSE))","v":""},{"$f":"IF(K268=\"\",\"\",VLOOKUP(K268,Parámetros!K$11:$P$13,MAX(Parámetros!K$7:$P$7),FALSE))","v":""},{"$f":"IF(L268=\"\",\"\",VLOOKUP(L268,Parámetros!L$11:$P$13,MAX(Parámetros!L$7:$P$7),FALSE))","v":""},{"$f":"IF(M268=\"\",\"\",VLOOKUP(M268,Parámetros!M$11:$P$13,MAX(Parámetros!M$7:$P$7),FALSE))","v":""},{"$f":"IF(N268=\"\",\"\",VLOOKUP(N268,Parámetros!N$11:$P$13,MAX(Parámetros!N$7:$P$7),FALSE))","v":""},{"$f":"IF(O268=\"\",\"\",VLOOKUP(O268,Parámetros!O$11:$P$13,MAX(Parámetros!O$7:$P$7),FALSE))","v":""},""]
[null,null,null,{"$f":"IF(E269=\"\",\"\",VLOOKUP(E269,'Buenas prácticas'!$G$8:$H$1007,2,FALSE))","v":""},null,null,null,null,null,null,null,null,null,null,null,{"$f":"IF(F269=\"\",\"\",VLOOKUP(F269,Parámetros!F$11:$P$13,MAX(Parámetros!F$7:$P$7),FALSE))","v":""},{"$f":"IF(G269=\"\",\"\",VLOOKUP(G269,Parámetros!G$11:$P$13,MAX(Parámetros!G$7:$P$7),FALSE))","v":""},{"$f":"IF(H269=\"\",\"\",VLOOKUP(H269,Parámetros!H$11:$P$13,MAX(Parámetros!H$7:$P$7),FALSE))","v":""},{"$f":"IF(I269=\"\",\"\",VLOOKUP(I269,Parámetros!I$11:$P$13,MAX(Parámetros!I$7:$P$7),FALSE))","v":""},{"$f":"IF(J269=\"\",\"\",VLOOKUP(J269,Parámetros!J$11:$P$13,MAX(Parámetros!J$7:$P$7),FALSE))","v":""},{"$f":"IF(K269=\"\",\"\",VLOOKUP(K269,Parámetros!K$11:$P$13,MAX(Parámetros!K$7:$P$7),FALSE))","v":""},{"$f":"IF(L269=\"\",\"\",VLOOKUP(L269,Parámetros!L$11:$P$13,MAX(Parámetros!L$7:$P$7),FALSE))","v":""},{"$f":"IF(M269=\"\",\"\",VLOOKUP(M269,Parámetros!M$11:$P$13,MAX(Parámetros!M$7:$P$7),FALSE))","v":""},{"$f":"IF(N269=\"\",\"\",VLOOKUP(N269,Parámetros!N$11:$P$13,MAX(Parámetros!N$7:$P$7),FALSE))","v":""},{"$f":"IF(O269=\"\",\"\",VLOOKUP(O269,Parámetros!O$11:$P$13,MAX(Parámetros!O$7:$P$7),FALSE))","v":""},""]
[null,null,null,{"$f":"IF(E270=\"\",\"\",VLOOKUP(E270,'Buenas prácticas'!$G$8:$H$1007,2,FALSE))","v":""},null,null,null,null,null,null,null,null,null,null,null,{"$f":"IF(F270=\"\",\"\",VLOOKUP(F270,Parámetros!F$11:$P$13,MAX(Parámetros!F$7:$P$7),FALSE))","v":""},{"$f":"IF(G270=\"\",\"\",VLOOKUP(G270,Parámetros!G$11:$P$13,MAX(Parámetros!G$7:$P$7),FALSE))","v":""},{"$f":"IF(H270=\"\",\"\",VLOOKUP(H270,Parámetros!H$11:$P$13,MAX(Parámetros!H$7:$P$7),FALSE))","v":""},{"$f":"IF(I270=\"\",\"\",VLOOKUP(I270,Parámetros!I$11:$P$13,MAX(Parámetros!I$7:$P$7),FALSE))","v":""},{"$f":"IF(J270=\"\",\"\",VLOOKUP(J270,Parámetros!J$11:$P$13,MAX(Parámetros!J$7:$P$7),FALSE))","v":""},{"$f":"IF(K270=\"\",\"\",VLOOKUP(K270,Parámetros!K$11:$P$13,MAX(Parámetros!K$7:$P$7),FALSE))","v":""},{"$f":"IF(L270=\"\",\"\",VLOOKUP(L270,Parámetros!L$11:$P$13,MAX(Parámetros!L$7:$P$7),FALSE))","v":""},{"$f":"IF(M270=\"\",\"\",VLOOKUP(M270,Parámetros!M$11:$P$13,MAX(Parámetros!M$7:$P$7),FALSE))","v":""},{"$f":"IF(N270=\"\",\"\",VLOOKUP(N270,Parámetros!N$11:$P$13,MAX(Parámetros!N$7:$P$7),FALSE))","v":""},{"$f":"IF(O270=\"\",\"\",VLOOKUP(O270,Parámetros!O$11:$P$13,MAX(Parámetros!O$7:$P$7),FALSE))","v":""},""]
[null,null,null,{"$f":"IF(E271=\"\",\"\",VLOOKUP(E271,'Buenas prácticas'!$G$8:$H$1007,2,FALSE))","v":""},null,null,null,null,null,null,null,null,null,null,null,{"$f":"IF(F271=\"\",\"\",VLOOKUP(F271,Parámetros!F$11:$P$13,MAX(Parámetros!F$7:$P$7),FALSE))","v":""},{"$f":"IF(G271=\"\",\"\",VLOOKUP(G271,Parámetros!G$11:$P$13,MAX(Parámetros!G$7:$P$7),FALSE))","v":""},{"$f":"IF(H271=\"\",\"\",VLOOKUP(H271,Parámetros!H$11:$P$13,MAX(Parámetros!H$7:$P$7),FALSE))","v":""},{"$f":"IF(I271=\"\",\"\",VLOOKUP(I271,Parámetros!I$11:$P$13,MAX(Parámetros!I$7:$P$7),FALSE))","v":""},{"$f":"IF(J271=\"\",\"\",VLOOKUP(J271,Parámetros!J$11:$P$13,MAX(Parámetros!J$7:$P$7),FALSE))","v":""},{"$f":"IF(K271=\"\",\"\",VLOOKUP(K271,Parámetros!K$11:$P$13,MAX(Parámetros!K$7:$P$7),FALSE))","v":""},{"$f":"IF(L271=\"\",\"\",VLOOKUP(L271,Parámetros!L$11:$P$13,MAX(Parámetros!L$7:$P$7),FALSE))","v":""},{"$f":"IF(M271=\"\",\"\",VLOOKUP(M271,Parámetros!M$11:$P$13,MAX(Parámetros!M$7:$P$7),FALSE))","v":""},{"$f":"IF(N271=\"\",\"\",VLOOKUP(N271,Parámetros!N$11:$P$13,MAX(Parámetros!N$7:$P$7),FALSE))","v":""},{"$f":"IF(O271=\"\",\"\",VLOOKUP(O271,Parámetros!O$11:$P$13,MAX(Parámetros!O$7:$P$7),FALSE))","v":""},""]
[null,null,null,{"$f":"IF(E272=\"\",\"\",VLOOKUP(E272,'Buenas prácticas'!$G$8:$H$1007,2,FALSE))","v":""},null,null,null,null,null,null,null,null,null,null,null,{"$f":"IF(F272=\"\",\"\",VLOOKUP(F272,Parámetros!F$11:$P$13,MAX(Parámetros!F$7:$P$7),FALSE))","v":""},{"$f":"IF(G272=\"\",\"\",VLOOKUP(G272,Parámetros!G$11:$P$13,MAX(Parámetros!G$7:$P$7),FALSE))","v":""},{"$f":"IF(H272=\"\",\"\",VLOOKUP(H272,Parámetros!H$11:$P$13,MAX(Parámetros!H$7:$P$7),FALSE))","v":""},{"$f":"IF(I272=\"\",\"\",VLOOKUP(I272,Parámetros!I$11:$P$13,MAX(Parámetros!I$7:$P$7),FALSE))","v":""},{"$f":"IF(J272=\"\",\"\",VLOOKUP(J272,Parámetros!J$11:$P$13,MAX(Parámetros!J$7:$P$7),FALSE))","v":""},{"$f":"IF(K272=\"\",\"\",VLOOKUP(K272,Parámetros!K$11:$P$13,MAX(Parámetros!K$7:$P$7),FALSE))","v":""},{"$f":"IF(L272=\"\",\"\",VLOOKUP(L272,Parámetros!L$11:$P$13,MAX(Parámetros!L$7:$P$7),FALSE))","v":""},{"$f":"IF(M272=\"\",\"\",VLOOKUP(M272,Parámetros!M$11:$P$13,MAX(Parámetros!M$7:$P$7),FALSE))","v":""},{"$f":"IF(N272=\"\",\"\",VLOOKUP(N272,Parámetros!N$11:$P$13,MAX(Parámetros!N$7:$P$7),FALSE))","v":""},{"$f":"IF(O272=\"\",\"\",VLOOKUP(O272,Parámetros!O$11:$P$13,MAX(Parámetros!O$7:$P$7),FALSE))","v":""},""]
[null,null,null,{"$f":"IF(E273=\"\",\"\",VLOOKUP(E273,'Buenas prácticas'!$G$8:$H$1007,2,FALSE))","v":""},null,null,null,null,null,null,null,null,null,null,null,{"$f":"IF(F273=\"\",\"\",VLOOKUP(F273,Parámetros!F$11:$P$13,MAX(Parámetros!F$7:$P$7),FALSE))","v":""},{"$f":"IF(G273=\"\",\"\",VLOOKUP(G273,Parámetros!G$11:$P$13,MAX(Parámetros!G$7:$P$7),FALSE))","v":""},{"$f":"IF(H273=\"\",\"\",VLOOKUP(H273,Parámetros!H$11:$P$13,MAX(Parámetros!H$7:$P$7),FALSE))","v":""},{"$f":"IF(I273=\"\",\"\",VLOOKUP(I273,Parámetros!I$11:$P$13,MAX(Parámetros!I$7:$P$7),FALSE))","v":""},{"$f":"IF(J273=\"\",\"\",VLOOKUP(J273,Parámetros!J$11:$P$13,MAX(Parámetros!J$7:$P$7),FALSE))","v":""},{"$f":"IF(K273=\"\",\"\",VLOOKUP(K273,Parámetros!K$11:$P$13,MAX(Parámetros!K$7:$P$7),FALSE))","v":""},{"$f":"IF(L273=\"\",\"\",VLOOKUP(L273,Parámetros!L$11:$P$13,MAX(Parámetros!L$7:$P$7),FALSE))","v":""},{"$f":"IF(M273=\"\",\"\",VLOOKUP(M273,Parámetros!M$11:$P$13,MAX(Parámetros!M$7:$P$7),FALSE))","v":""},{"$f":"IF(N273=\"\",\"\",VLOOKUP(N273,Parámetros!N$11:$P$13,MAX(Parámetros!N$7:$P$7),FALSE))","v":""},{"$f":"IF(O273=\"\",\"\",VLOOKUP(O273,Parámetros!O$11:$P$13,MAX(Parámetros!O$7:$P$7),FALSE))","v":""},""]
[null,null,null,{"$f":"IF(E274=\"\",\"\",VLOOKUP(E274,'Buenas prácticas'!$G$8:$H$1007,2,FALSE))","v":""},null,null,null,null,null,null,null,null,null,null,null,{"$f":"IF(F274=\"\",\"\",VLOOKUP(F274,Parámetros!F$11:$P$13,MAX(Parámetros!F$7:$P$7),FALSE))","v":""},{"$f":"IF(G274=\"\",\"\",VLOOKUP(G274,Parámetros!G$11:$P$13,MAX(Parámetros!G$7:$P$7),FALSE))","v":""},{"$f":"IF(H274=\"\",\"\",VLOOKUP(H274,Parámetros!H$11:$P$13,MAX(Parámetros!H$7:$P$7),FALSE))","v":""},{"$f":"IF(I274=\"\",\"\",VLOOKUP(I274,Parámetros!I$11:$P$13,MAX(Parámetros!I$7:$P$7),FALSE))","v":""},{"$f":"IF(J274=\"\",\"\",VLOOKUP(J274,Parámetros!J$11:$P$13,MAX(Parámetros!J$7:$P$7),FALSE))","v":""},{"$f":"IF(K274=\"\",\"\",VLOOKUP(K274,Parámetros!K$11:$P$13,MAX(Parámetros!K$7:$P$7),FALSE))","v":""},{"$f":"IF(L274=\"\",\"\",VLOOKUP(L274,Parámetros!L$11:$P$13,MAX(Parámetros!L$7:$P$7),FALSE))","v":""},{"$f":"IF(M274=\"\",\"\",VLOOKUP(M274,Parámetros!M$11:$P$13,MAX(Parámetros!M$7:$P$7),FALSE))","v":""},{"$f":"IF(N274=\"\",\"\",VLOOKUP(N274,Parámetros!N$11:$P$13,MAX(Parámetros!N$7:$P$7),FALSE))","v":""},{"$f":"IF(O274=\"\",\"\",VLOOKUP(O274,Parámetros!O$11:$P$13,MAX(Parámetros!O$7:$P$7),FALSE))","v":""},""]
[null,null,null,{"$f":"IF(E275=\"\",\"\",VLOOKUP(E275,'Buenas prácticas'!$G$8:$H$1007,2,FALSE))","v":""},null,null,null,null,null,null,null,null,null,null,null,{"$f":"IF(F275=\"\",\"\",VLOOKUP(F275,Parámetros!F$11:$P$13,MAX(Parámetros!F$7:$P$7),FALSE))","v":""},{"$f":"IF(G275=\"\",\"\",VLOOKUP(G275,Parámetros!G$11:$P$13,MAX(Parámetros!G$7:$P$7),FALSE))","v":""},{"$f":"IF(H275=\"\",\"\",VLOOKUP(H275,Parámetros!H$11:$P$13,MAX(Parámetros!H$7:$P$7),FALSE))","v":""},{"$f":"IF(I275=\"\",\"\",VLOOKUP(I275,Parámetros!I$11:$P$13,MAX(Parámetros!I$7:$P$7),FALSE))","v":""},{"$f":"IF(J275=\"\",\"\",VLOOKUP(J275,Parámetros!J$11:$P$13,MAX(Parámetros!J$7:$P$7),FALSE))","v":""},{"$f":"IF(K275=\"\",\"\",VLOOKUP(K275,Parámetros!K$11:$P$13,MAX(Parámetros!K$7:$P$7),FALSE))","v":""},{"$f":"IF(L275=\"\",\"\",VLOOKUP(L275,Parámetros!L$11:$P$13,MAX(Parámetros!L$7:$P$7),FALSE))","v":""},{"$f":"IF(M275=\"\",\"\",VLOOKUP(M275,Parámetros!M$11:$P$13,MAX(Parámetros!M$7:$P$7),FALSE))","v":""},{"$f":"IF(N275=\"\",\"\",VLOOKUP(N275,Parámetros!N$11:$P$13,MAX(Parámetros!N$7:$P$7),FALSE))","v":""},{"$f":"IF(O275=\"\",\"\",VLOOKUP(O275,Parámetros!O$11:$P$13,MAX(Parámetros!O$7:$P$7),FALSE))","v":""},""]
[null,null,null,{"$f":"IF(E276=\"\",\"\",VLOOKUP(E276,'Buenas prácticas'!$G$8:$H$1007,2,FALSE))","v":""},null,null,null,null,null,null,null,null,null,null,null,{"$f":"IF(F276=\"\",\"\",VLOOKUP(F276,Parámetros!F$11:$P$13,MAX(Parámetros!F$7:$P$7),FALSE))","v":""},{"$f":"IF(G276=\"\",\"\",VLOOKUP(G276,Parámetros!G$11:$P$13,MAX(Parámetros!G$7:$P$7),FALSE))","v":""},{"$f":"IF(H276=\"\",\"\",VLOOKUP(H276,Parámetros!H$11:$P$13,MAX(Parámetros!H$7:$P$7),FALSE))","v":""},{"$f":"IF(I276=\"\",\"\",VLOOKUP(I276,Parámetros!I$11:$P$13,MAX(Parámetros!I$7:$P$7),FALSE))","v":""},{"$f":"IF(J276=\"\",\"\",VLOOKUP(J276,Parámetros!J$11:$P$13,MAX(Parámetros!J$7:$P$7),FALSE))","v":""},{"$f":"IF(K276=\"\",\"\",VLOOKUP(K276,Parámetros!K$11:$P$13,MAX(Parámetros!K$7:$P$7),FALSE))","v":""},{"$f":"IF(L276=\"\",\"\",VLOOKUP(L276,Parámetros!L$11:$P$13,MAX(Parámetros!L$7:$P$7),FALSE))","v":""},{"$f":"IF(M276=\"\",\"\",VLOOKUP(M276,Parámetros!M$11:$P$13,MAX(Parámetros!M$7:$P$7),FALSE))","v":""},{"$f":"IF(N276=\"\",\"\",VLOOKUP(N276,Parámetros!N$11:$P$13,MAX(Parámetros!N$7:$P$7),FALSE))","v":""},{"$f":"IF(O276=\"\",\"\",VLOOKUP(O276,Parámetros!O$11:$P$13,MAX(Parámetros!O$7:$P$7),FALSE))","v":""},""]
[null,null,null,{"$f":"IF(E277=\"\",\"\",VLOOKUP(E277,'Buenas prácticas'!$G$8:$H$1007,2,FALSE))","v":""},null,null,null,null,null,null,null,null,null,null,null,{"$f":"IF(F277=\"\",\"\",VLOOKUP(F277,Parámetros!F$11:$P$13,MAX(Parámetros!F$7:$P$7),FALSE))","v":""},{"$f":"IF(G277=\"\",\"\",VLOOKUP(G277,Parámetros!G$11:$P$13,MAX(Parámetros!G$7:$P$7),FALSE))","v":""},{"$f":"IF(H277=\"\",\"\",VLOOKUP(H277,Parámetros!H$11:$P$13,MAX(Parámetros!H$7:$P$7),FALSE))","v":""},{"$f":"IF(I277=\"\",\"\",VLOOKUP(I277,Parámetros!I$11:$P$13,MAX(Parámetros!I$7:$P$7),FALSE))","v":""},{"$f":"IF(J277=\"\",\"\",VLOOKUP(J277,Parámetros!J$11:$P$13,MAX(Parámetros!J$7:$P$7),FALSE))","v":""},{"$f":"IF(K277=\"\",\"\",VLOOKUP(K277,Parámetros!K$11:$P$13,MAX(Parámetros!K$7:$P$7),FALSE))","v":""},{"$f":"IF(L277=\"\",\"\",VLOOKUP(L277,Parámetros!L$11:$P$13,MAX(Parámetros!L$7:$P$7),FALSE))","v":""},{"$f":"IF(M277=\"\",\"\",VLOOKUP(M277,Parámetros!M$11:$P$13,MAX(Parámetros!M$7:$P$7),FALSE))","v":""},{"$f":"IF(N277=\"\",\"\",VLOOKUP(N277,Parámetros!N$11:$P$13,MAX(Parámetros!N$7:$P$7),FALSE))","v":""},{"$f":"IF(O277=\"\",\"\",VLOOKUP(O277,Parámetros!O$11:$P$13,MAX(Parámetros!O$7:$P$7),FALSE))","v":""},""]
[null,null,null,{"$f":"IF(E278=\"\",\"\",VLOOKUP(E278,'Buenas prácticas'!$G$8:$H$1007,2,FALSE))","v":""},null,null,null,null,null,null,null,null,null,null,null,{"$f":"IF(F278=\"\",\"\",VLOOKUP(F278,Parámetros!F$11:$P$13,MAX(Parámetros!F$7:$P$7),FALSE))","v":""},{"$f":"IF(G278=\"\",\"\",VLOOKUP(G278,Parámetros!G$11:$P$13,MAX(Parámetros!G$7:$P$7),FALSE))","v":""},{"$f":"IF(H278=\"\",\"\",VLOOKUP(H278,Parámetros!H$11:$P$13,MAX(Parámetros!H$7:$P$7),FALSE))","v":""},{"$f":"IF(I278=\"\",\"\",VLOOKUP(I278,Parámetros!I$11:$P$13,MAX(Parámetros!I$7:$P$7),FALSE))","v":""},{"$f":"IF(J278=\"\",\"\",VLOOKUP(J278,Parámetros!J$11:$P$13,MAX(Parámetros!J$7:$P$7),FALSE))","v":""},{"$f":"IF(K278=\"\",\"\",VLOOKUP(K278,Parámetros!K$11:$P$13,MAX(Parámetros!K$7:$P$7),FALSE))","v":""},{"$f":"IF(L278=\"\",\"\",VLOOKUP(L278,Parámetros!L$11:$P$13,MAX(Parámetros!L$7:$P$7),FALSE))","v":""},{"$f":"IF(M278=\"\",\"\",VLOOKUP(M278,Parámetros!M$11:$P$13,MAX(Parámetros!M$7:$P$7),FALSE))","v":""},{"$f":"IF(N278=\"\",\"\",VLOOKUP(N278,Parámetros!N$11:$P$13,MAX(Parámetros!N$7:$P$7),FALSE))","v":""},{"$f":"IF(O278=\"\",\"\",VLOOKUP(O278,Parámetros!O$11:$P$13,MAX(Parámetros!O$7:$P$7),FALSE))","v":""},""]
[null,null,null,{"$f":"IF(E279=\"\",\"\",VLOOKUP(E279,'Buenas prácticas'!$G$8:$H$1007,2,FALSE))","v":""},null,null,null,null,null,null,null,null,null,null,null,{"$f":"IF(F279=\"\",\"\",VLOOKUP(F279,Parámetros!F$11:$P$13,MAX(Parámetros!F$7:$P$7),FALSE))","v":""},{"$f":"IF(G279=\"\",\"\",VLOOKUP(G279,Parámetros!G$11:$P$13,MAX(Parámetros!G$7:$P$7),FALSE))","v":""},{"$f":"IF(H279=\"\",\"\",VLOOKUP(H279,Parámetros!H$11:$P$13,MAX(Parámetros!H$7:$P$7),FALSE))","v":""},{"$f":"IF(I279=\"\",\"\",VLOOKUP(I279,Parámetros!I$11:$P$13,MAX(Parámetros!I$7:$P$7),FALSE))","v":""},{"$f":"IF(J279=\"\",\"\",VLOOKUP(J279,Parámetros!J$11:$P$13,MAX(Parámetros!J$7:$P$7),FALSE))","v":""},{"$f":"IF(K279=\"\",\"\",VLOOKUP(K279,Parámetros!K$11:$P$13,MAX(Parámetros!K$7:$P$7),FALSE))","v":""},{"$f":"IF(L279=\"\",\"\",VLOOKUP(L279,Parámetros!L$11:$P$13,MAX(Parámetros!L$7:$P$7),FALSE))","v":""},{"$f":"IF(M279=\"\",\"\",VLOOKUP(M279,Parámetros!M$11:$P$13,MAX(Parámetros!M$7:$P$7),FALSE))","v":""},{"$f":"IF(N279=\"\",\"\",VLOOKUP(N279,Parámetros!N$11:$P$13,MAX(Parámetros!N$7:$P$7),FALSE))","v":""},{"$f":"IF(O279=\"\",\"\",VLOOKUP(O279,Parámetros!O$11:$P$13,MAX(Parámetros!O$7:$P$7),FALSE))","v":""},""]
[null,null,null,{"$f":"IF(E280=\"\",\"\",VLOOKUP(E280,'Buenas prácticas'!$G$8:$H$1007,2,FALSE))","v":""},null,null,null,null,null,null,null,null,null,null,null,{"$f":"IF(F280=\"\",\"\",VLOOKUP(F280,Parámetros!F$11:$P$13,MAX(Parámetros!F$7:$P$7),FALSE))","v":""},{"$f":"IF(G280=\"\",\"\",VLOOKUP(G280,Parámetros!G$11:$P$13,MAX(Parámetros!G$7:$P$7),FALSE))","v":""},{"$f":"IF(H280=\"\",\"\",VLOOKUP(H280,Parámetros!H$11:$P$13,MAX(Parámetros!H$7:$P$7),FALSE))","v":""},{"$f":"IF(I280=\"\",\"\",VLOOKUP(I280,Parámetros!I$11:$P$13,MAX(Parámetros!I$7:$P$7),FALSE))","v":""},{"$f":"IF(J280=\"\",\"\",VLOOKUP(J280,Parámetros!J$11:$P$13,MAX(Parámetros!J$7:$P$7),FALSE))","v":""},{"$f":"IF(K280=\"\",\"\",VLOOKUP(K280,Parámetros!K$11:$P$13,MAX(Parámetros!K$7:$P$7),FALSE))","v":""},{"$f":"IF(L280=\"\",\"\",VLOOKUP(L280,Parámetros!L$11:$P$13,MAX(Parámetros!L$7:$P$7),FALSE))","v":""},{"$f":"IF(M280=\"\",\"\",VLOOKUP(M280,Parámetros!M$11:$P$13,MAX(Parámetros!M$7:$P$7),FALSE))","v":""},{"$f":"IF(N280=\"\",\"\",VLOOKUP(N280,Parámetros!N$11:$P$13,MAX(Parámetros!N$7:$P$7),FALSE))","v":""},{"$f":"IF(O280=\"\",\"\",VLOOKUP(O280,Parámetros!O$11:$P$13,MAX(Parámetros!O$7:$P$7),FALSE))","v":""},""]
[null,null,null,{"$f":"IF(E281=\"\",\"\",VLOOKUP(E281,'Buenas prácticas'!$G$8:$H$1007,2,FALSE))","v":""},null,null,null,null,null,null,null,null,null,null,null,{"$f":"IF(F281=\"\",\"\",VLOOKUP(F281,Parámetros!F$11:$P$13,MAX(Parámetros!F$7:$P$7),FALSE))","v":""},{"$f":"IF(G281=\"\",\"\",VLOOKUP(G281,Parámetros!G$11:$P$13,MAX(Parámetros!G$7:$P$7),FALSE))","v":""},{"$f":"IF(H281=\"\",\"\",VLOOKUP(H281,Parámetros!H$11:$P$13,MAX(Parámetros!H$7:$P$7),FALSE))","v":""},{"$f":"IF(I281=\"\",\"\",VLOOKUP(I281,Parámetros!I$11:$P$13,MAX(Parámetros!I$7:$P$7),FALSE))","v":""},{"$f":"IF(J281=\"\",\"\",VLOOKUP(J281,Parámetros!J$11:$P$13,MAX(Parámetros!J$7:$P$7),FALSE))","v":""},{"$f":"IF(K281=\"\",\"\",VLOOKUP(K281,Parámetros!K$11:$P$13,MAX(Parámetros!K$7:$P$7),FALSE))","v":""},{"$f":"IF(L281=\"\",\"\",VLOOKUP(L281,Parámetros!L$11:$P$13,MAX(Parámetros!L$7:$P$7),FALSE))","v":""},{"$f":"IF(M281=\"\",\"\",VLOOKUP(M281,Parámetros!M$11:$P$13,MAX(Parámetros!M$7:$P$7),FALSE))","v":""},{"$f":"IF(N281=\"\",\"\",VLOOKUP(N281,Parámetros!N$11:$P$13,MAX(Parámetros!N$7:$P$7),FALSE))","v":""},{"$f":"IF(O281=\"\",\"\",VLOOKUP(O281,Parámetros!O$11:$P$13,MAX(Parámetros!O$7:$P$7),FALSE))","v":""},""]
[null,null,null,{"$f":"IF(E282=\"\",\"\",VLOOKUP(E282,'Buenas prácticas'!$G$8:$H$1007,2,FALSE))","v":""},null,null,null,null,null,null,null,null,null,null,null,{"$f":"IF(F282=\"\",\"\",VLOOKUP(F282,Parámetros!F$11:$P$13,MAX(Parámetros!F$7:$P$7),FALSE))","v":""},{"$f":"IF(G282=\"\",\"\",VLOOKUP(G282,Parámetros!G$11:$P$13,MAX(Parámetros!G$7:$P$7),FALSE))","v":""},{"$f":"IF(H282=\"\",\"\",VLOOKUP(H282,Parámetros!H$11:$P$13,MAX(Parámetros!H$7:$P$7),FALSE))","v":""},{"$f":"IF(I282=\"\",\"\",VLOOKUP(I282,Parámetros!I$11:$P$13,MAX(Parámetros!I$7:$P$7),FALSE))","v":""},{"$f":"IF(J282=\"\",\"\",VLOOKUP(J282,Parámetros!J$11:$P$13,MAX(Parámetros!J$7:$P$7),FALSE))","v":""},{"$f":"IF(K282=\"\",\"\",VLOOKUP(K282,Parámetros!K$11:$P$13,MAX(Parámetros!K$7:$P$7),FALSE))","v":""},{"$f":"IF(L282=\"\",\"\",VLOOKUP(L282,Parámetros!L$11:$P$13,MAX(Parámetros!L$7:$P$7),FALSE))","v":""},{"$f":"IF(M282=\"\",\"\",VLOOKUP(M282,Parámetros!M$11:$P$13,MAX(Parámetros!M$7:$P$7),FALSE))","v":""},{"$f":"IF(N282=\"\",\"\",VLOOKUP(N282,Parámetros!N$11:$P$13,MAX(Parámetros!N$7:$P$7),FALSE))","v":""},{"$f":"IF(O282=\"\",\"\",VLOOKUP(O282,Parámetros!O$11:$P$13,MAX(Parámetros!O$7:$P$7),FALSE))","v":""},""]
[null,null,null,{"$f":"IF(E283=\"\",\"\",VLOOKUP(E283,'Buenas prácticas'!$G$8:$H$1007,2,FALSE))","v":""},null,null,null,null,null,null,null,null,null,null,null,{"$f":"IF(F283=\"\",\"\",VLOOKUP(F283,Parámetros!F$11:$P$13,MAX(Parámetros!F$7:$P$7),FALSE))","v":""},{"$f":"IF(G283=\"\",\"\",VLOOKUP(G283,Parámetros!G$11:$P$13,MAX(Parámetros!G$7:$P$7),FALSE))","v":""},{"$f":"IF(H283=\"\",\"\",VLOOKUP(H283,Parámetros!H$11:$P$13,MAX(Parámetros!H$7:$P$7),FALSE))","v":""},{"$f":"IF(I283=\"\",\"\",VLOOKUP(I283,Parámetros!I$11:$P$13,MAX(Parámetros!I$7:$P$7),FALSE))","v":""},{"$f":"IF(J283=\"\",\"\",VLOOKUP(J283,Parámetros!J$11:$P$13,MAX(Parámetros!J$7:$P$7),FALSE))","v":""},{"$f":"IF(K283=\"\",\"\",VLOOKUP(K283,Parámetros!K$11:$P$13,MAX(Parámetros!K$7:$P$7),FALSE))","v":""},{"$f":"IF(L283=\"\",\"\",VLOOKUP(L283,Parámetros!L$11:$P$13,MAX(Parámetros!L$7:$P$7),FALSE))","v":""},{"$f":"IF(M283=\"\",\"\",VLOOKUP(M283,Parámetros!M$11:$P$13,MAX(Parámetros!M$7:$P$7),FALSE))","v":""},{"$f":"IF(N283=\"\",\"\",VLOOKUP(N283,Parámetros!N$11:$P$13,MAX(Parámetros!N$7:$P$7),FALSE))","v":""},{"$f":"IF(O283=\"\",\"\",VLOOKUP(O283,Parámetros!O$11:$P$13,MAX(Parámetros!O$7:$P$7),FALSE))","v":""},""]
[null,null,null,{"$f":"IF(E284=\"\",\"\",VLOOKUP(E284,'Buenas prácticas'!$G$8:$H$1007,2,FALSE))","v":""},null,null,null,null,null,null,null,null,null,null,null,{"$f":"IF(F284=\"\",\"\",VLOOKUP(F284,Parámetros!F$11:$P$13,MAX(Parámetros!F$7:$P$7),FALSE))","v":""},{"$f":"IF(G284=\"\",\"\",VLOOKUP(G284,Parámetros!G$11:$P$13,MAX(Parámetros!G$7:$P$7),FALSE))","v":""},{"$f":"IF(H284=\"\",\"\",VLOOKUP(H284,Parámetros!H$11:$P$13,MAX(Parámetros!H$7:$P$7),FALSE))","v":""},{"$f":"IF(I284=\"\",\"\",VLOOKUP(I284,Parámetros!I$11:$P$13,MAX(Parámetros!I$7:$P$7),FALSE))","v":""},{"$f":"IF(J284=\"\",\"\",VLOOKUP(J284,Parámetros!J$11:$P$13,MAX(Parámetros!J$7:$P$7),FALSE))","v":""},{"$f":"IF(K284=\"\",\"\",VLOOKUP(K284,Parámetros!K$11:$P$13,MAX(Parámetros!K$7:$P$7),FALSE))","v":""},{"$f":"IF(L284=\"\",\"\",VLOOKUP(L284,Parámetros!L$11:$P$13,MAX(Parámetros!L$7:$P$7),FALSE))","v":""},{"$f":"IF(M284=\"\",\"\",VLOOKUP(M284,Parámetros!M$11:$P$13,MAX(Parámetros!M$7:$P$7),FALSE))","v":""},{"$f":"IF(N284=\"\",\"\",VLOOKUP(N284,Parámetros!N$11:$P$13,MAX(Parámetros!N$7:$P$7),FALSE))","v":""},{"$f":"IF(O284=\"\",\"\",VLOOKUP(O284,Parámetros!O$11:$P$13,MAX(Parámetros!O$7:$P$7),FALSE))","v":""},""]
[null,null,null,{"$f":"IF(E285=\"\",\"\",VLOOKUP(E285,'Buenas prácticas'!$G$8:$H$1007,2,FALSE))","v":""},null,null,null,null,null,null,null,null,null,null,null,{"$f":"IF(F285=\"\",\"\",VLOOKUP(F285,Parámetros!F$11:$P$13,MAX(Parámetros!F$7:$P$7),FALSE))","v":""},{"$f":"IF(G285=\"\",\"\",VLOOKUP(G285,Parámetros!G$11:$P$13,MAX(Parámetros!G$7:$P$7),FALSE))","v":""},{"$f":"IF(H285=\"\",\"\",VLOOKUP(H285,Parámetros!H$11:$P$13,MAX(Parámetros!H$7:$P$7),FALSE))","v":""},{"$f":"IF(I285=\"\",\"\",VLOOKUP(I285,Parámetros!I$11:$P$13,MAX(Parámetros!I$7:$P$7),FALSE))","v":""},{"$f":"IF(J285=\"\",\"\",VLOOKUP(J285,Parámetros!J$11:$P$13,MAX(Parámetros!J$7:$P$7),FALSE))","v":""},{"$f":"IF(K285=\"\",\"\",VLOOKUP(K285,Parámetros!K$11:$P$13,MAX(Parámetros!K$7:$P$7),FALSE))","v":""},{"$f":"IF(L285=\"\",\"\",VLOOKUP(L285,Parámetros!L$11:$P$13,MAX(Parámetros!L$7:$P$7),FALSE))","v":""},{"$f":"IF(M285=\"\",\"\",VLOOKUP(M285,Parámetros!M$11:$P$13,MAX(Parámetros!M$7:$P$7),FALSE))","v":""},{"$f":"IF(N285=\"\",\"\",VLOOKUP(N285,Parámetros!N$11:$P$13,MAX(Parámetros!N$7:$P$7),FALSE))","v":""},{"$f":"IF(O285=\"\",\"\",VLOOKUP(O285,Parámetros!O$11:$P$13,MAX(Parámetros!O$7:$P$7),FALSE))","v":""},""]
[null,null,null,{"$f":"IF(E286=\"\",\"\",VLOOKUP(E286,'Buenas prácticas'!$G$8:$H$1007,2,FALSE))","v":""},null,null,null,null,null,null,null,null,null,null,null,{"$f":"IF(F286=\"\",\"\",VLOOKUP(F286,Parámetros!F$11:$P$13,MAX(Parámetros!F$7:$P$7),FALSE))","v":""},{"$f":"IF(G286=\"\",\"\",VLOOKUP(G286,Parámetros!G$11:$P$13,MAX(Parámetros!G$7:$P$7),FALSE))","v":""},{"$f":"IF(H286=\"\",\"\",VLOOKUP(H286,Parámetros!H$11:$P$13,MAX(Parámetros!H$7:$P$7),FALSE))","v":""},{"$f":"IF(I286=\"\",\"\",VLOOKUP(I286,Parámetros!I$11:$P$13,MAX(Parámetros!I$7:$P$7),FALSE))","v":""},{"$f":"IF(J286=\"\",\"\",VLOOKUP(J286,Parámetros!J$11:$P$13,MAX(Parámetros!J$7:$P$7),FALSE))","v":""},{"$f":"IF(K286=\"\",\"\",VLOOKUP(K286,Parámetros!K$11:$P$13,MAX(Parámetros!K$7:$P$7),FALSE))","v":""},{"$f":"IF(L286=\"\",\"\",VLOOKUP(L286,Parámetros!L$11:$P$13,MAX(Parámetros!L$7:$P$7),FALSE))","v":""},{"$f":"IF(M286=\"\",\"\",VLOOKUP(M286,Parámetros!M$11:$P$13,MAX(Parámetros!M$7:$P$7),FALSE))","v":""},{"$f":"IF(N286=\"\",\"\",VLOOKUP(N286,Parámetros!N$11:$P$13,MAX(Parámetros!N$7:$P$7),FALSE))","v":""},{"$f":"IF(O286=\"\",\"\",VLOOKUP(O286,Parámetros!O$11:$P$13,MAX(Parámetros!O$7:$P$7),FALSE))","v":""},""]
[null,null,null,{"$f":"IF(E287=\"\",\"\",VLOOKUP(E287,'Buenas prácticas'!$G$8:$H$1007,2,FALSE))","v":""},null,null,null,null,null,null,null,null,null,null,null,{"$f":"IF(F287=\"\",\"\",VLOOKUP(F287,Parámetros!F$11:$P$13,MAX(Parámetros!F$7:$P$7),FALSE))","v":""},{"$f":"IF(G287=\"\",\"\",VLOOKUP(G287,Parámetros!G$11:$P$13,MAX(Parámetros!G$7:$P$7),FALSE))","v":""},{"$f":"IF(H287=\"\",\"\",VLOOKUP(H287,Parámetros!H$11:$P$13,MAX(Parámetros!H$7:$P$7),FALSE))","v":""},{"$f":"IF(I287=\"\",\"\",VLOOKUP(I287,Parámetros!I$11:$P$13,MAX(Parámetros!I$7:$P$7),FALSE))","v":""},{"$f":"IF(J287=\"\",\"\",VLOOKUP(J287,Parámetros!J$11:$P$13,MAX(Parámetros!J$7:$P$7),FALSE))","v":""},{"$f":"IF(K287=\"\",\"\",VLOOKUP(K287,Parámetros!K$11:$P$13,MAX(Parámetros!K$7:$P$7),FALSE))","v":""},{"$f":"IF(L287=\"\",\"\",VLOOKUP(L287,Parámetros!L$11:$P$13,MAX(Parámetros!L$7:$P$7),FALSE))","v":""},{"$f":"IF(M287=\"\",\"\",VLOOKUP(M287,Parámetros!M$11:$P$13,MAX(Parámetros!M$7:$P$7),FALSE))","v":""},{"$f":"IF(N287=\"\",\"\",VLOOKUP(N287,Parámetros!N$11:$P$13,MAX(Parámetros!N$7:$P$7),FALSE))","v":""},{"$f":"IF(O287=\"\",\"\",VLOOKUP(O287,Parámetros!O$11:$P$13,MAX(Parámetros!O$7:$P$7),FALSE))","v":""},""]
[null,null,null,{"$f":"IF(E288=\"\",\"\",VLOOKUP(E288,'Buenas prácticas'!$G$8:$H$1007,2,FALSE))","v":""},null,null,null,null,null,null,null,null,null,null,null,{"$f":"IF(F288=\"\",\"\",VLOOKUP(F288,Parámetros!F$11:$P$13,MAX(Parámetros!F$7:$P$7),FALSE))","v":""},{"$f":"IF(G288=\"\",\"\",VLOOKUP(G288,Parámetros!G$11:$P$13,MAX(Parámetros!G$7:$P$7),FALSE))","v":""},{"$f":"IF(H288=\"\",\"\",VLOOKUP(H288,Parámetros!H$11:$P$13,MAX(Parámetros!H$7:$P$7),FALSE))","v":""},{"$f":"IF(I288=\"\",\"\",VLOOKUP(I288,Parámetros!I$11:$P$13,MAX(Parámetros!I$7:$P$7),FALSE))","v":""},{"$f":"IF(J288=\"\",\"\",VLOOKUP(J288,Parámetros!J$11:$P$13,MAX(Parámetros!J$7:$P$7),FALSE))","v":""},{"$f":"IF(K288=\"\",\"\",VLOOKUP(K288,Parámetros!K$11:$P$13,MAX(Parámetros!K$7:$P$7),FALSE))","v":""},{"$f":"IF(L288=\"\",\"\",VLOOKUP(L288,Parámetros!L$11:$P$13,MAX(Parámetros!L$7:$P$7),FALSE))","v":""},{"$f":"IF(M288=\"\",\"\",VLOOKUP(M288,Parámetros!M$11:$P$13,MAX(Parámetros!M$7:$P$7),FALSE))","v":""},{"$f":"IF(N288=\"\",\"\",VLOOKUP(N288,Parámetros!N$11:$P$13,MAX(Parámetros!N$7:$P$7),FALSE))","v":""},{"$f":"IF(O288=\"\",\"\",VLOOKUP(O288,Parámetros!O$11:$P$13,MAX(Parámetros!O$7:$P$7),FALSE))","v":""},""]
[null,null,null,{"$f":"IF(E289=\"\",\"\",VLOOKUP(E289,'Buenas prácticas'!$G$8:$H$1007,2,FALSE))","v":""},null,null,null,null,null,null,null,null,null,null,null,{"$f":"IF(F289=\"\",\"\",VLOOKUP(F289,Parámetros!F$11:$P$13,MAX(Parámetros!F$7:$P$7),FALSE))","v":""},{"$f":"IF(G289=\"\",\"\",VLOOKUP(G289,Parámetros!G$11:$P$13,MAX(Parámetros!G$7:$P$7),FALSE))","v":""},{"$f":"IF(H289=\"\",\"\",VLOOKUP(H289,Parámetros!H$11:$P$13,MAX(Parámetros!H$7:$P$7),FALSE))","v":""},{"$f":"IF(I289=\"\",\"\",VLOOKUP(I289,Parámetros!I$11:$P$13,MAX(Parámetros!I$7:$P$7),FALSE))","v":""},{"$f":"IF(J289=\"\",\"\",VLOOKUP(J289,Parámetros!J$11:$P$13,MAX(Parámetros!J$7:$P$7),FALSE))","v":""},{"$f":"IF(K289=\"\",\"\",VLOOKUP(K289,Parámetros!K$11:$P$13,MAX(Parámetros!K$7:$P$7),FALSE))","v":""},{"$f":"IF(L289=\"\",\"\",VLOOKUP(L289,Parámetros!L$11:$P$13,MAX(Parámetros!L$7:$P$7),FALSE))","v":""},{"$f":"IF(M289=\"\",\"\",VLOOKUP(M289,Parámetros!M$11:$P$13,MAX(Parámetros!M$7:$P$7),FALSE))","v":""},{"$f":"IF(N289=\"\",\"\",VLOOKUP(N289,Parámetros!N$11:$P$13,MAX(Parámetros!N$7:$P$7),FALSE))","v":""},{"$f":"IF(O289=\"\",\"\",VLOOKUP(O289,Parámetros!O$11:$P$13,MAX(Parámetros!O$7:$P$7),FALSE))","v":""},""]
[null,null,null,{"$f":"IF(E290=\"\",\"\",VLOOKUP(E290,'Buenas prácticas'!$G$8:$H$1007,2,FALSE))","v":""},null,null,null,null,null,null,null,null,null,null,null,{"$f":"IF(F290=\"\",\"\",VLOOKUP(F290,Parámetros!F$11:$P$13,MAX(Parámetros!F$7:$P$7),FALSE))","v":""},{"$f":"IF(G290=\"\",\"\",VLOOKUP(G290,Parámetros!G$11:$P$13,MAX(Parámetros!G$7:$P$7),FALSE))","v":""},{"$f":"IF(H290=\"\",\"\",VLOOKUP(H290,Parámetros!H$11:$P$13,MAX(Parámetros!H$7:$P$7),FALSE))","v":""},{"$f":"IF(I290=\"\",\"\",VLOOKUP(I290,Parámetros!I$11:$P$13,MAX(Parámetros!I$7:$P$7),FALSE))","v":""},{"$f":"IF(J290=\"\",\"\",VLOOKUP(J290,Parámetros!J$11:$P$13,MAX(Parámetros!J$7:$P$7),FALSE))","v":""},{"$f":"IF(K290=\"\",\"\",VLOOKUP(K290,Parámetros!K$11:$P$13,MAX(Parámetros!K$7:$P$7),FALSE))","v":""},{"$f":"IF(L290=\"\",\"\",VLOOKUP(L290,Parámetros!L$11:$P$13,MAX(Parámetros!L$7:$P$7),FALSE))","v":""},{"$f":"IF(M290=\"\",\"\",VLOOKUP(M290,Parámetros!M$11:$P$13,MAX(Parámetros!M$7:$P$7),FALSE))","v":""},{"$f":"IF(N290=\"\",\"\",VLOOKUP(N290,Parámetros!N$11:$P$13,MAX(Parámetros!N$7:$P$7),FALSE))","v":""},{"$f":"IF(O290=\"\",\"\",VLOOKUP(O290,Parámetros!O$11:$P$13,MAX(Parámetros!O$7:$P$7),FALSE))","v":""},""]
[null,null,null,{"$f":"IF(E291=\"\",\"\",VLOOKUP(E291,'Buenas prácticas'!$G$8:$H$1007,2,FALSE))","v":""},null,null,null,null,null,null,null,null,null,null,null,{"$f":"IF(F291=\"\",\"\",VLOOKUP(F291,Parámetros!F$11:$P$13,MAX(Parámetros!F$7:$P$7),FALSE))","v":""},{"$f":"IF(G291=\"\",\"\",VLOOKUP(G291,Parámetros!G$11:$P$13,MAX(Parámetros!G$7:$P$7),FALSE))","v":""},{"$f":"IF(H291=\"\",\"\",VLOOKUP(H291,Parámetros!H$11:$P$13,MAX(Parámetros!H$7:$P$7),FALSE))","v":""},{"$f":"IF(I291=\"\",\"\",VLOOKUP(I291,Parámetros!I$11:$P$13,MAX(Parámetros!I$7:$P$7),FALSE))","v":""},{"$f":"IF(J291=\"\",\"\",VLOOKUP(J291,Parámetros!J$11:$P$13,MAX(Parámetros!J$7:$P$7),FALSE))","v":""},{"$f":"IF(K291=\"\",\"\",VLOOKUP(K291,Parámetros!K$11:$P$13,MAX(Parámetros!K$7:$P$7),FALSE))","v":""},{"$f":"IF(L291=\"\",\"\",VLOOKUP(L291,Parámetros!L$11:$P$13,MAX(Parámetros!L$7:$P$7),FALSE))","v":""},{"$f":"IF(M291=\"\",\"\",VLOOKUP(M291,Parámetros!M$11:$P$13,MAX(Parámetros!M$7:$P$7),FALSE))","v":""},{"$f":"IF(N291=\"\",\"\",VLOOKUP(N291,Parámetros!N$11:$P$13,MAX(Parámetros!N$7:$P$7),FALSE))","v":""},{"$f":"IF(O291=\"\",\"\",VLOOKUP(O291,Parámetros!O$11:$P$13,MAX(Parámetros!O$7:$P$7),FALSE))","v":""},""]
[null,null,null,{"$f":"IF(E292=\"\",\"\",VLOOKUP(E292,'Buenas prácticas'!$G$8:$H$1007,2,FALSE))","v":""},null,null,null,null,null,null,null,null,null,null,null,{"$f":"IF(F292=\"\",\"\",VLOOKUP(F292,Parámetros!F$11:$P$13,MAX(Parámetros!F$7:$P$7),FALSE))","v":""},{"$f":"IF(G292=\"\",\"\",VLOOKUP(G292,Parámetros!G$11:$P$13,MAX(Parámetros!G$7:$P$7),FALSE))","v":""},{"$f":"IF(H292=\"\",\"\",VLOOKUP(H292,Parámetros!H$11:$P$13,MAX(Parámetros!H$7:$P$7),FALSE))","v":""},{"$f":"IF(I292=\"\",\"\",VLOOKUP(I292,Parámetros!I$11:$P$13,MAX(Parámetros!I$7:$P$7),FALSE))","v":""},{"$f":"IF(J292=\"\",\"\",VLOOKUP(J292,Parámetros!J$11:$P$13,MAX(Parámetros!J$7:$P$7),FALSE))","v":""},{"$f":"IF(K292=\"\",\"\",VLOOKUP(K292,Parámetros!K$11:$P$13,MAX(Parámetros!K$7:$P$7),FALSE))","v":""},{"$f":"IF(L292=\"\",\"\",VLOOKUP(L292,Parámetros!L$11:$P$13,MAX(Parámetros!L$7:$P$7),FALSE))","v":""},{"$f":"IF(M292=\"\",\"\",VLOOKUP(M292,Parámetros!M$11:$P$13,MAX(Parámetros!M$7:$P$7),FALSE))","v":""},{"$f":"IF(N292=\"\",\"\",VLOOKUP(N292,Parámetros!N$11:$P$13,MAX(Parámetros!N$7:$P$7),FALSE))","v":""},{"$f":"IF(O292=\"\",\"\",VLOOKUP(O292,Parámetros!O$11:$P$13,MAX(Parámetros!O$7:$P$7),FALSE))","v":""},""]
[null,null,null,{"$f":"IF(E293=\"\",\"\",VLOOKUP(E293,'Buenas prácticas'!$G$8:$H$1007,2,FALSE))","v":""},null,null,null,null,null,null,null,null,null,null,null,{"$f":"IF(F293=\"\",\"\",VLOOKUP(F293,Parámetros!F$11:$P$13,MAX(Parámetros!F$7:$P$7),FALSE))","v":""},{"$f":"IF(G293=\"\",\"\",VLOOKUP(G293,Parámetros!G$11:$P$13,MAX(Parámetros!G$7:$P$7),FALSE))","v":""},{"$f":"IF(H293=\"\",\"\",VLOOKUP(H293,Parámetros!H$11:$P$13,MAX(Parámetros!H$7:$P$7),FALSE))","v":""},{"$f":"IF(I293=\"\",\"\",VLOOKUP(I293,Parámetros!I$11:$P$13,MAX(Parámetros!I$7:$P$7),FALSE))","v":""},{"$f":"IF(J293=\"\",\"\",VLOOKUP(J293,Parámetros!J$11:$P$13,MAX(Parámetros!J$7:$P$7),FALSE))","v":""},{"$f":"IF(K293=\"\",\"\",VLOOKUP(K293,Parámetros!K$11:$P$13,MAX(Parámetros!K$7:$P$7),FALSE))","v":""},{"$f":"IF(L293=\"\",\"\",VLOOKUP(L293,Parámetros!L$11:$P$13,MAX(Parámetros!L$7:$P$7),FALSE))","v":""},{"$f":"IF(M293=\"\",\"\",VLOOKUP(M293,Parámetros!M$11:$P$13,MAX(Parámetros!M$7:$P$7),FALSE))","v":""},{"$f":"IF(N293=\"\",\"\",VLOOKUP(N293,Parámetros!N$11:$P$13,MAX(Parámetros!N$7:$P$7),FALSE))","v":""},{"$f":"IF(O293=\"\",\"\",VLOOKUP(O293,Parámetros!O$11:$P$13,MAX(Parámetros!O$7:$P$7),FALSE))","v":""},""]
[null,null,null,{"$f":"IF(E294=\"\",\"\",VLOOKUP(E294,'Buenas prácticas'!$G$8:$H$1007,2,FALSE))","v":""},null,null,null,null,null,null,null,null,null,null,null,{"$f":"IF(F294=\"\",\"\",VLOOKUP(F294,Parámetros!F$11:$P$13,MAX(Parámetros!F$7:$P$7),FALSE))","v":""},{"$f":"IF(G294=\"\",\"\",VLOOKUP(G294,Parámetros!G$11:$P$13,MAX(Parámetros!G$7:$P$7),FALSE))","v":""},{"$f":"IF(H294=\"\",\"\",VLOOKUP(H294,Parámetros!H$11:$P$13,MAX(Parámetros!H$7:$P$7),FALSE))","v":""},{"$f":"IF(I294=\"\",\"\",VLOOKUP(I294,Parámetros!I$11:$P$13,MAX(Parámetros!I$7:$P$7),FALSE))","v":""},{"$f":"IF(J294=\"\",\"\",VLOOKUP(J294,Parámetros!J$11:$P$13,MAX(Parámetros!J$7:$P$7),FALSE))","v":""},{"$f":"IF(K294=\"\",\"\",VLOOKUP(K294,Parámetros!K$11:$P$13,MAX(Parámetros!K$7:$P$7),FALSE))","v":""},{"$f":"IF(L294=\"\",\"\",VLOOKUP(L294,Parámetros!L$11:$P$13,MAX(Parámetros!L$7:$P$7),FALSE))","v":""},{"$f":"IF(M294=\"\",\"\",VLOOKUP(M294,Parámetros!M$11:$P$13,MAX(Parámetros!M$7:$P$7),FALSE))","v":""},{"$f":"IF(N294=\"\",\"\",VLOOKUP(N294,Parámetros!N$11:$P$13,MAX(Parámetros!N$7:$P$7),FALSE))","v":""},{"$f":"IF(O294=\"\",\"\",VLOOKUP(O294,Parámetros!O$11:$P$13,MAX(Parámetros!O$7:$P$7),FALSE))","v":""},""]
[null,null,null,{"$f":"IF(E295=\"\",\"\",VLOOKUP(E295,'Buenas prácticas'!$G$8:$H$1007,2,FALSE))","v":""},null,null,null,null,null,null,null,null,null,null,null,{"$f":"IF(F295=\"\",\"\",VLOOKUP(F295,Parámetros!F$11:$P$13,MAX(Parámetros!F$7:$P$7),FALSE))","v":""},{"$f":"IF(G295=\"\",\"\",VLOOKUP(G295,Parámetros!G$11:$P$13,MAX(Parámetros!G$7:$P$7),FALSE))","v":""},{"$f":"IF(H295=\"\",\"\",VLOOKUP(H295,Parámetros!H$11:$P$13,MAX(Parámetros!H$7:$P$7),FALSE))","v":""},{"$f":"IF(I295=\"\",\"\",VLOOKUP(I295,Parámetros!I$11:$P$13,MAX(Parámetros!I$7:$P$7),FALSE))","v":""},{"$f":"IF(J295=\"\",\"\",VLOOKUP(J295,Parámetros!J$11:$P$13,MAX(Parámetros!J$7:$P$7),FALSE))","v":""},{"$f":"IF(K295=\"\",\"\",VLOOKUP(K295,Parámetros!K$11:$P$13,MAX(Parámetros!K$7:$P$7),FALSE))","v":""},{"$f":"IF(L295=\"\",\"\",VLOOKUP(L295,Parámetros!L$11:$P$13,MAX(Parámetros!L$7:$P$7),FALSE))","v":""},{"$f":"IF(M295=\"\",\"\",VLOOKUP(M295,Parámetros!M$11:$P$13,MAX(Parámetros!M$7:$P$7),FALSE))","v":""},{"$f":"IF(N295=\"\",\"\",VLOOKUP(N295,Parámetros!N$11:$P$13,MAX(Parámetros!N$7:$P$7),FALSE))","v":""},{"$f":"IF(O295=\"\",\"\",VLOOKUP(O295,Parámetros!O$11:$P$13,MAX(Parámetros!O$7:$P$7),FALSE))","v":""},""]
[null,null,null,{"$f":"IF(E296=\"\",\"\",VLOOKUP(E296,'Buenas prácticas'!$G$8:$H$1007,2,FALSE))","v":""},null,null,null,null,null,null,null,null,null,null,null,{"$f":"IF(F296=\"\",\"\",VLOOKUP(F296,Parámetros!F$11:$P$13,MAX(Parámetros!F$7:$P$7),FALSE))","v":""},{"$f":"IF(G296=\"\",\"\",VLOOKUP(G296,Parámetros!G$11:$P$13,MAX(Parámetros!G$7:$P$7),FALSE))","v":""},{"$f":"IF(H296=\"\",\"\",VLOOKUP(H296,Parámetros!H$11:$P$13,MAX(Parámetros!H$7:$P$7),FALSE))","v":""},{"$f":"IF(I296=\"\",\"\",VLOOKUP(I296,Parámetros!I$11:$P$13,MAX(Parámetros!I$7:$P$7),FALSE))","v":""},{"$f":"IF(J296=\"\",\"\",VLOOKUP(J296,Parámetros!J$11:$P$13,MAX(Parámetros!J$7:$P$7),FALSE))","v":""},{"$f":"IF(K296=\"\",\"\",VLOOKUP(K296,Parámetros!K$11:$P$13,MAX(Parámetros!K$7:$P$7),FALSE))","v":""},{"$f":"IF(L296=\"\",\"\",VLOOKUP(L296,Parámetros!L$11:$P$13,MAX(Parámetros!L$7:$P$7),FALSE))","v":""},{"$f":"IF(M296=\"\",\"\",VLOOKUP(M296,Parámetros!M$11:$P$13,MAX(Parámetros!M$7:$P$7),FALSE))","v":""},{"$f":"IF(N296=\"\",\"\",VLOOKUP(N296,Parámetros!N$11:$P$13,MAX(Parámetros!N$7:$P$7),FALSE))","v":""},{"$f":"IF(O296=\"\",\"\",VLOOKUP(O296,Parámetros!O$11:$P$13,MAX(Parámetros!O$7:$P$7),FALSE))","v":""},""]
[null,null,null,{"$f":"IF(E297=\"\",\"\",VLOOKUP(E297,'Buenas prácticas'!$G$8:$H$1007,2,FALSE))","v":""},null,null,null,null,null,null,null,null,null,null,null,{"$f":"IF(F297=\"\",\"\",VLOOKUP(F297,Parámetros!F$11:$P$13,MAX(Parámetros!F$7:$P$7),FALSE))","v":""},{"$f":"IF(G297=\"\",\"\",VLOOKUP(G297,Parámetros!G$11:$P$13,MAX(Parámetros!G$7:$P$7),FALSE))","v":""},{"$f":"IF(H297=\"\",\"\",VLOOKUP(H297,Parámetros!H$11:$P$13,MAX(Parámetros!H$7:$P$7),FALSE))","v":""},{"$f":"IF(I297=\"\",\"\",VLOOKUP(I297,Parámetros!I$11:$P$13,MAX(Parámetros!I$7:$P$7),FALSE))","v":""},{"$f":"IF(J297=\"\",\"\",VLOOKUP(J297,Parámetros!J$11:$P$13,MAX(Parámetros!J$7:$P$7),FALSE))","v":""},{"$f":"IF(K297=\"\",\"\",VLOOKUP(K297,Parámetros!K$11:$P$13,MAX(Parámetros!K$7:$P$7),FALSE))","v":""},{"$f":"IF(L297=\"\",\"\",VLOOKUP(L297,Parámetros!L$11:$P$13,MAX(Parámetros!L$7:$P$7),FALSE))","v":""},{"$f":"IF(M297=\"\",\"\",VLOOKUP(M297,Parámetros!M$11:$P$13,MAX(Parámetros!M$7:$P$7),FALSE))","v":""},{"$f":"IF(N297=\"\",\"\",VLOOKUP(N297,Parámetros!N$11:$P$13,MAX(Parámetros!N$7:$P$7),FALSE))","v":""},{"$f":"IF(O297=\"\",\"\",VLOOKUP(O297,Parámetros!O$11:$P$13,MAX(Parámetros!O$7:$P$7),FALSE))","v":""},""]
[null,null,null,{"$f":"IF(E298=\"\",\"\",VLOOKUP(E298,'Buenas prácticas'!$G$8:$H$1007,2,FALSE))","v":""},null,null,null,null,null,null,null,null,null,null,null,{"$f":"IF(F298=\"\",\"\",VLOOKUP(F298,Parámetros!F$11:$P$13,MAX(Parámetros!F$7:$P$7),FALSE))","v":""},{"$f":"IF(G298=\"\",\"\",VLOOKUP(G298,Parámetros!G$11:$P$13,MAX(Parámetros!G$7:$P$7),FALSE))","v":""},{"$f":"IF(H298=\"\",\"\",VLOOKUP(H298,Parámetros!H$11:$P$13,MAX(Parámetros!H$7:$P$7),FALSE))","v":""},{"$f":"IF(I298=\"\",\"\",VLOOKUP(I298,Parámetros!I$11:$P$13,MAX(Parámetros!I$7:$P$7),FALSE))","v":""},{"$f":"IF(J298=\"\",\"\",VLOOKUP(J298,Parámetros!J$11:$P$13,MAX(Parámetros!J$7:$P$7),FALSE))","v":""},{"$f":"IF(K298=\"\",\"\",VLOOKUP(K298,Parámetros!K$11:$P$13,MAX(Parámetros!K$7:$P$7),FALSE))","v":""},{"$f":"IF(L298=\"\",\"\",VLOOKUP(L298,Parámetros!L$11:$P$13,MAX(Parámetros!L$7:$P$7),FALSE))","v":""},{"$f":"IF(M298=\"\",\"\",VLOOKUP(M298,Parámetros!M$11:$P$13,MAX(Parámetros!M$7:$P$7),FALSE))","v":""},{"$f":"IF(N298=\"\",\"\",VLOOKUP(N298,Parámetros!N$11:$P$13,MAX(Parámetros!N$7:$P$7),FALSE))","v":""},{"$f":"IF(O298=\"\",\"\",VLOOKUP(O298,Parámetros!O$11:$P$13,MAX(Parámetros!O$7:$P$7),FALSE))","v":""},""]
[null,null,null,{"$f":"IF(E299=\"\",\"\",VLOOKUP(E299,'Buenas prácticas'!$G$8:$H$1007,2,FALSE))","v":""},null,null,null,null,null,null,null,null,null,null,null,{"$f":"IF(F299=\"\",\"\",VLOOKUP(F299,Parámetros!F$11:$P$13,MAX(Parámetros!F$7:$P$7),FALSE))","v":""},{"$f":"IF(G299=\"\",\"\",VLOOKUP(G299,Parámetros!G$11:$P$13,MAX(Parámetros!G$7:$P$7),FALSE))","v":""},{"$f":"IF(H299=\"\",\"\",VLOOKUP(H299,Parámetros!H$11:$P$13,MAX(Parámetros!H$7:$P$7),FALSE))","v":""},{"$f":"IF(I299=\"\",\"\",VLOOKUP(I299,Parámetros!I$11:$P$13,MAX(Parámetros!I$7:$P$7),FALSE))","v":""},{"$f":"IF(J299=\"\",\"\",VLOOKUP(J299,Parámetros!J$11:$P$13,MAX(Parámetros!J$7:$P$7),FALSE))","v":""},{"$f":"IF(K299=\"\",\"\",VLOOKUP(K299,Parámetros!K$11:$P$13,MAX(Parámetros!K$7:$P$7),FALSE))","v":""},{"$f":"IF(L299=\"\",\"\",VLOOKUP(L299,Parámetros!L$11:$P$13,MAX(Parámetros!L$7:$P$7),FALSE))","v":""},{"$f":"IF(M299=\"\",\"\",VLOOKUP(M299,Parámetros!M$11:$P$13,MAX(Parámetros!M$7:$P$7),FALSE))","v":""},{"$f":"IF(N299=\"\",\"\",VLOOKUP(N299,Parámetros!N$11:$P$13,MAX(Parámetros!N$7:$P$7),FALSE))","v":""},{"$f":"IF(O299=\"\",\"\",VLOOKUP(O299,Parámetros!O$11:$P$13,MAX(Parámetros!O$7:$P$7),FALSE))","v":""},""]
[null,null,null,{"$f":"IF(E300=\"\",\"\",VLOOKUP(E300,'Buenas prácticas'!$G$8:$H$1007,2,FALSE))","v":""},null,null,null,null,null,null,null,null,null,null,null,{"$f":"IF(F300=\"\",\"\",VLOOKUP(F300,Parámetros!F$11:$P$13,MAX(Parámetros!F$7:$P$7),FALSE))","v":""},{"$f":"IF(G300=\"\",\"\",VLOOKUP(G300,Parámetros!G$11:$P$13,MAX(Parámetros!G$7:$P$7),FALSE))","v":""},{"$f":"IF(H300=\"\",\"\",VLOOKUP(H300,Parámetros!H$11:$P$13,MAX(Parámetros!H$7:$P$7),FALSE))","v":""},{"$f":"IF(I300=\"\",\"\",VLOOKUP(I300,Parámetros!I$11:$P$13,MAX(Parámetros!I$7:$P$7),FALSE))","v":""},{"$f":"IF(J300=\"\",\"\",VLOOKUP(J300,Parámetros!J$11:$P$13,MAX(Parámetros!J$7:$P$7),FALSE))","v":""},{"$f":"IF(K300=\"\",\"\",VLOOKUP(K300,Parámetros!K$11:$P$13,MAX(Parámetros!K$7:$P$7),FALSE))","v":""},{"$f":"IF(L300=\"\",\"\",VLOOKUP(L300,Parámetros!L$11:$P$13,MAX(Parámetros!L$7:$P$7),FALSE))","v":""},{"$f":"IF(M300=\"\",\"\",VLOOKUP(M300,Parámetros!M$11:$P$13,MAX(Parámetros!M$7:$P$7),FALSE))","v":""},{"$f":"IF(N300=\"\",\"\",VLOOKUP(N300,Parámetros!N$11:$P$13,MAX(Parámetros!N$7:$P$7),FALSE))","v":""},{"$f":"IF(O300=\"\",\"\",VLOOKUP(O300,Parámetros!O$11:$P$13,MAX(Parámetros!O$7:$P$7),FALSE))","v":""},""]
[null,null,null,{"$f":"IF(E301=\"\",\"\",VLOOKUP(E301,'Buenas prácticas'!$G$8:$H$1007,2,FALSE))","v":""},null,null,null,null,null,null,null,null,null,null,null,{"$f":"IF(F301=\"\",\"\",VLOOKUP(F301,Parámetros!F$11:$P$13,MAX(Parámetros!F$7:$P$7),FALSE))","v":""},{"$f":"IF(G301=\"\",\"\",VLOOKUP(G301,Parámetros!G$11:$P$13,MAX(Parámetros!G$7:$P$7),FALSE))","v":""},{"$f":"IF(H301=\"\",\"\",VLOOKUP(H301,Parámetros!H$11:$P$13,MAX(Parámetros!H$7:$P$7),FALSE))","v":""},{"$f":"IF(I301=\"\",\"\",VLOOKUP(I301,Parámetros!I$11:$P$13,MAX(Parámetros!I$7:$P$7),FALSE))","v":""},{"$f":"IF(J301=\"\",\"\",VLOOKUP(J301,Parámetros!J$11:$P$13,MAX(Parámetros!J$7:$P$7),FALSE))","v":""},{"$f":"IF(K301=\"\",\"\",VLOOKUP(K301,Parámetros!K$11:$P$13,MAX(Parámetros!K$7:$P$7),FALSE))","v":""},{"$f":"IF(L301=\"\",\"\",VLOOKUP(L301,Parámetros!L$11:$P$13,MAX(Parámetros!L$7:$P$7),FALSE))","v":""},{"$f":"IF(M301=\"\",\"\",VLOOKUP(M301,Parámetros!M$11:$P$13,MAX(Parámetros!M$7:$P$7),FALSE))","v":""},{"$f":"IF(N301=\"\",\"\",VLOOKUP(N301,Parámetros!N$11:$P$13,MAX(Parámetros!N$7:$P$7),FALSE))","v":""},{"$f":"IF(O301=\"\",\"\",VLOOKUP(O301,Parámetros!O$11:$P$13,MAX(Parámetros!O$7:$P$7),FALSE))","v":""},""]
[null,null,null,{"$f":"IF(E302=\"\",\"\",VLOOKUP(E302,'Buenas prácticas'!$G$8:$H$1007,2,FALSE))","v":""},null,null,null,null,null,null,null,null,null,null,null,{"$f":"IF(F302=\"\",\"\",VLOOKUP(F302,Parámetros!F$11:$P$13,MAX(Parámetros!F$7:$P$7),FALSE))","v":""},{"$f":"IF(G302=\"\",\"\",VLOOKUP(G302,Parámetros!G$11:$P$13,MAX(Parámetros!G$7:$P$7),FALSE))","v":""},{"$f":"IF(H302=\"\",\"\",VLOOKUP(H302,Parámetros!H$11:$P$13,MAX(Parámetros!H$7:$P$7),FALSE))","v":""},{"$f":"IF(I302=\"\",\"\",VLOOKUP(I302,Parámetros!I$11:$P$13,MAX(Parámetros!I$7:$P$7),FALSE))","v":""},{"$f":"IF(J302=\"\",\"\",VLOOKUP(J302,Parámetros!J$11:$P$13,MAX(Parámetros!J$7:$P$7),FALSE))","v":""},{"$f":"IF(K302=\"\",\"\",VLOOKUP(K302,Parámetros!K$11:$P$13,MAX(Parámetros!K$7:$P$7),FALSE))","v":""},{"$f":"IF(L302=\"\",\"\",VLOOKUP(L302,Parámetros!L$11:$P$13,MAX(Parámetros!L$7:$P$7),FALSE))","v":""},{"$f":"IF(M302=\"\",\"\",VLOOKUP(M302,Parámetros!M$11:$P$13,MAX(Parámetros!M$7:$P$7),FALSE))","v":""},{"$f":"IF(N302=\"\",\"\",VLOOKUP(N302,Parámetros!N$11:$P$13,MAX(Parámetros!N$7:$P$7),FALSE))","v":""},{"$f":"IF(O302=\"\",\"\",VLOOKUP(O302,Parámetros!O$11:$P$13,MAX(Parámetros!O$7:$P$7),FALSE))","v":""},""]
[null,null,null,{"$f":"IF(E303=\"\",\"\",VLOOKUP(E303,'Buenas prácticas'!$G$8:$H$1007,2,FALSE))","v":""},null,null,null,null,null,null,null,null,null,null,null,{"$f":"IF(F303=\"\",\"\",VLOOKUP(F303,Parámetros!F$11:$P$13,MAX(Parámetros!F$7:$P$7),FALSE))","v":""},{"$f":"IF(G303=\"\",\"\",VLOOKUP(G303,Parámetros!G$11:$P$13,MAX(Parámetros!G$7:$P$7),FALSE))","v":""},{"$f":"IF(H303=\"\",\"\",VLOOKUP(H303,Parámetros!H$11:$P$13,MAX(Parámetros!H$7:$P$7),FALSE))","v":""},{"$f":"IF(I303=\"\",\"\",VLOOKUP(I303,Parámetros!I$11:$P$13,MAX(Parámetros!I$7:$P$7),FALSE))","v":""},{"$f":"IF(J303=\"\",\"\",VLOOKUP(J303,Parámetros!J$11:$P$13,MAX(Parámetros!J$7:$P$7),FALSE))","v":""},{"$f":"IF(K303=\"\",\"\",VLOOKUP(K303,Parámetros!K$11:$P$13,MAX(Parámetros!K$7:$P$7),FALSE))","v":""},{"$f":"IF(L303=\"\",\"\",VLOOKUP(L303,Parámetros!L$11:$P$13,MAX(Parámetros!L$7:$P$7),FALSE))","v":""},{"$f":"IF(M303=\"\",\"\",VLOOKUP(M303,Parámetros!M$11:$P$13,MAX(Parámetros!M$7:$P$7),FALSE))","v":""},{"$f":"IF(N303=\"\",\"\",VLOOKUP(N303,Parámetros!N$11:$P$13,MAX(Parámetros!N$7:$P$7),FALSE))","v":""},{"$f":"IF(O303=\"\",\"\",VLOOKUP(O303,Parámetros!O$11:$P$13,MAX(Parámetros!O$7:$P$7),FALSE))","v":""},""]
[null,null,null,{"$f":"IF(E304=\"\",\"\",VLOOKUP(E304,'Buenas prácticas'!$G$8:$H$1007,2,FALSE))","v":""},null,null,null,null,null,null,null,null,null,null,null,{"$f":"IF(F304=\"\",\"\",VLOOKUP(F304,Parámetros!F$11:$P$13,MAX(Parámetros!F$7:$P$7),FALSE))","v":""},{"$f":"IF(G304=\"\",\"\",VLOOKUP(G304,Parámetros!G$11:$P$13,MAX(Parámetros!G$7:$P$7),FALSE))","v":""},{"$f":"IF(H304=\"\",\"\",VLOOKUP(H304,Parámetros!H$11:$P$13,MAX(Parámetros!H$7:$P$7),FALSE))","v":""},{"$f":"IF(I304=\"\",\"\",VLOOKUP(I304,Parámetros!I$11:$P$13,MAX(Parámetros!I$7:$P$7),FALSE))","v":""},{"$f":"IF(J304=\"\",\"\",VLOOKUP(J304,Parámetros!J$11:$P$13,MAX(Parámetros!J$7:$P$7),FALSE))","v":""},{"$f":"IF(K304=\"\",\"\",VLOOKUP(K304,Parámetros!K$11:$P$13,MAX(Parámetros!K$7:$P$7),FALSE))","v":""},{"$f":"IF(L304=\"\",\"\",VLOOKUP(L304,Parámetros!L$11:$P$13,MAX(Parámetros!L$7:$P$7),FALSE))","v":""},{"$f":"IF(M304=\"\",\"\",VLOOKUP(M304,Parámetros!M$11:$P$13,MAX(Parámetros!M$7:$P$7),FALSE))","v":""},{"$f":"IF(N304=\"\",\"\",VLOOKUP(N304,Parámetros!N$11:$P$13,MAX(Parámetros!N$7:$P$7),FALSE))","v":""},{"$f":"IF(O304=\"\",\"\",VLOOKUP(O304,Parámetros!O$11:$P$13,MAX(Parámetros!O$7:$P$7),FALSE))","v":""},""]
[null,null,null,{"$f":"IF(E305=\"\",\"\",VLOOKUP(E305,'Buenas prácticas'!$G$8:$H$1007,2,FALSE))","v":""},null,null,null,null,null,null,null,null,null,null,null,{"$f":"IF(F305=\"\",\"\",VLOOKUP(F305,Parámetros!F$11:$P$13,MAX(Parámetros!F$7:$P$7),FALSE))","v":""},{"$f":"IF(G305=\"\",\"\",VLOOKUP(G305,Parámetros!G$11:$P$13,MAX(Parámetros!G$7:$P$7),FALSE))","v":""},{"$f":"IF(H305=\"\",\"\",VLOOKUP(H305,Parámetros!H$11:$P$13,MAX(Parámetros!H$7:$P$7),FALSE))","v":""},{"$f":"IF(I305=\"\",\"\",VLOOKUP(I305,Parámetros!I$11:$P$13,MAX(Parámetros!I$7:$P$7),FALSE))","v":""},{"$f":"IF(J305=\"\",\"\",VLOOKUP(J305,Parámetros!J$11:$P$13,MAX(Parámetros!J$7:$P$7),FALSE))","v":""},{"$f":"IF(K305=\"\",\"\",VLOOKUP(K305,Parámetros!K$11:$P$13,MAX(Parámetros!K$7:$P$7),FALSE))","v":""},{"$f":"IF(L305=\"\",\"\",VLOOKUP(L305,Parámetros!L$11:$P$13,MAX(Parámetros!L$7:$P$7),FALSE))","v":""},{"$f":"IF(M305=\"\",\"\",VLOOKUP(M305,Parámetros!M$11:$P$13,MAX(Parámetros!M$7:$P$7),FALSE))","v":""},{"$f":"IF(N305=\"\",\"\",VLOOKUP(N305,Parámetros!N$11:$P$13,MAX(Parámetros!N$7:$P$7),FALSE))","v":""},{"$f":"IF(O305=\"\",\"\",VLOOKUP(O305,Parámetros!O$11:$P$13,MAX(Parámetros!O$7:$P$7),FALSE))","v":""},""]
[null,null,null,{"$f":"IF(E306=\"\",\"\",VLOOKUP(E306,'Buenas prácticas'!$G$8:$H$1007,2,FALSE))","v":""},null,null,null,null,null,null,null,null,null,null,null,{"$f":"IF(F306=\"\",\"\",VLOOKUP(F306,Parámetros!F$11:$P$13,MAX(Parámetros!F$7:$P$7),FALSE))","v":""},{"$f":"IF(G306=\"\",\"\",VLOOKUP(G306,Parámetros!G$11:$P$13,MAX(Parámetros!G$7:$P$7),FALSE))","v":""},{"$f":"IF(H306=\"\",\"\",VLOOKUP(H306,Parámetros!H$11:$P$13,MAX(Parámetros!H$7:$P$7),FALSE))","v":""},{"$f":"IF(I306=\"\",\"\",VLOOKUP(I306,Parámetros!I$11:$P$13,MAX(Parámetros!I$7:$P$7),FALSE))","v":""},{"$f":"IF(J306=\"\",\"\",VLOOKUP(J306,Parámetros!J$11:$P$13,MAX(Parámetros!J$7:$P$7),FALSE))","v":""},{"$f":"IF(K306=\"\",\"\",VLOOKUP(K306,Parámetros!K$11:$P$13,MAX(Parámetros!K$7:$P$7),FALSE))","v":""},{"$f":"IF(L306=\"\",\"\",VLOOKUP(L306,Parámetros!L$11:$P$13,MAX(Parámetros!L$7:$P$7),FALSE))","v":""},{"$f":"IF(M306=\"\",\"\",VLOOKUP(M306,Parámetros!M$11:$P$13,MAX(Parámetros!M$7:$P$7),FALSE))","v":""},{"$f":"IF(N306=\"\",\"\",VLOOKUP(N306,Parámetros!N$11:$P$13,MAX(Parámetros!N$7:$P$7),FALSE))","v":""},{"$f":"IF(O306=\"\",\"\",VLOOKUP(O306,Parámetros!O$11:$P$13,MAX(Parámetros!O$7:$P$7),FALSE))","v":""},""]
[null,null,null,{"$f":"IF(E307=\"\",\"\",VLOOKUP(E307,'Buenas prácticas'!$G$8:$H$1007,2,FALSE))","v":""},null,null,null,null,null,null,null,null,null,null,null,{"$f":"IF(F307=\"\",\"\",VLOOKUP(F307,Parámetros!F$11:$P$13,MAX(Parámetros!F$7:$P$7),FALSE))","v":""},{"$f":"IF(G307=\"\",\"\",VLOOKUP(G307,Parámetros!G$11:$P$13,MAX(Parámetros!G$7:$P$7),FALSE))","v":""},{"$f":"IF(H307=\"\",\"\",VLOOKUP(H307,Parámetros!H$11:$P$13,MAX(Parámetros!H$7:$P$7),FALSE))","v":""},{"$f":"IF(I307=\"\",\"\",VLOOKUP(I307,Parámetros!I$11:$P$13,MAX(Parámetros!I$7:$P$7),FALSE))","v":""},{"$f":"IF(J307=\"\",\"\",VLOOKUP(J307,Parámetros!J$11:$P$13,MAX(Parámetros!J$7:$P$7),FALSE))","v":""},{"$f":"IF(K307=\"\",\"\",VLOOKUP(K307,Parámetros!K$11:$P$13,MAX(Parámetros!K$7:$P$7),FALSE))","v":""},{"$f":"IF(L307=\"\",\"\",VLOOKUP(L307,Parámetros!L$11:$P$13,MAX(Parámetros!L$7:$P$7),FALSE))","v":""},{"$f":"IF(M307=\"\",\"\",VLOOKUP(M307,Parámetros!M$11:$P$13,MAX(Parámetros!M$7:$P$7),FALSE))","v":""},{"$f":"IF(N307=\"\",\"\",VLOOKUP(N307,Parámetros!N$11:$P$13,MAX(Parámetros!N$7:$P$7),FALSE))","v":""},{"$f":"IF(O307=\"\",\"\",VLOOKUP(O307,Parámetros!O$11:$P$13,MAX(Parámetros!O$7:$P$7),FALSE))","v":""},""]
[null,null,null,{"$f":"IF(E308=\"\",\"\",VLOOKUP(E308,'Buenas prácticas'!$G$8:$H$1007,2,FALSE))","v":""},null,null,null,null,null,null,null,null,null,null,null,{"$f":"IF(F308=\"\",\"\",VLOOKUP(F308,Parámetros!F$11:$P$13,MAX(Parámetros!F$7:$P$7),FALSE))","v":""},{"$f":"IF(G308=\"\",\"\",VLOOKUP(G308,Parámetros!G$11:$P$13,MAX(Parámetros!G$7:$P$7),FALSE))","v":""},{"$f":"IF(H308=\"\",\"\",VLOOKUP(H308,Parámetros!H$11:$P$13,MAX(Parámetros!H$7:$P$7),FALSE))","v":""},{"$f":"IF(I308=\"\",\"\",VLOOKUP(I308,Parámetros!I$11:$P$13,MAX(Parámetros!I$7:$P$7),FALSE))","v":""},{"$f":"IF(J308=\"\",\"\",VLOOKUP(J308,Parámetros!J$11:$P$13,MAX(Parámetros!J$7:$P$7),FALSE))","v":""},{"$f":"IF(K308=\"\",\"\",VLOOKUP(K308,Parámetros!K$11:$P$13,MAX(Parámetros!K$7:$P$7),FALSE))","v":""},{"$f":"IF(L308=\"\",\"\",VLOOKUP(L308,Parámetros!L$11:$P$13,MAX(Parámetros!L$7:$P$7),FALSE))","v":""},{"$f":"IF(M308=\"\",\"\",VLOOKUP(M308,Parámetros!M$11:$P$13,MAX(Parámetros!M$7:$P$7),FALSE))","v":""},{"$f":"IF(N308=\"\",\"\",VLOOKUP(N308,Parámetros!N$11:$P$13,MAX(Parámetros!N$7:$P$7),FALSE))","v":""},{"$f":"IF(O308=\"\",\"\",VLOOKUP(O308,Parámetros!O$11:$P$13,MAX(Parámetros!O$7:$P$7),FALSE))","v":""},""]
[null,null,null,{"$f":"IF(E309=\"\",\"\",VLOOKUP(E309,'Buenas prácticas'!$G$8:$H$1007,2,FALSE))","v":""},null,null,null,null,null,null,null,null,null,null,null,{"$f":"IF(F309=\"\",\"\",VLOOKUP(F309,Parámetros!F$11:$P$13,MAX(Parámetros!F$7:$P$7),FALSE))","v":""},{"$f":"IF(G309=\"\",\"\",VLOOKUP(G309,Parámetros!G$11:$P$13,MAX(Parámetros!G$7:$P$7),FALSE))","v":""},{"$f":"IF(H309=\"\",\"\",VLOOKUP(H309,Parámetros!H$11:$P$13,MAX(Parámetros!H$7:$P$7),FALSE))","v":""},{"$f":"IF(I309=\"\",\"\",VLOOKUP(I309,Parámetros!I$11:$P$13,MAX(Parámetros!I$7:$P$7),FALSE))","v":""},{"$f":"IF(J309=\"\",\"\",VLOOKUP(J309,Parámetros!J$11:$P$13,MAX(Parámetros!J$7:$P$7),FALSE))","v":""},{"$f":"IF(K309=\"\",\"\",VLOOKUP(K309,Parámetros!K$11:$P$13,MAX(Parámetros!K$7:$P$7),FALSE))","v":""},{"$f":"IF(L309=\"\",\"\",VLOOKUP(L309,Parámetros!L$11:$P$13,MAX(Parámetros!L$7:$P$7),FALSE))","v":""},{"$f":"IF(M309=\"\",\"\",VLOOKUP(M309,Parámetros!M$11:$P$13,MAX(Parámetros!M$7:$P$7),FALSE))","v":""},{"$f":"IF(N309=\"\",\"\",VLOOKUP(N309,Parámetros!N$11:$P$13,MAX(Parámetros!N$7:$P$7),FALSE))","v":""},{"$f":"IF(O309=\"\",\"\",VLOOKUP(O309,Parámetros!O$11:$P$13,MAX(Parámetros!O$7:$P$7),FALSE))","v":""},""]
[null,null,null,{"$f":"IF(E310=\"\",\"\",VLOOKUP(E310,'Buenas prácticas'!$G$8:$H$1007,2,FALSE))","v":""},null,null,null,null,null,null,null,null,null,null,null,{"$f":"IF(F310=\"\",\"\",VLOOKUP(F310,Parámetros!F$11:$P$13,MAX(Parámetros!F$7:$P$7),FALSE))","v":""},{"$f":"IF(G310=\"\",\"\",VLOOKUP(G310,Parámetros!G$11:$P$13,MAX(Parámetros!G$7:$P$7),FALSE))","v":""},{"$f":"IF(H310=\"\",\"\",VLOOKUP(H310,Parámetros!H$11:$P$13,MAX(Parámetros!H$7:$P$7),FALSE))","v":""},{"$f":"IF(I310=\"\",\"\",VLOOKUP(I310,Parámetros!I$11:$P$13,MAX(Parámetros!I$7:$P$7),FALSE))","v":""},{"$f":"IF(J310=\"\",\"\",VLOOKUP(J310,Parámetros!J$11:$P$13,MAX(Parámetros!J$7:$P$7),FALSE))","v":""},{"$f":"IF(K310=\"\",\"\",VLOOKUP(K310,Parámetros!K$11:$P$13,MAX(Parámetros!K$7:$P$7),FALSE))","v":""},{"$f":"IF(L310=\"\",\"\",VLOOKUP(L310,Parámetros!L$11:$P$13,MAX(Parámetros!L$7:$P$7),FALSE))","v":""},{"$f":"IF(M310=\"\",\"\",VLOOKUP(M310,Parámetros!M$11:$P$13,MAX(Parámetros!M$7:$P$7),FALSE))","v":""},{"$f":"IF(N310=\"\",\"\",VLOOKUP(N310,Parámetros!N$11:$P$13,MAX(Parámetros!N$7:$P$7),FALSE))","v":""},{"$f":"IF(O310=\"\",\"\",VLOOKUP(O310,Parámetros!O$11:$P$13,MAX(Parámetros!O$7:$P$7),FALSE))","v":""},""]
[null,null,null,{"$f":"IF(E311=\"\",\"\",VLOOKUP(E311,'Buenas prácticas'!$G$8:$H$1007,2,FALSE))","v":""},null,null,null,null,null,null,null,null,null,null,null,{"$f":"IF(F311=\"\",\"\",VLOOKUP(F311,Parámetros!F$11:$P$13,MAX(Parámetros!F$7:$P$7),FALSE))","v":""},{"$f":"IF(G311=\"\",\"\",VLOOKUP(G311,Parámetros!G$11:$P$13,MAX(Parámetros!G$7:$P$7),FALSE))","v":""},{"$f":"IF(H311=\"\",\"\",VLOOKUP(H311,Parámetros!H$11:$P$13,MAX(Parámetros!H$7:$P$7),FALSE))","v":""},{"$f":"IF(I311=\"\",\"\",VLOOKUP(I311,Parámetros!I$11:$P$13,MAX(Parámetros!I$7:$P$7),FALSE))","v":""},{"$f":"IF(J311=\"\",\"\",VLOOKUP(J311,Parámetros!J$11:$P$13,MAX(Parámetros!J$7:$P$7),FALSE))","v":""},{"$f":"IF(K311=\"\",\"\",VLOOKUP(K311,Parámetros!K$11:$P$13,MAX(Parámetros!K$7:$P$7),FALSE))","v":""},{"$f":"IF(L311=\"\",\"\",VLOOKUP(L311,Parámetros!L$11:$P$13,MAX(Parámetros!L$7:$P$7),FALSE))","v":""},{"$f":"IF(M311=\"\",\"\",VLOOKUP(M311,Parámetros!M$11:$P$13,MAX(Parámetros!M$7:$P$7),FALSE))","v":""},{"$f":"IF(N311=\"\",\"\",VLOOKUP(N311,Parámetros!N$11:$P$13,MAX(Parámetros!N$7:$P$7),FALSE))","v":""},{"$f":"IF(O311=\"\",\"\",VLOOKUP(O311,Parámetros!O$11:$P$13,MAX(Parámetros!O$7:$P$7),FALSE))","v":""},""]
[null,null,null,{"$f":"IF(E312=\"\",\"\",VLOOKUP(E312,'Buenas prácticas'!$G$8:$H$1007,2,FALSE))","v":""},null,null,null,null,null,null,null,null,null,null,null,{"$f":"IF(F312=\"\",\"\",VLOOKUP(F312,Parámetros!F$11:$P$13,MAX(Parámetros!F$7:$P$7),FALSE))","v":""},{"$f":"IF(G312=\"\",\"\",VLOOKUP(G312,Parámetros!G$11:$P$13,MAX(Parámetros!G$7:$P$7),FALSE))","v":""},{"$f":"IF(H312=\"\",\"\",VLOOKUP(H312,Parámetros!H$11:$P$13,MAX(Parámetros!H$7:$P$7),FALSE))","v":""},{"$f":"IF(I312=\"\",\"\",VLOOKUP(I312,Parámetros!I$11:$P$13,MAX(Parámetros!I$7:$P$7),FALSE))","v":""},{"$f":"IF(J312=\"\",\"\",VLOOKUP(J312,Parámetros!J$11:$P$13,MAX(Parámetros!J$7:$P$7),FALSE))","v":""},{"$f":"IF(K312=\"\",\"\",VLOOKUP(K312,Parámetros!K$11:$P$13,MAX(Parámetros!K$7:$P$7),FALSE))","v":""},{"$f":"IF(L312=\"\",\"\",VLOOKUP(L312,Parámetros!L$11:$P$13,MAX(Parámetros!L$7:$P$7),FALSE))","v":""},{"$f":"IF(M312=\"\",\"\",VLOOKUP(M312,Parámetros!M$11:$P$13,MAX(Parámetros!M$7:$P$7),FALSE))","v":""},{"$f":"IF(N312=\"\",\"\",VLOOKUP(N312,Parámetros!N$11:$P$13,MAX(Parámetros!N$7:$P$7),FALSE))","v":""},{"$f":"IF(O312=\"\",\"\",VLOOKUP(O312,Parámetros!O$11:$P$13,MAX(Parámetros!O$7:$P$7),FALSE))","v":""},""]
[null,null,null,{"$f":"IF(E313=\"\",\"\",VLOOKUP(E313,'Buenas prácticas'!$G$8:$H$1007,2,FALSE))","v":""},null,null,null,null,null,null,null,null,null,null,null,{"$f":"IF(F313=\"\",\"\",VLOOKUP(F313,Parámetros!F$11:$P$13,MAX(Parámetros!F$7:$P$7),FALSE))","v":""},{"$f":"IF(G313=\"\",\"\",VLOOKUP(G313,Parámetros!G$11:$P$13,MAX(Parámetros!G$7:$P$7),FALSE))","v":""},{"$f":"IF(H313=\"\",\"\",VLOOKUP(H313,Parámetros!H$11:$P$13,MAX(Parámetros!H$7:$P$7),FALSE))","v":""},{"$f":"IF(I313=\"\",\"\",VLOOKUP(I313,Parámetros!I$11:$P$13,MAX(Parámetros!I$7:$P$7),FALSE))","v":""},{"$f":"IF(J313=\"\",\"\",VLOOKUP(J313,Parámetros!J$11:$P$13,MAX(Parámetros!J$7:$P$7),FALSE))","v":""},{"$f":"IF(K313=\"\",\"\",VLOOKUP(K313,Parámetros!K$11:$P$13,MAX(Parámetros!K$7:$P$7),FALSE))","v":""},{"$f":"IF(L313=\"\",\"\",VLOOKUP(L313,Parámetros!L$11:$P$13,MAX(Parámetros!L$7:$P$7),FALSE))","v":""},{"$f":"IF(M313=\"\",\"\",VLOOKUP(M313,Parámetros!M$11:$P$13,MAX(Parámetros!M$7:$P$7),FALSE))","v":""},{"$f":"IF(N313=\"\",\"\",VLOOKUP(N313,Parámetros!N$11:$P$13,MAX(Parámetros!N$7:$P$7),FALSE))","v":""},{"$f":"IF(O313=\"\",\"\",VLOOKUP(O313,Parámetros!O$11:$P$13,MAX(Parámetros!O$7:$P$7),FALSE))","v":""},""]
[null,null,null,{"$f":"IF(E314=\"\",\"\",VLOOKUP(E314,'Buenas prácticas'!$G$8:$H$1007,2,FALSE))","v":""},null,null,null,null,null,null,null,null,null,null,null,{"$f":"IF(F314=\"\",\"\",VLOOKUP(F314,Parámetros!F$11:$P$13,MAX(Parámetros!F$7:$P$7),FALSE))","v":""},{"$f":"IF(G314=\"\",\"\",VLOOKUP(G314,Parámetros!G$11:$P$13,MAX(Parámetros!G$7:$P$7),FALSE))","v":""},{"$f":"IF(H314=\"\",\"\",VLOOKUP(H314,Parámetros!H$11:$P$13,MAX(Parámetros!H$7:$P$7),FALSE))","v":""},{"$f":"IF(I314=\"\",\"\",VLOOKUP(I314,Parámetros!I$11:$P$13,MAX(Parámetros!I$7:$P$7),FALSE))","v":""},{"$f":"IF(J314=\"\",\"\",VLOOKUP(J314,Parámetros!J$11:$P$13,MAX(Parámetros!J$7:$P$7),FALSE))","v":""},{"$f":"IF(K314=\"\",\"\",VLOOKUP(K314,Parámetros!K$11:$P$13,MAX(Parámetros!K$7:$P$7),FALSE))","v":""},{"$f":"IF(L314=\"\",\"\",VLOOKUP(L314,Parámetros!L$11:$P$13,MAX(Parámetros!L$7:$P$7),FALSE))","v":""},{"$f":"IF(M314=\"\",\"\",VLOOKUP(M314,Parámetros!M$11:$P$13,MAX(Parámetros!M$7:$P$7),FALSE))","v":""},{"$f":"IF(N314=\"\",\"\",VLOOKUP(N314,Parámetros!N$11:$P$13,MAX(Parámetros!N$7:$P$7),FALSE))","v":""},{"$f":"IF(O314=\"\",\"\",VLOOKUP(O314,Parámetros!O$11:$P$13,MAX(Parámetros!O$7:$P$7),FALSE))","v":""},""]
[null,null,null,{"$f":"IF(E315=\"\",\"\",VLOOKUP(E315,'Buenas prácticas'!$G$8:$H$1007,2,FALSE))","v":""},null,null,null,null,null,null,null,null,null,null,null,{"$f":"IF(F315=\"\",\"\",VLOOKUP(F315,Parámetros!F$11:$P$13,MAX(Parámetros!F$7:$P$7),FALSE))","v":""},{"$f":"IF(G315=\"\",\"\",VLOOKUP(G315,Parámetros!G$11:$P$13,MAX(Parámetros!G$7:$P$7),FALSE))","v":""},{"$f":"IF(H315=\"\",\"\",VLOOKUP(H315,Parámetros!H$11:$P$13,MAX(Parámetros!H$7:$P$7),FALSE))","v":""},{"$f":"IF(I315=\"\",\"\",VLOOKUP(I315,Parámetros!I$11:$P$13,MAX(Parámetros!I$7:$P$7),FALSE))","v":""},{"$f":"IF(J315=\"\",\"\",VLOOKUP(J315,Parámetros!J$11:$P$13,MAX(Parámetros!J$7:$P$7),FALSE))","v":""},{"$f":"IF(K315=\"\",\"\",VLOOKUP(K315,Parámetros!K$11:$P$13,MAX(Parámetros!K$7:$P$7),FALSE))","v":""},{"$f":"IF(L315=\"\",\"\",VLOOKUP(L315,Parámetros!L$11:$P$13,MAX(Parámetros!L$7:$P$7),FALSE))","v":""},{"$f":"IF(M315=\"\",\"\",VLOOKUP(M315,Parámetros!M$11:$P$13,MAX(Parámetros!M$7:$P$7),FALSE))","v":""},{"$f":"IF(N315=\"\",\"\",VLOOKUP(N315,Parámetros!N$11:$P$13,MAX(Parámetros!N$7:$P$7),FALSE))","v":""},{"$f":"IF(O315=\"\",\"\",VLOOKUP(O315,Parámetros!O$11:$P$13,MAX(Parámetros!O$7:$P$7),FALSE))","v":""},""]
[null,null,null,{"$f":"IF(E316=\"\",\"\",VLOOKUP(E316,'Buenas prácticas'!$G$8:$H$1007,2,FALSE))","v":""},null,null,null,null,null,null,null,null,null,null,null,{"$f":"IF(F316=\"\",\"\",VLOOKUP(F316,Parámetros!F$11:$P$13,MAX(Parámetros!F$7:$P$7),FALSE))","v":""},{"$f":"IF(G316=\"\",\"\",VLOOKUP(G316,Parámetros!G$11:$P$13,MAX(Parámetros!G$7:$P$7),FALSE))","v":""},{"$f":"IF(H316=\"\",\"\",VLOOKUP(H316,Parámetros!H$11:$P$13,MAX(Parámetros!H$7:$P$7),FALSE))","v":""},{"$f":"IF(I316=\"\",\"\",VLOOKUP(I316,Parámetros!I$11:$P$13,MAX(Parámetros!I$7:$P$7),FALSE))","v":""},{"$f":"IF(J316=\"\",\"\",VLOOKUP(J316,Parámetros!J$11:$P$13,MAX(Parámetros!J$7:$P$7),FALSE))","v":""},{"$f":"IF(K316=\"\",\"\",VLOOKUP(K316,Parámetros!K$11:$P$13,MAX(Parámetros!K$7:$P$7),FALSE))","v":""},{"$f":"IF(L316=\"\",\"\",VLOOKUP(L316,Parámetros!L$11:$P$13,MAX(Parámetros!L$7:$P$7),FALSE))","v":""},{"$f":"IF(M316=\"\",\"\",VLOOKUP(M316,Parámetros!M$11:$P$13,MAX(Parámetros!M$7:$P$7),FALSE))","v":""},{"$f":"IF(N316=\"\",\"\",VLOOKUP(N316,Parámetros!N$11:$P$13,MAX(Parámetros!N$7:$P$7),FALSE))","v":""},{"$f":"IF(O316=\"\",\"\",VLOOKUP(O316,Parámetros!O$11:$P$13,MAX(Parámetros!O$7:$P$7),FALSE))","v":""},""]
[null,null,null,{"$f":"IF(E317=\"\",\"\",VLOOKUP(E317,'Buenas prácticas'!$G$8:$H$1007,2,FALSE))","v":""},null,null,null,null,null,null,null,null,null,null,null,{"$f":"IF(F317=\"\",\"\",VLOOKUP(F317,Parámetros!F$11:$P$13,MAX(Parámetros!F$7:$P$7),FALSE))","v":""},{"$f":"IF(G317=\"\",\"\",VLOOKUP(G317,Parámetros!G$11:$P$13,MAX(Parámetros!G$7:$P$7),FALSE))","v":""},{"$f":"IF(H317=\"\",\"\",VLOOKUP(H317,Parámetros!H$11:$P$13,MAX(Parámetros!H$7:$P$7),FALSE))","v":""},{"$f":"IF(I317=\"\",\"\",VLOOKUP(I317,Parámetros!I$11:$P$13,MAX(Parámetros!I$7:$P$7),FALSE))","v":""},{"$f":"IF(J317=\"\",\"\",VLOOKUP(J317,Parámetros!J$11:$P$13,MAX(Parámetros!J$7:$P$7),FALSE))","v":""},{"$f":"IF(K317=\"\",\"\",VLOOKUP(K317,Parámetros!K$11:$P$13,MAX(Parámetros!K$7:$P$7),FALSE))","v":""},{"$f":"IF(L317=\"\",\"\",VLOOKUP(L317,Parámetros!L$11:$P$13,MAX(Parámetros!L$7:$P$7),FALSE))","v":""},{"$f":"IF(M317=\"\",\"\",VLOOKUP(M317,Parámetros!M$11:$P$13,MAX(Parámetros!M$7:$P$7),FALSE))","v":""},{"$f":"IF(N317=\"\",\"\",VLOOKUP(N317,Parámetros!N$11:$P$13,MAX(Parámetros!N$7:$P$7),FALSE))","v":""},{"$f":"IF(O317=\"\",\"\",VLOOKUP(O317,Parámetros!O$11:$P$13,MAX(Parámetros!O$7:$P$7),FALSE))","v":""},""]
[null,null,null,{"$f":"IF(E318=\"\",\"\",VLOOKUP(E318,'Buenas prácticas'!$G$8:$H$1007,2,FALSE))","v":""},null,null,null,null,null,null,null,null,null,null,null,{"$f":"IF(F318=\"\",\"\",VLOOKUP(F318,Parámetros!F$11:$P$13,MAX(Parámetros!F$7:$P$7),FALSE))","v":""},{"$f":"IF(G318=\"\",\"\",VLOOKUP(G318,Parámetros!G$11:$P$13,MAX(Parámetros!G$7:$P$7),FALSE))","v":""},{"$f":"IF(H318=\"\",\"\",VLOOKUP(H318,Parámetros!H$11:$P$13,MAX(Parámetros!H$7:$P$7),FALSE))","v":""},{"$f":"IF(I318=\"\",\"\",VLOOKUP(I318,Parámetros!I$11:$P$13,MAX(Parámetros!I$7:$P$7),FALSE))","v":""},{"$f":"IF(J318=\"\",\"\",VLOOKUP(J318,Parámetros!J$11:$P$13,MAX(Parámetros!J$7:$P$7),FALSE))","v":""},{"$f":"IF(K318=\"\",\"\",VLOOKUP(K318,Parámetros!K$11:$P$13,MAX(Parámetros!K$7:$P$7),FALSE))","v":""},{"$f":"IF(L318=\"\",\"\",VLOOKUP(L318,Parámetros!L$11:$P$13,MAX(Parámetros!L$7:$P$7),FALSE))","v":""},{"$f":"IF(M318=\"\",\"\",VLOOKUP(M318,Parámetros!M$11:$P$13,MAX(Parámetros!M$7:$P$7),FALSE))","v":""},{"$f":"IF(N318=\"\",\"\",VLOOKUP(N318,Parámetros!N$11:$P$13,MAX(Parámetros!N$7:$P$7),FALSE))","v":""},{"$f":"IF(O318=\"\",\"\",VLOOKUP(O318,Parámetros!O$11:$P$13,MAX(Parámetros!O$7:$P$7),FALSE))","v":""},""]
[null,null,null,{"$f":"IF(E319=\"\",\"\",VLOOKUP(E319,'Buenas prácticas'!$G$8:$H$1007,2,FALSE))","v":""},null,null,null,null,null,null,null,null,null,null,null,{"$f":"IF(F319=\"\",\"\",VLOOKUP(F319,Parámetros!F$11:$P$13,MAX(Parámetros!F$7:$P$7),FALSE))","v":""},{"$f":"IF(G319=\"\",\"\",VLOOKUP(G319,Parámetros!G$11:$P$13,MAX(Parámetros!G$7:$P$7),FALSE))","v":""},{"$f":"IF(H319=\"\",\"\",VLOOKUP(H319,Parámetros!H$11:$P$13,MAX(Parámetros!H$7:$P$7),FALSE))","v":""},{"$f":"IF(I319=\"\",\"\",VLOOKUP(I319,Parámetros!I$11:$P$13,MAX(Parámetros!I$7:$P$7),FALSE))","v":""},{"$f":"IF(J319=\"\",\"\",VLOOKUP(J319,Parámetros!J$11:$P$13,MAX(Parámetros!J$7:$P$7),FALSE))","v":""},{"$f":"IF(K319=\"\",\"\",VLOOKUP(K319,Parámetros!K$11:$P$13,MAX(Parámetros!K$7:$P$7),FALSE))","v":""},{"$f":"IF(L319=\"\",\"\",VLOOKUP(L319,Parámetros!L$11:$P$13,MAX(Parámetros!L$7:$P$7),FALSE))","v":""},{"$f":"IF(M319=\"\",\"\",VLOOKUP(M319,Parámetros!M$11:$P$13,MAX(Parámetros!M$7:$P$7),FALSE))","v":""},{"$f":"IF(N319=\"\",\"\",VLOOKUP(N319,Parámetros!N$11:$P$13,MAX(Parámetros!N$7:$P$7),FALSE))","v":""},{"$f":"IF(O319=\"\",\"\",VLOOKUP(O319,Parámetros!O$11:$P$13,MAX(Parámetros!O$7:$P$7),FALSE))","v":""},""]
[null,null,null,{"$f":"IF(E320=\"\",\"\",VLOOKUP(E320,'Buenas prácticas'!$G$8:$H$1007,2,FALSE))","v":""},null,null,null,null,null,null,null,null,null,null,null,{"$f":"IF(F320=\"\",\"\",VLOOKUP(F320,Parámetros!F$11:$P$13,MAX(Parámetros!F$7:$P$7),FALSE))","v":""},{"$f":"IF(G320=\"\",\"\",VLOOKUP(G320,Parámetros!G$11:$P$13,MAX(Parámetros!G$7:$P$7),FALSE))","v":""},{"$f":"IF(H320=\"\",\"\",VLOOKUP(H320,Parámetros!H$11:$P$13,MAX(Parámetros!H$7:$P$7),FALSE))","v":""},{"$f":"IF(I320=\"\",\"\",VLOOKUP(I320,Parámetros!I$11:$P$13,MAX(Parámetros!I$7:$P$7),FALSE))","v":""},{"$f":"IF(J320=\"\",\"\",VLOOKUP(J320,Parámetros!J$11:$P$13,MAX(Parámetros!J$7:$P$7),FALSE))","v":""},{"$f":"IF(K320=\"\",\"\",VLOOKUP(K320,Parámetros!K$11:$P$13,MAX(Parámetros!K$7:$P$7),FALSE))","v":""},{"$f":"IF(L320=\"\",\"\",VLOOKUP(L320,Parámetros!L$11:$P$13,MAX(Parámetros!L$7:$P$7),FALSE))","v":""},{"$f":"IF(M320=\"\",\"\",VLOOKUP(M320,Parámetros!M$11:$P$13,MAX(Parámetros!M$7:$P$7),FALSE))","v":""},{"$f":"IF(N320=\"\",\"\",VLOOKUP(N320,Parámetros!N$11:$P$13,MAX(Parámetros!N$7:$P$7),FALSE))","v":""},{"$f":"IF(O320=\"\",\"\",VLOOKUP(O320,Parámetros!O$11:$P$13,MAX(Parámetros!O$7:$P$7),FALSE))","v":""},""]
[null,null,null,{"$f":"IF(E321=\"\",\"\",VLOOKUP(E321,'Buenas prácticas'!$G$8:$H$1007,2,FALSE))","v":""},null,null,null,null,null,null,null,null,null,null,null,{"$f":"IF(F321=\"\",\"\",VLOOKUP(F321,Parámetros!F$11:$P$13,MAX(Parámetros!F$7:$P$7),FALSE))","v":""},{"$f":"IF(G321=\"\",\"\",VLOOKUP(G321,Parámetros!G$11:$P$13,MAX(Parámetros!G$7:$P$7),FALSE))","v":""},{"$f":"IF(H321=\"\",\"\",VLOOKUP(H321,Parámetros!H$11:$P$13,MAX(Parámetros!H$7:$P$7),FALSE))","v":""},{"$f":"IF(I321=\"\",\"\",VLOOKUP(I321,Parámetros!I$11:$P$13,MAX(Parámetros!I$7:$P$7),FALSE))","v":""},{"$f":"IF(J321=\"\",\"\",VLOOKUP(J321,Parámetros!J$11:$P$13,MAX(Parámetros!J$7:$P$7),FALSE))","v":""},{"$f":"IF(K321=\"\",\"\",VLOOKUP(K321,Parámetros!K$11:$P$13,MAX(Parámetros!K$7:$P$7),FALSE))","v":""},{"$f":"IF(L321=\"\",\"\",VLOOKUP(L321,Parámetros!L$11:$P$13,MAX(Parámetros!L$7:$P$7),FALSE))","v":""},{"$f":"IF(M321=\"\",\"\",VLOOKUP(M321,Parámetros!M$11:$P$13,MAX(Parámetros!M$7:$P$7),FALSE))","v":""},{"$f":"IF(N321=\"\",\"\",VLOOKUP(N321,Parámetros!N$11:$P$13,MAX(Parámetros!N$7:$P$7),FALSE))","v":""},{"$f":"IF(O321=\"\",\"\",VLOOKUP(O321,Parámetros!O$11:$P$13,MAX(Parámetros!O$7:$P$7),FALSE))","v":""},""]
[null,null,null,{"$f":"IF(E322=\"\",\"\",VLOOKUP(E322,'Buenas prácticas'!$G$8:$H$1007,2,FALSE))","v":""},null,null,null,null,null,null,null,null,null,null,null,{"$f":"IF(F322=\"\",\"\",VLOOKUP(F322,Parámetros!F$11:$P$13,MAX(Parámetros!F$7:$P$7),FALSE))","v":""},{"$f":"IF(G322=\"\",\"\",VLOOKUP(G322,Parámetros!G$11:$P$13,MAX(Parámetros!G$7:$P$7),FALSE))","v":""},{"$f":"IF(H322=\"\",\"\",VLOOKUP(H322,Parámetros!H$11:$P$13,MAX(Parámetros!H$7:$P$7),FALSE))","v":""},{"$f":"IF(I322=\"\",\"\",VLOOKUP(I322,Parámetros!I$11:$P$13,MAX(Parámetros!I$7:$P$7),FALSE))","v":""},{"$f":"IF(J322=\"\",\"\",VLOOKUP(J322,Parámetros!J$11:$P$13,MAX(Parámetros!J$7:$P$7),FALSE))","v":""},{"$f":"IF(K322=\"\",\"\",VLOOKUP(K322,Parámetros!K$11:$P$13,MAX(Parámetros!K$7:$P$7),FALSE))","v":""},{"$f":"IF(L322=\"\",\"\",VLOOKUP(L322,Parámetros!L$11:$P$13,MAX(Parámetros!L$7:$P$7),FALSE))","v":""},{"$f":"IF(M322=\"\",\"\",VLOOKUP(M322,Parámetros!M$11:$P$13,MAX(Parámetros!M$7:$P$7),FALSE))","v":""},{"$f":"IF(N322=\"\",\"\",VLOOKUP(N322,Parámetros!N$11:$P$13,MAX(Parámetros!N$7:$P$7),FALSE))","v":""},{"$f":"IF(O322=\"\",\"\",VLOOKUP(O322,Parámetros!O$11:$P$13,MAX(Parámetros!O$7:$P$7),FALSE))","v":""},""]
[null,null,null,{"$f":"IF(E323=\"\",\"\",VLOOKUP(E323,'Buenas prácticas'!$G$8:$H$1007,2,FALSE))","v":""},null,null,null,null,null,null,null,null,null,null,null,{"$f":"IF(F323=\"\",\"\",VLOOKUP(F323,Parámetros!F$11:$P$13,MAX(Parámetros!F$7:$P$7),FALSE))","v":""},{"$f":"IF(G323=\"\",\"\",VLOOKUP(G323,Parámetros!G$11:$P$13,MAX(Parámetros!G$7:$P$7),FALSE))","v":""},{"$f":"IF(H323=\"\",\"\",VLOOKUP(H323,Parámetros!H$11:$P$13,MAX(Parámetros!H$7:$P$7),FALSE))","v":""},{"$f":"IF(I323=\"\",\"\",VLOOKUP(I323,Parámetros!I$11:$P$13,MAX(Parámetros!I$7:$P$7),FALSE))","v":""},{"$f":"IF(J323=\"\",\"\",VLOOKUP(J323,Parámetros!J$11:$P$13,MAX(Parámetros!J$7:$P$7),FALSE))","v":""},{"$f":"IF(K323=\"\",\"\",VLOOKUP(K323,Parámetros!K$11:$P$13,MAX(Parámetros!K$7:$P$7),FALSE))","v":""},{"$f":"IF(L323=\"\",\"\",VLOOKUP(L323,Parámetros!L$11:$P$13,MAX(Parámetros!L$7:$P$7),FALSE))","v":""},{"$f":"IF(M323=\"\",\"\",VLOOKUP(M323,Parámetros!M$11:$P$13,MAX(Parámetros!M$7:$P$7),FALSE))","v":""},{"$f":"IF(N323=\"\",\"\",VLOOKUP(N323,Parámetros!N$11:$P$13,MAX(Parámetros!N$7:$P$7),FALSE))","v":""},{"$f":"IF(O323=\"\",\"\",VLOOKUP(O323,Parámetros!O$11:$P$13,MAX(Parámetros!O$7:$P$7),FALSE))","v":""},""]
[null,null,null,{"$f":"IF(E324=\"\",\"\",VLOOKUP(E324,'Buenas prácticas'!$G$8:$H$1007,2,FALSE))","v":""},null,null,null,null,null,null,null,null,null,null,null,{"$f":"IF(F324=\"\",\"\",VLOOKUP(F324,Parámetros!F$11:$P$13,MAX(Parámetros!F$7:$P$7),FALSE))","v":""},{"$f":"IF(G324=\"\",\"\",VLOOKUP(G324,Parámetros!G$11:$P$13,MAX(Parámetros!G$7:$P$7),FALSE))","v":""},{"$f":"IF(H324=\"\",\"\",VLOOKUP(H324,Parámetros!H$11:$P$13,MAX(Parámetros!H$7:$P$7),FALSE))","v":""},{"$f":"IF(I324=\"\",\"\",VLOOKUP(I324,Parámetros!I$11:$P$13,MAX(Parámetros!I$7:$P$7),FALSE))","v":""},{"$f":"IF(J324=\"\",\"\",VLOOKUP(J324,Parámetros!J$11:$P$13,MAX(Parámetros!J$7:$P$7),FALSE))","v":""},{"$f":"IF(K324=\"\",\"\",VLOOKUP(K324,Parámetros!K$11:$P$13,MAX(Parámetros!K$7:$P$7),FALSE))","v":""},{"$f":"IF(L324=\"\",\"\",VLOOKUP(L324,Parámetros!L$11:$P$13,MAX(Parámetros!L$7:$P$7),FALSE))","v":""},{"$f":"IF(M324=\"\",\"\",VLOOKUP(M324,Parámetros!M$11:$P$13,MAX(Parámetros!M$7:$P$7),FALSE))","v":""},{"$f":"IF(N324=\"\",\"\",VLOOKUP(N324,Parámetros!N$11:$P$13,MAX(Parámetros!N$7:$P$7),FALSE))","v":""},{"$f":"IF(O324=\"\",\"\",VLOOKUP(O324,Parámetros!O$11:$P$13,MAX(Parámetros!O$7:$P$7),FALSE))","v":""},""]
[null,null,null,{"$f":"IF(E325=\"\",\"\",VLOOKUP(E325,'Buenas prácticas'!$G$8:$H$1007,2,FALSE))","v":""},null,null,null,null,null,null,null,null,null,null,null,{"$f":"IF(F325=\"\",\"\",VLOOKUP(F325,Parámetros!F$11:$P$13,MAX(Parámetros!F$7:$P$7),FALSE))","v":""},{"$f":"IF(G325=\"\",\"\",VLOOKUP(G325,Parámetros!G$11:$P$13,MAX(Parámetros!G$7:$P$7),FALSE))","v":""},{"$f":"IF(H325=\"\",\"\",VLOOKUP(H325,Parámetros!H$11:$P$13,MAX(Parámetros!H$7:$P$7),FALSE))","v":""},{"$f":"IF(I325=\"\",\"\",VLOOKUP(I325,Parámetros!I$11:$P$13,MAX(Parámetros!I$7:$P$7),FALSE))","v":""},{"$f":"IF(J325=\"\",\"\",VLOOKUP(J325,Parámetros!J$11:$P$13,MAX(Parámetros!J$7:$P$7),FALSE))","v":""},{"$f":"IF(K325=\"\",\"\",VLOOKUP(K325,Parámetros!K$11:$P$13,MAX(Parámetros!K$7:$P$7),FALSE))","v":""},{"$f":"IF(L325=\"\",\"\",VLOOKUP(L325,Parámetros!L$11:$P$13,MAX(Parámetros!L$7:$P$7),FALSE))","v":""},{"$f":"IF(M325=\"\",\"\",VLOOKUP(M325,Parámetros!M$11:$P$13,MAX(Parámetros!M$7:$P$7),FALSE))","v":""},{"$f":"IF(N325=\"\",\"\",VLOOKUP(N325,Parámetros!N$11:$P$13,MAX(Parámetros!N$7:$P$7),FALSE))","v":""},{"$f":"IF(O325=\"\",\"\",VLOOKUP(O325,Parámetros!O$11:$P$13,MAX(Parámetros!O$7:$P$7),FALSE))","v":""},""]
[null,null,null,{"$f":"IF(E326=\"\",\"\",VLOOKUP(E326,'Buenas prácticas'!$G$8:$H$1007,2,FALSE))","v":""},null,null,null,null,null,null,null,null,null,null,null,{"$f":"IF(F326=\"\",\"\",VLOOKUP(F326,Parámetros!F$11:$P$13,MAX(Parámetros!F$7:$P$7),FALSE))","v":""},{"$f":"IF(G326=\"\",\"\",VLOOKUP(G326,Parámetros!G$11:$P$13,MAX(Parámetros!G$7:$P$7),FALSE))","v":""},{"$f":"IF(H326=\"\",\"\",VLOOKUP(H326,Parámetros!H$11:$P$13,MAX(Parámetros!H$7:$P$7),FALSE))","v":""},{"$f":"IF(I326=\"\",\"\",VLOOKUP(I326,Parámetros!I$11:$P$13,MAX(Parámetros!I$7:$P$7),FALSE))","v":""},{"$f":"IF(J326=\"\",\"\",VLOOKUP(J326,Parámetros!J$11:$P$13,MAX(Parámetros!J$7:$P$7),FALSE))","v":""},{"$f":"IF(K326=\"\",\"\",VLOOKUP(K326,Parámetros!K$11:$P$13,MAX(Parámetros!K$7:$P$7),FALSE))","v":""},{"$f":"IF(L326=\"\",\"\",VLOOKUP(L326,Parámetros!L$11:$P$13,MAX(Parámetros!L$7:$P$7),FALSE))","v":""},{"$f":"IF(M326=\"\",\"\",VLOOKUP(M326,Parámetros!M$11:$P$13,MAX(Parámetros!M$7:$P$7),FALSE))","v":""},{"$f":"IF(N326=\"\",\"\",VLOOKUP(N326,Parámetros!N$11:$P$13,MAX(Parámetros!N$7:$P$7),FALSE))","v":""},{"$f":"IF(O326=\"\",\"\",VLOOKUP(O326,Parámetros!O$11:$P$13,MAX(Parámetros!O$7:$P$7),FALSE))","v":""},""]
[null,null,null,{"$f":"IF(E327=\"\",\"\",VLOOKUP(E327,'Buenas prácticas'!$G$8:$H$1007,2,FALSE))","v":""},null,null,null,null,null,null,null,null,null,null,null,{"$f":"IF(F327=\"\",\"\",VLOOKUP(F327,Parámetros!F$11:$P$13,MAX(Parámetros!F$7:$P$7),FALSE))","v":""},{"$f":"IF(G327=\"\",\"\",VLOOKUP(G327,Parámetros!G$11:$P$13,MAX(Parámetros!G$7:$P$7),FALSE))","v":""},{"$f":"IF(H327=\"\",\"\",VLOOKUP(H327,Parámetros!H$11:$P$13,MAX(Parámetros!H$7:$P$7),FALSE))","v":""},{"$f":"IF(I327=\"\",\"\",VLOOKUP(I327,Parámetros!I$11:$P$13,MAX(Parámetros!I$7:$P$7),FALSE))","v":""},{"$f":"IF(J327=\"\",\"\",VLOOKUP(J327,Parámetros!J$11:$P$13,MAX(Parámetros!J$7:$P$7),FALSE))","v":""},{"$f":"IF(K327=\"\",\"\",VLOOKUP(K327,Parámetros!K$11:$P$13,MAX(Parámetros!K$7:$P$7),FALSE))","v":""},{"$f":"IF(L327=\"\",\"\",VLOOKUP(L327,Parámetros!L$11:$P$13,MAX(Parámetros!L$7:$P$7),FALSE))","v":""},{"$f":"IF(M327=\"\",\"\",VLOOKUP(M327,Parámetros!M$11:$P$13,MAX(Parámetros!M$7:$P$7),FALSE))","v":""},{"$f":"IF(N327=\"\",\"\",VLOOKUP(N327,Parámetros!N$11:$P$13,MAX(Parámetros!N$7:$P$7),FALSE))","v":""},{"$f":"IF(O327=\"\",\"\",VLOOKUP(O327,Parámetros!O$11:$P$13,MAX(Parámetros!O$7:$P$7),FALSE))","v":""},""]
[null,null,null,{"$f":"IF(E328=\"\",\"\",VLOOKUP(E328,'Buenas prácticas'!$G$8:$H$1007,2,FALSE))","v":""},null,null,null,null,null,null,null,null,null,null,null,{"$f":"IF(F328=\"\",\"\",VLOOKUP(F328,Parámetros!F$11:$P$13,MAX(Parámetros!F$7:$P$7),FALSE))","v":""},{"$f":"IF(G328=\"\",\"\",VLOOKUP(G328,Parámetros!G$11:$P$13,MAX(Parámetros!G$7:$P$7),FALSE))","v":""},{"$f":"IF(H328=\"\",\"\",VLOOKUP(H328,Parámetros!H$11:$P$13,MAX(Parámetros!H$7:$P$7),FALSE))","v":""},{"$f":"IF(I328=\"\",\"\",VLOOKUP(I328,Parámetros!I$11:$P$13,MAX(Parámetros!I$7:$P$7),FALSE))","v":""},{"$f":"IF(J328=\"\",\"\",VLOOKUP(J328,Parámetros!J$11:$P$13,MAX(Parámetros!J$7:$P$7),FALSE))","v":""},{"$f":"IF(K328=\"\",\"\",VLOOKUP(K328,Parámetros!K$11:$P$13,MAX(Parámetros!K$7:$P$7),FALSE))","v":""},{"$f":"IF(L328=\"\",\"\",VLOOKUP(L328,Parámetros!L$11:$P$13,MAX(Parámetros!L$7:$P$7),FALSE))","v":""},{"$f":"IF(M328=\"\",\"\",VLOOKUP(M328,Parámetros!M$11:$P$13,MAX(Parámetros!M$7:$P$7),FALSE))","v":""},{"$f":"IF(N328=\"\",\"\",VLOOKUP(N328,Parámetros!N$11:$P$13,MAX(Parámetros!N$7:$P$7),FALSE))","v":""},{"$f":"IF(O328=\"\",\"\",VLOOKUP(O328,Parámetros!O$11:$P$13,MAX(Parámetros!O$7:$P$7),FALSE))","v":""},""]
[null,null,null,{"$f":"IF(E329=\"\",\"\",VLOOKUP(E329,'Buenas prácticas'!$G$8:$H$1007,2,FALSE))","v":""},null,null,null,null,null,null,null,null,null,null,null,{"$f":"IF(F329=\"\",\"\",VLOOKUP(F329,Parámetros!F$11:$P$13,MAX(Parámetros!F$7:$P$7),FALSE))","v":""},{"$f":"IF(G329=\"\",\"\",VLOOKUP(G329,Parámetros!G$11:$P$13,MAX(Parámetros!G$7:$P$7),FALSE))","v":""},{"$f":"IF(H329=\"\",\"\",VLOOKUP(H329,Parámetros!H$11:$P$13,MAX(Parámetros!H$7:$P$7),FALSE))","v":""},{"$f":"IF(I329=\"\",\"\",VLOOKUP(I329,Parámetros!I$11:$P$13,MAX(Parámetros!I$7:$P$7),FALSE))","v":""},{"$f":"IF(J329=\"\",\"\",VLOOKUP(J329,Parámetros!J$11:$P$13,MAX(Parámetros!J$7:$P$7),FALSE))","v":""},{"$f":"IF(K329=\"\",\"\",VLOOKUP(K329,Parámetros!K$11:$P$13,MAX(Parámetros!K$7:$P$7),FALSE))","v":""},{"$f":"IF(L329=\"\",\"\",VLOOKUP(L329,Parámetros!L$11:$P$13,MAX(Parámetros!L$7:$P$7),FALSE))","v":""},{"$f":"IF(M329=\"\",\"\",VLOOKUP(M329,Parámetros!M$11:$P$13,MAX(Parámetros!M$7:$P$7),FALSE))","v":""},{"$f":"IF(N329=\"\",\"\",VLOOKUP(N329,Parámetros!N$11:$P$13,MAX(Parámetros!N$7:$P$7),FALSE))","v":""},{"$f":"IF(O329=\"\",\"\",VLOOKUP(O329,Parámetros!O$11:$P$13,MAX(Parámetros!O$7:$P$7),FALSE))","v":""},{"$f":"IF(SUMPRODUCT($P329:$Y329,$P$6:$Y$6)=0,\"\",SUMPRODUCT($P329:$Y329,$P$6:$Y$6)/3)","v":""}]
[null,null,null,{"$f":"IF(E330=\"\",\"\",VLOOKUP(E330,'Buenas prácticas'!$G$8:$H$1007,2,FALSE))","v":""},null,null,null,null,null,null,null,null,null,null,null,{"$f":"IF(F330=\"\",\"\",VLOOKUP(F330,Parámetros!F$11:$P$13,MAX(Parámetros!F$7:$P$7),FALSE))","v":""},{"$f":"IF(G330=\"\",\"\",VLOOKUP(G330,Parámetros!G$11:$P$13,MAX(Parámetros!G$7:$P$7),FALSE))","v":""},{"$f":"IF(H330=\"\",\"\",VLOOKUP(H330,Parámetros!H$11:$P$13,MAX(Parámetros!H$7:$P$7),FALSE))","v":""},{"$f":"IF(I330=\"\",\"\",VLOOKUP(I330,Parámetros!I$11:$P$13,MAX(Parámetros!I$7:$P$7),FALSE))","v":""},{"$f":"IF(J330=\"\",\"\",VLOOKUP(J330,Parámetros!J$11:$P$13,MAX(Parámetros!J$7:$P$7),FALSE))","v":""},{"$f":"IF(K330=\"\",\"\",VLOOKUP(K330,Parámetros!K$11:$P$13,MAX(Parámetros!K$7:$P$7),FALSE))","v":""},{"$f":"IF(L330=\"\",\"\",VLOOKUP(L330,Parámetros!L$11:$P$13,MAX(Parámetros!L$7:$P$7),FALSE))","v":""},{"$f":"IF(M330=\"\",\"\",VLOOKUP(M330,Parámetros!M$11:$P$13,MAX(Parámetros!M$7:$P$7),FALSE))","v":""},{"$f":"IF(N330=\"\",\"\",VLOOKUP(N330,Parámetros!N$11:$P$13,MAX(Parámetros!N$7:$P$7),FALSE))","v":""},{"$f":"IF(O330=\"\",\"\",VLOOKUP(O330,Parámetros!O$11:$P$13,MAX(Parámetros!O$7:$P$7),FALSE))","v":""},""]
[null,null,null,{"$f":"IF(E331=\"\",\"\",VLOOKUP(E331,'Buenas prácticas'!$G$8:$H$1007,2,FALSE))","v":""},null,null,null,null,null,null,null,null,null,null,null,{"$f":"IF(F331=\"\",\"\",VLOOKUP(F331,Parámetros!F$11:$P$13,MAX(Parámetros!F$7:$P$7),FALSE))","v":""},{"$f":"IF(G331=\"\",\"\",VLOOKUP(G331,Parámetros!G$11:$P$13,MAX(Parámetros!G$7:$P$7),FALSE))","v":""},{"$f":"IF(H331=\"\",\"\",VLOOKUP(H331,Parámetros!H$11:$P$13,MAX(Parámetros!H$7:$P$7),FALSE))","v":""},{"$f":"IF(I331=\"\",\"\",VLOOKUP(I331,Parámetros!I$11:$P$13,MAX(Parámetros!I$7:$P$7),FALSE))","v":""},{"$f":"IF(J331=\"\",\"\",VLOOKUP(J331,Parámetros!J$11:$P$13,MAX(Parámetros!J$7:$P$7),FALSE))","v":""},{"$f":"IF(K331=\"\",\"\",VLOOKUP(K331,Parámetros!K$11:$P$13,MAX(Parámetros!K$7:$P$7),FALSE))","v":""},{"$f":"IF(L331=\"\",\"\",VLOOKUP(L331,Parámetros!L$11:$P$13,MAX(Parámetros!L$7:$P$7),FALSE))","v":""},{"$f":"IF(M331=\"\",\"\",VLOOKUP(M331,Parámetros!M$11:$P$13,MAX(Parámetros!M$7:$P$7),FALSE))","v":""},{"$f":"IF(N331=\"\",\"\",VLOOKUP(N331,Parámetros!N$11:$P$13,MAX(Parámetros!N$7:$P$7),FALSE))","v":""},{"$f":"IF(O331=\"\",\"\",VLOOKUP(O331,Parámetros!O$11:$P$13,MAX(Parámetros!O$7:$P$7),FALSE))","v":""},""]
[null,null,null,{"$f":"IF(E332=\"\",\"\",VLOOKUP(E332,'Buenas prácticas'!$G$8:$H$1007,2,FALSE))","v":""},null,null,null,null,null,null,null,null,null,null,null,{"$f":"IF(F332=\"\",\"\",VLOOKUP(F332,Parámetros!F$11:$P$13,MAX(Parámetros!F$7:$P$7),FALSE))","v":""},{"$f":"IF(G332=\"\",\"\",VLOOKUP(G332,Parámetros!G$11:$P$13,MAX(Parámetros!G$7:$P$7),FALSE))","v":""},{"$f":"IF(H332=\"\",\"\",VLOOKUP(H332,Parámetros!H$11:$P$13,MAX(Parámetros!H$7:$P$7),FALSE))","v":""},{"$f":"IF(I332=\"\",\"\",VLOOKUP(I332,Parámetros!I$11:$P$13,MAX(Parámetros!I$7:$P$7),FALSE))","v":""},{"$f":"IF(J332=\"\",\"\",VLOOKUP(J332,Parámetros!J$11:$P$13,MAX(Parámetros!J$7:$P$7),FALSE))","v":""},{"$f":"IF(K332=\"\",\"\",VLOOKUP(K332,Parámetros!K$11:$P$13,MAX(Parámetros!K$7:$P$7),FALSE))","v":""},{"$f":"IF(L332=\"\",\"\",VLOOKUP(L332,Parámetros!L$11:$P$13,MAX(Parámetros!L$7:$P$7),FALSE))","v":""},{"$f":"IF(M332=\"\",\"\",VLOOKUP(M332,Parámetros!M$11:$P$13,MAX(Parámetros!M$7:$P$7),FALSE))","v":""},{"$f":"IF(N332=\"\",\"\",VLOOKUP(N332,Parámetros!N$11:$P$13,MAX(Parámetros!N$7:$P$7),FALSE))","v":""},{"$f":"IF(O332=\"\",\"\",VLOOKUP(O332,Parámetros!O$11:$P$13,MAX(Parámetros!O$7:$P$7),FALSE))","v":""},""]
[null,null,null,{"$f":"IF(E333=\"\",\"\",VLOOKUP(E333,'Buenas prácticas'!$G$8:$H$1007,2,FALSE))","v":""},null,null,null,null,null,null,null,null,null,null,null,{"$f":"IF(F333=\"\",\"\",VLOOKUP(F333,Parámetros!F$11:$P$13,MAX(Parámetros!F$7:$P$7),FALSE))","v":""},{"$f":"IF(G333=\"\",\"\",VLOOKUP(G333,Parámetros!G$11:$P$13,MAX(Parámetros!G$7:$P$7),FALSE))","v":""},{"$f":"IF(H333=\"\",\"\",VLOOKUP(H333,Parámetros!H$11:$P$13,MAX(Parámetros!H$7:$P$7),FALSE))","v":""},{"$f":"IF(I333=\"\",\"\",VLOOKUP(I333,Parámetros!I$11:$P$13,MAX(Parámetros!I$7:$P$7),FALSE))","v":""},{"$f":"IF(J333=\"\",\"\",VLOOKUP(J333,Parámetros!J$11:$P$13,MAX(Parámetros!J$7:$P$7),FALSE))","v":""},{"$f":"IF(K333=\"\",\"\",VLOOKUP(K333,Parámetros!K$11:$P$13,MAX(Parámetros!K$7:$P$7),FALSE))","v":""},{"$f":"IF(L333=\"\",\"\",VLOOKUP(L333,Parámetros!L$11:$P$13,MAX(Parámetros!L$7:$P$7),FALSE))","v":""},{"$f":"IF(M333=\"\",\"\",VLOOKUP(M333,Parámetros!M$11:$P$13,MAX(Parámetros!M$7:$P$7),FALSE))","v":""},{"$f":"IF(N333=\"\",\"\",VLOOKUP(N333,Parámetros!N$11:$P$13,MAX(Parámetros!N$7:$P$7),FALSE))","v":""},{"$f":"IF(O333=\"\",\"\",VLOOKUP(O333,Parámetros!O$11:$P$13,MAX(Parámetros!O$7:$P$7),FALSE))","v":""},""]
[null,null,null,{"$f":"IF(E334=\"\",\"\",VLOOKUP(E334,'Buenas prácticas'!$G$8:$H$1007,2,FALSE))","v":""},null,null,null,null,null,null,null,null,null,null,null,{"$f":"IF(F334=\"\",\"\",VLOOKUP(F334,Parámetros!F$11:$P$13,MAX(Parámetros!F$7:$P$7),FALSE))","v":""},{"$f":"IF(G334=\"\",\"\",VLOOKUP(G334,Parámetros!G$11:$P$13,MAX(Parámetros!G$7:$P$7),FALSE))","v":""},{"$f":"IF(H334=\"\",\"\",VLOOKUP(H334,Parámetros!H$11:$P$13,MAX(Parámetros!H$7:$P$7),FALSE))","v":""},{"$f":"IF(I334=\"\",\"\",VLOOKUP(I334,Parámetros!I$11:$P$13,MAX(Parámetros!I$7:$P$7),FALSE))","v":""},{"$f":"IF(J334=\"\",\"\",VLOOKUP(J334,Parámetros!J$11:$P$13,MAX(Parámetros!J$7:$P$7),FALSE))","v":""},{"$f":"IF(K334=\"\",\"\",VLOOKUP(K334,Parámetros!K$11:$P$13,MAX(Parámetros!K$7:$P$7),FALSE))","v":""},{"$f":"IF(L334=\"\",\"\",VLOOKUP(L334,Parámetros!L$11:$P$13,MAX(Parámetros!L$7:$P$7),FALSE))","v":""},{"$f":"IF(M334=\"\",\"\",VLOOKUP(M334,Parámetros!M$11:$P$13,MAX(Parámetros!M$7:$P$7),FALSE))","v":""},{"$f":"IF(N334=\"\",\"\",VLOOKUP(N334,Parámetros!N$11:$P$13,MAX(Parámetros!N$7:$P$7),FALSE))","v":""},{"$f":"IF(O334=\"\",\"\",VLOOKUP(O334,Parámetros!O$11:$P$13,MAX(Parámetros!O$7:$P$7),FALSE))","v":""},""]
[null,null,null,{"$f":"IF(E335=\"\",\"\",VLOOKUP(E335,'Buenas prácticas'!$G$8:$H$1007,2,FALSE))","v":""},null,null,null,null,null,null,null,null,null,null,null,{"$f":"IF(F335=\"\",\"\",VLOOKUP(F335,Parámetros!F$11:$P$13,MAX(Parámetros!F$7:$P$7),FALSE))","v":""},{"$f":"IF(G335=\"\",\"\",VLOOKUP(G335,Parámetros!G$11:$P$13,MAX(Parámetros!G$7:$P$7),FALSE))","v":""},{"$f":"IF(H335=\"\",\"\",VLOOKUP(H335,Parámetros!H$11:$P$13,MAX(Parámetros!H$7:$P$7),FALSE))","v":""},{"$f":"IF(I335=\"\",\"\",VLOOKUP(I335,Parámetros!I$11:$P$13,MAX(Parámetros!I$7:$P$7),FALSE))","v":""},{"$f":"IF(J335=\"\",\"\",VLOOKUP(J335,Parámetros!J$11:$P$13,MAX(Parámetros!J$7:$P$7),FALSE))","v":""},{"$f":"IF(K335=\"\",\"\",VLOOKUP(K335,Parámetros!K$11:$P$13,MAX(Parámetros!K$7:$P$7),FALSE))","v":""},{"$f":"IF(L335=\"\",\"\",VLOOKUP(L335,Parámetros!L$11:$P$13,MAX(Parámetros!L$7:$P$7),FALSE))","v":""},{"$f":"IF(M335=\"\",\"\",VLOOKUP(M335,Parámetros!M$11:$P$13,MAX(Parámetros!M$7:$P$7),FALSE))","v":""},{"$f":"IF(N335=\"\",\"\",VLOOKUP(N335,Parámetros!N$11:$P$13,MAX(Parámetros!N$7:$P$7),FALSE))","v":""},{"$f":"IF(O335=\"\",\"\",VLOOKUP(O335,Parámetros!O$11:$P$13,MAX(Parámetros!O$7:$P$7),FALSE))","v":""},""]
[null,null,null,{"$f":"IF(E336=\"\",\"\",VLOOKUP(E336,'Buenas prácticas'!$G$8:$H$1007,2,FALSE))","v":""},null,null,null,null,null,null,null,null,null,null,null,{"$f":"IF(F336=\"\",\"\",VLOOKUP(F336,Parámetros!F$11:$P$13,MAX(Parámetros!F$7:$P$7),FALSE))","v":""},{"$f":"IF(G336=\"\",\"\",VLOOKUP(G336,Parámetros!G$11:$P$13,MAX(Parámetros!G$7:$P$7),FALSE))","v":""},{"$f":"IF(H336=\"\",\"\",VLOOKUP(H336,Parámetros!H$11:$P$13,MAX(Parámetros!H$7:$P$7),FALSE))","v":""},{"$f":"IF(I336=\"\",\"\",VLOOKUP(I336,Parámetros!I$11:$P$13,MAX(Parámetros!I$7:$P$7),FALSE))","v":""},{"$f":"IF(J336=\"\",\"\",VLOOKUP(J336,Parámetros!J$11:$P$13,MAX(Parámetros!J$7:$P$7),FALSE))","v":""},{"$f":"IF(K336=\"\",\"\",VLOOKUP(K336,Parámetros!K$11:$P$13,MAX(Parámetros!K$7:$P$7),FALSE))","v":""},{"$f":"IF(L336=\"\",\"\",VLOOKUP(L336,Parámetros!L$11:$P$13,MAX(Parámetros!L$7:$P$7),FALSE))","v":""},{"$f":"IF(M336=\"\",\"\",VLOOKUP(M336,Parámetros!M$11:$P$13,MAX(Parámetros!M$7:$P$7),FALSE))","v":""},{"$f":"IF(N336=\"\",\"\",VLOOKUP(N336,Parámetros!N$11:$P$13,MAX(Parámetros!N$7:$P$7),FALSE))","v":""},{"$f":"IF(O336=\"\",\"\",VLOOKUP(O336,Parámetros!O$11:$P$13,MAX(Parámetros!O$7:$P$7),FALSE))","v":""},""]
[null,null,null,{"$f":"IF(E337=\"\",\"\",VLOOKUP(E337,'Buenas prácticas'!$G$8:$H$1007,2,FALSE))","v":""},null,null,null,null,null,null,null,null,null,null,null,{"$f":"IF(F337=\"\",\"\",VLOOKUP(F337,Parámetros!F$11:$P$13,MAX(Parámetros!F$7:$P$7),FALSE))","v":""},{"$f":"IF(G337=\"\",\"\",VLOOKUP(G337,Parámetros!G$11:$P$13,MAX(Parámetros!G$7:$P$7),FALSE))","v":""},{"$f":"IF(H337=\"\",\"\",VLOOKUP(H337,Parámetros!H$11:$P$13,MAX(Parámetros!H$7:$P$7),FALSE))","v":""},{"$f":"IF(I337=\"\",\"\",VLOOKUP(I337,Parámetros!I$11:$P$13,MAX(Parámetros!I$7:$P$7),FALSE))","v":""},{"$f":"IF(J337=\"\",\"\",VLOOKUP(J337,Parámetros!J$11:$P$13,MAX(Parámetros!J$7:$P$7),FALSE))","v":""},{"$f":"IF(K337=\"\",\"\",VLOOKUP(K337,Parámetros!K$11:$P$13,MAX(Parámetros!K$7:$P$7),FALSE))","v":""},{"$f":"IF(L337=\"\",\"\",VLOOKUP(L337,Parámetros!L$11:$P$13,MAX(Parámetros!L$7:$P$7),FALSE))","v":""},{"$f":"IF(M337=\"\",\"\",VLOOKUP(M337,Parámetros!M$11:$P$13,MAX(Parámetros!M$7:$P$7),FALSE))","v":""},{"$f":"IF(N337=\"\",\"\",VLOOKUP(N337,Parámetros!N$11:$P$13,MAX(Parámetros!N$7:$P$7),FALSE))","v":""},{"$f":"IF(O337=\"\",\"\",VLOOKUP(O337,Parámetros!O$11:$P$13,MAX(Parámetros!O$7:$P$7),FALSE))","v":""},""]
[null,null,null,{"$f":"IF(E338=\"\",\"\",VLOOKUP(E338,'Buenas prácticas'!$G$8:$H$1007,2,FALSE))","v":""},null,null,null,null,null,null,null,null,null,null,null,{"$f":"IF(F338=\"\",\"\",VLOOKUP(F338,Parámetros!F$11:$P$13,MAX(Parámetros!F$7:$P$7),FALSE))","v":""},{"$f":"IF(G338=\"\",\"\",VLOOKUP(G338,Parámetros!G$11:$P$13,MAX(Parámetros!G$7:$P$7),FALSE))","v":""},{"$f":"IF(H338=\"\",\"\",VLOOKUP(H338,Parámetros!H$11:$P$13,MAX(Parámetros!H$7:$P$7),FALSE))","v":""},{"$f":"IF(I338=\"\",\"\",VLOOKUP(I338,Parámetros!I$11:$P$13,MAX(Parámetros!I$7:$P$7),FALSE))","v":""},{"$f":"IF(J338=\"\",\"\",VLOOKUP(J338,Parámetros!J$11:$P$13,MAX(Parámetros!J$7:$P$7),FALSE))","v":""},{"$f":"IF(K338=\"\",\"\",VLOOKUP(K338,Parámetros!K$11:$P$13,MAX(Parámetros!K$7:$P$7),FALSE))","v":""},{"$f":"IF(L338=\"\",\"\",VLOOKUP(L338,Parámetros!L$11:$P$13,MAX(Parámetros!L$7:$P$7),FALSE))","v":""},{"$f":"IF(M338=\"\",\"\",VLOOKUP(M338,Parámetros!M$11:$P$13,MAX(Parámetros!M$7:$P$7),FALSE))","v":""},{"$f":"IF(N338=\"\",\"\",VLOOKUP(N338,Parámetros!N$11:$P$13,MAX(Parámetros!N$7:$P$7),FALSE))","v":""},{"$f":"IF(O338=\"\",\"\",VLOOKUP(O338,Parámetros!O$11:$P$13,MAX(Parámetros!O$7:$P$7),FALSE))","v":""},""]
[null,null,null,{"$f":"IF(E339=\"\",\"\",VLOOKUP(E339,'Buenas prácticas'!$G$8:$H$1007,2,FALSE))","v":""},null,null,null,null,null,null,null,null,null,null,null,{"$f":"IF(F339=\"\",\"\",VLOOKUP(F339,Parámetros!F$11:$P$13,MAX(Parámetros!F$7:$P$7),FALSE))","v":""},{"$f":"IF(G339=\"\",\"\",VLOOKUP(G339,Parámetros!G$11:$P$13,MAX(Parámetros!G$7:$P$7),FALSE))","v":""},{"$f":"IF(H339=\"\",\"\",VLOOKUP(H339,Parámetros!H$11:$P$13,MAX(Parámetros!H$7:$P$7),FALSE))","v":""},{"$f":"IF(I339=\"\",\"\",VLOOKUP(I339,Parámetros!I$11:$P$13,MAX(Parámetros!I$7:$P$7),FALSE))","v":""},{"$f":"IF(J339=\"\",\"\",VLOOKUP(J339,Parámetros!J$11:$P$13,MAX(Parámetros!J$7:$P$7),FALSE))","v":""},{"$f":"IF(K339=\"\",\"\",VLOOKUP(K339,Parámetros!K$11:$P$13,MAX(Parámetros!K$7:$P$7),FALSE))","v":""},{"$f":"IF(L339=\"\",\"\",VLOOKUP(L339,Parámetros!L$11:$P$13,MAX(Parámetros!L$7:$P$7),FALSE))","v":""},{"$f":"IF(M339=\"\",\"\",VLOOKUP(M339,Parámetros!M$11:$P$13,MAX(Parámetros!M$7:$P$7),FALSE))","v":""},{"$f":"IF(N339=\"\",\"\",VLOOKUP(N339,Parámetros!N$11:$P$13,MAX(Parámetros!N$7:$P$7),FALSE))","v":""},{"$f":"IF(O339=\"\",\"\",VLOOKUP(O339,Parámetros!O$11:$P$13,MAX(Parámetros!O$7:$P$7),FALSE))","v":""},""]
[null,null,null,{"$f":"IF(E340=\"\",\"\",VLOOKUP(E340,'Buenas prácticas'!$G$8:$H$1007,2,FALSE))","v":""},null,null,null,null,null,null,null,null,null,null,null,{"$f":"IF(F340=\"\",\"\",VLOOKUP(F340,Parámetros!F$11:$P$13,MAX(Parámetros!F$7:$P$7),FALSE))","v":""},{"$f":"IF(G340=\"\",\"\",VLOOKUP(G340,Parámetros!G$11:$P$13,MAX(Parámetros!G$7:$P$7),FALSE))","v":""},{"$f":"IF(H340=\"\",\"\",VLOOKUP(H340,Parámetros!H$11:$P$13,MAX(Parámetros!H$7:$P$7),FALSE))","v":""},{"$f":"IF(I340=\"\",\"\",VLOOKUP(I340,Parámetros!I$11:$P$13,MAX(Parámetros!I$7:$P$7),FALSE))","v":""},{"$f":"IF(J340=\"\",\"\",VLOOKUP(J340,Parámetros!J$11:$P$13,MAX(Parámetros!J$7:$P$7),FALSE))","v":""},{"$f":"IF(K340=\"\",\"\",VLOOKUP(K340,Parámetros!K$11:$P$13,MAX(Parámetros!K$7:$P$7),FALSE))","v":""},{"$f":"IF(L340=\"\",\"\",VLOOKUP(L340,Parámetros!L$11:$P$13,MAX(Parámetros!L$7:$P$7),FALSE))","v":""},{"$f":"IF(M340=\"\",\"\",VLOOKUP(M340,Parámetros!M$11:$P$13,MAX(Parámetros!M$7:$P$7),FALSE))","v":""},{"$f":"IF(N340=\"\",\"\",VLOOKUP(N340,Parámetros!N$11:$P$13,MAX(Parámetros!N$7:$P$7),FALSE))","v":""},{"$f":"IF(O340=\"\",\"\",VLOOKUP(O340,Parámetros!O$11:$P$13,MAX(Parámetros!O$7:$P$7),FALSE))","v":""},""]
[null,null,null,{"$f":"IF(E341=\"\",\"\",VLOOKUP(E341,'Buenas prácticas'!$G$8:$H$1007,2,FALSE))","v":""},null,null,null,null,null,null,null,null,null,null,null,{"$f":"IF(F341=\"\",\"\",VLOOKUP(F341,Parámetros!F$11:$P$13,MAX(Parámetros!F$7:$P$7),FALSE))","v":""},{"$f":"IF(G341=\"\",\"\",VLOOKUP(G341,Parámetros!G$11:$P$13,MAX(Parámetros!G$7:$P$7),FALSE))","v":""},{"$f":"IF(H341=\"\",\"\",VLOOKUP(H341,Parámetros!H$11:$P$13,MAX(Parámetros!H$7:$P$7),FALSE))","v":""},{"$f":"IF(I341=\"\",\"\",VLOOKUP(I341,Parámetros!I$11:$P$13,MAX(Parámetros!I$7:$P$7),FALSE))","v":""},{"$f":"IF(J341=\"\",\"\",VLOOKUP(J341,Parámetros!J$11:$P$13,MAX(Parámetros!J$7:$P$7),FALSE))","v":""},{"$f":"IF(K341=\"\",\"\",VLOOKUP(K341,Parámetros!K$11:$P$13,MAX(Parámetros!K$7:$P$7),FALSE))","v":""},{"$f":"IF(L341=\"\",\"\",VLOOKUP(L341,Parámetros!L$11:$P$13,MAX(Parámetros!L$7:$P$7),FALSE))","v":""},{"$f":"IF(M341=\"\",\"\",VLOOKUP(M341,Parámetros!M$11:$P$13,MAX(Parámetros!M$7:$P$7),FALSE))","v":""},{"$f":"IF(N341=\"\",\"\",VLOOKUP(N341,Parámetros!N$11:$P$13,MAX(Parámetros!N$7:$P$7),FALSE))","v":""},{"$f":"IF(O341=\"\",\"\",VLOOKUP(O341,Parámetros!O$11:$P$13,MAX(Parámetros!O$7:$P$7),FALSE))","v":""},""]
[null,null,null,{"$f":"IF(E342=\"\",\"\",VLOOKUP(E342,'Buenas prácticas'!$G$8:$H$1007,2,FALSE))","v":""},null,null,null,null,null,null,null,null,null,null,null,{"$f":"IF(F342=\"\",\"\",VLOOKUP(F342,Parámetros!F$11:$P$13,MAX(Parámetros!F$7:$P$7),FALSE))","v":""},{"$f":"IF(G342=\"\",\"\",VLOOKUP(G342,Parámetros!G$11:$P$13,MAX(Parámetros!G$7:$P$7),FALSE))","v":""},{"$f":"IF(H342=\"\",\"\",VLOOKUP(H342,Parámetros!H$11:$P$13,MAX(Parámetros!H$7:$P$7),FALSE))","v":""},{"$f":"IF(I342=\"\",\"\",VLOOKUP(I342,Parámetros!I$11:$P$13,MAX(Parámetros!I$7:$P$7),FALSE))","v":""},{"$f":"IF(J342=\"\",\"\",VLOOKUP(J342,Parámetros!J$11:$P$13,MAX(Parámetros!J$7:$P$7),FALSE))","v":""},{"$f":"IF(K342=\"\",\"\",VLOOKUP(K342,Parámetros!K$11:$P$13,MAX(Parámetros!K$7:$P$7),FALSE))","v":""},{"$f":"IF(L342=\"\",\"\",VLOOKUP(L342,Parámetros!L$11:$P$13,MAX(Parámetros!L$7:$P$7),FALSE))","v":""},{"$f":"IF(M342=\"\",\"\",VLOOKUP(M342,Parámetros!M$11:$P$13,MAX(Parámetros!M$7:$P$7),FALSE))","v":""},{"$f":"IF(N342=\"\",\"\",VLOOKUP(N342,Parámetros!N$11:$P$13,MAX(Parámetros!N$7:$P$7),FALSE))","v":""},{"$f":"IF(O342=\"\",\"\",VLOOKUP(O342,Parámetros!O$11:$P$13,MAX(Parámetros!O$7:$P$7),FALSE))","v":""},""]
[null,null,null,{"$f":"IF(E343=\"\",\"\",VLOOKUP(E343,'Buenas prácticas'!$G$8:$H$1007,2,FALSE))","v":""},null,null,null,null,null,null,null,null,null,null,null,{"$f":"IF(F343=\"\",\"\",VLOOKUP(F343,Parámetros!F$11:$P$13,MAX(Parámetros!F$7:$P$7),FALSE))","v":""},{"$f":"IF(G343=\"\",\"\",VLOOKUP(G343,Parámetros!G$11:$P$13,MAX(Parámetros!G$7:$P$7),FALSE))","v":""},{"$f":"IF(H343=\"\",\"\",VLOOKUP(H343,Parámetros!H$11:$P$13,MAX(Parámetros!H$7:$P$7),FALSE))","v":""},{"$f":"IF(I343=\"\",\"\",VLOOKUP(I343,Parámetros!I$11:$P$13,MAX(Parámetros!I$7:$P$7),FALSE))","v":""},{"$f":"IF(J343=\"\",\"\",VLOOKUP(J343,Parámetros!J$11:$P$13,MAX(Parámetros!J$7:$P$7),FALSE))","v":""},{"$f":"IF(K343=\"\",\"\",VLOOKUP(K343,Parámetros!K$11:$P$13,MAX(Parámetros!K$7:$P$7),FALSE))","v":""},{"$f":"IF(L343=\"\",\"\",VLOOKUP(L343,Parámetros!L$11:$P$13,MAX(Parámetros!L$7:$P$7),FALSE))","v":""},{"$f":"IF(M343=\"\",\"\",VLOOKUP(M343,Parámetros!M$11:$P$13,MAX(Parámetros!M$7:$P$7),FALSE))","v":""},{"$f":"IF(N343=\"\",\"\",VLOOKUP(N343,Parámetros!N$11:$P$13,MAX(Parámetros!N$7:$P$7),FALSE))","v":""},{"$f":"IF(O343=\"\",\"\",VLOOKUP(O343,Parámetros!O$11:$P$13,MAX(Parámetros!O$7:$P$7),FALSE))","v":""},""]
[null,null,null,{"$f":"IF(E344=\"\",\"\",VLOOKUP(E344,'Buenas prácticas'!$G$8:$H$1007,2,FALSE))","v":""},null,null,null,null,null,null,null,null,null,null,null,{"$f":"IF(F344=\"\",\"\",VLOOKUP(F344,Parámetros!F$11:$P$13,MAX(Parámetros!F$7:$P$7),FALSE))","v":""},{"$f":"IF(G344=\"\",\"\",VLOOKUP(G344,Parámetros!G$11:$P$13,MAX(Parámetros!G$7:$P$7),FALSE))","v":""},{"$f":"IF(H344=\"\",\"\",VLOOKUP(H344,Parámetros!H$11:$P$13,MAX(Parámetros!H$7:$P$7),FALSE))","v":""},{"$f":"IF(I344=\"\",\"\",VLOOKUP(I344,Parámetros!I$11:$P$13,MAX(Parámetros!I$7:$P$7),FALSE))","v":""},{"$f":"IF(J344=\"\",\"\",VLOOKUP(J344,Parámetros!J$11:$P$13,MAX(Parámetros!J$7:$P$7),FALSE))","v":""},{"$f":"IF(K344=\"\",\"\",VLOOKUP(K344,Parámetros!K$11:$P$13,MAX(Parámetros!K$7:$P$7),FALSE))","v":""},{"$f":"IF(L344=\"\",\"\",VLOOKUP(L344,Parámetros!L$11:$P$13,MAX(Parámetros!L$7:$P$7),FALSE))","v":""},{"$f":"IF(M344=\"\",\"\",VLOOKUP(M344,Parámetros!M$11:$P$13,MAX(Parámetros!M$7:$P$7),FALSE))","v":""},{"$f":"IF(N344=\"\",\"\",VLOOKUP(N344,Parámetros!N$11:$P$13,MAX(Parámetros!N$7:$P$7),FALSE))","v":""},{"$f":"IF(O344=\"\",\"\",VLOOKUP(O344,Parámetros!O$11:$P$13,MAX(Parámetros!O$7:$P$7),FALSE))","v":""},""]
[null,null,null,{"$f":"IF(E345=\"\",\"\",VLOOKUP(E345,'Buenas prácticas'!$G$8:$H$1007,2,FALSE))","v":""},null,null,null,null,null,null,null,null,null,null,null,{"$f":"IF(F345=\"\",\"\",VLOOKUP(F345,Parámetros!F$11:$P$13,MAX(Parámetros!F$7:$P$7),FALSE))","v":""},{"$f":"IF(G345=\"\",\"\",VLOOKUP(G345,Parámetros!G$11:$P$13,MAX(Parámetros!G$7:$P$7),FALSE))","v":""},{"$f":"IF(H345=\"\",\"\",VLOOKUP(H345,Parámetros!H$11:$P$13,MAX(Parámetros!H$7:$P$7),FALSE))","v":""},{"$f":"IF(I345=\"\",\"\",VLOOKUP(I345,Parámetros!I$11:$P$13,MAX(Parámetros!I$7:$P$7),FALSE))","v":""},{"$f":"IF(J345=\"\",\"\",VLOOKUP(J345,Parámetros!J$11:$P$13,MAX(Parámetros!J$7:$P$7),FALSE))","v":""},{"$f":"IF(K345=\"\",\"\",VLOOKUP(K345,Parámetros!K$11:$P$13,MAX(Parámetros!K$7:$P$7),FALSE))","v":""},{"$f":"IF(L345=\"\",\"\",VLOOKUP(L345,Parámetros!L$11:$P$13,MAX(Parámetros!L$7:$P$7),FALSE))","v":""},{"$f":"IF(M345=\"\",\"\",VLOOKUP(M345,Parámetros!M$11:$P$13,MAX(Parámetros!M$7:$P$7),FALSE))","v":""},{"$f":"IF(N345=\"\",\"\",VLOOKUP(N345,Parámetros!N$11:$P$13,MAX(Parámetros!N$7:$P$7),FALSE))","v":""},{"$f":"IF(O345=\"\",\"\",VLOOKUP(O345,Parámetros!O$11:$P$13,MAX(Parámetros!O$7:$P$7),FALSE))","v":""},""]
[null,null,null,{"$f":"IF(E346=\"\",\"\",VLOOKUP(E346,'Buenas prácticas'!$G$8:$H$1007,2,FALSE))","v":""},null,null,null,null,null,null,null,null,null,null,null,{"$f":"IF(F346=\"\",\"\",VLOOKUP(F346,Parámetros!F$11:$P$13,MAX(Parámetros!F$7:$P$7),FALSE))","v":""},{"$f":"IF(G346=\"\",\"\",VLOOKUP(G346,Parámetros!G$11:$P$13,MAX(Parámetros!G$7:$P$7),FALSE))","v":""},{"$f":"IF(H346=\"\",\"\",VLOOKUP(H346,Parámetros!H$11:$P$13,MAX(Parámetros!H$7:$P$7),FALSE))","v":""},{"$f":"IF(I346=\"\",\"\",VLOOKUP(I346,Parámetros!I$11:$P$13,MAX(Parámetros!I$7:$P$7),FALSE))","v":""},{"$f":"IF(J346=\"\",\"\",VLOOKUP(J346,Parámetros!J$11:$P$13,MAX(Parámetros!J$7:$P$7),FALSE))","v":""},{"$f":"IF(K346=\"\",\"\",VLOOKUP(K346,Parámetros!K$11:$P$13,MAX(Parámetros!K$7:$P$7),FALSE))","v":""},{"$f":"IF(L346=\"\",\"\",VLOOKUP(L346,Parámetros!L$11:$P$13,MAX(Parámetros!L$7:$P$7),FALSE))","v":""},{"$f":"IF(M346=\"\",\"\",VLOOKUP(M346,Parámetros!M$11:$P$13,MAX(Parámetros!M$7:$P$7),FALSE))","v":""},{"$f":"IF(N346=\"\",\"\",VLOOKUP(N346,Parámetros!N$11:$P$13,MAX(Parámetros!N$7:$P$7),FALSE))","v":""},{"$f":"IF(O346=\"\",\"\",VLOOKUP(O346,Parámetros!O$11:$P$13,MAX(Parámetros!O$7:$P$7),FALSE))","v":""},""]
[null,null,null,{"$f":"IF(E347=\"\",\"\",VLOOKUP(E347,'Buenas prácticas'!$G$8:$H$1007,2,FALSE))","v":""},null,null,null,null,null,null,null,null,null,null,null,{"$f":"IF(F347=\"\",\"\",VLOOKUP(F347,Parámetros!F$11:$P$13,MAX(Parámetros!F$7:$P$7),FALSE))","v":""},{"$f":"IF(G347=\"\",\"\",VLOOKUP(G347,Parámetros!G$11:$P$13,MAX(Parámetros!G$7:$P$7),FALSE))","v":""},{"$f":"IF(H347=\"\",\"\",VLOOKUP(H347,Parámetros!H$11:$P$13,MAX(Parámetros!H$7:$P$7),FALSE))","v":""},{"$f":"IF(I347=\"\",\"\",VLOOKUP(I347,Parámetros!I$11:$P$13,MAX(Parámetros!I$7:$P$7),FALSE))","v":""},{"$f":"IF(J347=\"\",\"\",VLOOKUP(J347,Parámetros!J$11:$P$13,MAX(Parámetros!J$7:$P$7),FALSE))","v":""},{"$f":"IF(K347=\"\",\"\",VLOOKUP(K347,Parámetros!K$11:$P$13,MAX(Parámetros!K$7:$P$7),FALSE))","v":""},{"$f":"IF(L347=\"\",\"\",VLOOKUP(L347,Parámetros!L$11:$P$13,MAX(Parámetros!L$7:$P$7),FALSE))","v":""},{"$f":"IF(M347=\"\",\"\",VLOOKUP(M347,Parámetros!M$11:$P$13,MAX(Parámetros!M$7:$P$7),FALSE))","v":""},{"$f":"IF(N347=\"\",\"\",VLOOKUP(N347,Parámetros!N$11:$P$13,MAX(Parámetros!N$7:$P$7),FALSE))","v":""},{"$f":"IF(O347=\"\",\"\",VLOOKUP(O347,Parámetros!O$11:$P$13,MAX(Parámetros!O$7:$P$7),FALSE))","v":""},""]
[null,null,null,{"$f":"IF(E348=\"\",\"\",VLOOKUP(E348,'Buenas prácticas'!$G$8:$H$1007,2,FALSE))","v":""},null,null,null,null,null,null,null,null,null,null,null,{"$f":"IF(F348=\"\",\"\",VLOOKUP(F348,Parámetros!F$11:$P$13,MAX(Parámetros!F$7:$P$7),FALSE))","v":""},{"$f":"IF(G348=\"\",\"\",VLOOKUP(G348,Parámetros!G$11:$P$13,MAX(Parámetros!G$7:$P$7),FALSE))","v":""},{"$f":"IF(H348=\"\",\"\",VLOOKUP(H348,Parámetros!H$11:$P$13,MAX(Parámetros!H$7:$P$7),FALSE))","v":""},{"$f":"IF(I348=\"\",\"\",VLOOKUP(I348,Parámetros!I$11:$P$13,MAX(Parámetros!I$7:$P$7),FALSE))","v":""},{"$f":"IF(J348=\"\",\"\",VLOOKUP(J348,Parámetros!J$11:$P$13,MAX(Parámetros!J$7:$P$7),FALSE))","v":""},{"$f":"IF(K348=\"\",\"\",VLOOKUP(K348,Parámetros!K$11:$P$13,MAX(Parámetros!K$7:$P$7),FALSE))","v":""},{"$f":"IF(L348=\"\",\"\",VLOOKUP(L348,Parámetros!L$11:$P$13,MAX(Parámetros!L$7:$P$7),FALSE))","v":""},{"$f":"IF(M348=\"\",\"\",VLOOKUP(M348,Parámetros!M$11:$P$13,MAX(Parámetros!M$7:$P$7),FALSE))","v":""},{"$f":"IF(N348=\"\",\"\",VLOOKUP(N348,Parámetros!N$11:$P$13,MAX(Parámetros!N$7:$P$7),FALSE))","v":""},{"$f":"IF(O348=\"\",\"\",VLOOKUP(O348,Parámetros!O$11:$P$13,MAX(Parámetros!O$7:$P$7),FALSE))","v":""},""]
[null,null,null,{"$f":"IF(E349=\"\",\"\",VLOOKUP(E349,'Buenas prácticas'!$G$8:$H$1007,2,FALSE))","v":""},null,null,null,null,null,null,null,null,null,null,null,{"$f":"IF(F349=\"\",\"\",VLOOKUP(F349,Parámetros!F$11:$P$13,MAX(Parámetros!F$7:$P$7),FALSE))","v":""},{"$f":"IF(G349=\"\",\"\",VLOOKUP(G349,Parámetros!G$11:$P$13,MAX(Parámetros!G$7:$P$7),FALSE))","v":""},{"$f":"IF(H349=\"\",\"\",VLOOKUP(H349,Parámetros!H$11:$P$13,MAX(Parámetros!H$7:$P$7),FALSE))","v":""},{"$f":"IF(I349=\"\",\"\",VLOOKUP(I349,Parámetros!I$11:$P$13,MAX(Parámetros!I$7:$P$7),FALSE))","v":""},{"$f":"IF(J349=\"\",\"\",VLOOKUP(J349,Parámetros!J$11:$P$13,MAX(Parámetros!J$7:$P$7),FALSE))","v":""},{"$f":"IF(K349=\"\",\"\",VLOOKUP(K349,Parámetros!K$11:$P$13,MAX(Parámetros!K$7:$P$7),FALSE))","v":""},{"$f":"IF(L349=\"\",\"\",VLOOKUP(L349,Parámetros!L$11:$P$13,MAX(Parámetros!L$7:$P$7),FALSE))","v":""},{"$f":"IF(M349=\"\",\"\",VLOOKUP(M349,Parámetros!M$11:$P$13,MAX(Parámetros!M$7:$P$7),FALSE))","v":""},{"$f":"IF(N349=\"\",\"\",VLOOKUP(N349,Parámetros!N$11:$P$13,MAX(Parámetros!N$7:$P$7),FALSE))","v":""},{"$f":"IF(O349=\"\",\"\",VLOOKUP(O349,Parámetros!O$11:$P$13,MAX(Parámetros!O$7:$P$7),FALSE))","v":""},""]
[null,null,null,{"$f":"IF(E350=\"\",\"\",VLOOKUP(E350,'Buenas prácticas'!$G$8:$H$1007,2,FALSE))","v":""},null,null,null,null,null,null,null,null,null,null,null,{"$f":"IF(F350=\"\",\"\",VLOOKUP(F350,Parámetros!F$11:$P$13,MAX(Parámetros!F$7:$P$7),FALSE))","v":""},{"$f":"IF(G350=\"\",\"\",VLOOKUP(G350,Parámetros!G$11:$P$13,MAX(Parámetros!G$7:$P$7),FALSE))","v":""},{"$f":"IF(H350=\"\",\"\",VLOOKUP(H350,Parámetros!H$11:$P$13,MAX(Parámetros!H$7:$P$7),FALSE))","v":""},{"$f":"IF(I350=\"\",\"\",VLOOKUP(I350,Parámetros!I$11:$P$13,MAX(Parámetros!I$7:$P$7),FALSE))","v":""},{"$f":"IF(J350=\"\",\"\",VLOOKUP(J350,Parámetros!J$11:$P$13,MAX(Parámetros!J$7:$P$7),FALSE))","v":""},{"$f":"IF(K350=\"\",\"\",VLOOKUP(K350,Parámetros!K$11:$P$13,MAX(Parámetros!K$7:$P$7),FALSE))","v":""},{"$f":"IF(L350=\"\",\"\",VLOOKUP(L350,Parámetros!L$11:$P$13,MAX(Parámetros!L$7:$P$7),FALSE))","v":""},{"$f":"IF(M350=\"\",\"\",VLOOKUP(M350,Parámetros!M$11:$P$13,MAX(Parámetros!M$7:$P$7),FALSE))","v":""},{"$f":"IF(N350=\"\",\"\",VLOOKUP(N350,Parámetros!N$11:$P$13,MAX(Parámetros!N$7:$P$7),FALSE))","v":""},{"$f":"IF(O350=\"\",\"\",VLOOKUP(O350,Parámetros!O$11:$P$13,MAX(Parámetros!O$7:$P$7),FALSE))","v":""},""]
[null,null,null,{"$f":"IF(E351=\"\",\"\",VLOOKUP(E351,'Buenas prácticas'!$G$8:$H$1007,2,FALSE))","v":""},null,null,null,null,null,null,null,null,null,null,null,{"$f":"IF(F351=\"\",\"\",VLOOKUP(F351,Parámetros!F$11:$P$13,MAX(Parámetros!F$7:$P$7),FALSE))","v":""},{"$f":"IF(G351=\"\",\"\",VLOOKUP(G351,Parámetros!G$11:$P$13,MAX(Parámetros!G$7:$P$7),FALSE))","v":""},{"$f":"IF(H351=\"\",\"\",VLOOKUP(H351,Parámetros!H$11:$P$13,MAX(Parámetros!H$7:$P$7),FALSE))","v":""},{"$f":"IF(I351=\"\",\"\",VLOOKUP(I351,Parámetros!I$11:$P$13,MAX(Parámetros!I$7:$P$7),FALSE))","v":""},{"$f":"IF(J351=\"\",\"\",VLOOKUP(J351,Parámetros!J$11:$P$13,MAX(Parámetros!J$7:$P$7),FALSE))","v":""},{"$f":"IF(K351=\"\",\"\",VLOOKUP(K351,Parámetros!K$11:$P$13,MAX(Parámetros!K$7:$P$7),FALSE))","v":""},{"$f":"IF(L351=\"\",\"\",VLOOKUP(L351,Parámetros!L$11:$P$13,MAX(Parámetros!L$7:$P$7),FALSE))","v":""},{"$f":"IF(M351=\"\",\"\",VLOOKUP(M351,Parámetros!M$11:$P$13,MAX(Parámetros!M$7:$P$7),FALSE))","v":""},{"$f":"IF(N351=\"\",\"\",VLOOKUP(N351,Parámetros!N$11:$P$13,MAX(Parámetros!N$7:$P$7),FALSE))","v":""},{"$f":"IF(O351=\"\",\"\",VLOOKUP(O351,Parámetros!O$11:$P$13,MAX(Parámetros!O$7:$P$7),FALSE))","v":""},""]
[null,null,null,{"$f":"IF(E352=\"\",\"\",VLOOKUP(E352,'Buenas prácticas'!$G$8:$H$1007,2,FALSE))","v":""},null,null,null,null,null,null,null,null,null,null,null,{"$f":"IF(F352=\"\",\"\",VLOOKUP(F352,Parámetros!F$11:$P$13,MAX(Parámetros!F$7:$P$7),FALSE))","v":""},{"$f":"IF(G352=\"\",\"\",VLOOKUP(G352,Parámetros!G$11:$P$13,MAX(Parámetros!G$7:$P$7),FALSE))","v":""},{"$f":"IF(H352=\"\",\"\",VLOOKUP(H352,Parámetros!H$11:$P$13,MAX(Parámetros!H$7:$P$7),FALSE))","v":""},{"$f":"IF(I352=\"\",\"\",VLOOKUP(I352,Parámetros!I$11:$P$13,MAX(Parámetros!I$7:$P$7),FALSE))","v":""},{"$f":"IF(J352=\"\",\"\",VLOOKUP(J352,Parámetros!J$11:$P$13,MAX(Parámetros!J$7:$P$7),FALSE))","v":""},{"$f":"IF(K352=\"\",\"\",VLOOKUP(K352,Parámetros!K$11:$P$13,MAX(Parámetros!K$7:$P$7),FALSE))","v":""},{"$f":"IF(L352=\"\",\"\",VLOOKUP(L352,Parámetros!L$11:$P$13,MAX(Parámetros!L$7:$P$7),FALSE))","v":""},{"$f":"IF(M352=\"\",\"\",VLOOKUP(M352,Parámetros!M$11:$P$13,MAX(Parámetros!M$7:$P$7),FALSE))","v":""},{"$f":"IF(N352=\"\",\"\",VLOOKUP(N352,Parámetros!N$11:$P$13,MAX(Parámetros!N$7:$P$7),FALSE))","v":""},{"$f":"IF(O352=\"\",\"\",VLOOKUP(O352,Parámetros!O$11:$P$13,MAX(Parámetros!O$7:$P$7),FALSE))","v":""},""]
[null,null,null,{"$f":"IF(E353=\"\",\"\",VLOOKUP(E353,'Buenas prácticas'!$G$8:$H$1007,2,FALSE))","v":""},null,null,null,null,null,null,null,null,null,null,null,{"$f":"IF(F353=\"\",\"\",VLOOKUP(F353,Parámetros!F$11:$P$13,MAX(Parámetros!F$7:$P$7),FALSE))","v":""},{"$f":"IF(G353=\"\",\"\",VLOOKUP(G353,Parámetros!G$11:$P$13,MAX(Parámetros!G$7:$P$7),FALSE))","v":""},{"$f":"IF(H353=\"\",\"\",VLOOKUP(H353,Parámetros!H$11:$P$13,MAX(Parámetros!H$7:$P$7),FALSE))","v":""},{"$f":"IF(I353=\"\",\"\",VLOOKUP(I353,Parámetros!I$11:$P$13,MAX(Parámetros!I$7:$P$7),FALSE))","v":""},{"$f":"IF(J353=\"\",\"\",VLOOKUP(J353,Parámetros!J$11:$P$13,MAX(Parámetros!J$7:$P$7),FALSE))","v":""},{"$f":"IF(K353=\"\",\"\",VLOOKUP(K353,Parámetros!K$11:$P$13,MAX(Parámetros!K$7:$P$7),FALSE))","v":""},{"$f":"IF(L353=\"\",\"\",VLOOKUP(L353,Parámetros!L$11:$P$13,MAX(Parámetros!L$7:$P$7),FALSE))","v":""},{"$f":"IF(M353=\"\",\"\",VLOOKUP(M353,Parámetros!M$11:$P$13,MAX(Parámetros!M$7:$P$7),FALSE))","v":""},{"$f":"IF(N353=\"\",\"\",VLOOKUP(N353,Parámetros!N$11:$P$13,MAX(Parámetros!N$7:$P$7),FALSE))","v":""},{"$f":"IF(O353=\"\",\"\",VLOOKUP(O353,Parámetros!O$11:$P$13,MAX(Parámetros!O$7:$P$7),FALSE))","v":""},""]
[null,null,null,{"$f":"IF(E354=\"\",\"\",VLOOKUP(E354,'Buenas prácticas'!$G$8:$H$1007,2,FALSE))","v":""},null,null,null,null,null,null,null,null,null,null,null,{"$f":"IF(F354=\"\",\"\",VLOOKUP(F354,Parámetros!F$11:$P$13,MAX(Parámetros!F$7:$P$7),FALSE))","v":""},{"$f":"IF(G354=\"\",\"\",VLOOKUP(G354,Parámetros!G$11:$P$13,MAX(Parámetros!G$7:$P$7),FALSE))","v":""},{"$f":"IF(H354=\"\",\"\",VLOOKUP(H354,Parámetros!H$11:$P$13,MAX(Parámetros!H$7:$P$7),FALSE))","v":""},{"$f":"IF(I354=\"\",\"\",VLOOKUP(I354,Parámetros!I$11:$P$13,MAX(Parámetros!I$7:$P$7),FALSE))","v":""},{"$f":"IF(J354=\"\",\"\",VLOOKUP(J354,Parámetros!J$11:$P$13,MAX(Parámetros!J$7:$P$7),FALSE))","v":""},{"$f":"IF(K354=\"\",\"\",VLOOKUP(K354,Parámetros!K$11:$P$13,MAX(Parámetros!K$7:$P$7),FALSE))","v":""},{"$f":"IF(L354=\"\",\"\",VLOOKUP(L354,Parámetros!L$11:$P$13,MAX(Parámetros!L$7:$P$7),FALSE))","v":""},{"$f":"IF(M354=\"\",\"\",VLOOKUP(M354,Parámetros!M$11:$P$13,MAX(Parámetros!M$7:$P$7),FALSE))","v":""},{"$f":"IF(N354=\"\",\"\",VLOOKUP(N354,Parámetros!N$11:$P$13,MAX(Parámetros!N$7:$P$7),FALSE))","v":""},{"$f":"IF(O354=\"\",\"\",VLOOKUP(O354,Parámetros!O$11:$P$13,MAX(Parámetros!O$7:$P$7),FALSE))","v":""},""]
[null,null,null,{"$f":"IF(E355=\"\",\"\",VLOOKUP(E355,'Buenas prácticas'!$G$8:$H$1007,2,FALSE))","v":""},null,null,null,null,null,null,null,null,null,null,null,{"$f":"IF(F355=\"\",\"\",VLOOKUP(F355,Parámetros!F$11:$P$13,MAX(Parámetros!F$7:$P$7),FALSE))","v":""},{"$f":"IF(G355=\"\",\"\",VLOOKUP(G355,Parámetros!G$11:$P$13,MAX(Parámetros!G$7:$P$7),FALSE))","v":""},{"$f":"IF(H355=\"\",\"\",VLOOKUP(H355,Parámetros!H$11:$P$13,MAX(Parámetros!H$7:$P$7),FALSE))","v":""},{"$f":"IF(I355=\"\",\"\",VLOOKUP(I355,Parámetros!I$11:$P$13,MAX(Parámetros!I$7:$P$7),FALSE))","v":""},{"$f":"IF(J355=\"\",\"\",VLOOKUP(J355,Parámetros!J$11:$P$13,MAX(Parámetros!J$7:$P$7),FALSE))","v":""},{"$f":"IF(K355=\"\",\"\",VLOOKUP(K355,Parámetros!K$11:$P$13,MAX(Parámetros!K$7:$P$7),FALSE))","v":""},{"$f":"IF(L355=\"\",\"\",VLOOKUP(L355,Parámetros!L$11:$P$13,MAX(Parámetros!L$7:$P$7),FALSE))","v":""},{"$f":"IF(M355=\"\",\"\",VLOOKUP(M355,Parámetros!M$11:$P$13,MAX(Parámetros!M$7:$P$7),FALSE))","v":""},{"$f":"IF(N355=\"\",\"\",VLOOKUP(N355,Parámetros!N$11:$P$13,MAX(Parámetros!N$7:$P$7),FALSE))","v":""},{"$f":"IF(O355=\"\",\"\",VLOOKUP(O355,Parámetros!O$11:$P$13,MAX(Parámetros!O$7:$P$7),FALSE))","v":""},""]
[null,null,null,{"$f":"IF(E356=\"\",\"\",VLOOKUP(E356,'Buenas prácticas'!$G$8:$H$1007,2,FALSE))","v":""},null,null,null,null,null,null,null,null,null,null,null,{"$f":"IF(F356=\"\",\"\",VLOOKUP(F356,Parámetros!F$11:$P$13,MAX(Parámetros!F$7:$P$7),FALSE))","v":""},{"$f":"IF(G356=\"\",\"\",VLOOKUP(G356,Parámetros!G$11:$P$13,MAX(Parámetros!G$7:$P$7),FALSE))","v":""},{"$f":"IF(H356=\"\",\"\",VLOOKUP(H356,Parámetros!H$11:$P$13,MAX(Parámetros!H$7:$P$7),FALSE))","v":""},{"$f":"IF(I356=\"\",\"\",VLOOKUP(I356,Parámetros!I$11:$P$13,MAX(Parámetros!I$7:$P$7),FALSE))","v":""},{"$f":"IF(J356=\"\",\"\",VLOOKUP(J356,Parámetros!J$11:$P$13,MAX(Parámetros!J$7:$P$7),FALSE))","v":""},{"$f":"IF(K356=\"\",\"\",VLOOKUP(K356,Parámetros!K$11:$P$13,MAX(Parámetros!K$7:$P$7),FALSE))","v":""},{"$f":"IF(L356=\"\",\"\",VLOOKUP(L356,Parámetros!L$11:$P$13,MAX(Parámetros!L$7:$P$7),FALSE))","v":""},{"$f":"IF(M356=\"\",\"\",VLOOKUP(M356,Parámetros!M$11:$P$13,MAX(Parámetros!M$7:$P$7),FALSE))","v":""},{"$f":"IF(N356=\"\",\"\",VLOOKUP(N356,Parámetros!N$11:$P$13,MAX(Parámetros!N$7:$P$7),FALSE))","v":""},{"$f":"IF(O356=\"\",\"\",VLOOKUP(O356,Parámetros!O$11:$P$13,MAX(Parámetros!O$7:$P$7),FALSE))","v":""},""]
[null,null,null,{"$f":"IF(E357=\"\",\"\",VLOOKUP(E357,'Buenas prácticas'!$G$8:$H$1007,2,FALSE))","v":""},null,null,null,null,null,null,null,null,null,null,null,{"$f":"IF(F357=\"\",\"\",VLOOKUP(F357,Parámetros!F$11:$P$13,MAX(Parámetros!F$7:$P$7),FALSE))","v":""},{"$f":"IF(G357=\"\",\"\",VLOOKUP(G357,Parámetros!G$11:$P$13,MAX(Parámetros!G$7:$P$7),FALSE))","v":""},{"$f":"IF(H357=\"\",\"\",VLOOKUP(H357,Parámetros!H$11:$P$13,MAX(Parámetros!H$7:$P$7),FALSE))","v":""},{"$f":"IF(I357=\"\",\"\",VLOOKUP(I357,Parámetros!I$11:$P$13,MAX(Parámetros!I$7:$P$7),FALSE))","v":""},{"$f":"IF(J357=\"\",\"\",VLOOKUP(J357,Parámetros!J$11:$P$13,MAX(Parámetros!J$7:$P$7),FALSE))","v":""},{"$f":"IF(K357=\"\",\"\",VLOOKUP(K357,Parámetros!K$11:$P$13,MAX(Parámetros!K$7:$P$7),FALSE))","v":""},{"$f":"IF(L357=\"\",\"\",VLOOKUP(L357,Parámetros!L$11:$P$13,MAX(Parámetros!L$7:$P$7),FALSE))","v":""},{"$f":"IF(M357=\"\",\"\",VLOOKUP(M357,Parámetros!M$11:$P$13,MAX(Parámetros!M$7:$P$7),FALSE))","v":""},{"$f":"IF(N357=\"\",\"\",VLOOKUP(N357,Parámetros!N$11:$P$13,MAX(Parámetros!N$7:$P$7),FALSE))","v":""},{"$f":"IF(O357=\"\",\"\",VLOOKUP(O357,Parámetros!O$11:$P$13,MAX(Parámetros!O$7:$P$7),FALSE))","v":""},""]
[null,null,null,{"$f":"IF(E358=\"\",\"\",VLOOKUP(E358,'Buenas prácticas'!$G$8:$H$1007,2,FALSE))","v":""},null,null,null,null,null,null,null,null,null,null,null,{"$f":"IF(F358=\"\",\"\",VLOOKUP(F358,Parámetros!F$11:$P$13,MAX(Parámetros!F$7:$P$7),FALSE))","v":""},{"$f":"IF(G358=\"\",\"\",VLOOKUP(G358,Parámetros!G$11:$P$13,MAX(Parámetros!G$7:$P$7),FALSE))","v":""},{"$f":"IF(H358=\"\",\"\",VLOOKUP(H358,Parámetros!H$11:$P$13,MAX(Parámetros!H$7:$P$7),FALSE))","v":""},{"$f":"IF(I358=\"\",\"\",VLOOKUP(I358,Parámetros!I$11:$P$13,MAX(Parámetros!I$7:$P$7),FALSE))","v":""},{"$f":"IF(J358=\"\",\"\",VLOOKUP(J358,Parámetros!J$11:$P$13,MAX(Parámetros!J$7:$P$7),FALSE))","v":""},{"$f":"IF(K358=\"\",\"\",VLOOKUP(K358,Parámetros!K$11:$P$13,MAX(Parámetros!K$7:$P$7),FALSE))","v":""},{"$f":"IF(L358=\"\",\"\",VLOOKUP(L358,Parámetros!L$11:$P$13,MAX(Parámetros!L$7:$P$7),FALSE))","v":""},{"$f":"IF(M358=\"\",\"\",VLOOKUP(M358,Parámetros!M$11:$P$13,MAX(Parámetros!M$7:$P$7),FALSE))","v":""},{"$f":"IF(N358=\"\",\"\",VLOOKUP(N358,Parámetros!N$11:$P$13,MAX(Parámetros!N$7:$P$7),FALSE))","v":""},{"$f":"IF(O358=\"\",\"\",VLOOKUP(O358,Parámetros!O$11:$P$13,MAX(Parámetros!O$7:$P$7),FALSE))","v":""},""]
[null,null,null,{"$f":"IF(E359=\"\",\"\",VLOOKUP(E359,'Buenas prácticas'!$G$8:$H$1007,2,FALSE))","v":""},null,null,null,null,null,null,null,null,null,null,null,{"$f":"IF(F359=\"\",\"\",VLOOKUP(F359,Parámetros!F$11:$P$13,MAX(Parámetros!F$7:$P$7),FALSE))","v":""},{"$f":"IF(G359=\"\",\"\",VLOOKUP(G359,Parámetros!G$11:$P$13,MAX(Parámetros!G$7:$P$7),FALSE))","v":""},{"$f":"IF(H359=\"\",\"\",VLOOKUP(H359,Parámetros!H$11:$P$13,MAX(Parámetros!H$7:$P$7),FALSE))","v":""},{"$f":"IF(I359=\"\",\"\",VLOOKUP(I359,Parámetros!I$11:$P$13,MAX(Parámetros!I$7:$P$7),FALSE))","v":""},{"$f":"IF(J359=\"\",\"\",VLOOKUP(J359,Parámetros!J$11:$P$13,MAX(Parámetros!J$7:$P$7),FALSE))","v":""},{"$f":"IF(K359=\"\",\"\",VLOOKUP(K359,Parámetros!K$11:$P$13,MAX(Parámetros!K$7:$P$7),FALSE))","v":""},{"$f":"IF(L359=\"\",\"\",VLOOKUP(L359,Parámetros!L$11:$P$13,MAX(Parámetros!L$7:$P$7),FALSE))","v":""},{"$f":"IF(M359=\"\",\"\",VLOOKUP(M359,Parámetros!M$11:$P$13,MAX(Parámetros!M$7:$P$7),FALSE))","v":""},{"$f":"IF(N359=\"\",\"\",VLOOKUP(N359,Parámetros!N$11:$P$13,MAX(Parámetros!N$7:$P$7),FALSE))","v":""},{"$f":"IF(O359=\"\",\"\",VLOOKUP(O359,Parámetros!O$11:$P$13,MAX(Parámetros!O$7:$P$7),FALSE))","v":""},""]
[null,null,null,{"$f":"IF(E360=\"\",\"\",VLOOKUP(E360,'Buenas prácticas'!$G$8:$H$1007,2,FALSE))","v":""},null,null,null,null,null,null,null,null,null,null,null,{"$f":"IF(F360=\"\",\"\",VLOOKUP(F360,Parámetros!F$11:$P$13,MAX(Parámetros!F$7:$P$7),FALSE))","v":""},{"$f":"IF(G360=\"\",\"\",VLOOKUP(G360,Parámetros!G$11:$P$13,MAX(Parámetros!G$7:$P$7),FALSE))","v":""},{"$f":"IF(H360=\"\",\"\",VLOOKUP(H360,Parámetros!H$11:$P$13,MAX(Parámetros!H$7:$P$7),FALSE))","v":""},{"$f":"IF(I360=\"\",\"\",VLOOKUP(I360,Parámetros!I$11:$P$13,MAX(Parámetros!I$7:$P$7),FALSE))","v":""},{"$f":"IF(J360=\"\",\"\",VLOOKUP(J360,Parámetros!J$11:$P$13,MAX(Parámetros!J$7:$P$7),FALSE))","v":""},{"$f":"IF(K360=\"\",\"\",VLOOKUP(K360,Parámetros!K$11:$P$13,MAX(Parámetros!K$7:$P$7),FALSE))","v":""},{"$f":"IF(L360=\"\",\"\",VLOOKUP(L360,Parámetros!L$11:$P$13,MAX(Parámetros!L$7:$P$7),FALSE))","v":""},{"$f":"IF(M360=\"\",\"\",VLOOKUP(M360,Parámetros!M$11:$P$13,MAX(Parámetros!M$7:$P$7),FALSE))","v":""},{"$f":"IF(N360=\"\",\"\",VLOOKUP(N360,Parámetros!N$11:$P$13,MAX(Parámetros!N$7:$P$7),FALSE))","v":""},{"$f":"IF(O360=\"\",\"\",VLOOKUP(O360,Parámetros!O$11:$P$13,MAX(Parámetros!O$7:$P$7),FALSE))","v":""},""]
[null,null,null,{"$f":"IF(E361=\"\",\"\",VLOOKUP(E361,'Buenas prácticas'!$G$8:$H$1007,2,FALSE))","v":""},null,null,null,null,null,null,null,null,null,null,null,{"$f":"IF(F361=\"\",\"\",VLOOKUP(F361,Parámetros!F$11:$P$13,MAX(Parámetros!F$7:$P$7),FALSE))","v":""},{"$f":"IF(G361=\"\",\"\",VLOOKUP(G361,Parámetros!G$11:$P$13,MAX(Parámetros!G$7:$P$7),FALSE))","v":""},{"$f":"IF(H361=\"\",\"\",VLOOKUP(H361,Parámetros!H$11:$P$13,MAX(Parámetros!H$7:$P$7),FALSE))","v":""},{"$f":"IF(I361=\"\",\"\",VLOOKUP(I361,Parámetros!I$11:$P$13,MAX(Parámetros!I$7:$P$7),FALSE))","v":""},{"$f":"IF(J361=\"\",\"\",VLOOKUP(J361,Parámetros!J$11:$P$13,MAX(Parámetros!J$7:$P$7),FALSE))","v":""},{"$f":"IF(K361=\"\",\"\",VLOOKUP(K361,Parámetros!K$11:$P$13,MAX(Parámetros!K$7:$P$7),FALSE))","v":""},{"$f":"IF(L361=\"\",\"\",VLOOKUP(L361,Parámetros!L$11:$P$13,MAX(Parámetros!L$7:$P$7),FALSE))","v":""},{"$f":"IF(M361=\"\",\"\",VLOOKUP(M361,Parámetros!M$11:$P$13,MAX(Parámetros!M$7:$P$7),FALSE))","v":""},{"$f":"IF(N361=\"\",\"\",VLOOKUP(N361,Parámetros!N$11:$P$13,MAX(Parámetros!N$7:$P$7),FALSE))","v":""},{"$f":"IF(O361=\"\",\"\",VLOOKUP(O361,Parámetros!O$11:$P$13,MAX(Parámetros!O$7:$P$7),FALSE))","v":""},""]
[null,null,null,{"$f":"IF(E362=\"\",\"\",VLOOKUP(E362,'Buenas prácticas'!$G$8:$H$1007,2,FALSE))","v":""},null,null,null,null,null,null,null,null,null,null,null,{"$f":"IF(F362=\"\",\"\",VLOOKUP(F362,Parámetros!F$11:$P$13,MAX(Parámetros!F$7:$P$7),FALSE))","v":""},{"$f":"IF(G362=\"\",\"\",VLOOKUP(G362,Parámetros!G$11:$P$13,MAX(Parámetros!G$7:$P$7),FALSE))","v":""},{"$f":"IF(H362=\"\",\"\",VLOOKUP(H362,Parámetros!H$11:$P$13,MAX(Parámetros!H$7:$P$7),FALSE))","v":""},{"$f":"IF(I362=\"\",\"\",VLOOKUP(I362,Parámetros!I$11:$P$13,MAX(Parámetros!I$7:$P$7),FALSE))","v":""},{"$f":"IF(J362=\"\",\"\",VLOOKUP(J362,Parámetros!J$11:$P$13,MAX(Parámetros!J$7:$P$7),FALSE))","v":""},{"$f":"IF(K362=\"\",\"\",VLOOKUP(K362,Parámetros!K$11:$P$13,MAX(Parámetros!K$7:$P$7),FALSE))","v":""},{"$f":"IF(L362=\"\",\"\",VLOOKUP(L362,Parámetros!L$11:$P$13,MAX(Parámetros!L$7:$P$7),FALSE))","v":""},{"$f":"IF(M362=\"\",\"\",VLOOKUP(M362,Parámetros!M$11:$P$13,MAX(Parámetros!M$7:$P$7),FALSE))","v":""},{"$f":"IF(N362=\"\",\"\",VLOOKUP(N362,Parámetros!N$11:$P$13,MAX(Parámetros!N$7:$P$7),FALSE))","v":""},{"$f":"IF(O362=\"\",\"\",VLOOKUP(O362,Parámetros!O$11:$P$13,MAX(Parámetros!O$7:$P$7),FALSE))","v":""},""]
[null,null,null,{"$f":"IF(E363=\"\",\"\",VLOOKUP(E363,'Buenas prácticas'!$G$8:$H$1007,2,FALSE))","v":""},null,null,null,null,null,null,null,null,null,null,null,{"$f":"IF(F363=\"\",\"\",VLOOKUP(F363,Parámetros!F$11:$P$13,MAX(Parámetros!F$7:$P$7),FALSE))","v":""},{"$f":"IF(G363=\"\",\"\",VLOOKUP(G363,Parámetros!G$11:$P$13,MAX(Parámetros!G$7:$P$7),FALSE))","v":""},{"$f":"IF(H363=\"\",\"\",VLOOKUP(H363,Parámetros!H$11:$P$13,MAX(Parámetros!H$7:$P$7),FALSE))","v":""},{"$f":"IF(I363=\"\",\"\",VLOOKUP(I363,Parámetros!I$11:$P$13,MAX(Parámetros!I$7:$P$7),FALSE))","v":""},{"$f":"IF(J363=\"\",\"\",VLOOKUP(J363,Parámetros!J$11:$P$13,MAX(Parámetros!J$7:$P$7),FALSE))","v":""},{"$f":"IF(K363=\"\",\"\",VLOOKUP(K363,Parámetros!K$11:$P$13,MAX(Parámetros!K$7:$P$7),FALSE))","v":""},{"$f":"IF(L363=\"\",\"\",VLOOKUP(L363,Parámetros!L$11:$P$13,MAX(Parámetros!L$7:$P$7),FALSE))","v":""},{"$f":"IF(M363=\"\",\"\",VLOOKUP(M363,Parámetros!M$11:$P$13,MAX(Parámetros!M$7:$P$7),FALSE))","v":""},{"$f":"IF(N363=\"\",\"\",VLOOKUP(N363,Parámetros!N$11:$P$13,MAX(Parámetros!N$7:$P$7),FALSE))","v":""},{"$f":"IF(O363=\"\",\"\",VLOOKUP(O363,Parámetros!O$11:$P$13,MAX(Parámetros!O$7:$P$7),FALSE))","v":""},""]
[null,null,null,{"$f":"IF(E364=\"\",\"\",VLOOKUP(E364,'Buenas prácticas'!$G$8:$H$1007,2,FALSE))","v":""},null,null,null,null,null,null,null,null,null,null,null,{"$f":"IF(F364=\"\",\"\",VLOOKUP(F364,Parámetros!F$11:$P$13,MAX(Parámetros!F$7:$P$7),FALSE))","v":""},{"$f":"IF(G364=\"\",\"\",VLOOKUP(G364,Parámetros!G$11:$P$13,MAX(Parámetros!G$7:$P$7),FALSE))","v":""},{"$f":"IF(H364=\"\",\"\",VLOOKUP(H364,Parámetros!H$11:$P$13,MAX(Parámetros!H$7:$P$7),FALSE))","v":""},{"$f":"IF(I364=\"\",\"\",VLOOKUP(I364,Parámetros!I$11:$P$13,MAX(Parámetros!I$7:$P$7),FALSE))","v":""},{"$f":"IF(J364=\"\",\"\",VLOOKUP(J364,Parámetros!J$11:$P$13,MAX(Parámetros!J$7:$P$7),FALSE))","v":""},{"$f":"IF(K364=\"\",\"\",VLOOKUP(K364,Parámetros!K$11:$P$13,MAX(Parámetros!K$7:$P$7),FALSE))","v":""},{"$f":"IF(L364=\"\",\"\",VLOOKUP(L364,Parámetros!L$11:$P$13,MAX(Parámetros!L$7:$P$7),FALSE))","v":""},{"$f":"IF(M364=\"\",\"\",VLOOKUP(M364,Parámetros!M$11:$P$13,MAX(Parámetros!M$7:$P$7),FALSE))","v":""},{"$f":"IF(N364=\"\",\"\",VLOOKUP(N364,Parámetros!N$11:$P$13,MAX(Parámetros!N$7:$P$7),FALSE))","v":""},{"$f":"IF(O364=\"\",\"\",VLOOKUP(O364,Parámetros!O$11:$P$13,MAX(Parámetros!O$7:$P$7),FALSE))","v":""},""]
[null,null,null,{"$f":"IF(E365=\"\",\"\",VLOOKUP(E365,'Buenas prácticas'!$G$8:$H$1007,2,FALSE))","v":""},null,null,null,null,null,null,null,null,null,null,null,{"$f":"IF(F365=\"\",\"\",VLOOKUP(F365,Parámetros!F$11:$P$13,MAX(Parámetros!F$7:$P$7),FALSE))","v":""},{"$f":"IF(G365=\"\",\"\",VLOOKUP(G365,Parámetros!G$11:$P$13,MAX(Parámetros!G$7:$P$7),FALSE))","v":""},{"$f":"IF(H365=\"\",\"\",VLOOKUP(H365,Parámetros!H$11:$P$13,MAX(Parámetros!H$7:$P$7),FALSE))","v":""},{"$f":"IF(I365=\"\",\"\",VLOOKUP(I365,Parámetros!I$11:$P$13,MAX(Parámetros!I$7:$P$7),FALSE))","v":""},{"$f":"IF(J365=\"\",\"\",VLOOKUP(J365,Parámetros!J$11:$P$13,MAX(Parámetros!J$7:$P$7),FALSE))","v":""},{"$f":"IF(K365=\"\",\"\",VLOOKUP(K365,Parámetros!K$11:$P$13,MAX(Parámetros!K$7:$P$7),FALSE))","v":""},{"$f":"IF(L365=\"\",\"\",VLOOKUP(L365,Parámetros!L$11:$P$13,MAX(Parámetros!L$7:$P$7),FALSE))","v":""},{"$f":"IF(M365=\"\",\"\",VLOOKUP(M365,Parámetros!M$11:$P$13,MAX(Parámetros!M$7:$P$7),FALSE))","v":""},{"$f":"IF(N365=\"\",\"\",VLOOKUP(N365,Parámetros!N$11:$P$13,MAX(Parámetros!N$7:$P$7),FALSE))","v":""},{"$f":"IF(O365=\"\",\"\",VLOOKUP(O365,Parámetros!O$11:$P$13,MAX(Parámetros!O$7:$P$7),FALSE))","v":""},""]
[null,null,null,{"$f":"IF(E366=\"\",\"\",VLOOKUP(E366,'Buenas prácticas'!$G$8:$H$1007,2,FALSE))","v":""},null,null,null,null,null,null,null,null,null,null,null,{"$f":"IF(F366=\"\",\"\",VLOOKUP(F366,Parámetros!F$11:$P$13,MAX(Parámetros!F$7:$P$7),FALSE))","v":""},{"$f":"IF(G366=\"\",\"\",VLOOKUP(G366,Parámetros!G$11:$P$13,MAX(Parámetros!G$7:$P$7),FALSE))","v":""},{"$f":"IF(H366=\"\",\"\",VLOOKUP(H366,Parámetros!H$11:$P$13,MAX(Parámetros!H$7:$P$7),FALSE))","v":""},{"$f":"IF(I366=\"\",\"\",VLOOKUP(I366,Parámetros!I$11:$P$13,MAX(Parámetros!I$7:$P$7),FALSE))","v":""},{"$f":"IF(J366=\"\",\"\",VLOOKUP(J366,Parámetros!J$11:$P$13,MAX(Parámetros!J$7:$P$7),FALSE))","v":""},{"$f":"IF(K366=\"\",\"\",VLOOKUP(K366,Parámetros!K$11:$P$13,MAX(Parámetros!K$7:$P$7),FALSE))","v":""},{"$f":"IF(L366=\"\",\"\",VLOOKUP(L366,Parámetros!L$11:$P$13,MAX(Parámetros!L$7:$P$7),FALSE))","v":""},{"$f":"IF(M366=\"\",\"\",VLOOKUP(M366,Parámetros!M$11:$P$13,MAX(Parámetros!M$7:$P$7),FALSE))","v":""},{"$f":"IF(N366=\"\",\"\",VLOOKUP(N366,Parámetros!N$11:$P$13,MAX(Parámetros!N$7:$P$7),FALSE))","v":""},{"$f":"IF(O366=\"\",\"\",VLOOKUP(O366,Parámetros!O$11:$P$13,MAX(Parámetros!O$7:$P$7),FALSE))","v":""},""]
[null,null,null,{"$f":"IF(E367=\"\",\"\",VLOOKUP(E367,'Buenas prácticas'!$G$8:$H$1007,2,FALSE))","v":""},null,null,null,null,null,null,null,null,null,null,null,{"$f":"IF(F367=\"\",\"\",VLOOKUP(F367,Parámetros!F$11:$P$13,MAX(Parámetros!F$7:$P$7),FALSE))","v":""},{"$f":"IF(G367=\"\",\"\",VLOOKUP(G367,Parámetros!G$11:$P$13,MAX(Parámetros!G$7:$P$7),FALSE))","v":""},{"$f":"IF(H367=\"\",\"\",VLOOKUP(H367,Parámetros!H$11:$P$13,MAX(Parámetros!H$7:$P$7),FALSE))","v":""},{"$f":"IF(I367=\"\",\"\",VLOOKUP(I367,Parámetros!I$11:$P$13,MAX(Parámetros!I$7:$P$7),FALSE))","v":""},{"$f":"IF(J367=\"\",\"\",VLOOKUP(J367,Parámetros!J$11:$P$13,MAX(Parámetros!J$7:$P$7),FALSE))","v":""},{"$f":"IF(K367=\"\",\"\",VLOOKUP(K367,Parámetros!K$11:$P$13,MAX(Parámetros!K$7:$P$7),FALSE))","v":""},{"$f":"IF(L367=\"\",\"\",VLOOKUP(L367,Parámetros!L$11:$P$13,MAX(Parámetros!L$7:$P$7),FALSE))","v":""},{"$f":"IF(M367=\"\",\"\",VLOOKUP(M367,Parámetros!M$11:$P$13,MAX(Parámetros!M$7:$P$7),FALSE))","v":""},{"$f":"IF(N367=\"\",\"\",VLOOKUP(N367,Parámetros!N$11:$P$13,MAX(Parámetros!N$7:$P$7),FALSE))","v":""},{"$f":"IF(O367=\"\",\"\",VLOOKUP(O367,Parámetros!O$11:$P$13,MAX(Parámetros!O$7:$P$7),FALSE))","v":""},""]
[null,null,null,{"$f":"IF(E368=\"\",\"\",VLOOKUP(E368,'Buenas prácticas'!$G$8:$H$1007,2,FALSE))","v":""},null,null,null,null,null,null,null,null,null,null,null,{"$f":"IF(F368=\"\",\"\",VLOOKUP(F368,Parámetros!F$11:$P$13,MAX(Parámetros!F$7:$P$7),FALSE))","v":""},{"$f":"IF(G368=\"\",\"\",VLOOKUP(G368,Parámetros!G$11:$P$13,MAX(Parámetros!G$7:$P$7),FALSE))","v":""},{"$f":"IF(H368=\"\",\"\",VLOOKUP(H368,Parámetros!H$11:$P$13,MAX(Parámetros!H$7:$P$7),FALSE))","v":""},{"$f":"IF(I368=\"\",\"\",VLOOKUP(I368,Parámetros!I$11:$P$13,MAX(Parámetros!I$7:$P$7),FALSE))","v":""},{"$f":"IF(J368=\"\",\"\",VLOOKUP(J368,Parámetros!J$11:$P$13,MAX(Parámetros!J$7:$P$7),FALSE))","v":""},{"$f":"IF(K368=\"\",\"\",VLOOKUP(K368,Parámetros!K$11:$P$13,MAX(Parámetros!K$7:$P$7),FALSE))","v":""},{"$f":"IF(L368=\"\",\"\",VLOOKUP(L368,Parámetros!L$11:$P$13,MAX(Parámetros!L$7:$P$7),FALSE))","v":""},{"$f":"IF(M368=\"\",\"\",VLOOKUP(M368,Parámetros!M$11:$P$13,MAX(Parámetros!M$7:$P$7),FALSE))","v":""},{"$f":"IF(N368=\"\",\"\",VLOOKUP(N368,Parámetros!N$11:$P$13,MAX(Parámetros!N$7:$P$7),FALSE))","v":""},{"$f":"IF(O368=\"\",\"\",VLOOKUP(O368,Parámetros!O$11:$P$13,MAX(Parámetros!O$7:$P$7),FALSE))","v":""},""]
[null,null,null,{"$f":"IF(E369=\"\",\"\",VLOOKUP(E369,'Buenas prácticas'!$G$8:$H$1007,2,FALSE))","v":""},null,null,null,null,null,null,null,null,null,null,null,{"$f":"IF(F369=\"\",\"\",VLOOKUP(F369,Parámetros!F$11:$P$13,MAX(Parámetros!F$7:$P$7),FALSE))","v":""},{"$f":"IF(G369=\"\",\"\",VLOOKUP(G369,Parámetros!G$11:$P$13,MAX(Parámetros!G$7:$P$7),FALSE))","v":""},{"$f":"IF(H369=\"\",\"\",VLOOKUP(H369,Parámetros!H$11:$P$13,MAX(Parámetros!H$7:$P$7),FALSE))","v":""},{"$f":"IF(I369=\"\",\"\",VLOOKUP(I369,Parámetros!I$11:$P$13,MAX(Parámetros!I$7:$P$7),FALSE))","v":""},{"$f":"IF(J369=\"\",\"\",VLOOKUP(J369,Parámetros!J$11:$P$13,MAX(Parámetros!J$7:$P$7),FALSE))","v":""},{"$f":"IF(K369=\"\",\"\",VLOOKUP(K369,Parámetros!K$11:$P$13,MAX(Parámetros!K$7:$P$7),FALSE))","v":""},{"$f":"IF(L369=\"\",\"\",VLOOKUP(L369,Parámetros!L$11:$P$13,MAX(Parámetros!L$7:$P$7),FALSE))","v":""},{"$f":"IF(M369=\"\",\"\",VLOOKUP(M369,Parámetros!M$11:$P$13,MAX(Parámetros!M$7:$P$7),FALSE))","v":""},{"$f":"IF(N369=\"\",\"\",VLOOKUP(N369,Parámetros!N$11:$P$13,MAX(Parámetros!N$7:$P$7),FALSE))","v":""},{"$f":"IF(O369=\"\",\"\",VLOOKUP(O369,Parámetros!O$11:$P$13,MAX(Parámetros!O$7:$P$7),FALSE))","v":""},""]
[null,null,null,{"$f":"IF(E370=\"\",\"\",VLOOKUP(E370,'Buenas prácticas'!$G$8:$H$1007,2,FALSE))","v":""},null,null,null,null,null,null,null,null,null,null,null,{"$f":"IF(F370=\"\",\"\",VLOOKUP(F370,Parámetros!F$11:$P$13,MAX(Parámetros!F$7:$P$7),FALSE))","v":""},{"$f":"IF(G370=\"\",\"\",VLOOKUP(G370,Parámetros!G$11:$P$13,MAX(Parámetros!G$7:$P$7),FALSE))","v":""},{"$f":"IF(H370=\"\",\"\",VLOOKUP(H370,Parámetros!H$11:$P$13,MAX(Parámetros!H$7:$P$7),FALSE))","v":""},{"$f":"IF(I370=\"\",\"\",VLOOKUP(I370,Parámetros!I$11:$P$13,MAX(Parámetros!I$7:$P$7),FALSE))","v":""},{"$f":"IF(J370=\"\",\"\",VLOOKUP(J370,Parámetros!J$11:$P$13,MAX(Parámetros!J$7:$P$7),FALSE))","v":""},{"$f":"IF(K370=\"\",\"\",VLOOKUP(K370,Parámetros!K$11:$P$13,MAX(Parámetros!K$7:$P$7),FALSE))","v":""},{"$f":"IF(L370=\"\",\"\",VLOOKUP(L370,Parámetros!L$11:$P$13,MAX(Parámetros!L$7:$P$7),FALSE))","v":""},{"$f":"IF(M370=\"\",\"\",VLOOKUP(M370,Parámetros!M$11:$P$13,MAX(Parámetros!M$7:$P$7),FALSE))","v":""},{"$f":"IF(N370=\"\",\"\",VLOOKUP(N370,Parámetros!N$11:$P$13,MAX(Parámetros!N$7:$P$7),FALSE))","v":""},{"$f":"IF(O370=\"\",\"\",VLOOKUP(O370,Parámetros!O$11:$P$13,MAX(Parámetros!O$7:$P$7),FALSE))","v":""},""]
[null,null,null,{"$f":"IF(E371=\"\",\"\",VLOOKUP(E371,'Buenas prácticas'!$G$8:$H$1007,2,FALSE))","v":""},null,null,null,null,null,null,null,null,null,null,null,{"$f":"IF(F371=\"\",\"\",VLOOKUP(F371,Parámetros!F$11:$P$13,MAX(Parámetros!F$7:$P$7),FALSE))","v":""},{"$f":"IF(G371=\"\",\"\",VLOOKUP(G371,Parámetros!G$11:$P$13,MAX(Parámetros!G$7:$P$7),FALSE))","v":""},{"$f":"IF(H371=\"\",\"\",VLOOKUP(H371,Parámetros!H$11:$P$13,MAX(Parámetros!H$7:$P$7),FALSE))","v":""},{"$f":"IF(I371=\"\",\"\",VLOOKUP(I371,Parámetros!I$11:$P$13,MAX(Parámetros!I$7:$P$7),FALSE))","v":""},{"$f":"IF(J371=\"\",\"\",VLOOKUP(J371,Parámetros!J$11:$P$13,MAX(Parámetros!J$7:$P$7),FALSE))","v":""},{"$f":"IF(K371=\"\",\"\",VLOOKUP(K371,Parámetros!K$11:$P$13,MAX(Parámetros!K$7:$P$7),FALSE))","v":""},{"$f":"IF(L371=\"\",\"\",VLOOKUP(L371,Parámetros!L$11:$P$13,MAX(Parámetros!L$7:$P$7),FALSE))","v":""},{"$f":"IF(M371=\"\",\"\",VLOOKUP(M371,Parámetros!M$11:$P$13,MAX(Parámetros!M$7:$P$7),FALSE))","v":""},{"$f":"IF(N371=\"\",\"\",VLOOKUP(N371,Parámetros!N$11:$P$13,MAX(Parámetros!N$7:$P$7),FALSE))","v":""},{"$f":"IF(O371=\"\",\"\",VLOOKUP(O371,Parámetros!O$11:$P$13,MAX(Parámetros!O$7:$P$7),FALSE))","v":""},""]
[null,null,null,{"$f":"IF(E372=\"\",\"\",VLOOKUP(E372,'Buenas prácticas'!$G$8:$H$1007,2,FALSE))","v":""},null,null,null,null,null,null,null,null,null,null,null,{"$f":"IF(F372=\"\",\"\",VLOOKUP(F372,Parámetros!F$11:$P$13,MAX(Parámetros!F$7:$P$7),FALSE))","v":""},{"$f":"IF(G372=\"\",\"\",VLOOKUP(G372,Parámetros!G$11:$P$13,MAX(Parámetros!G$7:$P$7),FALSE))","v":""},{"$f":"IF(H372=\"\",\"\",VLOOKUP(H372,Parámetros!H$11:$P$13,MAX(Parámetros!H$7:$P$7),FALSE))","v":""},{"$f":"IF(I372=\"\",\"\",VLOOKUP(I372,Parámetros!I$11:$P$13,MAX(Parámetros!I$7:$P$7),FALSE))","v":""},{"$f":"IF(J372=\"\",\"\",VLOOKUP(J372,Parámetros!J$11:$P$13,MAX(Parámetros!J$7:$P$7),FALSE))","v":""},{"$f":"IF(K372=\"\",\"\",VLOOKUP(K372,Parámetros!K$11:$P$13,MAX(Parámetros!K$7:$P$7),FALSE))","v":""},{"$f":"IF(L372=\"\",\"\",VLOOKUP(L372,Parámetros!L$11:$P$13,MAX(Parámetros!L$7:$P$7),FALSE))","v":""},{"$f":"IF(M372=\"\",\"\",VLOOKUP(M372,Parámetros!M$11:$P$13,MAX(Parámetros!M$7:$P$7),FALSE))","v":""},{"$f":"IF(N372=\"\",\"\",VLOOKUP(N372,Parámetros!N$11:$P$13,MAX(Parámetros!N$7:$P$7),FALSE))","v":""},{"$f":"IF(O372=\"\",\"\",VLOOKUP(O372,Parámetros!O$11:$P$13,MAX(Parámetros!O$7:$P$7),FALSE))","v":""},""]
[null,null,null,{"$f":"IF(E373=\"\",\"\",VLOOKUP(E373,'Buenas prácticas'!$G$8:$H$1007,2,FALSE))","v":""},null,null,null,null,null,null,null,null,null,null,null,{"$f":"IF(F373=\"\",\"\",VLOOKUP(F373,Parámetros!F$11:$P$13,MAX(Parámetros!F$7:$P$7),FALSE))","v":""},{"$f":"IF(G373=\"\",\"\",VLOOKUP(G373,Parámetros!G$11:$P$13,MAX(Parámetros!G$7:$P$7),FALSE))","v":""},{"$f":"IF(H373=\"\",\"\",VLOOKUP(H373,Parámetros!H$11:$P$13,MAX(Parámetros!H$7:$P$7),FALSE))","v":""},{"$f":"IF(I373=\"\",\"\",VLOOKUP(I373,Parámetros!I$11:$P$13,MAX(Parámetros!I$7:$P$7),FALSE))","v":""},{"$f":"IF(J373=\"\",\"\",VLOOKUP(J373,Parámetros!J$11:$P$13,MAX(Parámetros!J$7:$P$7),FALSE))","v":""},{"$f":"IF(K373=\"\",\"\",VLOOKUP(K373,Parámetros!K$11:$P$13,MAX(Parámetros!K$7:$P$7),FALSE))","v":""},{"$f":"IF(L373=\"\",\"\",VLOOKUP(L373,Parámetros!L$11:$P$13,MAX(Parámetros!L$7:$P$7),FALSE))","v":""},{"$f":"IF(M373=\"\",\"\",VLOOKUP(M373,Parámetros!M$11:$P$13,MAX(Parámetros!M$7:$P$7),FALSE))","v":""},{"$f":"IF(N373=\"\",\"\",VLOOKUP(N373,Parámetros!N$11:$P$13,MAX(Parámetros!N$7:$P$7),FALSE))","v":""},{"$f":"IF(O373=\"\",\"\",VLOOKUP(O373,Parámetros!O$11:$P$13,MAX(Parámetros!O$7:$P$7),FALSE))","v":""},""]
[null,null,null,{"$f":"IF(E374=\"\",\"\",VLOOKUP(E374,'Buenas prácticas'!$G$8:$H$1007,2,FALSE))","v":""},null,null,null,null,null,null,null,null,null,null,null,{"$f":"IF(F374=\"\",\"\",VLOOKUP(F374,Parámetros!F$11:$P$13,MAX(Parámetros!F$7:$P$7),FALSE))","v":""},{"$f":"IF(G374=\"\",\"\",VLOOKUP(G374,Parámetros!G$11:$P$13,MAX(Parámetros!G$7:$P$7),FALSE))","v":""},{"$f":"IF(H374=\"\",\"\",VLOOKUP(H374,Parámetros!H$11:$P$13,MAX(Parámetros!H$7:$P$7),FALSE))","v":""},{"$f":"IF(I374=\"\",\"\",VLOOKUP(I374,Parámetros!I$11:$P$13,MAX(Parámetros!I$7:$P$7),FALSE))","v":""},{"$f":"IF(J374=\"\",\"\",VLOOKUP(J374,Parámetros!J$11:$P$13,MAX(Parámetros!J$7:$P$7),FALSE))","v":""},{"$f":"IF(K374=\"\",\"\",VLOOKUP(K374,Parámetros!K$11:$P$13,MAX(Parámetros!K$7:$P$7),FALSE))","v":""},{"$f":"IF(L374=\"\",\"\",VLOOKUP(L374,Parámetros!L$11:$P$13,MAX(Parámetros!L$7:$P$7),FALSE))","v":""},{"$f":"IF(M374=\"\",\"\",VLOOKUP(M374,Parámetros!M$11:$P$13,MAX(Parámetros!M$7:$P$7),FALSE))","v":""},{"$f":"IF(N374=\"\",\"\",VLOOKUP(N374,Parámetros!N$11:$P$13,MAX(Parámetros!N$7:$P$7),FALSE))","v":""},{"$f":"IF(O374=\"\",\"\",VLOOKUP(O374,Parámetros!O$11:$P$13,MAX(Parámetros!O$7:$P$7),FALSE))","v":""},""]
[null,null,null,{"$f":"IF(E375=\"\",\"\",VLOOKUP(E375,'Buenas prácticas'!$G$8:$H$1007,2,FALSE))","v":""},null,null,null,null,null,null,null,null,null,null,null,{"$f":"IF(F375=\"\",\"\",VLOOKUP(F375,Parámetros!F$11:$P$13,MAX(Parámetros!F$7:$P$7),FALSE))","v":""},{"$f":"IF(G375=\"\",\"\",VLOOKUP(G375,Parámetros!G$11:$P$13,MAX(Parámetros!G$7:$P$7),FALSE))","v":""},{"$f":"IF(H375=\"\",\"\",VLOOKUP(H375,Parámetros!H$11:$P$13,MAX(Parámetros!H$7:$P$7),FALSE))","v":""},{"$f":"IF(I375=\"\",\"\",VLOOKUP(I375,Parámetros!I$11:$P$13,MAX(Parámetros!I$7:$P$7),FALSE))","v":""},{"$f":"IF(J375=\"\",\"\",VLOOKUP(J375,Parámetros!J$11:$P$13,MAX(Parámetros!J$7:$P$7),FALSE))","v":""},{"$f":"IF(K375=\"\",\"\",VLOOKUP(K375,Parámetros!K$11:$P$13,MAX(Parámetros!K$7:$P$7),FALSE))","v":""},{"$f":"IF(L375=\"\",\"\",VLOOKUP(L375,Parámetros!L$11:$P$13,MAX(Parámetros!L$7:$P$7),FALSE))","v":""},{"$f":"IF(M375=\"\",\"\",VLOOKUP(M375,Parámetros!M$11:$P$13,MAX(Parámetros!M$7:$P$7),FALSE))","v":""},{"$f":"IF(N375=\"\",\"\",VLOOKUP(N375,Parámetros!N$11:$P$13,MAX(Parámetros!N$7:$P$7),FALSE))","v":""},{"$f":"IF(O375=\"\",\"\",VLOOKUP(O375,Parámetros!O$11:$P$13,MAX(Parámetros!O$7:$P$7),FALSE))","v":""},""]
[null,null,null,{"$f":"IF(E376=\"\",\"\",VLOOKUP(E376,'Buenas prácticas'!$G$8:$H$1007,2,FALSE))","v":""},null,null,null,null,null,null,null,null,null,null,null,{"$f":"IF(F376=\"\",\"\",VLOOKUP(F376,Parámetros!F$11:$P$13,MAX(Parámetros!F$7:$P$7),FALSE))","v":""},{"$f":"IF(G376=\"\",\"\",VLOOKUP(G376,Parámetros!G$11:$P$13,MAX(Parámetros!G$7:$P$7),FALSE))","v":""},{"$f":"IF(H376=\"\",\"\",VLOOKUP(H376,Parámetros!H$11:$P$13,MAX(Parámetros!H$7:$P$7),FALSE))","v":""},{"$f":"IF(I376=\"\",\"\",VLOOKUP(I376,Parámetros!I$11:$P$13,MAX(Parámetros!I$7:$P$7),FALSE))","v":""},{"$f":"IF(J376=\"\",\"\",VLOOKUP(J376,Parámetros!J$11:$P$13,MAX(Parámetros!J$7:$P$7),FALSE))","v":""},{"$f":"IF(K376=\"\",\"\",VLOOKUP(K376,Parámetros!K$11:$P$13,MAX(Parámetros!K$7:$P$7),FALSE))","v":""},{"$f":"IF(L376=\"\",\"\",VLOOKUP(L376,Parámetros!L$11:$P$13,MAX(Parámetros!L$7:$P$7),FALSE))","v":""},{"$f":"IF(M376=\"\",\"\",VLOOKUP(M376,Parámetros!M$11:$P$13,MAX(Parámetros!M$7:$P$7),FALSE))","v":""},{"$f":"IF(N376=\"\",\"\",VLOOKUP(N376,Parámetros!N$11:$P$13,MAX(Parámetros!N$7:$P$7),FALSE))","v":""},{"$f":"IF(O376=\"\",\"\",VLOOKUP(O376,Parámetros!O$11:$P$13,MAX(Parámetros!O$7:$P$7),FALSE))","v":""},""]
[null,null,null,{"$f":"IF(E377=\"\",\"\",VLOOKUP(E377,'Buenas prácticas'!$G$8:$H$1007,2,FALSE))","v":""},null,null,null,null,null,null,null,null,null,null,null,{"$f":"IF(F377=\"\",\"\",VLOOKUP(F377,Parámetros!F$11:$P$13,MAX(Parámetros!F$7:$P$7),FALSE))","v":""},{"$f":"IF(G377=\"\",\"\",VLOOKUP(G377,Parámetros!G$11:$P$13,MAX(Parámetros!G$7:$P$7),FALSE))","v":""},{"$f":"IF(H377=\"\",\"\",VLOOKUP(H377,Parámetros!H$11:$P$13,MAX(Parámetros!H$7:$P$7),FALSE))","v":""},{"$f":"IF(I377=\"\",\"\",VLOOKUP(I377,Parámetros!I$11:$P$13,MAX(Parámetros!I$7:$P$7),FALSE))","v":""},{"$f":"IF(J377=\"\",\"\",VLOOKUP(J377,Parámetros!J$11:$P$13,MAX(Parámetros!J$7:$P$7),FALSE))","v":""},{"$f":"IF(K377=\"\",\"\",VLOOKUP(K377,Parámetros!K$11:$P$13,MAX(Parámetros!K$7:$P$7),FALSE))","v":""},{"$f":"IF(L377=\"\",\"\",VLOOKUP(L377,Parámetros!L$11:$P$13,MAX(Parámetros!L$7:$P$7),FALSE))","v":""},{"$f":"IF(M377=\"\",\"\",VLOOKUP(M377,Parámetros!M$11:$P$13,MAX(Parámetros!M$7:$P$7),FALSE))","v":""},{"$f":"IF(N377=\"\",\"\",VLOOKUP(N377,Parámetros!N$11:$P$13,MAX(Parámetros!N$7:$P$7),FALSE))","v":""},{"$f":"IF(O377=\"\",\"\",VLOOKUP(O377,Parámetros!O$11:$P$13,MAX(Parámetros!O$7:$P$7),FALSE))","v":""},""]
[null,null,null,{"$f":"IF(E378=\"\",\"\",VLOOKUP(E378,'Buenas prácticas'!$G$8:$H$1007,2,FALSE))","v":""},null,null,null,null,null,null,null,null,null,null,null,{"$f":"IF(F378=\"\",\"\",VLOOKUP(F378,Parámetros!F$11:$P$13,MAX(Parámetros!F$7:$P$7),FALSE))","v":""},{"$f":"IF(G378=\"\",\"\",VLOOKUP(G378,Parámetros!G$11:$P$13,MAX(Parámetros!G$7:$P$7),FALSE))","v":""},{"$f":"IF(H378=\"\",\"\",VLOOKUP(H378,Parámetros!H$11:$P$13,MAX(Parámetros!H$7:$P$7),FALSE))","v":""},{"$f":"IF(I378=\"\",\"\",VLOOKUP(I378,Parámetros!I$11:$P$13,MAX(Parámetros!I$7:$P$7),FALSE))","v":""},{"$f":"IF(J378=\"\",\"\",VLOOKUP(J378,Parámetros!J$11:$P$13,MAX(Parámetros!J$7:$P$7),FALSE))","v":""},{"$f":"IF(K378=\"\",\"\",VLOOKUP(K378,Parámetros!K$11:$P$13,MAX(Parámetros!K$7:$P$7),FALSE))","v":""},{"$f":"IF(L378=\"\",\"\",VLOOKUP(L378,Parámetros!L$11:$P$13,MAX(Parámetros!L$7:$P$7),FALSE))","v":""},{"$f":"IF(M378=\"\",\"\",VLOOKUP(M378,Parámetros!M$11:$P$13,MAX(Parámetros!M$7:$P$7),FALSE))","v":""},{"$f":"IF(N378=\"\",\"\",VLOOKUP(N378,Parámetros!N$11:$P$13,MAX(Parámetros!N$7:$P$7),FALSE))","v":""},{"$f":"IF(O378=\"\",\"\",VLOOKUP(O378,Parámetros!O$11:$P$13,MAX(Parámetros!O$7:$P$7),FALSE))","v":""},""]
[null,null,null,{"$f":"IF(E379=\"\",\"\",VLOOKUP(E379,'Buenas prácticas'!$G$8:$H$1007,2,FALSE))","v":""},null,null,null,null,null,null,null,null,null,null,null,{"$f":"IF(F379=\"\",\"\",VLOOKUP(F379,Parámetros!F$11:$P$13,MAX(Parámetros!F$7:$P$7),FALSE))","v":""},{"$f":"IF(G379=\"\",\"\",VLOOKUP(G379,Parámetros!G$11:$P$13,MAX(Parámetros!G$7:$P$7),FALSE))","v":""},{"$f":"IF(H379=\"\",\"\",VLOOKUP(H379,Parámetros!H$11:$P$13,MAX(Parámetros!H$7:$P$7),FALSE))","v":""},{"$f":"IF(I379=\"\",\"\",VLOOKUP(I379,Parámetros!I$11:$P$13,MAX(Parámetros!I$7:$P$7),FALSE))","v":""},{"$f":"IF(J379=\"\",\"\",VLOOKUP(J379,Parámetros!J$11:$P$13,MAX(Parámetros!J$7:$P$7),FALSE))","v":""},{"$f":"IF(K379=\"\",\"\",VLOOKUP(K379,Parámetros!K$11:$P$13,MAX(Parámetros!K$7:$P$7),FALSE))","v":""},{"$f":"IF(L379=\"\",\"\",VLOOKUP(L379,Parámetros!L$11:$P$13,MAX(Parámetros!L$7:$P$7),FALSE))","v":""},{"$f":"IF(M379=\"\",\"\",VLOOKUP(M379,Parámetros!M$11:$P$13,MAX(Parámetros!M$7:$P$7),FALSE))","v":""},{"$f":"IF(N379=\"\",\"\",VLOOKUP(N379,Parámetros!N$11:$P$13,MAX(Parámetros!N$7:$P$7),FALSE))","v":""},{"$f":"IF(O379=\"\",\"\",VLOOKUP(O379,Parámetros!O$11:$P$13,MAX(Parámetros!O$7:$P$7),FALSE))","v":""},""]
[null,null,null,{"$f":"IF(E380=\"\",\"\",VLOOKUP(E380,'Buenas prácticas'!$G$8:$H$1007,2,FALSE))","v":""},null,null,null,null,null,null,null,null,null,null,null,{"$f":"IF(F380=\"\",\"\",VLOOKUP(F380,Parámetros!F$11:$P$13,MAX(Parámetros!F$7:$P$7),FALSE))","v":""},{"$f":"IF(G380=\"\",\"\",VLOOKUP(G380,Parámetros!G$11:$P$13,MAX(Parámetros!G$7:$P$7),FALSE))","v":""},{"$f":"IF(H380=\"\",\"\",VLOOKUP(H380,Parámetros!H$11:$P$13,MAX(Parámetros!H$7:$P$7),FALSE))","v":""},{"$f":"IF(I380=\"\",\"\",VLOOKUP(I380,Parámetros!I$11:$P$13,MAX(Parámetros!I$7:$P$7),FALSE))","v":""},{"$f":"IF(J380=\"\",\"\",VLOOKUP(J380,Parámetros!J$11:$P$13,MAX(Parámetros!J$7:$P$7),FALSE))","v":""},{"$f":"IF(K380=\"\",\"\",VLOOKUP(K380,Parámetros!K$11:$P$13,MAX(Parámetros!K$7:$P$7),FALSE))","v":""},{"$f":"IF(L380=\"\",\"\",VLOOKUP(L380,Parámetros!L$11:$P$13,MAX(Parámetros!L$7:$P$7),FALSE))","v":""},{"$f":"IF(M380=\"\",\"\",VLOOKUP(M380,Parámetros!M$11:$P$13,MAX(Parámetros!M$7:$P$7),FALSE))","v":""},{"$f":"IF(N380=\"\",\"\",VLOOKUP(N380,Parámetros!N$11:$P$13,MAX(Parámetros!N$7:$P$7),FALSE))","v":""},{"$f":"IF(O380=\"\",\"\",VLOOKUP(O380,Parámetros!O$11:$P$13,MAX(Parámetros!O$7:$P$7),FALSE))","v":""},""]
[null,null,null,{"$f":"IF(E381=\"\",\"\",VLOOKUP(E381,'Buenas prácticas'!$G$8:$H$1007,2,FALSE))","v":""},null,null,null,null,null,null,null,null,null,null,null,{"$f":"IF(F381=\"\",\"\",VLOOKUP(F381,Parámetros!F$11:$P$13,MAX(Parámetros!F$7:$P$7),FALSE))","v":""},{"$f":"IF(G381=\"\",\"\",VLOOKUP(G381,Parámetros!G$11:$P$13,MAX(Parámetros!G$7:$P$7),FALSE))","v":""},{"$f":"IF(H381=\"\",\"\",VLOOKUP(H381,Parámetros!H$11:$P$13,MAX(Parámetros!H$7:$P$7),FALSE))","v":""},{"$f":"IF(I381=\"\",\"\",VLOOKUP(I381,Parámetros!I$11:$P$13,MAX(Parámetros!I$7:$P$7),FALSE))","v":""},{"$f":"IF(J381=\"\",\"\",VLOOKUP(J381,Parámetros!J$11:$P$13,MAX(Parámetros!J$7:$P$7),FALSE))","v":""},{"$f":"IF(K381=\"\",\"\",VLOOKUP(K381,Parámetros!K$11:$P$13,MAX(Parámetros!K$7:$P$7),FALSE))","v":""},{"$f":"IF(L381=\"\",\"\",VLOOKUP(L381,Parámetros!L$11:$P$13,MAX(Parámetros!L$7:$P$7),FALSE))","v":""},{"$f":"IF(M381=\"\",\"\",VLOOKUP(M381,Parámetros!M$11:$P$13,MAX(Parámetros!M$7:$P$7),FALSE))","v":""},{"$f":"IF(N381=\"\",\"\",VLOOKUP(N381,Parámetros!N$11:$P$13,MAX(Parámetros!N$7:$P$7),FALSE))","v":""},{"$f":"IF(O381=\"\",\"\",VLOOKUP(O381,Parámetros!O$11:$P$13,MAX(Parámetros!O$7:$P$7),FALSE))","v":""},""]
[null,null,null,{"$f":"IF(E382=\"\",\"\",VLOOKUP(E382,'Buenas prácticas'!$G$8:$H$1007,2,FALSE))","v":""},null,null,null,null,null,null,null,null,null,null,null,{"$f":"IF(F382=\"\",\"\",VLOOKUP(F382,Parámetros!F$11:$P$13,MAX(Parámetros!F$7:$P$7),FALSE))","v":""},{"$f":"IF(G382=\"\",\"\",VLOOKUP(G382,Parámetros!G$11:$P$13,MAX(Parámetros!G$7:$P$7),FALSE))","v":""},{"$f":"IF(H382=\"\",\"\",VLOOKUP(H382,Parámetros!H$11:$P$13,MAX(Parámetros!H$7:$P$7),FALSE))","v":""},{"$f":"IF(I382=\"\",\"\",VLOOKUP(I382,Parámetros!I$11:$P$13,MAX(Parámetros!I$7:$P$7),FALSE))","v":""},{"$f":"IF(J382=\"\",\"\",VLOOKUP(J382,Parámetros!J$11:$P$13,MAX(Parámetros!J$7:$P$7),FALSE))","v":""},{"$f":"IF(K382=\"\",\"\",VLOOKUP(K382,Parámetros!K$11:$P$13,MAX(Parámetros!K$7:$P$7),FALSE))","v":""},{"$f":"IF(L382=\"\",\"\",VLOOKUP(L382,Parámetros!L$11:$P$13,MAX(Parámetros!L$7:$P$7),FALSE))","v":""},{"$f":"IF(M382=\"\",\"\",VLOOKUP(M382,Parámetros!M$11:$P$13,MAX(Parámetros!M$7:$P$7),FALSE))","v":""},{"$f":"IF(N382=\"\",\"\",VLOOKUP(N382,Parámetros!N$11:$P$13,MAX(Parámetros!N$7:$P$7),FALSE))","v":""},{"$f":"IF(O382=\"\",\"\",VLOOKUP(O382,Parámetros!O$11:$P$13,MAX(Parámetros!O$7:$P$7),FALSE))","v":""},""]
[null,null,null,{"$f":"IF(E383=\"\",\"\",VLOOKUP(E383,'Buenas prácticas'!$G$8:$H$1007,2,FALSE))","v":""},null,null,null,null,null,null,null,null,null,null,null,{"$f":"IF(F383=\"\",\"\",VLOOKUP(F383,Parámetros!F$11:$P$13,MAX(Parámetros!F$7:$P$7),FALSE))","v":""},{"$f":"IF(G383=\"\",\"\",VLOOKUP(G383,Parámetros!G$11:$P$13,MAX(Parámetros!G$7:$P$7),FALSE))","v":""},{"$f":"IF(H383=\"\",\"\",VLOOKUP(H383,Parámetros!H$11:$P$13,MAX(Parámetros!H$7:$P$7),FALSE))","v":""},{"$f":"IF(I383=\"\",\"\",VLOOKUP(I383,Parámetros!I$11:$P$13,MAX(Parámetros!I$7:$P$7),FALSE))","v":""},{"$f":"IF(J383=\"\",\"\",VLOOKUP(J383,Parámetros!J$11:$P$13,MAX(Parámetros!J$7:$P$7),FALSE))","v":""},{"$f":"IF(K383=\"\",\"\",VLOOKUP(K383,Parámetros!K$11:$P$13,MAX(Parámetros!K$7:$P$7),FALSE))","v":""},{"$f":"IF(L383=\"\",\"\",VLOOKUP(L383,Parámetros!L$11:$P$13,MAX(Parámetros!L$7:$P$7),FALSE))","v":""},{"$f":"IF(M383=\"\",\"\",VLOOKUP(M383,Parámetros!M$11:$P$13,MAX(Parámetros!M$7:$P$7),FALSE))","v":""},{"$f":"IF(N383=\"\",\"\",VLOOKUP(N383,Parámetros!N$11:$P$13,MAX(Parámetros!N$7:$P$7),FALSE))","v":""},{"$f":"IF(O383=\"\",\"\",VLOOKUP(O383,Parámetros!O$11:$P$13,MAX(Parámetros!O$7:$P$7),FALSE))","v":""},""]
[null,null,null,{"$f":"IF(E384=\"\",\"\",VLOOKUP(E384,'Buenas prácticas'!$G$8:$H$1007,2,FALSE))","v":""},null,null,null,null,null,null,null,null,null,null,null,{"$f":"IF(F384=\"\",\"\",VLOOKUP(F384,Parámetros!F$11:$P$13,MAX(Parámetros!F$7:$P$7),FALSE))","v":""},{"$f":"IF(G384=\"\",\"\",VLOOKUP(G384,Parámetros!G$11:$P$13,MAX(Parámetros!G$7:$P$7),FALSE))","v":""},{"$f":"IF(H384=\"\",\"\",VLOOKUP(H384,Parámetros!H$11:$P$13,MAX(Parámetros!H$7:$P$7),FALSE))","v":""},{"$f":"IF(I384=\"\",\"\",VLOOKUP(I384,Parámetros!I$11:$P$13,MAX(Parámetros!I$7:$P$7),FALSE))","v":""},{"$f":"IF(J384=\"\",\"\",VLOOKUP(J384,Parámetros!J$11:$P$13,MAX(Parámetros!J$7:$P$7),FALSE))","v":""},{"$f":"IF(K384=\"\",\"\",VLOOKUP(K384,Parámetros!K$11:$P$13,MAX(Parámetros!K$7:$P$7),FALSE))","v":""},{"$f":"IF(L384=\"\",\"\",VLOOKUP(L384,Parámetros!L$11:$P$13,MAX(Parámetros!L$7:$P$7),FALSE))","v":""},{"$f":"IF(M384=\"\",\"\",VLOOKUP(M384,Parámetros!M$11:$P$13,MAX(Parámetros!M$7:$P$7),FALSE))","v":""},{"$f":"IF(N384=\"\",\"\",VLOOKUP(N384,Parámetros!N$11:$P$13,MAX(Parámetros!N$7:$P$7),FALSE))","v":""},{"$f":"IF(O384=\"\",\"\",VLOOKUP(O384,Parámetros!O$11:$P$13,MAX(Parámetros!O$7:$P$7),FALSE))","v":""},""]
[null,null,null,{"$f":"IF(E385=\"\",\"\",VLOOKUP(E385,'Buenas prácticas'!$G$8:$H$1007,2,FALSE))","v":""},null,null,null,null,null,null,null,null,null,null,null,{"$f":"IF(F385=\"\",\"\",VLOOKUP(F385,Parámetros!F$11:$P$13,MAX(Parámetros!F$7:$P$7),FALSE))","v":""},{"$f":"IF(G385=\"\",\"\",VLOOKUP(G385,Parámetros!G$11:$P$13,MAX(Parámetros!G$7:$P$7),FALSE))","v":""},{"$f":"IF(H385=\"\",\"\",VLOOKUP(H385,Parámetros!H$11:$P$13,MAX(Parámetros!H$7:$P$7),FALSE))","v":""},{"$f":"IF(I385=\"\",\"\",VLOOKUP(I385,Parámetros!I$11:$P$13,MAX(Parámetros!I$7:$P$7),FALSE))","v":""},{"$f":"IF(J385=\"\",\"\",VLOOKUP(J385,Parámetros!J$11:$P$13,MAX(Parámetros!J$7:$P$7),FALSE))","v":""},{"$f":"IF(K385=\"\",\"\",VLOOKUP(K385,Parámetros!K$11:$P$13,MAX(Parámetros!K$7:$P$7),FALSE))","v":""},{"$f":"IF(L385=\"\",\"\",VLOOKUP(L385,Parámetros!L$11:$P$13,MAX(Parámetros!L$7:$P$7),FALSE))","v":""},{"$f":"IF(M385=\"\",\"\",VLOOKUP(M385,Parámetros!M$11:$P$13,MAX(Parámetros!M$7:$P$7),FALSE))","v":""},{"$f":"IF(N385=\"\",\"\",VLOOKUP(N385,Parámetros!N$11:$P$13,MAX(Parámetros!N$7:$P$7),FALSE))","v":""},{"$f":"IF(O385=\"\",\"\",VLOOKUP(O385,Parámetros!O$11:$P$13,MAX(Parámetros!O$7:$P$7),FALSE))","v":""},""]
[null,null,null,{"$f":"IF(E386=\"\",\"\",VLOOKUP(E386,'Buenas prácticas'!$G$8:$H$1007,2,FALSE))","v":""},null,null,null,null,null,null,null,null,null,null,null,{"$f":"IF(F386=\"\",\"\",VLOOKUP(F386,Parámetros!F$11:$P$13,MAX(Parámetros!F$7:$P$7),FALSE))","v":""},{"$f":"IF(G386=\"\",\"\",VLOOKUP(G386,Parámetros!G$11:$P$13,MAX(Parámetros!G$7:$P$7),FALSE))","v":""},{"$f":"IF(H386=\"\",\"\",VLOOKUP(H386,Parámetros!H$11:$P$13,MAX(Parámetros!H$7:$P$7),FALSE))","v":""},{"$f":"IF(I386=\"\",\"\",VLOOKUP(I386,Parámetros!I$11:$P$13,MAX(Parámetros!I$7:$P$7),FALSE))","v":""},{"$f":"IF(J386=\"\",\"\",VLOOKUP(J386,Parámetros!J$11:$P$13,MAX(Parámetros!J$7:$P$7),FALSE))","v":""},{"$f":"IF(K386=\"\",\"\",VLOOKUP(K386,Parámetros!K$11:$P$13,MAX(Parámetros!K$7:$P$7),FALSE))","v":""},{"$f":"IF(L386=\"\",\"\",VLOOKUP(L386,Parámetros!L$11:$P$13,MAX(Parámetros!L$7:$P$7),FALSE))","v":""},{"$f":"IF(M386=\"\",\"\",VLOOKUP(M386,Parámetros!M$11:$P$13,MAX(Parámetros!M$7:$P$7),FALSE))","v":""},{"$f":"IF(N386=\"\",\"\",VLOOKUP(N386,Parámetros!N$11:$P$13,MAX(Parámetros!N$7:$P$7),FALSE))","v":""},{"$f":"IF(O386=\"\",\"\",VLOOKUP(O386,Parámetros!O$11:$P$13,MAX(Parámetros!O$7:$P$7),FALSE))","v":""},""]
[null,null,null,{"$f":"IF(E387=\"\",\"\",VLOOKUP(E387,'Buenas prácticas'!$G$8:$H$1007,2,FALSE))","v":""},null,null,null,null,null,null,null,null,null,null,null,{"$f":"IF(F387=\"\",\"\",VLOOKUP(F387,Parámetros!F$11:$P$13,MAX(Parámetros!F$7:$P$7),FALSE))","v":""},{"$f":"IF(G387=\"\",\"\",VLOOKUP(G387,Parámetros!G$11:$P$13,MAX(Parámetros!G$7:$P$7),FALSE))","v":""},{"$f":"IF(H387=\"\",\"\",VLOOKUP(H387,Parámetros!H$11:$P$13,MAX(Parámetros!H$7:$P$7),FALSE))","v":""},{"$f":"IF(I387=\"\",\"\",VLOOKUP(I387,Parámetros!I$11:$P$13,MAX(Parámetros!I$7:$P$7),FALSE))","v":""},{"$f":"IF(J387=\"\",\"\",VLOOKUP(J387,Parámetros!J$11:$P$13,MAX(Parámetros!J$7:$P$7),FALSE))","v":""},{"$f":"IF(K387=\"\",\"\",VLOOKUP(K387,Parámetros!K$11:$P$13,MAX(Parámetros!K$7:$P$7),FALSE))","v":""},{"$f":"IF(L387=\"\",\"\",VLOOKUP(L387,Parámetros!L$11:$P$13,MAX(Parámetros!L$7:$P$7),FALSE))","v":""},{"$f":"IF(M387=\"\",\"\",VLOOKUP(M387,Parámetros!M$11:$P$13,MAX(Parámetros!M$7:$P$7),FALSE))","v":""},{"$f":"IF(N387=\"\",\"\",VLOOKUP(N387,Parámetros!N$11:$P$13,MAX(Parámetros!N$7:$P$7),FALSE))","v":""},{"$f":"IF(O387=\"\",\"\",VLOOKUP(O387,Parámetros!O$11:$P$13,MAX(Parámetros!O$7:$P$7),FALSE))","v":""},""]
[null,null,null,{"$f":"IF(E388=\"\",\"\",VLOOKUP(E388,'Buenas prácticas'!$G$8:$H$1007,2,FALSE))","v":""},null,null,null,null,null,null,null,null,null,null,null,{"$f":"IF(F388=\"\",\"\",VLOOKUP(F388,Parámetros!F$11:$P$13,MAX(Parámetros!F$7:$P$7),FALSE))","v":""},{"$f":"IF(G388=\"\",\"\",VLOOKUP(G388,Parámetros!G$11:$P$13,MAX(Parámetros!G$7:$P$7),FALSE))","v":""},{"$f":"IF(H388=\"\",\"\",VLOOKUP(H388,Parámetros!H$11:$P$13,MAX(Parámetros!H$7:$P$7),FALSE))","v":""},{"$f":"IF(I388=\"\",\"\",VLOOKUP(I388,Parámetros!I$11:$P$13,MAX(Parámetros!I$7:$P$7),FALSE))","v":""},{"$f":"IF(J388=\"\",\"\",VLOOKUP(J388,Parámetros!J$11:$P$13,MAX(Parámetros!J$7:$P$7),FALSE))","v":""},{"$f":"IF(K388=\"\",\"\",VLOOKUP(K388,Parámetros!K$11:$P$13,MAX(Parámetros!K$7:$P$7),FALSE))","v":""},{"$f":"IF(L388=\"\",\"\",VLOOKUP(L388,Parámetros!L$11:$P$13,MAX(Parámetros!L$7:$P$7),FALSE))","v":""},{"$f":"IF(M388=\"\",\"\",VLOOKUP(M388,Parámetros!M$11:$P$13,MAX(Parámetros!M$7:$P$7),FALSE))","v":""},{"$f":"IF(N388=\"\",\"\",VLOOKUP(N388,Parámetros!N$11:$P$13,MAX(Parámetros!N$7:$P$7),FALSE))","v":""},{"$f":"IF(O388=\"\",\"\",VLOOKUP(O388,Parámetros!O$11:$P$13,MAX(Parámetros!O$7:$P$7),FALSE))","v":""},""]
[null,null,null,{"$f":"IF(E389=\"\",\"\",VLOOKUP(E389,'Buenas prácticas'!$G$8:$H$1007,2,FALSE))","v":""},null,null,null,null,null,null,null,null,null,null,null,{"$f":"IF(F389=\"\",\"\",VLOOKUP(F389,Parámetros!F$11:$P$13,MAX(Parámetros!F$7:$P$7),FALSE))","v":""},{"$f":"IF(G389=\"\",\"\",VLOOKUP(G389,Parámetros!G$11:$P$13,MAX(Parámetros!G$7:$P$7),FALSE))","v":""},{"$f":"IF(H389=\"\",\"\",VLOOKUP(H389,Parámetros!H$11:$P$13,MAX(Parámetros!H$7:$P$7),FALSE))","v":""},{"$f":"IF(I389=\"\",\"\",VLOOKUP(I389,Parámetros!I$11:$P$13,MAX(Parámetros!I$7:$P$7),FALSE))","v":""},{"$f":"IF(J389=\"\",\"\",VLOOKUP(J389,Parámetros!J$11:$P$13,MAX(Parámetros!J$7:$P$7),FALSE))","v":""},{"$f":"IF(K389=\"\",\"\",VLOOKUP(K389,Parámetros!K$11:$P$13,MAX(Parámetros!K$7:$P$7),FALSE))","v":""},{"$f":"IF(L389=\"\",\"\",VLOOKUP(L389,Parámetros!L$11:$P$13,MAX(Parámetros!L$7:$P$7),FALSE))","v":""},{"$f":"IF(M389=\"\",\"\",VLOOKUP(M389,Parámetros!M$11:$P$13,MAX(Parámetros!M$7:$P$7),FALSE))","v":""},{"$f":"IF(N389=\"\",\"\",VLOOKUP(N389,Parámetros!N$11:$P$13,MAX(Parámetros!N$7:$P$7),FALSE))","v":""},{"$f":"IF(O389=\"\",\"\",VLOOKUP(O389,Parámetros!O$11:$P$13,MAX(Parámetros!O$7:$P$7),FALSE))","v":""},""]
[null,null,null,{"$f":"IF(E390=\"\",\"\",VLOOKUP(E390,'Buenas prácticas'!$G$8:$H$1007,2,FALSE))","v":""},null,null,null,null,null,null,null,null,null,null,null,{"$f":"IF(F390=\"\",\"\",VLOOKUP(F390,Parámetros!F$11:$P$13,MAX(Parámetros!F$7:$P$7),FALSE))","v":""},{"$f":"IF(G390=\"\",\"\",VLOOKUP(G390,Parámetros!G$11:$P$13,MAX(Parámetros!G$7:$P$7),FALSE))","v":""},{"$f":"IF(H390=\"\",\"\",VLOOKUP(H390,Parámetros!H$11:$P$13,MAX(Parámetros!H$7:$P$7),FALSE))","v":""},{"$f":"IF(I390=\"\",\"\",VLOOKUP(I390,Parámetros!I$11:$P$13,MAX(Parámetros!I$7:$P$7),FALSE))","v":""},{"$f":"IF(J390=\"\",\"\",VLOOKUP(J390,Parámetros!J$11:$P$13,MAX(Parámetros!J$7:$P$7),FALSE))","v":""},{"$f":"IF(K390=\"\",\"\",VLOOKUP(K390,Parámetros!K$11:$P$13,MAX(Parámetros!K$7:$P$7),FALSE))","v":""},{"$f":"IF(L390=\"\",\"\",VLOOKUP(L390,Parámetros!L$11:$P$13,MAX(Parámetros!L$7:$P$7),FALSE))","v":""},{"$f":"IF(M390=\"\",\"\",VLOOKUP(M390,Parámetros!M$11:$P$13,MAX(Parámetros!M$7:$P$7),FALSE))","v":""},{"$f":"IF(N390=\"\",\"\",VLOOKUP(N390,Parámetros!N$11:$P$13,MAX(Parámetros!N$7:$P$7),FALSE))","v":""},{"$f":"IF(O390=\"\",\"\",VLOOKUP(O390,Parámetros!O$11:$P$13,MAX(Parámetros!O$7:$P$7),FALSE))","v":""},""]
[null,null,null,{"$f":"IF(E391=\"\",\"\",VLOOKUP(E391,'Buenas prácticas'!$G$8:$H$1007,2,FALSE))","v":""},null,null,null,null,null,null,null,null,null,null,null,{"$f":"IF(F391=\"\",\"\",VLOOKUP(F391,Parámetros!F$11:$P$13,MAX(Parámetros!F$7:$P$7),FALSE))","v":""},{"$f":"IF(G391=\"\",\"\",VLOOKUP(G391,Parámetros!G$11:$P$13,MAX(Parámetros!G$7:$P$7),FALSE))","v":""},{"$f":"IF(H391=\"\",\"\",VLOOKUP(H391,Parámetros!H$11:$P$13,MAX(Parámetros!H$7:$P$7),FALSE))","v":""},{"$f":"IF(I391=\"\",\"\",VLOOKUP(I391,Parámetros!I$11:$P$13,MAX(Parámetros!I$7:$P$7),FALSE))","v":""},{"$f":"IF(J391=\"\",\"\",VLOOKUP(J391,Parámetros!J$11:$P$13,MAX(Parámetros!J$7:$P$7),FALSE))","v":""},{"$f":"IF(K391=\"\",\"\",VLOOKUP(K391,Parámetros!K$11:$P$13,MAX(Parámetros!K$7:$P$7),FALSE))","v":""},{"$f":"IF(L391=\"\",\"\",VLOOKUP(L391,Parámetros!L$11:$P$13,MAX(Parámetros!L$7:$P$7),FALSE))","v":""},{"$f":"IF(M391=\"\",\"\",VLOOKUP(M391,Parámetros!M$11:$P$13,MAX(Parámetros!M$7:$P$7),FALSE))","v":""},{"$f":"IF(N391=\"\",\"\",VLOOKUP(N391,Parámetros!N$11:$P$13,MAX(Parámetros!N$7:$P$7),FALSE))","v":""},{"$f":"IF(O391=\"\",\"\",VLOOKUP(O391,Parámetros!O$11:$P$13,MAX(Parámetros!O$7:$P$7),FALSE))","v":""},""]
[null,null,null,{"$f":"IF(E392=\"\",\"\",VLOOKUP(E392,'Buenas prácticas'!$G$8:$H$1007,2,FALSE))","v":""},null,null,null,null,null,null,null,null,null,null,null,{"$f":"IF(F392=\"\",\"\",VLOOKUP(F392,Parámetros!F$11:$P$13,MAX(Parámetros!F$7:$P$7),FALSE))","v":""},{"$f":"IF(G392=\"\",\"\",VLOOKUP(G392,Parámetros!G$11:$P$13,MAX(Parámetros!G$7:$P$7),FALSE))","v":""},{"$f":"IF(H392=\"\",\"\",VLOOKUP(H392,Parámetros!H$11:$P$13,MAX(Parámetros!H$7:$P$7),FALSE))","v":""},{"$f":"IF(I392=\"\",\"\",VLOOKUP(I392,Parámetros!I$11:$P$13,MAX(Parámetros!I$7:$P$7),FALSE))","v":""},{"$f":"IF(J392=\"\",\"\",VLOOKUP(J392,Parámetros!J$11:$P$13,MAX(Parámetros!J$7:$P$7),FALSE))","v":""},{"$f":"IF(K392=\"\",\"\",VLOOKUP(K392,Parámetros!K$11:$P$13,MAX(Parámetros!K$7:$P$7),FALSE))","v":""},{"$f":"IF(L392=\"\",\"\",VLOOKUP(L392,Parámetros!L$11:$P$13,MAX(Parámetros!L$7:$P$7),FALSE))","v":""},{"$f":"IF(M392=\"\",\"\",VLOOKUP(M392,Parámetros!M$11:$P$13,MAX(Parámetros!M$7:$P$7),FALSE))","v":""},{"$f":"IF(N392=\"\",\"\",VLOOKUP(N392,Parámetros!N$11:$P$13,MAX(Parámetros!N$7:$P$7),FALSE))","v":""},{"$f":"IF(O392=\"\",\"\",VLOOKUP(O392,Parámetros!O$11:$P$13,MAX(Parámetros!O$7:$P$7),FALSE))","v":""},""]
[null,null,null,{"$f":"IF(E393=\"\",\"\",VLOOKUP(E393,'Buenas prácticas'!$G$8:$H$1007,2,FALSE))","v":""},null,null,null,null,null,null,null,null,null,null,null,{"$f":"IF(F393=\"\",\"\",VLOOKUP(F393,Parámetros!F$11:$P$13,MAX(Parámetros!F$7:$P$7),FALSE))","v":""},{"$f":"IF(G393=\"\",\"\",VLOOKUP(G393,Parámetros!G$11:$P$13,MAX(Parámetros!G$7:$P$7),FALSE))","v":""},{"$f":"IF(H393=\"\",\"\",VLOOKUP(H393,Parámetros!H$11:$P$13,MAX(Parámetros!H$7:$P$7),FALSE))","v":""},{"$f":"IF(I393=\"\",\"\",VLOOKUP(I393,Parámetros!I$11:$P$13,MAX(Parámetros!I$7:$P$7),FALSE))","v":""},{"$f":"IF(J393=\"\",\"\",VLOOKUP(J393,Parámetros!J$11:$P$13,MAX(Parámetros!J$7:$P$7),FALSE))","v":""},{"$f":"IF(K393=\"\",\"\",VLOOKUP(K393,Parámetros!K$11:$P$13,MAX(Parámetros!K$7:$P$7),FALSE))","v":""},{"$f":"IF(L393=\"\",\"\",VLOOKUP(L393,Parámetros!L$11:$P$13,MAX(Parámetros!L$7:$P$7),FALSE))","v":""},{"$f":"IF(M393=\"\",\"\",VLOOKUP(M393,Parámetros!M$11:$P$13,MAX(Parámetros!M$7:$P$7),FALSE))","v":""},{"$f":"IF(N393=\"\",\"\",VLOOKUP(N393,Parámetros!N$11:$P$13,MAX(Parámetros!N$7:$P$7),FALSE))","v":""},{"$f":"IF(O393=\"\",\"\",VLOOKUP(O393,Parámetros!O$11:$P$13,MAX(Parámetros!O$7:$P$7),FALSE))","v":""},{"$f":"IF(SUMPRODUCT($P393:$Y393,$P$6:$Y$6)=0,\"\",SUMPRODUCT($P393:$Y393,$P$6:$Y$6)/3)","v":""}]
[null,null,null,{"$f":"IF(E394=\"\",\"\",VLOOKUP(E394,'Buenas prácticas'!$G$8:$H$1007,2,FALSE))","v":""},null,null,null,null,null,null,null,null,null,null,null,{"$f":"IF(F394=\"\",\"\",VLOOKUP(F394,Parámetros!F$11:$P$13,MAX(Parámetros!F$7:$P$7),FALSE))","v":""},{"$f":"IF(G394=\"\",\"\",VLOOKUP(G394,Parámetros!G$11:$P$13,MAX(Parámetros!G$7:$P$7),FALSE))","v":""},{"$f":"IF(H394=\"\",\"\",VLOOKUP(H394,Parámetros!H$11:$P$13,MAX(Parámetros!H$7:$P$7),FALSE))","v":""},{"$f":"IF(I394=\"\",\"\",VLOOKUP(I394,Parámetros!I$11:$P$13,MAX(Parámetros!I$7:$P$7),FALSE))","v":""},{"$f":"IF(J394=\"\",\"\",VLOOKUP(J394,Parámetros!J$11:$P$13,MAX(Parámetros!J$7:$P$7),FALSE))","v":""},{"$f":"IF(K394=\"\",\"\",VLOOKUP(K394,Parámetros!K$11:$P$13,MAX(Parámetros!K$7:$P$7),FALSE))","v":""},{"$f":"IF(L394=\"\",\"\",VLOOKUP(L394,Parámetros!L$11:$P$13,MAX(Parámetros!L$7:$P$7),FALSE))","v":""},{"$f":"IF(M394=\"\",\"\",VLOOKUP(M394,Parámetros!M$11:$P$13,MAX(Parámetros!M$7:$P$7),FALSE))","v":""},{"$f":"IF(N394=\"\",\"\",VLOOKUP(N394,Parámetros!N$11:$P$13,MAX(Parámetros!N$7:$P$7),FALSE))","v":""},{"$f":"IF(O394=\"\",\"\",VLOOKUP(O394,Parámetros!O$11:$P$13,MAX(Parámetros!O$7:$P$7),FALSE))","v":""},""]
[null,null,null,{"$f":"IF(E395=\"\",\"\",VLOOKUP(E395,'Buenas prácticas'!$G$8:$H$1007,2,FALSE))","v":""},null,null,null,null,null,null,null,null,null,null,null,{"$f":"IF(F395=\"\",\"\",VLOOKUP(F395,Parámetros!F$11:$P$13,MAX(Parámetros!F$7:$P$7),FALSE))","v":""},{"$f":"IF(G395=\"\",\"\",VLOOKUP(G395,Parámetros!G$11:$P$13,MAX(Parámetros!G$7:$P$7),FALSE))","v":""},{"$f":"IF(H395=\"\",\"\",VLOOKUP(H395,Parámetros!H$11:$P$13,MAX(Parámetros!H$7:$P$7),FALSE))","v":""},{"$f":"IF(I395=\"\",\"\",VLOOKUP(I395,Parámetros!I$11:$P$13,MAX(Parámetros!I$7:$P$7),FALSE))","v":""},{"$f":"IF(J395=\"\",\"\",VLOOKUP(J395,Parámetros!J$11:$P$13,MAX(Parámetros!J$7:$P$7),FALSE))","v":""},{"$f":"IF(K395=\"\",\"\",VLOOKUP(K395,Parámetros!K$11:$P$13,MAX(Parámetros!K$7:$P$7),FALSE))","v":""},{"$f":"IF(L395=\"\",\"\",VLOOKUP(L395,Parámetros!L$11:$P$13,MAX(Parámetros!L$7:$P$7),FALSE))","v":""},{"$f":"IF(M395=\"\",\"\",VLOOKUP(M395,Parámetros!M$11:$P$13,MAX(Parámetros!M$7:$P$7),FALSE))","v":""},{"$f":"IF(N395=\"\",\"\",VLOOKUP(N395,Parámetros!N$11:$P$13,MAX(Parámetros!N$7:$P$7),FALSE))","v":""},{"$f":"IF(O395=\"\",\"\",VLOOKUP(O395,Parámetros!O$11:$P$13,MAX(Parámetros!O$7:$P$7),FALSE))","v":""},""]
[null,null,null,{"$f":"IF(E396=\"\",\"\",VLOOKUP(E396,'Buenas prácticas'!$G$8:$H$1007,2,FALSE))","v":""},null,null,null,null,null,null,null,null,null,null,null,{"$f":"IF(F396=\"\",\"\",VLOOKUP(F396,Parámetros!F$11:$P$13,MAX(Parámetros!F$7:$P$7),FALSE))","v":""},{"$f":"IF(G396=\"\",\"\",VLOOKUP(G396,Parámetros!G$11:$P$13,MAX(Parámetros!G$7:$P$7),FALSE))","v":""},{"$f":"IF(H396=\"\",\"\",VLOOKUP(H396,Parámetros!H$11:$P$13,MAX(Parámetros!H$7:$P$7),FALSE))","v":""},{"$f":"IF(I396=\"\",\"\",VLOOKUP(I396,Parámetros!I$11:$P$13,MAX(Parámetros!I$7:$P$7),FALSE))","v":""},{"$f":"IF(J396=\"\",\"\",VLOOKUP(J396,Parámetros!J$11:$P$13,MAX(Parámetros!J$7:$P$7),FALSE))","v":""},{"$f":"IF(K396=\"\",\"\",VLOOKUP(K396,Parámetros!K$11:$P$13,MAX(Parámetros!K$7:$P$7),FALSE))","v":""},{"$f":"IF(L396=\"\",\"\",VLOOKUP(L396,Parámetros!L$11:$P$13,MAX(Parámetros!L$7:$P$7),FALSE))","v":""},{"$f":"IF(M396=\"\",\"\",VLOOKUP(M396,Parámetros!M$11:$P$13,MAX(Parámetros!M$7:$P$7),FALSE))","v":""},{"$f":"IF(N396=\"\",\"\",VLOOKUP(N396,Parámetros!N$11:$P$13,MAX(Parámetros!N$7:$P$7),FALSE))","v":""},{"$f":"IF(O396=\"\",\"\",VLOOKUP(O396,Parámetros!O$11:$P$13,MAX(Parámetros!O$7:$P$7),FALSE))","v":""},""]
[null,null,null,{"$f":"IF(E397=\"\",\"\",VLOOKUP(E397,'Buenas prácticas'!$G$8:$H$1007,2,FALSE))","v":""},null,null,null,null,null,null,null,null,null,null,null,{"$f":"IF(F397=\"\",\"\",VLOOKUP(F397,Parámetros!F$11:$P$13,MAX(Parámetros!F$7:$P$7),FALSE))","v":""},{"$f":"IF(G397=\"\",\"\",VLOOKUP(G397,Parámetros!G$11:$P$13,MAX(Parámetros!G$7:$P$7),FALSE))","v":""},{"$f":"IF(H397=\"\",\"\",VLOOKUP(H397,Parámetros!H$11:$P$13,MAX(Parámetros!H$7:$P$7),FALSE))","v":""},{"$f":"IF(I397=\"\",\"\",VLOOKUP(I397,Parámetros!I$11:$P$13,MAX(Parámetros!I$7:$P$7),FALSE))","v":""},{"$f":"IF(J397=\"\",\"\",VLOOKUP(J397,Parámetros!J$11:$P$13,MAX(Parámetros!J$7:$P$7),FALSE))","v":""},{"$f":"IF(K397=\"\",\"\",VLOOKUP(K397,Parámetros!K$11:$P$13,MAX(Parámetros!K$7:$P$7),FALSE))","v":""},{"$f":"IF(L397=\"\",\"\",VLOOKUP(L397,Parámetros!L$11:$P$13,MAX(Parámetros!L$7:$P$7),FALSE))","v":""},{"$f":"IF(M397=\"\",\"\",VLOOKUP(M397,Parámetros!M$11:$P$13,MAX(Parámetros!M$7:$P$7),FALSE))","v":""},{"$f":"IF(N397=\"\",\"\",VLOOKUP(N397,Parámetros!N$11:$P$13,MAX(Parámetros!N$7:$P$7),FALSE))","v":""},{"$f":"IF(O397=\"\",\"\",VLOOKUP(O397,Parámetros!O$11:$P$13,MAX(Parámetros!O$7:$P$7),FALSE))","v":""},""]
[null,null,null,{"$f":"IF(E398=\"\",\"\",VLOOKUP(E398,'Buenas prácticas'!$G$8:$H$1007,2,FALSE))","v":""},null,null,null,null,null,null,null,null,null,null,null,{"$f":"IF(F398=\"\",\"\",VLOOKUP(F398,Parámetros!F$11:$P$13,MAX(Parámetros!F$7:$P$7),FALSE))","v":""},{"$f":"IF(G398=\"\",\"\",VLOOKUP(G398,Parámetros!G$11:$P$13,MAX(Parámetros!G$7:$P$7),FALSE))","v":""},{"$f":"IF(H398=\"\",\"\",VLOOKUP(H398,Parámetros!H$11:$P$13,MAX(Parámetros!H$7:$P$7),FALSE))","v":""},{"$f":"IF(I398=\"\",\"\",VLOOKUP(I398,Parámetros!I$11:$P$13,MAX(Parámetros!I$7:$P$7),FALSE))","v":""},{"$f":"IF(J398=\"\",\"\",VLOOKUP(J398,Parámetros!J$11:$P$13,MAX(Parámetros!J$7:$P$7),FALSE))","v":""},{"$f":"IF(K398=\"\",\"\",VLOOKUP(K398,Parámetros!K$11:$P$13,MAX(Parámetros!K$7:$P$7),FALSE))","v":""},{"$f":"IF(L398=\"\",\"\",VLOOKUP(L398,Parámetros!L$11:$P$13,MAX(Parámetros!L$7:$P$7),FALSE))","v":""},{"$f":"IF(M398=\"\",\"\",VLOOKUP(M398,Parámetros!M$11:$P$13,MAX(Parámetros!M$7:$P$7),FALSE))","v":""},{"$f":"IF(N398=\"\",\"\",VLOOKUP(N398,Parámetros!N$11:$P$13,MAX(Parámetros!N$7:$P$7),FALSE))","v":""},{"$f":"IF(O398=\"\",\"\",VLOOKUP(O398,Parámetros!O$11:$P$13,MAX(Parámetros!O$7:$P$7),FALSE))","v":""},""]
[null,null,null,{"$f":"IF(E399=\"\",\"\",VLOOKUP(E399,'Buenas prácticas'!$G$8:$H$1007,2,FALSE))","v":""},null,null,null,null,null,null,null,null,null,null,null,{"$f":"IF(F399=\"\",\"\",VLOOKUP(F399,Parámetros!F$11:$P$13,MAX(Parámetros!F$7:$P$7),FALSE))","v":""},{"$f":"IF(G399=\"\",\"\",VLOOKUP(G399,Parámetros!G$11:$P$13,MAX(Parámetros!G$7:$P$7),FALSE))","v":""},{"$f":"IF(H399=\"\",\"\",VLOOKUP(H399,Parámetros!H$11:$P$13,MAX(Parámetros!H$7:$P$7),FALSE))","v":""},{"$f":"IF(I399=\"\",\"\",VLOOKUP(I399,Parámetros!I$11:$P$13,MAX(Parámetros!I$7:$P$7),FALSE))","v":""},{"$f":"IF(J399=\"\",\"\",VLOOKUP(J399,Parámetros!J$11:$P$13,MAX(Parámetros!J$7:$P$7),FALSE))","v":""},{"$f":"IF(K399=\"\",\"\",VLOOKUP(K399,Parámetros!K$11:$P$13,MAX(Parámetros!K$7:$P$7),FALSE))","v":""},{"$f":"IF(L399=\"\",\"\",VLOOKUP(L399,Parámetros!L$11:$P$13,MAX(Parámetros!L$7:$P$7),FALSE))","v":""},{"$f":"IF(M399=\"\",\"\",VLOOKUP(M399,Parámetros!M$11:$P$13,MAX(Parámetros!M$7:$P$7),FALSE))","v":""},{"$f":"IF(N399=\"\",\"\",VLOOKUP(N399,Parámetros!N$11:$P$13,MAX(Parámetros!N$7:$P$7),FALSE))","v":""},{"$f":"IF(O399=\"\",\"\",VLOOKUP(O399,Parámetros!O$11:$P$13,MAX(Parámetros!O$7:$P$7),FALSE))","v":""},""]
[null,null,null,{"$f":"IF(E400=\"\",\"\",VLOOKUP(E400,'Buenas prácticas'!$G$8:$H$1007,2,FALSE))","v":""},null,null,null,null,null,null,null,null,null,null,null,{"$f":"IF(F400=\"\",\"\",VLOOKUP(F400,Parámetros!F$11:$P$13,MAX(Parámetros!F$7:$P$7),FALSE))","v":""},{"$f":"IF(G400=\"\",\"\",VLOOKUP(G400,Parámetros!G$11:$P$13,MAX(Parámetros!G$7:$P$7),FALSE))","v":""},{"$f":"IF(H400=\"\",\"\",VLOOKUP(H400,Parámetros!H$11:$P$13,MAX(Parámetros!H$7:$P$7),FALSE))","v":""},{"$f":"IF(I400=\"\",\"\",VLOOKUP(I400,Parámetros!I$11:$P$13,MAX(Parámetros!I$7:$P$7),FALSE))","v":""},{"$f":"IF(J400=\"\",\"\",VLOOKUP(J400,Parámetros!J$11:$P$13,MAX(Parámetros!J$7:$P$7),FALSE))","v":""},{"$f":"IF(K400=\"\",\"\",VLOOKUP(K400,Parámetros!K$11:$P$13,MAX(Parámetros!K$7:$P$7),FALSE))","v":""},{"$f":"IF(L400=\"\",\"\",VLOOKUP(L400,Parámetros!L$11:$P$13,MAX(Parámetros!L$7:$P$7),FALSE))","v":""},{"$f":"IF(M400=\"\",\"\",VLOOKUP(M400,Parámetros!M$11:$P$13,MAX(Parámetros!M$7:$P$7),FALSE))","v":""},{"$f":"IF(N400=\"\",\"\",VLOOKUP(N400,Parámetros!N$11:$P$13,MAX(Parámetros!N$7:$P$7),FALSE))","v":""},{"$f":"IF(O400=\"\",\"\",VLOOKUP(O400,Parámetros!O$11:$P$13,MAX(Parámetros!O$7:$P$7),FALSE))","v":""},""]
[null,null,null,{"$f":"IF(E401=\"\",\"\",VLOOKUP(E401,'Buenas prácticas'!$G$8:$H$1007,2,FALSE))","v":""},null,null,null,null,null,null,null,null,null,null,null,{"$f":"IF(F401=\"\",\"\",VLOOKUP(F401,Parámetros!F$11:$P$13,MAX(Parámetros!F$7:$P$7),FALSE))","v":""},{"$f":"IF(G401=\"\",\"\",VLOOKUP(G401,Parámetros!G$11:$P$13,MAX(Parámetros!G$7:$P$7),FALSE))","v":""},{"$f":"IF(H401=\"\",\"\",VLOOKUP(H401,Parámetros!H$11:$P$13,MAX(Parámetros!H$7:$P$7),FALSE))","v":""},{"$f":"IF(I401=\"\",\"\",VLOOKUP(I401,Parámetros!I$11:$P$13,MAX(Parámetros!I$7:$P$7),FALSE))","v":""},{"$f":"IF(J401=\"\",\"\",VLOOKUP(J401,Parámetros!J$11:$P$13,MAX(Parámetros!J$7:$P$7),FALSE))","v":""},{"$f":"IF(K401=\"\",\"\",VLOOKUP(K401,Parámetros!K$11:$P$13,MAX(Parámetros!K$7:$P$7),FALSE))","v":""},{"$f":"IF(L401=\"\",\"\",VLOOKUP(L401,Parámetros!L$11:$P$13,MAX(Parámetros!L$7:$P$7),FALSE))","v":""},{"$f":"IF(M401=\"\",\"\",VLOOKUP(M401,Parámetros!M$11:$P$13,MAX(Parámetros!M$7:$P$7),FALSE))","v":""},{"$f":"IF(N401=\"\",\"\",VLOOKUP(N401,Parámetros!N$11:$P$13,MAX(Parámetros!N$7:$P$7),FALSE))","v":""},{"$f":"IF(O401=\"\",\"\",VLOOKUP(O401,Parámetros!O$11:$P$13,MAX(Parámetros!O$7:$P$7),FALSE))","v":""},""]
[null,null,null,{"$f":"IF(E402=\"\",\"\",VLOOKUP(E402,'Buenas prácticas'!$G$8:$H$1007,2,FALSE))","v":""},null,null,null,null,null,null,null,null,null,null,null,{"$f":"IF(F402=\"\",\"\",VLOOKUP(F402,Parámetros!F$11:$P$13,MAX(Parámetros!F$7:$P$7),FALSE))","v":""},{"$f":"IF(G402=\"\",\"\",VLOOKUP(G402,Parámetros!G$11:$P$13,MAX(Parámetros!G$7:$P$7),FALSE))","v":""},{"$f":"IF(H402=\"\",\"\",VLOOKUP(H402,Parámetros!H$11:$P$13,MAX(Parámetros!H$7:$P$7),FALSE))","v":""},{"$f":"IF(I402=\"\",\"\",VLOOKUP(I402,Parámetros!I$11:$P$13,MAX(Parámetros!I$7:$P$7),FALSE))","v":""},{"$f":"IF(J402=\"\",\"\",VLOOKUP(J402,Parámetros!J$11:$P$13,MAX(Parámetros!J$7:$P$7),FALSE))","v":""},{"$f":"IF(K402=\"\",\"\",VLOOKUP(K402,Parámetros!K$11:$P$13,MAX(Parámetros!K$7:$P$7),FALSE))","v":""},{"$f":"IF(L402=\"\",\"\",VLOOKUP(L402,Parámetros!L$11:$P$13,MAX(Parámetros!L$7:$P$7),FALSE))","v":""},{"$f":"IF(M402=\"\",\"\",VLOOKUP(M402,Parámetros!M$11:$P$13,MAX(Parámetros!M$7:$P$7),FALSE))","v":""},{"$f":"IF(N402=\"\",\"\",VLOOKUP(N402,Parámetros!N$11:$P$13,MAX(Parámetros!N$7:$P$7),FALSE))","v":""},{"$f":"IF(O402=\"\",\"\",VLOOKUP(O402,Parámetros!O$11:$P$13,MAX(Parámetros!O$7:$P$7),FALSE))","v":""},""]
[null,null,null,{"$f":"IF(E403=\"\",\"\",VLOOKUP(E403,'Buenas prácticas'!$G$8:$H$1007,2,FALSE))","v":""},null,null,null,null,null,null,null,null,null,null,null,{"$f":"IF(F403=\"\",\"\",VLOOKUP(F403,Parámetros!F$11:$P$13,MAX(Parámetros!F$7:$P$7),FALSE))","v":""},{"$f":"IF(G403=\"\",\"\",VLOOKUP(G403,Parámetros!G$11:$P$13,MAX(Parámetros!G$7:$P$7),FALSE))","v":""},{"$f":"IF(H403=\"\",\"\",VLOOKUP(H403,Parámetros!H$11:$P$13,MAX(Parámetros!H$7:$P$7),FALSE))","v":""},{"$f":"IF(I403=\"\",\"\",VLOOKUP(I403,Parámetros!I$11:$P$13,MAX(Parámetros!I$7:$P$7),FALSE))","v":""},{"$f":"IF(J403=\"\",\"\",VLOOKUP(J403,Parámetros!J$11:$P$13,MAX(Parámetros!J$7:$P$7),FALSE))","v":""},{"$f":"IF(K403=\"\",\"\",VLOOKUP(K403,Parámetros!K$11:$P$13,MAX(Parámetros!K$7:$P$7),FALSE))","v":""},{"$f":"IF(L403=\"\",\"\",VLOOKUP(L403,Parámetros!L$11:$P$13,MAX(Parámetros!L$7:$P$7),FALSE))","v":""},{"$f":"IF(M403=\"\",\"\",VLOOKUP(M403,Parámetros!M$11:$P$13,MAX(Parámetros!M$7:$P$7),FALSE))","v":""},{"$f":"IF(N403=\"\",\"\",VLOOKUP(N403,Parámetros!N$11:$P$13,MAX(Parámetros!N$7:$P$7),FALSE))","v":""},{"$f":"IF(O403=\"\",\"\",VLOOKUP(O403,Parámetros!O$11:$P$13,MAX(Parámetros!O$7:$P$7),FALSE))","v":""},""]
[null,null,null,{"$f":"IF(E404=\"\",\"\",VLOOKUP(E404,'Buenas prácticas'!$G$8:$H$1007,2,FALSE))","v":""},null,null,null,null,null,null,null,null,null,null,null,{"$f":"IF(F404=\"\",\"\",VLOOKUP(F404,Parámetros!F$11:$P$13,MAX(Parámetros!F$7:$P$7),FALSE))","v":""},{"$f":"IF(G404=\"\",\"\",VLOOKUP(G404,Parámetros!G$11:$P$13,MAX(Parámetros!G$7:$P$7),FALSE))","v":""},{"$f":"IF(H404=\"\",\"\",VLOOKUP(H404,Parámetros!H$11:$P$13,MAX(Parámetros!H$7:$P$7),FALSE))","v":""},{"$f":"IF(I404=\"\",\"\",VLOOKUP(I404,Parámetros!I$11:$P$13,MAX(Parámetros!I$7:$P$7),FALSE))","v":""},{"$f":"IF(J404=\"\",\"\",VLOOKUP(J404,Parámetros!J$11:$P$13,MAX(Parámetros!J$7:$P$7),FALSE))","v":""},{"$f":"IF(K404=\"\",\"\",VLOOKUP(K404,Parámetros!K$11:$P$13,MAX(Parámetros!K$7:$P$7),FALSE))","v":""},{"$f":"IF(L404=\"\",\"\",VLOOKUP(L404,Parámetros!L$11:$P$13,MAX(Parámetros!L$7:$P$7),FALSE))","v":""},{"$f":"IF(M404=\"\",\"\",VLOOKUP(M404,Parámetros!M$11:$P$13,MAX(Parámetros!M$7:$P$7),FALSE))","v":""},{"$f":"IF(N404=\"\",\"\",VLOOKUP(N404,Parámetros!N$11:$P$13,MAX(Parámetros!N$7:$P$7),FALSE))","v":""},{"$f":"IF(O404=\"\",\"\",VLOOKUP(O404,Parámetros!O$11:$P$13,MAX(Parámetros!O$7:$P$7),FALSE))","v":""},""]
[null,null,null,{"$f":"IF(E405=\"\",\"\",VLOOKUP(E405,'Buenas prácticas'!$G$8:$H$1007,2,FALSE))","v":""},null,null,null,null,null,null,null,null,null,null,null,{"$f":"IF(F405=\"\",\"\",VLOOKUP(F405,Parámetros!F$11:$P$13,MAX(Parámetros!F$7:$P$7),FALSE))","v":""},{"$f":"IF(G405=\"\",\"\",VLOOKUP(G405,Parámetros!G$11:$P$13,MAX(Parámetros!G$7:$P$7),FALSE))","v":""},{"$f":"IF(H405=\"\",\"\",VLOOKUP(H405,Parámetros!H$11:$P$13,MAX(Parámetros!H$7:$P$7),FALSE))","v":""},{"$f":"IF(I405=\"\",\"\",VLOOKUP(I405,Parámetros!I$11:$P$13,MAX(Parámetros!I$7:$P$7),FALSE))","v":""},{"$f":"IF(J405=\"\",\"\",VLOOKUP(J405,Parámetros!J$11:$P$13,MAX(Parámetros!J$7:$P$7),FALSE))","v":""},{"$f":"IF(K405=\"\",\"\",VLOOKUP(K405,Parámetros!K$11:$P$13,MAX(Parámetros!K$7:$P$7),FALSE))","v":""},{"$f":"IF(L405=\"\",\"\",VLOOKUP(L405,Parámetros!L$11:$P$13,MAX(Parámetros!L$7:$P$7),FALSE))","v":""},{"$f":"IF(M405=\"\",\"\",VLOOKUP(M405,Parámetros!M$11:$P$13,MAX(Parámetros!M$7:$P$7),FALSE))","v":""},{"$f":"IF(N405=\"\",\"\",VLOOKUP(N405,Parámetros!N$11:$P$13,MAX(Parámetros!N$7:$P$7),FALSE))","v":""},{"$f":"IF(O405=\"\",\"\",VLOOKUP(O405,Parámetros!O$11:$P$13,MAX(Parámetros!O$7:$P$7),FALSE))","v":""},""]
[null,null,null,{"$f":"IF(E406=\"\",\"\",VLOOKUP(E406,'Buenas prácticas'!$G$8:$H$1007,2,FALSE))","v":""},null,null,null,null,null,null,null,null,null,null,null,{"$f":"IF(F406=\"\",\"\",VLOOKUP(F406,Parámetros!F$11:$P$13,MAX(Parámetros!F$7:$P$7),FALSE))","v":""},{"$f":"IF(G406=\"\",\"\",VLOOKUP(G406,Parámetros!G$11:$P$13,MAX(Parámetros!G$7:$P$7),FALSE))","v":""},{"$f":"IF(H406=\"\",\"\",VLOOKUP(H406,Parámetros!H$11:$P$13,MAX(Parámetros!H$7:$P$7),FALSE))","v":""},{"$f":"IF(I406=\"\",\"\",VLOOKUP(I406,Parámetros!I$11:$P$13,MAX(Parámetros!I$7:$P$7),FALSE))","v":""},{"$f":"IF(J406=\"\",\"\",VLOOKUP(J406,Parámetros!J$11:$P$13,MAX(Parámetros!J$7:$P$7),FALSE))","v":""},{"$f":"IF(K406=\"\",\"\",VLOOKUP(K406,Parámetros!K$11:$P$13,MAX(Parámetros!K$7:$P$7),FALSE))","v":""},{"$f":"IF(L406=\"\",\"\",VLOOKUP(L406,Parámetros!L$11:$P$13,MAX(Parámetros!L$7:$P$7),FALSE))","v":""},{"$f":"IF(M406=\"\",\"\",VLOOKUP(M406,Parámetros!M$11:$P$13,MAX(Parámetros!M$7:$P$7),FALSE))","v":""},{"$f":"IF(N406=\"\",\"\",VLOOKUP(N406,Parámetros!N$11:$P$13,MAX(Parámetros!N$7:$P$7),FALSE))","v":""},{"$f":"IF(O406=\"\",\"\",VLOOKUP(O406,Parámetros!O$11:$P$13,MAX(Parámetros!O$7:$P$7),FALSE))","v":""},""]
[null,null,null,{"$f":"IF(E407=\"\",\"\",VLOOKUP(E407,'Buenas prácticas'!$G$8:$H$1007,2,FALSE))","v":""},null,null,null,null,null,null,null,null,null,null,null,{"$f":"IF(F407=\"\",\"\",VLOOKUP(F407,Parámetros!F$11:$P$13,MAX(Parámetros!F$7:$P$7),FALSE))","v":""},{"$f":"IF(G407=\"\",\"\",VLOOKUP(G407,Parámetros!G$11:$P$13,MAX(Parámetros!G$7:$P$7),FALSE))","v":""},{"$f":"IF(H407=\"\",\"\",VLOOKUP(H407,Parámetros!H$11:$P$13,MAX(Parámetros!H$7:$P$7),FALSE))","v":""},{"$f":"IF(I407=\"\",\"\",VLOOKUP(I407,Parámetros!I$11:$P$13,MAX(Parámetros!I$7:$P$7),FALSE))","v":""},{"$f":"IF(J407=\"\",\"\",VLOOKUP(J407,Parámetros!J$11:$P$13,MAX(Parámetros!J$7:$P$7),FALSE))","v":""},{"$f":"IF(K407=\"\",\"\",VLOOKUP(K407,Parámetros!K$11:$P$13,MAX(Parámetros!K$7:$P$7),FALSE))","v":""},{"$f":"IF(L407=\"\",\"\",VLOOKUP(L407,Parámetros!L$11:$P$13,MAX(Parámetros!L$7:$P$7),FALSE))","v":""},{"$f":"IF(M407=\"\",\"\",VLOOKUP(M407,Parámetros!M$11:$P$13,MAX(Parámetros!M$7:$P$7),FALSE))","v":""},{"$f":"IF(N407=\"\",\"\",VLOOKUP(N407,Parámetros!N$11:$P$13,MAX(Parámetros!N$7:$P$7),FALSE))","v":""},{"$f":"IF(O407=\"\",\"\",VLOOKUP(O407,Parámetros!O$11:$P$13,MAX(Parámetros!O$7:$P$7),FALSE))","v":""},""]
[null,null,null,{"$f":"IF(E408=\"\",\"\",VLOOKUP(E408,'Buenas prácticas'!$G$8:$H$1007,2,FALSE))","v":""},null,null,null,null,null,null,null,null,null,null,null,{"$f":"IF(F408=\"\",\"\",VLOOKUP(F408,Parámetros!F$11:$P$13,MAX(Parámetros!F$7:$P$7),FALSE))","v":""},{"$f":"IF(G408=\"\",\"\",VLOOKUP(G408,Parámetros!G$11:$P$13,MAX(Parámetros!G$7:$P$7),FALSE))","v":""},{"$f":"IF(H408=\"\",\"\",VLOOKUP(H408,Parámetros!H$11:$P$13,MAX(Parámetros!H$7:$P$7),FALSE))","v":""},{"$f":"IF(I408=\"\",\"\",VLOOKUP(I408,Parámetros!I$11:$P$13,MAX(Parámetros!I$7:$P$7),FALSE))","v":""},{"$f":"IF(J408=\"\",\"\",VLOOKUP(J408,Parámetros!J$11:$P$13,MAX(Parámetros!J$7:$P$7),FALSE))","v":""},{"$f":"IF(K408=\"\",\"\",VLOOKUP(K408,Parámetros!K$11:$P$13,MAX(Parámetros!K$7:$P$7),FALSE))","v":""},{"$f":"IF(L408=\"\",\"\",VLOOKUP(L408,Parámetros!L$11:$P$13,MAX(Parámetros!L$7:$P$7),FALSE))","v":""},{"$f":"IF(M408=\"\",\"\",VLOOKUP(M408,Parámetros!M$11:$P$13,MAX(Parámetros!M$7:$P$7),FALSE))","v":""},{"$f":"IF(N408=\"\",\"\",VLOOKUP(N408,Parámetros!N$11:$P$13,MAX(Parámetros!N$7:$P$7),FALSE))","v":""},{"$f":"IF(O408=\"\",\"\",VLOOKUP(O408,Parámetros!O$11:$P$13,MAX(Parámetros!O$7:$P$7),FALSE))","v":""},""]
[null,null,null,{"$f":"IF(E409=\"\",\"\",VLOOKUP(E409,'Buenas prácticas'!$G$8:$H$1007,2,FALSE))","v":""},null,null,null,null,null,null,null,null,null,null,null,{"$f":"IF(F409=\"\",\"\",VLOOKUP(F409,Parámetros!F$11:$P$13,MAX(Parámetros!F$7:$P$7),FALSE))","v":""},{"$f":"IF(G409=\"\",\"\",VLOOKUP(G409,Parámetros!G$11:$P$13,MAX(Parámetros!G$7:$P$7),FALSE))","v":""},{"$f":"IF(H409=\"\",\"\",VLOOKUP(H409,Parámetros!H$11:$P$13,MAX(Parámetros!H$7:$P$7),FALSE))","v":""},{"$f":"IF(I409=\"\",\"\",VLOOKUP(I409,Parámetros!I$11:$P$13,MAX(Parámetros!I$7:$P$7),FALSE))","v":""},{"$f":"IF(J409=\"\",\"\",VLOOKUP(J409,Parámetros!J$11:$P$13,MAX(Parámetros!J$7:$P$7),FALSE))","v":""},{"$f":"IF(K409=\"\",\"\",VLOOKUP(K409,Parámetros!K$11:$P$13,MAX(Parámetros!K$7:$P$7),FALSE))","v":""},{"$f":"IF(L409=\"\",\"\",VLOOKUP(L409,Parámetros!L$11:$P$13,MAX(Parámetros!L$7:$P$7),FALSE))","v":""},{"$f":"IF(M409=\"\",\"\",VLOOKUP(M409,Parámetros!M$11:$P$13,MAX(Parámetros!M$7:$P$7),FALSE))","v":""},{"$f":"IF(N409=\"\",\"\",VLOOKUP(N409,Parámetros!N$11:$P$13,MAX(Parámetros!N$7:$P$7),FALSE))","v":""},{"$f":"IF(O409=\"\",\"\",VLOOKUP(O409,Parámetros!O$11:$P$13,MAX(Parámetros!O$7:$P$7),FALSE))","v":""},""]
[null,null,null,{"$f":"IF(E410=\"\",\"\",VLOOKUP(E410,'Buenas prácticas'!$G$8:$H$1007,2,FALSE))","v":""},null,null,null,null,null,null,null,null,null,null,null,{"$f":"IF(F410=\"\",\"\",VLOOKUP(F410,Parámetros!F$11:$P$13,MAX(Parámetros!F$7:$P$7),FALSE))","v":""},{"$f":"IF(G410=\"\",\"\",VLOOKUP(G410,Parámetros!G$11:$P$13,MAX(Parámetros!G$7:$P$7),FALSE))","v":""},{"$f":"IF(H410=\"\",\"\",VLOOKUP(H410,Parámetros!H$11:$P$13,MAX(Parámetros!H$7:$P$7),FALSE))","v":""},{"$f":"IF(I410=\"\",\"\",VLOOKUP(I410,Parámetros!I$11:$P$13,MAX(Parámetros!I$7:$P$7),FALSE))","v":""},{"$f":"IF(J410=\"\",\"\",VLOOKUP(J410,Parámetros!J$11:$P$13,MAX(Parámetros!J$7:$P$7),FALSE))","v":""},{"$f":"IF(K410=\"\",\"\",VLOOKUP(K410,Parámetros!K$11:$P$13,MAX(Parámetros!K$7:$P$7),FALSE))","v":""},{"$f":"IF(L410=\"\",\"\",VLOOKUP(L410,Parámetros!L$11:$P$13,MAX(Parámetros!L$7:$P$7),FALSE))","v":""},{"$f":"IF(M410=\"\",\"\",VLOOKUP(M410,Parámetros!M$11:$P$13,MAX(Parámetros!M$7:$P$7),FALSE))","v":""},{"$f":"IF(N410=\"\",\"\",VLOOKUP(N410,Parámetros!N$11:$P$13,MAX(Parámetros!N$7:$P$7),FALSE))","v":""},{"$f":"IF(O410=\"\",\"\",VLOOKUP(O410,Parámetros!O$11:$P$13,MAX(Parámetros!O$7:$P$7),FALSE))","v":""},""]
[null,null,null,{"$f":"IF(E411=\"\",\"\",VLOOKUP(E411,'Buenas prácticas'!$G$8:$H$1007,2,FALSE))","v":""},null,null,null,null,null,null,null,null,null,null,null,{"$f":"IF(F411=\"\",\"\",VLOOKUP(F411,Parámetros!F$11:$P$13,MAX(Parámetros!F$7:$P$7),FALSE))","v":""},{"$f":"IF(G411=\"\",\"\",VLOOKUP(G411,Parámetros!G$11:$P$13,MAX(Parámetros!G$7:$P$7),FALSE))","v":""},{"$f":"IF(H411=\"\",\"\",VLOOKUP(H411,Parámetros!H$11:$P$13,MAX(Parámetros!H$7:$P$7),FALSE))","v":""},{"$f":"IF(I411=\"\",\"\",VLOOKUP(I411,Parámetros!I$11:$P$13,MAX(Parámetros!I$7:$P$7),FALSE))","v":""},{"$f":"IF(J411=\"\",\"\",VLOOKUP(J411,Parámetros!J$11:$P$13,MAX(Parámetros!J$7:$P$7),FALSE))","v":""},{"$f":"IF(K411=\"\",\"\",VLOOKUP(K411,Parámetros!K$11:$P$13,MAX(Parámetros!K$7:$P$7),FALSE))","v":""},{"$f":"IF(L411=\"\",\"\",VLOOKUP(L411,Parámetros!L$11:$P$13,MAX(Parámetros!L$7:$P$7),FALSE))","v":""},{"$f":"IF(M411=\"\",\"\",VLOOKUP(M411,Parámetros!M$11:$P$13,MAX(Parámetros!M$7:$P$7),FALSE))","v":""},{"$f":"IF(N411=\"\",\"\",VLOOKUP(N411,Parámetros!N$11:$P$13,MAX(Parámetros!N$7:$P$7),FALSE))","v":""},{"$f":"IF(O411=\"\",\"\",VLOOKUP(O411,Parámetros!O$11:$P$13,MAX(Parámetros!O$7:$P$7),FALSE))","v":""},""]
[null,null,null,{"$f":"IF(E412=\"\",\"\",VLOOKUP(E412,'Buenas prácticas'!$G$8:$H$1007,2,FALSE))","v":""},null,null,null,null,null,null,null,null,null,null,null,{"$f":"IF(F412=\"\",\"\",VLOOKUP(F412,Parámetros!F$11:$P$13,MAX(Parámetros!F$7:$P$7),FALSE))","v":""},{"$f":"IF(G412=\"\",\"\",VLOOKUP(G412,Parámetros!G$11:$P$13,MAX(Parámetros!G$7:$P$7),FALSE))","v":""},{"$f":"IF(H412=\"\",\"\",VLOOKUP(H412,Parámetros!H$11:$P$13,MAX(Parámetros!H$7:$P$7),FALSE))","v":""},{"$f":"IF(I412=\"\",\"\",VLOOKUP(I412,Parámetros!I$11:$P$13,MAX(Parámetros!I$7:$P$7),FALSE))","v":""},{"$f":"IF(J412=\"\",\"\",VLOOKUP(J412,Parámetros!J$11:$P$13,MAX(Parámetros!J$7:$P$7),FALSE))","v":""},{"$f":"IF(K412=\"\",\"\",VLOOKUP(K412,Parámetros!K$11:$P$13,MAX(Parámetros!K$7:$P$7),FALSE))","v":""},{"$f":"IF(L412=\"\",\"\",VLOOKUP(L412,Parámetros!L$11:$P$13,MAX(Parámetros!L$7:$P$7),FALSE))","v":""},{"$f":"IF(M412=\"\",\"\",VLOOKUP(M412,Parámetros!M$11:$P$13,MAX(Parámetros!M$7:$P$7),FALSE))","v":""},{"$f":"IF(N412=\"\",\"\",VLOOKUP(N412,Parámetros!N$11:$P$13,MAX(Parámetros!N$7:$P$7),FALSE))","v":""},{"$f":"IF(O412=\"\",\"\",VLOOKUP(O412,Parámetros!O$11:$P$13,MAX(Parámetros!O$7:$P$7),FALSE))","v":""},""]
[null,null,null,{"$f":"IF(E413=\"\",\"\",VLOOKUP(E413,'Buenas prácticas'!$G$8:$H$1007,2,FALSE))","v":""},null,null,null,null,null,null,null,null,null,null,null,{"$f":"IF(F413=\"\",\"\",VLOOKUP(F413,Parámetros!F$11:$P$13,MAX(Parámetros!F$7:$P$7),FALSE))","v":""},{"$f":"IF(G413=\"\",\"\",VLOOKUP(G413,Parámetros!G$11:$P$13,MAX(Parámetros!G$7:$P$7),FALSE))","v":""},{"$f":"IF(H413=\"\",\"\",VLOOKUP(H413,Parámetros!H$11:$P$13,MAX(Parámetros!H$7:$P$7),FALSE))","v":""},{"$f":"IF(I413=\"\",\"\",VLOOKUP(I413,Parámetros!I$11:$P$13,MAX(Parámetros!I$7:$P$7),FALSE))","v":""},{"$f":"IF(J413=\"\",\"\",VLOOKUP(J413,Parámetros!J$11:$P$13,MAX(Parámetros!J$7:$P$7),FALSE))","v":""},{"$f":"IF(K413=\"\",\"\",VLOOKUP(K413,Parámetros!K$11:$P$13,MAX(Parámetros!K$7:$P$7),FALSE))","v":""},{"$f":"IF(L413=\"\",\"\",VLOOKUP(L413,Parámetros!L$11:$P$13,MAX(Parámetros!L$7:$P$7),FALSE))","v":""},{"$f":"IF(M413=\"\",\"\",VLOOKUP(M413,Parámetros!M$11:$P$13,MAX(Parámetros!M$7:$P$7),FALSE))","v":""},{"$f":"IF(N413=\"\",\"\",VLOOKUP(N413,Parámetros!N$11:$P$13,MAX(Parámetros!N$7:$P$7),FALSE))","v":""},{"$f":"IF(O413=\"\",\"\",VLOOKUP(O413,Parámetros!O$11:$P$13,MAX(Parámetros!O$7:$P$7),FALSE))","v":""},""]
[null,null,null,{"$f":"IF(E414=\"\",\"\",VLOOKUP(E414,'Buenas prácticas'!$G$8:$H$1007,2,FALSE))","v":""},null,null,null,null,null,null,null,null,null,null,null,{"$f":"IF(F414=\"\",\"\",VLOOKUP(F414,Parámetros!F$11:$P$13,MAX(Parámetros!F$7:$P$7),FALSE))","v":""},{"$f":"IF(G414=\"\",\"\",VLOOKUP(G414,Parámetros!G$11:$P$13,MAX(Parámetros!G$7:$P$7),FALSE))","v":""},{"$f":"IF(H414=\"\",\"\",VLOOKUP(H414,Parámetros!H$11:$P$13,MAX(Parámetros!H$7:$P$7),FALSE))","v":""},{"$f":"IF(I414=\"\",\"\",VLOOKUP(I414,Parámetros!I$11:$P$13,MAX(Parámetros!I$7:$P$7),FALSE))","v":""},{"$f":"IF(J414=\"\",\"\",VLOOKUP(J414,Parámetros!J$11:$P$13,MAX(Parámetros!J$7:$P$7),FALSE))","v":""},{"$f":"IF(K414=\"\",\"\",VLOOKUP(K414,Parámetros!K$11:$P$13,MAX(Parámetros!K$7:$P$7),FALSE))","v":""},{"$f":"IF(L414=\"\",\"\",VLOOKUP(L414,Parámetros!L$11:$P$13,MAX(Parámetros!L$7:$P$7),FALSE))","v":""},{"$f":"IF(M414=\"\",\"\",VLOOKUP(M414,Parámetros!M$11:$P$13,MAX(Parámetros!M$7:$P$7),FALSE))","v":""},{"$f":"IF(N414=\"\",\"\",VLOOKUP(N414,Parámetros!N$11:$P$13,MAX(Parámetros!N$7:$P$7),FALSE))","v":""},{"$f":"IF(O414=\"\",\"\",VLOOKUP(O414,Parámetros!O$11:$P$13,MAX(Parámetros!O$7:$P$7),FALSE))","v":""},""]
[null,null,null,{"$f":"IF(E415=\"\",\"\",VLOOKUP(E415,'Buenas prácticas'!$G$8:$H$1007,2,FALSE))","v":""},null,null,null,null,null,null,null,null,null,null,null,{"$f":"IF(F415=\"\",\"\",VLOOKUP(F415,Parámetros!F$11:$P$13,MAX(Parámetros!F$7:$P$7),FALSE))","v":""},{"$f":"IF(G415=\"\",\"\",VLOOKUP(G415,Parámetros!G$11:$P$13,MAX(Parámetros!G$7:$P$7),FALSE))","v":""},{"$f":"IF(H415=\"\",\"\",VLOOKUP(H415,Parámetros!H$11:$P$13,MAX(Parámetros!H$7:$P$7),FALSE))","v":""},{"$f":"IF(I415=\"\",\"\",VLOOKUP(I415,Parámetros!I$11:$P$13,MAX(Parámetros!I$7:$P$7),FALSE))","v":""},{"$f":"IF(J415=\"\",\"\",VLOOKUP(J415,Parámetros!J$11:$P$13,MAX(Parámetros!J$7:$P$7),FALSE))","v":""},{"$f":"IF(K415=\"\",\"\",VLOOKUP(K415,Parámetros!K$11:$P$13,MAX(Parámetros!K$7:$P$7),FALSE))","v":""},{"$f":"IF(L415=\"\",\"\",VLOOKUP(L415,Parámetros!L$11:$P$13,MAX(Parámetros!L$7:$P$7),FALSE))","v":""},{"$f":"IF(M415=\"\",\"\",VLOOKUP(M415,Parámetros!M$11:$P$13,MAX(Parámetros!M$7:$P$7),FALSE))","v":""},{"$f":"IF(N415=\"\",\"\",VLOOKUP(N415,Parámetros!N$11:$P$13,MAX(Parámetros!N$7:$P$7),FALSE))","v":""},{"$f":"IF(O415=\"\",\"\",VLOOKUP(O415,Parámetros!O$11:$P$13,MAX(Parámetros!O$7:$P$7),FALSE))","v":""},""]
[null,null,null,{"$f":"IF(E416=\"\",\"\",VLOOKUP(E416,'Buenas prácticas'!$G$8:$H$1007,2,FALSE))","v":""},null,null,null,null,null,null,null,null,null,null,null,{"$f":"IF(F416=\"\",\"\",VLOOKUP(F416,Parámetros!F$11:$P$13,MAX(Parámetros!F$7:$P$7),FALSE))","v":""},{"$f":"IF(G416=\"\",\"\",VLOOKUP(G416,Parámetros!G$11:$P$13,MAX(Parámetros!G$7:$P$7),FALSE))","v":""},{"$f":"IF(H416=\"\",\"\",VLOOKUP(H416,Parámetros!H$11:$P$13,MAX(Parámetros!H$7:$P$7),FALSE))","v":""},{"$f":"IF(I416=\"\",\"\",VLOOKUP(I416,Parámetros!I$11:$P$13,MAX(Parámetros!I$7:$P$7),FALSE))","v":""},{"$f":"IF(J416=\"\",\"\",VLOOKUP(J416,Parámetros!J$11:$P$13,MAX(Parámetros!J$7:$P$7),FALSE))","v":""},{"$f":"IF(K416=\"\",\"\",VLOOKUP(K416,Parámetros!K$11:$P$13,MAX(Parámetros!K$7:$P$7),FALSE))","v":""},{"$f":"IF(L416=\"\",\"\",VLOOKUP(L416,Parámetros!L$11:$P$13,MAX(Parámetros!L$7:$P$7),FALSE))","v":""},{"$f":"IF(M416=\"\",\"\",VLOOKUP(M416,Parámetros!M$11:$P$13,MAX(Parámetros!M$7:$P$7),FALSE))","v":""},{"$f":"IF(N416=\"\",\"\",VLOOKUP(N416,Parámetros!N$11:$P$13,MAX(Parámetros!N$7:$P$7),FALSE))","v":""},{"$f":"IF(O416=\"\",\"\",VLOOKUP(O416,Parámetros!O$11:$P$13,MAX(Parámetros!O$7:$P$7),FALSE))","v":""},""]
[null,null,null,{"$f":"IF(E417=\"\",\"\",VLOOKUP(E417,'Buenas prácticas'!$G$8:$H$1007,2,FALSE))","v":""},null,null,null,null,null,null,null,null,null,null,null,{"$f":"IF(F417=\"\",\"\",VLOOKUP(F417,Parámetros!F$11:$P$13,MAX(Parámetros!F$7:$P$7),FALSE))","v":""},{"$f":"IF(G417=\"\",\"\",VLOOKUP(G417,Parámetros!G$11:$P$13,MAX(Parámetros!G$7:$P$7),FALSE))","v":""},{"$f":"IF(H417=\"\",\"\",VLOOKUP(H417,Parámetros!H$11:$P$13,MAX(Parámetros!H$7:$P$7),FALSE))","v":""},{"$f":"IF(I417=\"\",\"\",VLOOKUP(I417,Parámetros!I$11:$P$13,MAX(Parámetros!I$7:$P$7),FALSE))","v":""},{"$f":"IF(J417=\"\",\"\",VLOOKUP(J417,Parámetros!J$11:$P$13,MAX(Parámetros!J$7:$P$7),FALSE))","v":""},{"$f":"IF(K417=\"\",\"\",VLOOKUP(K417,Parámetros!K$11:$P$13,MAX(Parámetros!K$7:$P$7),FALSE))","v":""},{"$f":"IF(L417=\"\",\"\",VLOOKUP(L417,Parámetros!L$11:$P$13,MAX(Parámetros!L$7:$P$7),FALSE))","v":""},{"$f":"IF(M417=\"\",\"\",VLOOKUP(M417,Parámetros!M$11:$P$13,MAX(Parámetros!M$7:$P$7),FALSE))","v":""},{"$f":"IF(N417=\"\",\"\",VLOOKUP(N417,Parámetros!N$11:$P$13,MAX(Parámetros!N$7:$P$7),FALSE))","v":""},{"$f":"IF(O417=\"\",\"\",VLOOKUP(O417,Parámetros!O$11:$P$13,MAX(Parámetros!O$7:$P$7),FALSE))","v":""},""]
[null,null,null,{"$f":"IF(E418=\"\",\"\",VLOOKUP(E418,'Buenas prácticas'!$G$8:$H$1007,2,FALSE))","v":""},null,null,null,null,null,null,null,null,null,null,null,{"$f":"IF(F418=\"\",\"\",VLOOKUP(F418,Parámetros!F$11:$P$13,MAX(Parámetros!F$7:$P$7),FALSE))","v":""},{"$f":"IF(G418=\"\",\"\",VLOOKUP(G418,Parámetros!G$11:$P$13,MAX(Parámetros!G$7:$P$7),FALSE))","v":""},{"$f":"IF(H418=\"\",\"\",VLOOKUP(H418,Parámetros!H$11:$P$13,MAX(Parámetros!H$7:$P$7),FALSE))","v":""},{"$f":"IF(I418=\"\",\"\",VLOOKUP(I418,Parámetros!I$11:$P$13,MAX(Parámetros!I$7:$P$7),FALSE))","v":""},{"$f":"IF(J418=\"\",\"\",VLOOKUP(J418,Parámetros!J$11:$P$13,MAX(Parámetros!J$7:$P$7),FALSE))","v":""},{"$f":"IF(K418=\"\",\"\",VLOOKUP(K418,Parámetros!K$11:$P$13,MAX(Parámetros!K$7:$P$7),FALSE))","v":""},{"$f":"IF(L418=\"\",\"\",VLOOKUP(L418,Parámetros!L$11:$P$13,MAX(Parámetros!L$7:$P$7),FALSE))","v":""},{"$f":"IF(M418=\"\",\"\",VLOOKUP(M418,Parámetros!M$11:$P$13,MAX(Parámetros!M$7:$P$7),FALSE))","v":""},{"$f":"IF(N418=\"\",\"\",VLOOKUP(N418,Parámetros!N$11:$P$13,MAX(Parámetros!N$7:$P$7),FALSE))","v":""},{"$f":"IF(O418=\"\",\"\",VLOOKUP(O418,Parámetros!O$11:$P$13,MAX(Parámetros!O$7:$P$7),FALSE))","v":""},""]
[null,null,null,{"$f":"IF(E419=\"\",\"\",VLOOKUP(E419,'Buenas prácticas'!$G$8:$H$1007,2,FALSE))","v":""},null,null,null,null,null,null,null,null,null,null,null,{"$f":"IF(F419=\"\",\"\",VLOOKUP(F419,Parámetros!F$11:$P$13,MAX(Parámetros!F$7:$P$7),FALSE))","v":""},{"$f":"IF(G419=\"\",\"\",VLOOKUP(G419,Parámetros!G$11:$P$13,MAX(Parámetros!G$7:$P$7),FALSE))","v":""},{"$f":"IF(H419=\"\",\"\",VLOOKUP(H419,Parámetros!H$11:$P$13,MAX(Parámetros!H$7:$P$7),FALSE))","v":""},{"$f":"IF(I419=\"\",\"\",VLOOKUP(I419,Parámetros!I$11:$P$13,MAX(Parámetros!I$7:$P$7),FALSE))","v":""},{"$f":"IF(J419=\"\",\"\",VLOOKUP(J419,Parámetros!J$11:$P$13,MAX(Parámetros!J$7:$P$7),FALSE))","v":""},{"$f":"IF(K419=\"\",\"\",VLOOKUP(K419,Parámetros!K$11:$P$13,MAX(Parámetros!K$7:$P$7),FALSE))","v":""},{"$f":"IF(L419=\"\",\"\",VLOOKUP(L419,Parámetros!L$11:$P$13,MAX(Parámetros!L$7:$P$7),FALSE))","v":""},{"$f":"IF(M419=\"\",\"\",VLOOKUP(M419,Parámetros!M$11:$P$13,MAX(Parámetros!M$7:$P$7),FALSE))","v":""},{"$f":"IF(N419=\"\",\"\",VLOOKUP(N419,Parámetros!N$11:$P$13,MAX(Parámetros!N$7:$P$7),FALSE))","v":""},{"$f":"IF(O419=\"\",\"\",VLOOKUP(O419,Parámetros!O$11:$P$13,MAX(Parámetros!O$7:$P$7),FALSE))","v":""},""]
[null,null,null,{"$f":"IF(E420=\"\",\"\",VLOOKUP(E420,'Buenas prácticas'!$G$8:$H$1007,2,FALSE))","v":""},null,null,null,null,null,null,null,null,null,null,null,{"$f":"IF(F420=\"\",\"\",VLOOKUP(F420,Parámetros!F$11:$P$13,MAX(Parámetros!F$7:$P$7),FALSE))","v":""},{"$f":"IF(G420=\"\",\"\",VLOOKUP(G420,Parámetros!G$11:$P$13,MAX(Parámetros!G$7:$P$7),FALSE))","v":""},{"$f":"IF(H420=\"\",\"\",VLOOKUP(H420,Parámetros!H$11:$P$13,MAX(Parámetros!H$7:$P$7),FALSE))","v":""},{"$f":"IF(I420=\"\",\"\",VLOOKUP(I420,Parámetros!I$11:$P$13,MAX(Parámetros!I$7:$P$7),FALSE))","v":""},{"$f":"IF(J420=\"\",\"\",VLOOKUP(J420,Parámetros!J$11:$P$13,MAX(Parámetros!J$7:$P$7),FALSE))","v":""},{"$f":"IF(K420=\"\",\"\",VLOOKUP(K420,Parámetros!K$11:$P$13,MAX(Parámetros!K$7:$P$7),FALSE))","v":""},{"$f":"IF(L420=\"\",\"\",VLOOKUP(L420,Parámetros!L$11:$P$13,MAX(Parámetros!L$7:$P$7),FALSE))","v":""},{"$f":"IF(M420=\"\",\"\",VLOOKUP(M420,Parámetros!M$11:$P$13,MAX(Parámetros!M$7:$P$7),FALSE))","v":""},{"$f":"IF(N420=\"\",\"\",VLOOKUP(N420,Parámetros!N$11:$P$13,MAX(Parámetros!N$7:$P$7),FALSE))","v":""},{"$f":"IF(O420=\"\",\"\",VLOOKUP(O420,Parámetros!O$11:$P$13,MAX(Parámetros!O$7:$P$7),FALSE))","v":""},""]
[null,null,null,{"$f":"IF(E421=\"\",\"\",VLOOKUP(E421,'Buenas prácticas'!$G$8:$H$1007,2,FALSE))","v":""},null,null,null,null,null,null,null,null,null,null,null,{"$f":"IF(F421=\"\",\"\",VLOOKUP(F421,Parámetros!F$11:$P$13,MAX(Parámetros!F$7:$P$7),FALSE))","v":""},{"$f":"IF(G421=\"\",\"\",VLOOKUP(G421,Parámetros!G$11:$P$13,MAX(Parámetros!G$7:$P$7),FALSE))","v":""},{"$f":"IF(H421=\"\",\"\",VLOOKUP(H421,Parámetros!H$11:$P$13,MAX(Parámetros!H$7:$P$7),FALSE))","v":""},{"$f":"IF(I421=\"\",\"\",VLOOKUP(I421,Parámetros!I$11:$P$13,MAX(Parámetros!I$7:$P$7),FALSE))","v":""},{"$f":"IF(J421=\"\",\"\",VLOOKUP(J421,Parámetros!J$11:$P$13,MAX(Parámetros!J$7:$P$7),FALSE))","v":""},{"$f":"IF(K421=\"\",\"\",VLOOKUP(K421,Parámetros!K$11:$P$13,MAX(Parámetros!K$7:$P$7),FALSE))","v":""},{"$f":"IF(L421=\"\",\"\",VLOOKUP(L421,Parámetros!L$11:$P$13,MAX(Parámetros!L$7:$P$7),FALSE))","v":""},{"$f":"IF(M421=\"\",\"\",VLOOKUP(M421,Parámetros!M$11:$P$13,MAX(Parámetros!M$7:$P$7),FALSE))","v":""},{"$f":"IF(N421=\"\",\"\",VLOOKUP(N421,Parámetros!N$11:$P$13,MAX(Parámetros!N$7:$P$7),FALSE))","v":""},{"$f":"IF(O421=\"\",\"\",VLOOKUP(O421,Parámetros!O$11:$P$13,MAX(Parámetros!O$7:$P$7),FALSE))","v":""},""]
[null,null,null,{"$f":"IF(E422=\"\",\"\",VLOOKUP(E422,'Buenas prácticas'!$G$8:$H$1007,2,FALSE))","v":""},null,null,null,null,null,null,null,null,null,null,null,{"$f":"IF(F422=\"\",\"\",VLOOKUP(F422,Parámetros!F$11:$P$13,MAX(Parámetros!F$7:$P$7),FALSE))","v":""},{"$f":"IF(G422=\"\",\"\",VLOOKUP(G422,Parámetros!G$11:$P$13,MAX(Parámetros!G$7:$P$7),FALSE))","v":""},{"$f":"IF(H422=\"\",\"\",VLOOKUP(H422,Parámetros!H$11:$P$13,MAX(Parámetros!H$7:$P$7),FALSE))","v":""},{"$f":"IF(I422=\"\",\"\",VLOOKUP(I422,Parámetros!I$11:$P$13,MAX(Parámetros!I$7:$P$7),FALSE))","v":""},{"$f":"IF(J422=\"\",\"\",VLOOKUP(J422,Parámetros!J$11:$P$13,MAX(Parámetros!J$7:$P$7),FALSE))","v":""},{"$f":"IF(K422=\"\",\"\",VLOOKUP(K422,Parámetros!K$11:$P$13,MAX(Parámetros!K$7:$P$7),FALSE))","v":""},{"$f":"IF(L422=\"\",\"\",VLOOKUP(L422,Parámetros!L$11:$P$13,MAX(Parámetros!L$7:$P$7),FALSE))","v":""},{"$f":"IF(M422=\"\",\"\",VLOOKUP(M422,Parámetros!M$11:$P$13,MAX(Parámetros!M$7:$P$7),FALSE))","v":""},{"$f":"IF(N422=\"\",\"\",VLOOKUP(N422,Parámetros!N$11:$P$13,MAX(Parámetros!N$7:$P$7),FALSE))","v":""},{"$f":"IF(O422=\"\",\"\",VLOOKUP(O422,Parámetros!O$11:$P$13,MAX(Parámetros!O$7:$P$7),FALSE))","v":""},""]
[null,null,null,{"$f":"IF(E423=\"\",\"\",VLOOKUP(E423,'Buenas prácticas'!$G$8:$H$1007,2,FALSE))","v":""},null,null,null,null,null,null,null,null,null,null,null,{"$f":"IF(F423=\"\",\"\",VLOOKUP(F423,Parámetros!F$11:$P$13,MAX(Parámetros!F$7:$P$7),FALSE))","v":""},{"$f":"IF(G423=\"\",\"\",VLOOKUP(G423,Parámetros!G$11:$P$13,MAX(Parámetros!G$7:$P$7),FALSE))","v":""},{"$f":"IF(H423=\"\",\"\",VLOOKUP(H423,Parámetros!H$11:$P$13,MAX(Parámetros!H$7:$P$7),FALSE))","v":""},{"$f":"IF(I423=\"\",\"\",VLOOKUP(I423,Parámetros!I$11:$P$13,MAX(Parámetros!I$7:$P$7),FALSE))","v":""},{"$f":"IF(J423=\"\",\"\",VLOOKUP(J423,Parámetros!J$11:$P$13,MAX(Parámetros!J$7:$P$7),FALSE))","v":""},{"$f":"IF(K423=\"\",\"\",VLOOKUP(K423,Parámetros!K$11:$P$13,MAX(Parámetros!K$7:$P$7),FALSE))","v":""},{"$f":"IF(L423=\"\",\"\",VLOOKUP(L423,Parámetros!L$11:$P$13,MAX(Parámetros!L$7:$P$7),FALSE))","v":""},{"$f":"IF(M423=\"\",\"\",VLOOKUP(M423,Parámetros!M$11:$P$13,MAX(Parámetros!M$7:$P$7),FALSE))","v":""},{"$f":"IF(N423=\"\",\"\",VLOOKUP(N423,Parámetros!N$11:$P$13,MAX(Parámetros!N$7:$P$7),FALSE))","v":""},{"$f":"IF(O423=\"\",\"\",VLOOKUP(O423,Parámetros!O$11:$P$13,MAX(Parámetros!O$7:$P$7),FALSE))","v":""},""]
[null,null,null,{"$f":"IF(E424=\"\",\"\",VLOOKUP(E424,'Buenas prácticas'!$G$8:$H$1007,2,FALSE))","v":""},null,null,null,null,null,null,null,null,null,null,null,{"$f":"IF(F424=\"\",\"\",VLOOKUP(F424,Parámetros!F$11:$P$13,MAX(Parámetros!F$7:$P$7),FALSE))","v":""},{"$f":"IF(G424=\"\",\"\",VLOOKUP(G424,Parámetros!G$11:$P$13,MAX(Parámetros!G$7:$P$7),FALSE))","v":""},{"$f":"IF(H424=\"\",\"\",VLOOKUP(H424,Parámetros!H$11:$P$13,MAX(Parámetros!H$7:$P$7),FALSE))","v":""},{"$f":"IF(I424=\"\",\"\",VLOOKUP(I424,Parámetros!I$11:$P$13,MAX(Parámetros!I$7:$P$7),FALSE))","v":""},{"$f":"IF(J424=\"\",\"\",VLOOKUP(J424,Parámetros!J$11:$P$13,MAX(Parámetros!J$7:$P$7),FALSE))","v":""},{"$f":"IF(K424=\"\",\"\",VLOOKUP(K424,Parámetros!K$11:$P$13,MAX(Parámetros!K$7:$P$7),FALSE))","v":""},{"$f":"IF(L424=\"\",\"\",VLOOKUP(L424,Parámetros!L$11:$P$13,MAX(Parámetros!L$7:$P$7),FALSE))","v":""},{"$f":"IF(M424=\"\",\"\",VLOOKUP(M424,Parámetros!M$11:$P$13,MAX(Parámetros!M$7:$P$7),FALSE))","v":""},{"$f":"IF(N424=\"\",\"\",VLOOKUP(N424,Parámetros!N$11:$P$13,MAX(Parámetros!N$7:$P$7),FALSE))","v":""},{"$f":"IF(O424=\"\",\"\",VLOOKUP(O424,Parámetros!O$11:$P$13,MAX(Parámetros!O$7:$P$7),FALSE))","v":""},""]
[null,null,null,{"$f":"IF(E425=\"\",\"\",VLOOKUP(E425,'Buenas prácticas'!$G$8:$H$1007,2,FALSE))","v":""},null,null,null,null,null,null,null,null,null,null,null,{"$f":"IF(F425=\"\",\"\",VLOOKUP(F425,Parámetros!F$11:$P$13,MAX(Parámetros!F$7:$P$7),FALSE))","v":""},{"$f":"IF(G425=\"\",\"\",VLOOKUP(G425,Parámetros!G$11:$P$13,MAX(Parámetros!G$7:$P$7),FALSE))","v":""},{"$f":"IF(H425=\"\",\"\",VLOOKUP(H425,Parámetros!H$11:$P$13,MAX(Parámetros!H$7:$P$7),FALSE))","v":""},{"$f":"IF(I425=\"\",\"\",VLOOKUP(I425,Parámetros!I$11:$P$13,MAX(Parámetros!I$7:$P$7),FALSE))","v":""},{"$f":"IF(J425=\"\",\"\",VLOOKUP(J425,Parámetros!J$11:$P$13,MAX(Parámetros!J$7:$P$7),FALSE))","v":""},{"$f":"IF(K425=\"\",\"\",VLOOKUP(K425,Parámetros!K$11:$P$13,MAX(Parámetros!K$7:$P$7),FALSE))","v":""},{"$f":"IF(L425=\"\",\"\",VLOOKUP(L425,Parámetros!L$11:$P$13,MAX(Parámetros!L$7:$P$7),FALSE))","v":""},{"$f":"IF(M425=\"\",\"\",VLOOKUP(M425,Parámetros!M$11:$P$13,MAX(Parámetros!M$7:$P$7),FALSE))","v":""},{"$f":"IF(N425=\"\",\"\",VLOOKUP(N425,Parámetros!N$11:$P$13,MAX(Parámetros!N$7:$P$7),FALSE))","v":""},{"$f":"IF(O425=\"\",\"\",VLOOKUP(O425,Parámetros!O$11:$P$13,MAX(Parámetros!O$7:$P$7),FALSE))","v":""},""]
[null,null,null,{"$f":"IF(E426=\"\",\"\",VLOOKUP(E426,'Buenas prácticas'!$G$8:$H$1007,2,FALSE))","v":""},null,null,null,null,null,null,null,null,null,null,null,{"$f":"IF(F426=\"\",\"\",VLOOKUP(F426,Parámetros!F$11:$P$13,MAX(Parámetros!F$7:$P$7),FALSE))","v":""},{"$f":"IF(G426=\"\",\"\",VLOOKUP(G426,Parámetros!G$11:$P$13,MAX(Parámetros!G$7:$P$7),FALSE))","v":""},{"$f":"IF(H426=\"\",\"\",VLOOKUP(H426,Parámetros!H$11:$P$13,MAX(Parámetros!H$7:$P$7),FALSE))","v":""},{"$f":"IF(I426=\"\",\"\",VLOOKUP(I426,Parámetros!I$11:$P$13,MAX(Parámetros!I$7:$P$7),FALSE))","v":""},{"$f":"IF(J426=\"\",\"\",VLOOKUP(J426,Parámetros!J$11:$P$13,MAX(Parámetros!J$7:$P$7),FALSE))","v":""},{"$f":"IF(K426=\"\",\"\",VLOOKUP(K426,Parámetros!K$11:$P$13,MAX(Parámetros!K$7:$P$7),FALSE))","v":""},{"$f":"IF(L426=\"\",\"\",VLOOKUP(L426,Parámetros!L$11:$P$13,MAX(Parámetros!L$7:$P$7),FALSE))","v":""},{"$f":"IF(M426=\"\",\"\",VLOOKUP(M426,Parámetros!M$11:$P$13,MAX(Parámetros!M$7:$P$7),FALSE))","v":""},{"$f":"IF(N426=\"\",\"\",VLOOKUP(N426,Parámetros!N$11:$P$13,MAX(Parámetros!N$7:$P$7),FALSE))","v":""},{"$f":"IF(O426=\"\",\"\",VLOOKUP(O426,Parámetros!O$11:$P$13,MAX(Parámetros!O$7:$P$7),FALSE))","v":""},""]
[null,null,null,{"$f":"IF(E427=\"\",\"\",VLOOKUP(E427,'Buenas prácticas'!$G$8:$H$1007,2,FALSE))","v":""},null,null,null,null,null,null,null,null,null,null,null,{"$f":"IF(F427=\"\",\"\",VLOOKUP(F427,Parámetros!F$11:$P$13,MAX(Parámetros!F$7:$P$7),FALSE))","v":""},{"$f":"IF(G427=\"\",\"\",VLOOKUP(G427,Parámetros!G$11:$P$13,MAX(Parámetros!G$7:$P$7),FALSE))","v":""},{"$f":"IF(H427=\"\",\"\",VLOOKUP(H427,Parámetros!H$11:$P$13,MAX(Parámetros!H$7:$P$7),FALSE))","v":""},{"$f":"IF(I427=\"\",\"\",VLOOKUP(I427,Parámetros!I$11:$P$13,MAX(Parámetros!I$7:$P$7),FALSE))","v":""},{"$f":"IF(J427=\"\",\"\",VLOOKUP(J427,Parámetros!J$11:$P$13,MAX(Parámetros!J$7:$P$7),FALSE))","v":""},{"$f":"IF(K427=\"\",\"\",VLOOKUP(K427,Parámetros!K$11:$P$13,MAX(Parámetros!K$7:$P$7),FALSE))","v":""},{"$f":"IF(L427=\"\",\"\",VLOOKUP(L427,Parámetros!L$11:$P$13,MAX(Parámetros!L$7:$P$7),FALSE))","v":""},{"$f":"IF(M427=\"\",\"\",VLOOKUP(M427,Parámetros!M$11:$P$13,MAX(Parámetros!M$7:$P$7),FALSE))","v":""},{"$f":"IF(N427=\"\",\"\",VLOOKUP(N427,Parámetros!N$11:$P$13,MAX(Parámetros!N$7:$P$7),FALSE))","v":""},{"$f":"IF(O427=\"\",\"\",VLOOKUP(O427,Parámetros!O$11:$P$13,MAX(Parámetros!O$7:$P$7),FALSE))","v":""},""]
[null,null,null,{"$f":"IF(E428=\"\",\"\",VLOOKUP(E428,'Buenas prácticas'!$G$8:$H$1007,2,FALSE))","v":""},null,null,null,null,null,null,null,null,null,null,null,{"$f":"IF(F428=\"\",\"\",VLOOKUP(F428,Parámetros!F$11:$P$13,MAX(Parámetros!F$7:$P$7),FALSE))","v":""},{"$f":"IF(G428=\"\",\"\",VLOOKUP(G428,Parámetros!G$11:$P$13,MAX(Parámetros!G$7:$P$7),FALSE))","v":""},{"$f":"IF(H428=\"\",\"\",VLOOKUP(H428,Parámetros!H$11:$P$13,MAX(Parámetros!H$7:$P$7),FALSE))","v":""},{"$f":"IF(I428=\"\",\"\",VLOOKUP(I428,Parámetros!I$11:$P$13,MAX(Parámetros!I$7:$P$7),FALSE))","v":""},{"$f":"IF(J428=\"\",\"\",VLOOKUP(J428,Parámetros!J$11:$P$13,MAX(Parámetros!J$7:$P$7),FALSE))","v":""},{"$f":"IF(K428=\"\",\"\",VLOOKUP(K428,Parámetros!K$11:$P$13,MAX(Parámetros!K$7:$P$7),FALSE))","v":""},{"$f":"IF(L428=\"\",\"\",VLOOKUP(L428,Parámetros!L$11:$P$13,MAX(Parámetros!L$7:$P$7),FALSE))","v":""},{"$f":"IF(M428=\"\",\"\",VLOOKUP(M428,Parámetros!M$11:$P$13,MAX(Parámetros!M$7:$P$7),FALSE))","v":""},{"$f":"IF(N428=\"\",\"\",VLOOKUP(N428,Parámetros!N$11:$P$13,MAX(Parámetros!N$7:$P$7),FALSE))","v":""},{"$f":"IF(O428=\"\",\"\",VLOOKUP(O428,Parámetros!O$11:$P$13,MAX(Parámetros!O$7:$P$7),FALSE))","v":""},""]
[null,null,null,{"$f":"IF(E429=\"\",\"\",VLOOKUP(E429,'Buenas prácticas'!$G$8:$H$1007,2,FALSE))","v":""},null,null,null,null,null,null,null,null,null,null,null,{"$f":"IF(F429=\"\",\"\",VLOOKUP(F429,Parámetros!F$11:$P$13,MAX(Parámetros!F$7:$P$7),FALSE))","v":""},{"$f":"IF(G429=\"\",\"\",VLOOKUP(G429,Parámetros!G$11:$P$13,MAX(Parámetros!G$7:$P$7),FALSE))","v":""},{"$f":"IF(H429=\"\",\"\",VLOOKUP(H429,Parámetros!H$11:$P$13,MAX(Parámetros!H$7:$P$7),FALSE))","v":""},{"$f":"IF(I429=\"\",\"\",VLOOKUP(I429,Parámetros!I$11:$P$13,MAX(Parámetros!I$7:$P$7),FALSE))","v":""},{"$f":"IF(J429=\"\",\"\",VLOOKUP(J429,Parámetros!J$11:$P$13,MAX(Parámetros!J$7:$P$7),FALSE))","v":""},{"$f":"IF(K429=\"\",\"\",VLOOKUP(K429,Parámetros!K$11:$P$13,MAX(Parámetros!K$7:$P$7),FALSE))","v":""},{"$f":"IF(L429=\"\",\"\",VLOOKUP(L429,Parámetros!L$11:$P$13,MAX(Parámetros!L$7:$P$7),FALSE))","v":""},{"$f":"IF(M429=\"\",\"\",VLOOKUP(M429,Parámetros!M$11:$P$13,MAX(Parámetros!M$7:$P$7),FALSE))","v":""},{"$f":"IF(N429=\"\",\"\",VLOOKUP(N429,Parámetros!N$11:$P$13,MAX(Parámetros!N$7:$P$7),FALSE))","v":""},{"$f":"IF(O429=\"\",\"\",VLOOKUP(O429,Parámetros!O$11:$P$13,MAX(Parámetros!O$7:$P$7),FALSE))","v":""},""]
[null,null,null,{"$f":"IF(E430=\"\",\"\",VLOOKUP(E430,'Buenas prácticas'!$G$8:$H$1007,2,FALSE))","v":""},null,null,null,null,null,null,null,null,null,null,null,{"$f":"IF(F430=\"\",\"\",VLOOKUP(F430,Parámetros!F$11:$P$13,MAX(Parámetros!F$7:$P$7),FALSE))","v":""},{"$f":"IF(G430=\"\",\"\",VLOOKUP(G430,Parámetros!G$11:$P$13,MAX(Parámetros!G$7:$P$7),FALSE))","v":""},{"$f":"IF(H430=\"\",\"\",VLOOKUP(H430,Parámetros!H$11:$P$13,MAX(Parámetros!H$7:$P$7),FALSE))","v":""},{"$f":"IF(I430=\"\",\"\",VLOOKUP(I430,Parámetros!I$11:$P$13,MAX(Parámetros!I$7:$P$7),FALSE))","v":""},{"$f":"IF(J430=\"\",\"\",VLOOKUP(J430,Parámetros!J$11:$P$13,MAX(Parámetros!J$7:$P$7),FALSE))","v":""},{"$f":"IF(K430=\"\",\"\",VLOOKUP(K430,Parámetros!K$11:$P$13,MAX(Parámetros!K$7:$P$7),FALSE))","v":""},{"$f":"IF(L430=\"\",\"\",VLOOKUP(L430,Parámetros!L$11:$P$13,MAX(Parámetros!L$7:$P$7),FALSE))","v":""},{"$f":"IF(M430=\"\",\"\",VLOOKUP(M430,Parámetros!M$11:$P$13,MAX(Parámetros!M$7:$P$7),FALSE))","v":""},{"$f":"IF(N430=\"\",\"\",VLOOKUP(N430,Parámetros!N$11:$P$13,MAX(Parámetros!N$7:$P$7),FALSE))","v":""},{"$f":"IF(O430=\"\",\"\",VLOOKUP(O430,Parámetros!O$11:$P$13,MAX(Parámetros!O$7:$P$7),FALSE))","v":""},""]
[null,null,null,{"$f":"IF(E431=\"\",\"\",VLOOKUP(E431,'Buenas prácticas'!$G$8:$H$1007,2,FALSE))","v":""},null,null,null,null,null,null,null,null,null,null,null,{"$f":"IF(F431=\"\",\"\",VLOOKUP(F431,Parámetros!F$11:$P$13,MAX(Parámetros!F$7:$P$7),FALSE))","v":""},{"$f":"IF(G431=\"\",\"\",VLOOKUP(G431,Parámetros!G$11:$P$13,MAX(Parámetros!G$7:$P$7),FALSE))","v":""},{"$f":"IF(H431=\"\",\"\",VLOOKUP(H431,Parámetros!H$11:$P$13,MAX(Parámetros!H$7:$P$7),FALSE))","v":""},{"$f":"IF(I431=\"\",\"\",VLOOKUP(I431,Parámetros!I$11:$P$13,MAX(Parámetros!I$7:$P$7),FALSE))","v":""},{"$f":"IF(J431=\"\",\"\",VLOOKUP(J431,Parámetros!J$11:$P$13,MAX(Parámetros!J$7:$P$7),FALSE))","v":""},{"$f":"IF(K431=\"\",\"\",VLOOKUP(K431,Parámetros!K$11:$P$13,MAX(Parámetros!K$7:$P$7),FALSE))","v":""},{"$f":"IF(L431=\"\",\"\",VLOOKUP(L431,Parámetros!L$11:$P$13,MAX(Parámetros!L$7:$P$7),FALSE))","v":""},{"$f":"IF(M431=\"\",\"\",VLOOKUP(M431,Parámetros!M$11:$P$13,MAX(Parámetros!M$7:$P$7),FALSE))","v":""},{"$f":"IF(N431=\"\",\"\",VLOOKUP(N431,Parámetros!N$11:$P$13,MAX(Parámetros!N$7:$P$7),FALSE))","v":""},{"$f":"IF(O431=\"\",\"\",VLOOKUP(O431,Parámetros!O$11:$P$13,MAX(Parámetros!O$7:$P$7),FALSE))","v":""},""]
[null,null,null,{"$f":"IF(E432=\"\",\"\",VLOOKUP(E432,'Buenas prácticas'!$G$8:$H$1007,2,FALSE))","v":""},null,null,null,null,null,null,null,null,null,null,null,{"$f":"IF(F432=\"\",\"\",VLOOKUP(F432,Parámetros!F$11:$P$13,MAX(Parámetros!F$7:$P$7),FALSE))","v":""},{"$f":"IF(G432=\"\",\"\",VLOOKUP(G432,Parámetros!G$11:$P$13,MAX(Parámetros!G$7:$P$7),FALSE))","v":""},{"$f":"IF(H432=\"\",\"\",VLOOKUP(H432,Parámetros!H$11:$P$13,MAX(Parámetros!H$7:$P$7),FALSE))","v":""},{"$f":"IF(I432=\"\",\"\",VLOOKUP(I432,Parámetros!I$11:$P$13,MAX(Parámetros!I$7:$P$7),FALSE))","v":""},{"$f":"IF(J432=\"\",\"\",VLOOKUP(J432,Parámetros!J$11:$P$13,MAX(Parámetros!J$7:$P$7),FALSE))","v":""},{"$f":"IF(K432=\"\",\"\",VLOOKUP(K432,Parámetros!K$11:$P$13,MAX(Parámetros!K$7:$P$7),FALSE))","v":""},{"$f":"IF(L432=\"\",\"\",VLOOKUP(L432,Parámetros!L$11:$P$13,MAX(Parámetros!L$7:$P$7),FALSE))","v":""},{"$f":"IF(M432=\"\",\"\",VLOOKUP(M432,Parámetros!M$11:$P$13,MAX(Parámetros!M$7:$P$7),FALSE))","v":""},{"$f":"IF(N432=\"\",\"\",VLOOKUP(N432,Parámetros!N$11:$P$13,MAX(Parámetros!N$7:$P$7),FALSE))","v":""},{"$f":"IF(O432=\"\",\"\",VLOOKUP(O432,Parámetros!O$11:$P$13,MAX(Parámetros!O$7:$P$7),FALSE))","v":""},""]
[null,null,null,{"$f":"IF(E433=\"\",\"\",VLOOKUP(E433,'Buenas prácticas'!$G$8:$H$1007,2,FALSE))","v":""},null,null,null,null,null,null,null,null,null,null,null,{"$f":"IF(F433=\"\",\"\",VLOOKUP(F433,Parámetros!F$11:$P$13,MAX(Parámetros!F$7:$P$7),FALSE))","v":""},{"$f":"IF(G433=\"\",\"\",VLOOKUP(G433,Parámetros!G$11:$P$13,MAX(Parámetros!G$7:$P$7),FALSE))","v":""},{"$f":"IF(H433=\"\",\"\",VLOOKUP(H433,Parámetros!H$11:$P$13,MAX(Parámetros!H$7:$P$7),FALSE))","v":""},{"$f":"IF(I433=\"\",\"\",VLOOKUP(I433,Parámetros!I$11:$P$13,MAX(Parámetros!I$7:$P$7),FALSE))","v":""},{"$f":"IF(J433=\"\",\"\",VLOOKUP(J433,Parámetros!J$11:$P$13,MAX(Parámetros!J$7:$P$7),FALSE))","v":""},{"$f":"IF(K433=\"\",\"\",VLOOKUP(K433,Parámetros!K$11:$P$13,MAX(Parámetros!K$7:$P$7),FALSE))","v":""},{"$f":"IF(L433=\"\",\"\",VLOOKUP(L433,Parámetros!L$11:$P$13,MAX(Parámetros!L$7:$P$7),FALSE))","v":""},{"$f":"IF(M433=\"\",\"\",VLOOKUP(M433,Parámetros!M$11:$P$13,MAX(Parámetros!M$7:$P$7),FALSE))","v":""},{"$f":"IF(N433=\"\",\"\",VLOOKUP(N433,Parámetros!N$11:$P$13,MAX(Parámetros!N$7:$P$7),FALSE))","v":""},{"$f":"IF(O433=\"\",\"\",VLOOKUP(O433,Parámetros!O$11:$P$13,MAX(Parámetros!O$7:$P$7),FALSE))","v":""},""]
[null,null,null,{"$f":"IF(E434=\"\",\"\",VLOOKUP(E434,'Buenas prácticas'!$G$8:$H$1007,2,FALSE))","v":""},null,null,null,null,null,null,null,null,null,null,null,{"$f":"IF(F434=\"\",\"\",VLOOKUP(F434,Parámetros!F$11:$P$13,MAX(Parámetros!F$7:$P$7),FALSE))","v":""},{"$f":"IF(G434=\"\",\"\",VLOOKUP(G434,Parámetros!G$11:$P$13,MAX(Parámetros!G$7:$P$7),FALSE))","v":""},{"$f":"IF(H434=\"\",\"\",VLOOKUP(H434,Parámetros!H$11:$P$13,MAX(Parámetros!H$7:$P$7),FALSE))","v":""},{"$f":"IF(I434=\"\",\"\",VLOOKUP(I434,Parámetros!I$11:$P$13,MAX(Parámetros!I$7:$P$7),FALSE))","v":""},{"$f":"IF(J434=\"\",\"\",VLOOKUP(J434,Parámetros!J$11:$P$13,MAX(Parámetros!J$7:$P$7),FALSE))","v":""},{"$f":"IF(K434=\"\",\"\",VLOOKUP(K434,Parámetros!K$11:$P$13,MAX(Parámetros!K$7:$P$7),FALSE))","v":""},{"$f":"IF(L434=\"\",\"\",VLOOKUP(L434,Parámetros!L$11:$P$13,MAX(Parámetros!L$7:$P$7),FALSE))","v":""},{"$f":"IF(M434=\"\",\"\",VLOOKUP(M434,Parámetros!M$11:$P$13,MAX(Parámetros!M$7:$P$7),FALSE))","v":""},{"$f":"IF(N434=\"\",\"\",VLOOKUP(N434,Parámetros!N$11:$P$13,MAX(Parámetros!N$7:$P$7),FALSE))","v":""},{"$f":"IF(O434=\"\",\"\",VLOOKUP(O434,Parámetros!O$11:$P$13,MAX(Parámetros!O$7:$P$7),FALSE))","v":""},""]
[null,null,null,{"$f":"IF(E435=\"\",\"\",VLOOKUP(E435,'Buenas prácticas'!$G$8:$H$1007,2,FALSE))","v":""},null,null,null,null,null,null,null,null,null,null,null,{"$f":"IF(F435=\"\",\"\",VLOOKUP(F435,Parámetros!F$11:$P$13,MAX(Parámetros!F$7:$P$7),FALSE))","v":""},{"$f":"IF(G435=\"\",\"\",VLOOKUP(G435,Parámetros!G$11:$P$13,MAX(Parámetros!G$7:$P$7),FALSE))","v":""},{"$f":"IF(H435=\"\",\"\",VLOOKUP(H435,Parámetros!H$11:$P$13,MAX(Parámetros!H$7:$P$7),FALSE))","v":""},{"$f":"IF(I435=\"\",\"\",VLOOKUP(I435,Parámetros!I$11:$P$13,MAX(Parámetros!I$7:$P$7),FALSE))","v":""},{"$f":"IF(J435=\"\",\"\",VLOOKUP(J435,Parámetros!J$11:$P$13,MAX(Parámetros!J$7:$P$7),FALSE))","v":""},{"$f":"IF(K435=\"\",\"\",VLOOKUP(K435,Parámetros!K$11:$P$13,MAX(Parámetros!K$7:$P$7),FALSE))","v":""},{"$f":"IF(L435=\"\",\"\",VLOOKUP(L435,Parámetros!L$11:$P$13,MAX(Parámetros!L$7:$P$7),FALSE))","v":""},{"$f":"IF(M435=\"\",\"\",VLOOKUP(M435,Parámetros!M$11:$P$13,MAX(Parámetros!M$7:$P$7),FALSE))","v":""},{"$f":"IF(N435=\"\",\"\",VLOOKUP(N435,Parámetros!N$11:$P$13,MAX(Parámetros!N$7:$P$7),FALSE))","v":""},{"$f":"IF(O435=\"\",\"\",VLOOKUP(O435,Parámetros!O$11:$P$13,MAX(Parámetros!O$7:$P$7),FALSE))","v":""},""]
[null,null,null,{"$f":"IF(E436=\"\",\"\",VLOOKUP(E436,'Buenas prácticas'!$G$8:$H$1007,2,FALSE))","v":""},null,null,null,null,null,null,null,null,null,null,null,{"$f":"IF(F436=\"\",\"\",VLOOKUP(F436,Parámetros!F$11:$P$13,MAX(Parámetros!F$7:$P$7),FALSE))","v":""},{"$f":"IF(G436=\"\",\"\",VLOOKUP(G436,Parámetros!G$11:$P$13,MAX(Parámetros!G$7:$P$7),FALSE))","v":""},{"$f":"IF(H436=\"\",\"\",VLOOKUP(H436,Parámetros!H$11:$P$13,MAX(Parámetros!H$7:$P$7),FALSE))","v":""},{"$f":"IF(I436=\"\",\"\",VLOOKUP(I436,Parámetros!I$11:$P$13,MAX(Parámetros!I$7:$P$7),FALSE))","v":""},{"$f":"IF(J436=\"\",\"\",VLOOKUP(J436,Parámetros!J$11:$P$13,MAX(Parámetros!J$7:$P$7),FALSE))","v":""},{"$f":"IF(K436=\"\",\"\",VLOOKUP(K436,Parámetros!K$11:$P$13,MAX(Parámetros!K$7:$P$7),FALSE))","v":""},{"$f":"IF(L436=\"\",\"\",VLOOKUP(L436,Parámetros!L$11:$P$13,MAX(Parámetros!L$7:$P$7),FALSE))","v":""},{"$f":"IF(M436=\"\",\"\",VLOOKUP(M436,Parámetros!M$11:$P$13,MAX(Parámetros!M$7:$P$7),FALSE))","v":""},{"$f":"IF(N436=\"\",\"\",VLOOKUP(N436,Parámetros!N$11:$P$13,MAX(Parámetros!N$7:$P$7),FALSE))","v":""},{"$f":"IF(O436=\"\",\"\",VLOOKUP(O436,Parámetros!O$11:$P$13,MAX(Parámetros!O$7:$P$7),FALSE))","v":""},""]
[null,null,null,{"$f":"IF(E437=\"\",\"\",VLOOKUP(E437,'Buenas prácticas'!$G$8:$H$1007,2,FALSE))","v":""},null,null,null,null,null,null,null,null,null,null,null,{"$f":"IF(F437=\"\",\"\",VLOOKUP(F437,Parámetros!F$11:$P$13,MAX(Parámetros!F$7:$P$7),FALSE))","v":""},{"$f":"IF(G437=\"\",\"\",VLOOKUP(G437,Parámetros!G$11:$P$13,MAX(Parámetros!G$7:$P$7),FALSE))","v":""},{"$f":"IF(H437=\"\",\"\",VLOOKUP(H437,Parámetros!H$11:$P$13,MAX(Parámetros!H$7:$P$7),FALSE))","v":""},{"$f":"IF(I437=\"\",\"\",VLOOKUP(I437,Parámetros!I$11:$P$13,MAX(Parámetros!I$7:$P$7),FALSE))","v":""},{"$f":"IF(J437=\"\",\"\",VLOOKUP(J437,Parámetros!J$11:$P$13,MAX(Parámetros!J$7:$P$7),FALSE))","v":""},{"$f":"IF(K437=\"\",\"\",VLOOKUP(K437,Parámetros!K$11:$P$13,MAX(Parámetros!K$7:$P$7),FALSE))","v":""},{"$f":"IF(L437=\"\",\"\",VLOOKUP(L437,Parámetros!L$11:$P$13,MAX(Parámetros!L$7:$P$7),FALSE))","v":""},{"$f":"IF(M437=\"\",\"\",VLOOKUP(M437,Parámetros!M$11:$P$13,MAX(Parámetros!M$7:$P$7),FALSE))","v":""},{"$f":"IF(N437=\"\",\"\",VLOOKUP(N437,Parámetros!N$11:$P$13,MAX(Parámetros!N$7:$P$7),FALSE))","v":""},{"$f":"IF(O437=\"\",\"\",VLOOKUP(O437,Parámetros!O$11:$P$13,MAX(Parámetros!O$7:$P$7),FALSE))","v":""},""]
[null,null,null,{"$f":"IF(E438=\"\",\"\",VLOOKUP(E438,'Buenas prácticas'!$G$8:$H$1007,2,FALSE))","v":""},null,null,null,null,null,null,null,null,null,null,null,{"$f":"IF(F438=\"\",\"\",VLOOKUP(F438,Parámetros!F$11:$P$13,MAX(Parámetros!F$7:$P$7),FALSE))","v":""},{"$f":"IF(G438=\"\",\"\",VLOOKUP(G438,Parámetros!G$11:$P$13,MAX(Parámetros!G$7:$P$7),FALSE))","v":""},{"$f":"IF(H438=\"\",\"\",VLOOKUP(H438,Parámetros!H$11:$P$13,MAX(Parámetros!H$7:$P$7),FALSE))","v":""},{"$f":"IF(I438=\"\",\"\",VLOOKUP(I438,Parámetros!I$11:$P$13,MAX(Parámetros!I$7:$P$7),FALSE))","v":""},{"$f":"IF(J438=\"\",\"\",VLOOKUP(J438,Parámetros!J$11:$P$13,MAX(Parámetros!J$7:$P$7),FALSE))","v":""},{"$f":"IF(K438=\"\",\"\",VLOOKUP(K438,Parámetros!K$11:$P$13,MAX(Parámetros!K$7:$P$7),FALSE))","v":""},{"$f":"IF(L438=\"\",\"\",VLOOKUP(L438,Parámetros!L$11:$P$13,MAX(Parámetros!L$7:$P$7),FALSE))","v":""},{"$f":"IF(M438=\"\",\"\",VLOOKUP(M438,Parámetros!M$11:$P$13,MAX(Parámetros!M$7:$P$7),FALSE))","v":""},{"$f":"IF(N438=\"\",\"\",VLOOKUP(N438,Parámetros!N$11:$P$13,MAX(Parámetros!N$7:$P$7),FALSE))","v":""},{"$f":"IF(O438=\"\",\"\",VLOOKUP(O438,Parámetros!O$11:$P$13,MAX(Parámetros!O$7:$P$7),FALSE))","v":""},""]
[null,null,null,{"$f":"IF(E439=\"\",\"\",VLOOKUP(E439,'Buenas prácticas'!$G$8:$H$1007,2,FALSE))","v":""},null,null,null,null,null,null,null,null,null,null,null,{"$f":"IF(F439=\"\",\"\",VLOOKUP(F439,Parámetros!F$11:$P$13,MAX(Parámetros!F$7:$P$7),FALSE))","v":""},{"$f":"IF(G439=\"\",\"\",VLOOKUP(G439,Parámetros!G$11:$P$13,MAX(Parámetros!G$7:$P$7),FALSE))","v":""},{"$f":"IF(H439=\"\",\"\",VLOOKUP(H439,Parámetros!H$11:$P$13,MAX(Parámetros!H$7:$P$7),FALSE))","v":""},{"$f":"IF(I439=\"\",\"\",VLOOKUP(I439,Parámetros!I$11:$P$13,MAX(Parámetros!I$7:$P$7),FALSE))","v":""},{"$f":"IF(J439=\"\",\"\",VLOOKUP(J439,Parámetros!J$11:$P$13,MAX(Parámetros!J$7:$P$7),FALSE))","v":""},{"$f":"IF(K439=\"\",\"\",VLOOKUP(K439,Parámetros!K$11:$P$13,MAX(Parámetros!K$7:$P$7),FALSE))","v":""},{"$f":"IF(L439=\"\",\"\",VLOOKUP(L439,Parámetros!L$11:$P$13,MAX(Parámetros!L$7:$P$7),FALSE))","v":""},{"$f":"IF(M439=\"\",\"\",VLOOKUP(M439,Parámetros!M$11:$P$13,MAX(Parámetros!M$7:$P$7),FALSE))","v":""},{"$f":"IF(N439=\"\",\"\",VLOOKUP(N439,Parámetros!N$11:$P$13,MAX(Parámetros!N$7:$P$7),FALSE))","v":""},{"$f":"IF(O439=\"\",\"\",VLOOKUP(O439,Parámetros!O$11:$P$13,MAX(Parámetros!O$7:$P$7),FALSE))","v":""},""]
[null,null,null,{"$f":"IF(E440=\"\",\"\",VLOOKUP(E440,'Buenas prácticas'!$G$8:$H$1007,2,FALSE))","v":""},null,null,null,null,null,null,null,null,null,null,null,{"$f":"IF(F440=\"\",\"\",VLOOKUP(F440,Parámetros!F$11:$P$13,MAX(Parámetros!F$7:$P$7),FALSE))","v":""},{"$f":"IF(G440=\"\",\"\",VLOOKUP(G440,Parámetros!G$11:$P$13,MAX(Parámetros!G$7:$P$7),FALSE))","v":""},{"$f":"IF(H440=\"\",\"\",VLOOKUP(H440,Parámetros!H$11:$P$13,MAX(Parámetros!H$7:$P$7),FALSE))","v":""},{"$f":"IF(I440=\"\",\"\",VLOOKUP(I440,Parámetros!I$11:$P$13,MAX(Parámetros!I$7:$P$7),FALSE))","v":""},{"$f":"IF(J440=\"\",\"\",VLOOKUP(J440,Parámetros!J$11:$P$13,MAX(Parámetros!J$7:$P$7),FALSE))","v":""},{"$f":"IF(K440=\"\",\"\",VLOOKUP(K440,Parámetros!K$11:$P$13,MAX(Parámetros!K$7:$P$7),FALSE))","v":""},{"$f":"IF(L440=\"\",\"\",VLOOKUP(L440,Parámetros!L$11:$P$13,MAX(Parámetros!L$7:$P$7),FALSE))","v":""},{"$f":"IF(M440=\"\",\"\",VLOOKUP(M440,Parámetros!M$11:$P$13,MAX(Parámetros!M$7:$P$7),FALSE))","v":""},{"$f":"IF(N440=\"\",\"\",VLOOKUP(N440,Parámetros!N$11:$P$13,MAX(Parámetros!N$7:$P$7),FALSE))","v":""},{"$f":"IF(O440=\"\",\"\",VLOOKUP(O440,Parámetros!O$11:$P$13,MAX(Parámetros!O$7:$P$7),FALSE))","v":""},""]
[null,null,null,{"$f":"IF(E441=\"\",\"\",VLOOKUP(E441,'Buenas prácticas'!$G$8:$H$1007,2,FALSE))","v":""},null,null,null,null,null,null,null,null,null,null,null,{"$f":"IF(F441=\"\",\"\",VLOOKUP(F441,Parámetros!F$11:$P$13,MAX(Parámetros!F$7:$P$7),FALSE))","v":""},{"$f":"IF(G441=\"\",\"\",VLOOKUP(G441,Parámetros!G$11:$P$13,MAX(Parámetros!G$7:$P$7),FALSE))","v":""},{"$f":"IF(H441=\"\",\"\",VLOOKUP(H441,Parámetros!H$11:$P$13,MAX(Parámetros!H$7:$P$7),FALSE))","v":""},{"$f":"IF(I441=\"\",\"\",VLOOKUP(I441,Parámetros!I$11:$P$13,MAX(Parámetros!I$7:$P$7),FALSE))","v":""},{"$f":"IF(J441=\"\",\"\",VLOOKUP(J441,Parámetros!J$11:$P$13,MAX(Parámetros!J$7:$P$7),FALSE))","v":""},{"$f":"IF(K441=\"\",\"\",VLOOKUP(K441,Parámetros!K$11:$P$13,MAX(Parámetros!K$7:$P$7),FALSE))","v":""},{"$f":"IF(L441=\"\",\"\",VLOOKUP(L441,Parámetros!L$11:$P$13,MAX(Parámetros!L$7:$P$7),FALSE))","v":""},{"$f":"IF(M441=\"\",\"\",VLOOKUP(M441,Parámetros!M$11:$P$13,MAX(Parámetros!M$7:$P$7),FALSE))","v":""},{"$f":"IF(N441=\"\",\"\",VLOOKUP(N441,Parámetros!N$11:$P$13,MAX(Parámetros!N$7:$P$7),FALSE))","v":""},{"$f":"IF(O441=\"\",\"\",VLOOKUP(O441,Parámetros!O$11:$P$13,MAX(Parámetros!O$7:$P$7),FALSE))","v":""},""]
[null,null,null,{"$f":"IF(E442=\"\",\"\",VLOOKUP(E442,'Buenas prácticas'!$G$8:$H$1007,2,FALSE))","v":""},null,null,null,null,null,null,null,null,null,null,null,{"$f":"IF(F442=\"\",\"\",VLOOKUP(F442,Parámetros!F$11:$P$13,MAX(Parámetros!F$7:$P$7),FALSE))","v":""},{"$f":"IF(G442=\"\",\"\",VLOOKUP(G442,Parámetros!G$11:$P$13,MAX(Parámetros!G$7:$P$7),FALSE))","v":""},{"$f":"IF(H442=\"\",\"\",VLOOKUP(H442,Parámetros!H$11:$P$13,MAX(Parámetros!H$7:$P$7),FALSE))","v":""},{"$f":"IF(I442=\"\",\"\",VLOOKUP(I442,Parámetros!I$11:$P$13,MAX(Parámetros!I$7:$P$7),FALSE))","v":""},{"$f":"IF(J442=\"\",\"\",VLOOKUP(J442,Parámetros!J$11:$P$13,MAX(Parámetros!J$7:$P$7),FALSE))","v":""},{"$f":"IF(K442=\"\",\"\",VLOOKUP(K442,Parámetros!K$11:$P$13,MAX(Parámetros!K$7:$P$7),FALSE))","v":""},{"$f":"IF(L442=\"\",\"\",VLOOKUP(L442,Parámetros!L$11:$P$13,MAX(Parámetros!L$7:$P$7),FALSE))","v":""},{"$f":"IF(M442=\"\",\"\",VLOOKUP(M442,Parámetros!M$11:$P$13,MAX(Parámetros!M$7:$P$7),FALSE))","v":""},{"$f":"IF(N442=\"\",\"\",VLOOKUP(N442,Parámetros!N$11:$P$13,MAX(Parámetros!N$7:$P$7),FALSE))","v":""},{"$f":"IF(O442=\"\",\"\",VLOOKUP(O442,Parámetros!O$11:$P$13,MAX(Parámetros!O$7:$P$7),FALSE))","v":""},""]
[null,null,null,{"$f":"IF(E443=\"\",\"\",VLOOKUP(E443,'Buenas prácticas'!$G$8:$H$1007,2,FALSE))","v":""},null,null,null,null,null,null,null,null,null,null,null,{"$f":"IF(F443=\"\",\"\",VLOOKUP(F443,Parámetros!F$11:$P$13,MAX(Parámetros!F$7:$P$7),FALSE))","v":""},{"$f":"IF(G443=\"\",\"\",VLOOKUP(G443,Parámetros!G$11:$P$13,MAX(Parámetros!G$7:$P$7),FALSE))","v":""},{"$f":"IF(H443=\"\",\"\",VLOOKUP(H443,Parámetros!H$11:$P$13,MAX(Parámetros!H$7:$P$7),FALSE))","v":""},{"$f":"IF(I443=\"\",\"\",VLOOKUP(I443,Parámetros!I$11:$P$13,MAX(Parámetros!I$7:$P$7),FALSE))","v":""},{"$f":"IF(J443=\"\",\"\",VLOOKUP(J443,Parámetros!J$11:$P$13,MAX(Parámetros!J$7:$P$7),FALSE))","v":""},{"$f":"IF(K443=\"\",\"\",VLOOKUP(K443,Parámetros!K$11:$P$13,MAX(Parámetros!K$7:$P$7),FALSE))","v":""},{"$f":"IF(L443=\"\",\"\",VLOOKUP(L443,Parámetros!L$11:$P$13,MAX(Parámetros!L$7:$P$7),FALSE))","v":""},{"$f":"IF(M443=\"\",\"\",VLOOKUP(M443,Parámetros!M$11:$P$13,MAX(Parámetros!M$7:$P$7),FALSE))","v":""},{"$f":"IF(N443=\"\",\"\",VLOOKUP(N443,Parámetros!N$11:$P$13,MAX(Parámetros!N$7:$P$7),FALSE))","v":""},{"$f":"IF(O443=\"\",\"\",VLOOKUP(O443,Parámetros!O$11:$P$13,MAX(Parámetros!O$7:$P$7),FALSE))","v":""},""]
[null,null,null,{"$f":"IF(E444=\"\",\"\",VLOOKUP(E444,'Buenas prácticas'!$G$8:$H$1007,2,FALSE))","v":""},null,null,null,null,null,null,null,null,null,null,null,{"$f":"IF(F444=\"\",\"\",VLOOKUP(F444,Parámetros!F$11:$P$13,MAX(Parámetros!F$7:$P$7),FALSE))","v":""},{"$f":"IF(G444=\"\",\"\",VLOOKUP(G444,Parámetros!G$11:$P$13,MAX(Parámetros!G$7:$P$7),FALSE))","v":""},{"$f":"IF(H444=\"\",\"\",VLOOKUP(H444,Parámetros!H$11:$P$13,MAX(Parámetros!H$7:$P$7),FALSE))","v":""},{"$f":"IF(I444=\"\",\"\",VLOOKUP(I444,Parámetros!I$11:$P$13,MAX(Parámetros!I$7:$P$7),FALSE))","v":""},{"$f":"IF(J444=\"\",\"\",VLOOKUP(J444,Parámetros!J$11:$P$13,MAX(Parámetros!J$7:$P$7),FALSE))","v":""},{"$f":"IF(K444=\"\",\"\",VLOOKUP(K444,Parámetros!K$11:$P$13,MAX(Parámetros!K$7:$P$7),FALSE))","v":""},{"$f":"IF(L444=\"\",\"\",VLOOKUP(L444,Parámetros!L$11:$P$13,MAX(Parámetros!L$7:$P$7),FALSE))","v":""},{"$f":"IF(M444=\"\",\"\",VLOOKUP(M444,Parámetros!M$11:$P$13,MAX(Parámetros!M$7:$P$7),FALSE))","v":""},{"$f":"IF(N444=\"\",\"\",VLOOKUP(N444,Parámetros!N$11:$P$13,MAX(Parámetros!N$7:$P$7),FALSE))","v":""},{"$f":"IF(O444=\"\",\"\",VLOOKUP(O444,Parámetros!O$11:$P$13,MAX(Parámetros!O$7:$P$7),FALSE))","v":""},""]
[null,null,null,{"$f":"IF(E445=\"\",\"\",VLOOKUP(E445,'Buenas prácticas'!$G$8:$H$1007,2,FALSE))","v":""},null,null,null,null,null,null,null,null,null,null,null,{"$f":"IF(F445=\"\",\"\",VLOOKUP(F445,Parámetros!F$11:$P$13,MAX(Parámetros!F$7:$P$7),FALSE))","v":""},{"$f":"IF(G445=\"\",\"\",VLOOKUP(G445,Parámetros!G$11:$P$13,MAX(Parámetros!G$7:$P$7),FALSE))","v":""},{"$f":"IF(H445=\"\",\"\",VLOOKUP(H445,Parámetros!H$11:$P$13,MAX(Parámetros!H$7:$P$7),FALSE))","v":""},{"$f":"IF(I445=\"\",\"\",VLOOKUP(I445,Parámetros!I$11:$P$13,MAX(Parámetros!I$7:$P$7),FALSE))","v":""},{"$f":"IF(J445=\"\",\"\",VLOOKUP(J445,Parámetros!J$11:$P$13,MAX(Parámetros!J$7:$P$7),FALSE))","v":""},{"$f":"IF(K445=\"\",\"\",VLOOKUP(K445,Parámetros!K$11:$P$13,MAX(Parámetros!K$7:$P$7),FALSE))","v":""},{"$f":"IF(L445=\"\",\"\",VLOOKUP(L445,Parámetros!L$11:$P$13,MAX(Parámetros!L$7:$P$7),FALSE))","v":""},{"$f":"IF(M445=\"\",\"\",VLOOKUP(M445,Parámetros!M$11:$P$13,MAX(Parámetros!M$7:$P$7),FALSE))","v":""},{"$f":"IF(N445=\"\",\"\",VLOOKUP(N445,Parámetros!N$11:$P$13,MAX(Parámetros!N$7:$P$7),FALSE))","v":""},{"$f":"IF(O445=\"\",\"\",VLOOKUP(O445,Parámetros!O$11:$P$13,MAX(Parámetros!O$7:$P$7),FALSE))","v":""},""]
[null,null,null,{"$f":"IF(E446=\"\",\"\",VLOOKUP(E446,'Buenas prácticas'!$G$8:$H$1007,2,FALSE))","v":""},null,null,null,null,null,null,null,null,null,null,null,{"$f":"IF(F446=\"\",\"\",VLOOKUP(F446,Parámetros!F$11:$P$13,MAX(Parámetros!F$7:$P$7),FALSE))","v":""},{"$f":"IF(G446=\"\",\"\",VLOOKUP(G446,Parámetros!G$11:$P$13,MAX(Parámetros!G$7:$P$7),FALSE))","v":""},{"$f":"IF(H446=\"\",\"\",VLOOKUP(H446,Parámetros!H$11:$P$13,MAX(Parámetros!H$7:$P$7),FALSE))","v":""},{"$f":"IF(I446=\"\",\"\",VLOOKUP(I446,Parámetros!I$11:$P$13,MAX(Parámetros!I$7:$P$7),FALSE))","v":""},{"$f":"IF(J446=\"\",\"\",VLOOKUP(J446,Parámetros!J$11:$P$13,MAX(Parámetros!J$7:$P$7),FALSE))","v":""},{"$f":"IF(K446=\"\",\"\",VLOOKUP(K446,Parámetros!K$11:$P$13,MAX(Parámetros!K$7:$P$7),FALSE))","v":""},{"$f":"IF(L446=\"\",\"\",VLOOKUP(L446,Parámetros!L$11:$P$13,MAX(Parámetros!L$7:$P$7),FALSE))","v":""},{"$f":"IF(M446=\"\",\"\",VLOOKUP(M446,Parámetros!M$11:$P$13,MAX(Parámetros!M$7:$P$7),FALSE))","v":""},{"$f":"IF(N446=\"\",\"\",VLOOKUP(N446,Parámetros!N$11:$P$13,MAX(Parámetros!N$7:$P$7),FALSE))","v":""},{"$f":"IF(O446=\"\",\"\",VLOOKUP(O446,Parámetros!O$11:$P$13,MAX(Parámetros!O$7:$P$7),FALSE))","v":""},""]
[null,null,null,{"$f":"IF(E447=\"\",\"\",VLOOKUP(E447,'Buenas prácticas'!$G$8:$H$1007,2,FALSE))","v":""},null,null,null,null,null,null,null,null,null,null,null,{"$f":"IF(F447=\"\",\"\",VLOOKUP(F447,Parámetros!F$11:$P$13,MAX(Parámetros!F$7:$P$7),FALSE))","v":""},{"$f":"IF(G447=\"\",\"\",VLOOKUP(G447,Parámetros!G$11:$P$13,MAX(Parámetros!G$7:$P$7),FALSE))","v":""},{"$f":"IF(H447=\"\",\"\",VLOOKUP(H447,Parámetros!H$11:$P$13,MAX(Parámetros!H$7:$P$7),FALSE))","v":""},{"$f":"IF(I447=\"\",\"\",VLOOKUP(I447,Parámetros!I$11:$P$13,MAX(Parámetros!I$7:$P$7),FALSE))","v":""},{"$f":"IF(J447=\"\",\"\",VLOOKUP(J447,Parámetros!J$11:$P$13,MAX(Parámetros!J$7:$P$7),FALSE))","v":""},{"$f":"IF(K447=\"\",\"\",VLOOKUP(K447,Parámetros!K$11:$P$13,MAX(Parámetros!K$7:$P$7),FALSE))","v":""},{"$f":"IF(L447=\"\",\"\",VLOOKUP(L447,Parámetros!L$11:$P$13,MAX(Parámetros!L$7:$P$7),FALSE))","v":""},{"$f":"IF(M447=\"\",\"\",VLOOKUP(M447,Parámetros!M$11:$P$13,MAX(Parámetros!M$7:$P$7),FALSE))","v":""},{"$f":"IF(N447=\"\",\"\",VLOOKUP(N447,Parámetros!N$11:$P$13,MAX(Parámetros!N$7:$P$7),FALSE))","v":""},{"$f":"IF(O447=\"\",\"\",VLOOKUP(O447,Parámetros!O$11:$P$13,MAX(Parámetros!O$7:$P$7),FALSE))","v":""},""]
[null,null,null,{"$f":"IF(E448=\"\",\"\",VLOOKUP(E448,'Buenas prácticas'!$G$8:$H$1007,2,FALSE))","v":""},null,null,null,null,null,null,null,null,null,null,null,{"$f":"IF(F448=\"\",\"\",VLOOKUP(F448,Parámetros!F$11:$P$13,MAX(Parámetros!F$7:$P$7),FALSE))","v":""},{"$f":"IF(G448=\"\",\"\",VLOOKUP(G448,Parámetros!G$11:$P$13,MAX(Parámetros!G$7:$P$7),FALSE))","v":""},{"$f":"IF(H448=\"\",\"\",VLOOKUP(H448,Parámetros!H$11:$P$13,MAX(Parámetros!H$7:$P$7),FALSE))","v":""},{"$f":"IF(I448=\"\",\"\",VLOOKUP(I448,Parámetros!I$11:$P$13,MAX(Parámetros!I$7:$P$7),FALSE))","v":""},{"$f":"IF(J448=\"\",\"\",VLOOKUP(J448,Parámetros!J$11:$P$13,MAX(Parámetros!J$7:$P$7),FALSE))","v":""},{"$f":"IF(K448=\"\",\"\",VLOOKUP(K448,Parámetros!K$11:$P$13,MAX(Parámetros!K$7:$P$7),FALSE))","v":""},{"$f":"IF(L448=\"\",\"\",VLOOKUP(L448,Parámetros!L$11:$P$13,MAX(Parámetros!L$7:$P$7),FALSE))","v":""},{"$f":"IF(M448=\"\",\"\",VLOOKUP(M448,Parámetros!M$11:$P$13,MAX(Parámetros!M$7:$P$7),FALSE))","v":""},{"$f":"IF(N448=\"\",\"\",VLOOKUP(N448,Parámetros!N$11:$P$13,MAX(Parámetros!N$7:$P$7),FALSE))","v":""},{"$f":"IF(O448=\"\",\"\",VLOOKUP(O448,Parámetros!O$11:$P$13,MAX(Parámetros!O$7:$P$7),FALSE))","v":""},""]
[null,null,null,{"$f":"IF(E449=\"\",\"\",VLOOKUP(E449,'Buenas prácticas'!$G$8:$H$1007,2,FALSE))","v":""},null,null,null,null,null,null,null,null,null,null,null,{"$f":"IF(F449=\"\",\"\",VLOOKUP(F449,Parámetros!F$11:$P$13,MAX(Parámetros!F$7:$P$7),FALSE))","v":""},{"$f":"IF(G449=\"\",\"\",VLOOKUP(G449,Parámetros!G$11:$P$13,MAX(Parámetros!G$7:$P$7),FALSE))","v":""},{"$f":"IF(H449=\"\",\"\",VLOOKUP(H449,Parámetros!H$11:$P$13,MAX(Parámetros!H$7:$P$7),FALSE))","v":""},{"$f":"IF(I449=\"\",\"\",VLOOKUP(I449,Parámetros!I$11:$P$13,MAX(Parámetros!I$7:$P$7),FALSE))","v":""},{"$f":"IF(J449=\"\",\"\",VLOOKUP(J449,Parámetros!J$11:$P$13,MAX(Parámetros!J$7:$P$7),FALSE))","v":""},{"$f":"IF(K449=\"\",\"\",VLOOKUP(K449,Parámetros!K$11:$P$13,MAX(Parámetros!K$7:$P$7),FALSE))","v":""},{"$f":"IF(L449=\"\",\"\",VLOOKUP(L449,Parámetros!L$11:$P$13,MAX(Parámetros!L$7:$P$7),FALSE))","v":""},{"$f":"IF(M449=\"\",\"\",VLOOKUP(M449,Parámetros!M$11:$P$13,MAX(Parámetros!M$7:$P$7),FALSE))","v":""},{"$f":"IF(N449=\"\",\"\",VLOOKUP(N449,Parámetros!N$11:$P$13,MAX(Parámetros!N$7:$P$7),FALSE))","v":""},{"$f":"IF(O449=\"\",\"\",VLOOKUP(O449,Parámetros!O$11:$P$13,MAX(Parámetros!O$7:$P$7),FALSE))","v":""},""]
[null,null,null,{"$f":"IF(E450=\"\",\"\",VLOOKUP(E450,'Buenas prácticas'!$G$8:$H$1007,2,FALSE))","v":""},null,null,null,null,null,null,null,null,null,null,null,{"$f":"IF(F450=\"\",\"\",VLOOKUP(F450,Parámetros!F$11:$P$13,MAX(Parámetros!F$7:$P$7),FALSE))","v":""},{"$f":"IF(G450=\"\",\"\",VLOOKUP(G450,Parámetros!G$11:$P$13,MAX(Parámetros!G$7:$P$7),FALSE))","v":""},{"$f":"IF(H450=\"\",\"\",VLOOKUP(H450,Parámetros!H$11:$P$13,MAX(Parámetros!H$7:$P$7),FALSE))","v":""},{"$f":"IF(I450=\"\",\"\",VLOOKUP(I450,Parámetros!I$11:$P$13,MAX(Parámetros!I$7:$P$7),FALSE))","v":""},{"$f":"IF(J450=\"\",\"\",VLOOKUP(J450,Parámetros!J$11:$P$13,MAX(Parámetros!J$7:$P$7),FALSE))","v":""},{"$f":"IF(K450=\"\",\"\",VLOOKUP(K450,Parámetros!K$11:$P$13,MAX(Parámetros!K$7:$P$7),FALSE))","v":""},{"$f":"IF(L450=\"\",\"\",VLOOKUP(L450,Parámetros!L$11:$P$13,MAX(Parámetros!L$7:$P$7),FALSE))","v":""},{"$f":"IF(M450=\"\",\"\",VLOOKUP(M450,Parámetros!M$11:$P$13,MAX(Parámetros!M$7:$P$7),FALSE))","v":""},{"$f":"IF(N450=\"\",\"\",VLOOKUP(N450,Parámetros!N$11:$P$13,MAX(Parámetros!N$7:$P$7),FALSE))","v":""},{"$f":"IF(O450=\"\",\"\",VLOOKUP(O450,Parámetros!O$11:$P$13,MAX(Parámetros!O$7:$P$7),FALSE))","v":""},""]
[null,null,null,{"$f":"IF(E451=\"\",\"\",VLOOKUP(E451,'Buenas prácticas'!$G$8:$H$1007,2,FALSE))","v":""},null,null,null,null,null,null,null,null,null,null,null,{"$f":"IF(F451=\"\",\"\",VLOOKUP(F451,Parámetros!F$11:$P$13,MAX(Parámetros!F$7:$P$7),FALSE))","v":""},{"$f":"IF(G451=\"\",\"\",VLOOKUP(G451,Parámetros!G$11:$P$13,MAX(Parámetros!G$7:$P$7),FALSE))","v":""},{"$f":"IF(H451=\"\",\"\",VLOOKUP(H451,Parámetros!H$11:$P$13,MAX(Parámetros!H$7:$P$7),FALSE))","v":""},{"$f":"IF(I451=\"\",\"\",VLOOKUP(I451,Parámetros!I$11:$P$13,MAX(Parámetros!I$7:$P$7),FALSE))","v":""},{"$f":"IF(J451=\"\",\"\",VLOOKUP(J451,Parámetros!J$11:$P$13,MAX(Parámetros!J$7:$P$7),FALSE))","v":""},{"$f":"IF(K451=\"\",\"\",VLOOKUP(K451,Parámetros!K$11:$P$13,MAX(Parámetros!K$7:$P$7),FALSE))","v":""},{"$f":"IF(L451=\"\",\"\",VLOOKUP(L451,Parámetros!L$11:$P$13,MAX(Parámetros!L$7:$P$7),FALSE))","v":""},{"$f":"IF(M451=\"\",\"\",VLOOKUP(M451,Parámetros!M$11:$P$13,MAX(Parámetros!M$7:$P$7),FALSE))","v":""},{"$f":"IF(N451=\"\",\"\",VLOOKUP(N451,Parámetros!N$11:$P$13,MAX(Parámetros!N$7:$P$7),FALSE))","v":""},{"$f":"IF(O451=\"\",\"\",VLOOKUP(O451,Parámetros!O$11:$P$13,MAX(Parámetros!O$7:$P$7),FALSE))","v":""},""]
[null,null,null,{"$f":"IF(E452=\"\",\"\",VLOOKUP(E452,'Buenas prácticas'!$G$8:$H$1007,2,FALSE))","v":""},null,null,null,null,null,null,null,null,null,null,null,{"$f":"IF(F452=\"\",\"\",VLOOKUP(F452,Parámetros!F$11:$P$13,MAX(Parámetros!F$7:$P$7),FALSE))","v":""},{"$f":"IF(G452=\"\",\"\",VLOOKUP(G452,Parámetros!G$11:$P$13,MAX(Parámetros!G$7:$P$7),FALSE))","v":""},{"$f":"IF(H452=\"\",\"\",VLOOKUP(H452,Parámetros!H$11:$P$13,MAX(Parámetros!H$7:$P$7),FALSE))","v":""},{"$f":"IF(I452=\"\",\"\",VLOOKUP(I452,Parámetros!I$11:$P$13,MAX(Parámetros!I$7:$P$7),FALSE))","v":""},{"$f":"IF(J452=\"\",\"\",VLOOKUP(J452,Parámetros!J$11:$P$13,MAX(Parámetros!J$7:$P$7),FALSE))","v":""},{"$f":"IF(K452=\"\",\"\",VLOOKUP(K452,Parámetros!K$11:$P$13,MAX(Parámetros!K$7:$P$7),FALSE))","v":""},{"$f":"IF(L452=\"\",\"\",VLOOKUP(L452,Parámetros!L$11:$P$13,MAX(Parámetros!L$7:$P$7),FALSE))","v":""},{"$f":"IF(M452=\"\",\"\",VLOOKUP(M452,Parámetros!M$11:$P$13,MAX(Parámetros!M$7:$P$7),FALSE))","v":""},{"$f":"IF(N452=\"\",\"\",VLOOKUP(N452,Parámetros!N$11:$P$13,MAX(Parámetros!N$7:$P$7),FALSE))","v":""},{"$f":"IF(O452=\"\",\"\",VLOOKUP(O452,Parámetros!O$11:$P$13,MAX(Parámetros!O$7:$P$7),FALSE))","v":""},""]
[null,null,null,{"$f":"IF(E453=\"\",\"\",VLOOKUP(E453,'Buenas prácticas'!$G$8:$H$1007,2,FALSE))","v":""},null,null,null,null,null,null,null,null,null,null,null,{"$f":"IF(F453=\"\",\"\",VLOOKUP(F453,Parámetros!F$11:$P$13,MAX(Parámetros!F$7:$P$7),FALSE))","v":""},{"$f":"IF(G453=\"\",\"\",VLOOKUP(G453,Parámetros!G$11:$P$13,MAX(Parámetros!G$7:$P$7),FALSE))","v":""},{"$f":"IF(H453=\"\",\"\",VLOOKUP(H453,Parámetros!H$11:$P$13,MAX(Parámetros!H$7:$P$7),FALSE))","v":""},{"$f":"IF(I453=\"\",\"\",VLOOKUP(I453,Parámetros!I$11:$P$13,MAX(Parámetros!I$7:$P$7),FALSE))","v":""},{"$f":"IF(J453=\"\",\"\",VLOOKUP(J453,Parámetros!J$11:$P$13,MAX(Parámetros!J$7:$P$7),FALSE))","v":""},{"$f":"IF(K453=\"\",\"\",VLOOKUP(K453,Parámetros!K$11:$P$13,MAX(Parámetros!K$7:$P$7),FALSE))","v":""},{"$f":"IF(L453=\"\",\"\",VLOOKUP(L453,Parámetros!L$11:$P$13,MAX(Parámetros!L$7:$P$7),FALSE))","v":""},{"$f":"IF(M453=\"\",\"\",VLOOKUP(M453,Parámetros!M$11:$P$13,MAX(Parámetros!M$7:$P$7),FALSE))","v":""},{"$f":"IF(N453=\"\",\"\",VLOOKUP(N453,Parámetros!N$11:$P$13,MAX(Parámetros!N$7:$P$7),FALSE))","v":""},{"$f":"IF(O453=\"\",\"\",VLOOKUP(O453,Parámetros!O$11:$P$13,MAX(Parámetros!O$7:$P$7),FALSE))","v":""},""]
[null,null,null,{"$f":"IF(E454=\"\",\"\",VLOOKUP(E454,'Buenas prácticas'!$G$8:$H$1007,2,FALSE))","v":""},null,null,null,null,null,null,null,null,null,null,null,{"$f":"IF(F454=\"\",\"\",VLOOKUP(F454,Parámetros!F$11:$P$13,MAX(Parámetros!F$7:$P$7),FALSE))","v":""},{"$f":"IF(G454=\"\",\"\",VLOOKUP(G454,Parámetros!G$11:$P$13,MAX(Parámetros!G$7:$P$7),FALSE))","v":""},{"$f":"IF(H454=\"\",\"\",VLOOKUP(H454,Parámetros!H$11:$P$13,MAX(Parámetros!H$7:$P$7),FALSE))","v":""},{"$f":"IF(I454=\"\",\"\",VLOOKUP(I454,Parámetros!I$11:$P$13,MAX(Parámetros!I$7:$P$7),FALSE))","v":""},{"$f":"IF(J454=\"\",\"\",VLOOKUP(J454,Parámetros!J$11:$P$13,MAX(Parámetros!J$7:$P$7),FALSE))","v":""},{"$f":"IF(K454=\"\",\"\",VLOOKUP(K454,Parámetros!K$11:$P$13,MAX(Parámetros!K$7:$P$7),FALSE))","v":""},{"$f":"IF(L454=\"\",\"\",VLOOKUP(L454,Parámetros!L$11:$P$13,MAX(Parámetros!L$7:$P$7),FALSE))","v":""},{"$f":"IF(M454=\"\",\"\",VLOOKUP(M454,Parámetros!M$11:$P$13,MAX(Parámetros!M$7:$P$7),FALSE))","v":""},{"$f":"IF(N454=\"\",\"\",VLOOKUP(N454,Parámetros!N$11:$P$13,MAX(Parámetros!N$7:$P$7),FALSE))","v":""},{"$f":"IF(O454=\"\",\"\",VLOOKUP(O454,Parámetros!O$11:$P$13,MAX(Parámetros!O$7:$P$7),FALSE))","v":""},""]
[null,null,null,{"$f":"IF(E455=\"\",\"\",VLOOKUP(E455,'Buenas prácticas'!$G$8:$H$1007,2,FALSE))","v":""},null,null,null,null,null,null,null,null,null,null,null,{"$f":"IF(F455=\"\",\"\",VLOOKUP(F455,Parámetros!F$11:$P$13,MAX(Parámetros!F$7:$P$7),FALSE))","v":""},{"$f":"IF(G455=\"\",\"\",VLOOKUP(G455,Parámetros!G$11:$P$13,MAX(Parámetros!G$7:$P$7),FALSE))","v":""},{"$f":"IF(H455=\"\",\"\",VLOOKUP(H455,Parámetros!H$11:$P$13,MAX(Parámetros!H$7:$P$7),FALSE))","v":""},{"$f":"IF(I455=\"\",\"\",VLOOKUP(I455,Parámetros!I$11:$P$13,MAX(Parámetros!I$7:$P$7),FALSE))","v":""},{"$f":"IF(J455=\"\",\"\",VLOOKUP(J455,Parámetros!J$11:$P$13,MAX(Parámetros!J$7:$P$7),FALSE))","v":""},{"$f":"IF(K455=\"\",\"\",VLOOKUP(K455,Parámetros!K$11:$P$13,MAX(Parámetros!K$7:$P$7),FALSE))","v":""},{"$f":"IF(L455=\"\",\"\",VLOOKUP(L455,Parámetros!L$11:$P$13,MAX(Parámetros!L$7:$P$7),FALSE))","v":""},{"$f":"IF(M455=\"\",\"\",VLOOKUP(M455,Parámetros!M$11:$P$13,MAX(Parámetros!M$7:$P$7),FALSE))","v":""},{"$f":"IF(N455=\"\",\"\",VLOOKUP(N455,Parámetros!N$11:$P$13,MAX(Parámetros!N$7:$P$7),FALSE))","v":""},{"$f":"IF(O455=\"\",\"\",VLOOKUP(O455,Parámetros!O$11:$P$13,MAX(Parámetros!O$7:$P$7),FALSE))","v":""},""]
[null,null,null,{"$f":"IF(E456=\"\",\"\",VLOOKUP(E456,'Buenas prácticas'!$G$8:$H$1007,2,FALSE))","v":""},null,null,null,null,null,null,null,null,null,null,null,{"$f":"IF(F456=\"\",\"\",VLOOKUP(F456,Parámetros!F$11:$P$13,MAX(Parámetros!F$7:$P$7),FALSE))","v":""},{"$f":"IF(G456=\"\",\"\",VLOOKUP(G456,Parámetros!G$11:$P$13,MAX(Parámetros!G$7:$P$7),FALSE))","v":""},{"$f":"IF(H456=\"\",\"\",VLOOKUP(H456,Parámetros!H$11:$P$13,MAX(Parámetros!H$7:$P$7),FALSE))","v":""},{"$f":"IF(I456=\"\",\"\",VLOOKUP(I456,Parámetros!I$11:$P$13,MAX(Parámetros!I$7:$P$7),FALSE))","v":""},{"$f":"IF(J456=\"\",\"\",VLOOKUP(J456,Parámetros!J$11:$P$13,MAX(Parámetros!J$7:$P$7),FALSE))","v":""},{"$f":"IF(K456=\"\",\"\",VLOOKUP(K456,Parámetros!K$11:$P$13,MAX(Parámetros!K$7:$P$7),FALSE))","v":""},{"$f":"IF(L456=\"\",\"\",VLOOKUP(L456,Parámetros!L$11:$P$13,MAX(Parámetros!L$7:$P$7),FALSE))","v":""},{"$f":"IF(M456=\"\",\"\",VLOOKUP(M456,Parámetros!M$11:$P$13,MAX(Parámetros!M$7:$P$7),FALSE))","v":""},{"$f":"IF(N456=\"\",\"\",VLOOKUP(N456,Parámetros!N$11:$P$13,MAX(Parámetros!N$7:$P$7),FALSE))","v":""},{"$f":"IF(O456=\"\",\"\",VLOOKUP(O456,Parámetros!O$11:$P$13,MAX(Parámetros!O$7:$P$7),FALSE))","v":""},""]
[null,null,null,{"$f":"IF(E457=\"\",\"\",VLOOKUP(E457,'Buenas prácticas'!$G$8:$H$1007,2,FALSE))","v":""},null,null,null,null,null,null,null,null,null,null,null,{"$f":"IF(F457=\"\",\"\",VLOOKUP(F457,Parámetros!F$11:$P$13,MAX(Parámetros!F$7:$P$7),FALSE))","v":""},{"$f":"IF(G457=\"\",\"\",VLOOKUP(G457,Parámetros!G$11:$P$13,MAX(Parámetros!G$7:$P$7),FALSE))","v":""},{"$f":"IF(H457=\"\",\"\",VLOOKUP(H457,Parámetros!H$11:$P$13,MAX(Parámetros!H$7:$P$7),FALSE))","v":""},{"$f":"IF(I457=\"\",\"\",VLOOKUP(I457,Parámetros!I$11:$P$13,MAX(Parámetros!I$7:$P$7),FALSE))","v":""},{"$f":"IF(J457=\"\",\"\",VLOOKUP(J457,Parámetros!J$11:$P$13,MAX(Parámetros!J$7:$P$7),FALSE))","v":""},{"$f":"IF(K457=\"\",\"\",VLOOKUP(K457,Parámetros!K$11:$P$13,MAX(Parámetros!K$7:$P$7),FALSE))","v":""},{"$f":"IF(L457=\"\",\"\",VLOOKUP(L457,Parámetros!L$11:$P$13,MAX(Parámetros!L$7:$P$7),FALSE))","v":""},{"$f":"IF(M457=\"\",\"\",VLOOKUP(M457,Parámetros!M$11:$P$13,MAX(Parámetros!M$7:$P$7),FALSE))","v":""},{"$f":"IF(N457=\"\",\"\",VLOOKUP(N457,Parámetros!N$11:$P$13,MAX(Parámetros!N$7:$P$7),FALSE))","v":""},{"$f":"IF(O457=\"\",\"\",VLOOKUP(O457,Parámetros!O$11:$P$13,MAX(Parámetros!O$7:$P$7),FALSE))","v":""},{"$f":"IF(SUMPRODUCT($P457:$Y457,$P$6:$Y$6)=0,\"\",SUMPRODUCT($P457:$Y457,$P$6:$Y$6)/3)","v":""}]
[null,null,null,{"$f":"IF(E458=\"\",\"\",VLOOKUP(E458,'Buenas prácticas'!$G$8:$H$1007,2,FALSE))","v":""},null,null,null,null,null,null,null,null,null,null,null,{"$f":"IF(F458=\"\",\"\",VLOOKUP(F458,Parámetros!F$11:$P$13,MAX(Parámetros!F$7:$P$7),FALSE))","v":""},{"$f":"IF(G458=\"\",\"\",VLOOKUP(G458,Parámetros!G$11:$P$13,MAX(Parámetros!G$7:$P$7),FALSE))","v":""},{"$f":"IF(H458=\"\",\"\",VLOOKUP(H458,Parámetros!H$11:$P$13,MAX(Parámetros!H$7:$P$7),FALSE))","v":""},{"$f":"IF(I458=\"\",\"\",VLOOKUP(I458,Parámetros!I$11:$P$13,MAX(Parámetros!I$7:$P$7),FALSE))","v":""},{"$f":"IF(J458=\"\",\"\",VLOOKUP(J458,Parámetros!J$11:$P$13,MAX(Parámetros!J$7:$P$7),FALSE))","v":""},{"$f":"IF(K458=\"\",\"\",VLOOKUP(K458,Parámetros!K$11:$P$13,MAX(Parámetros!K$7:$P$7),FALSE))","v":""},{"$f":"IF(L458=\"\",\"\",VLOOKUP(L458,Parámetros!L$11:$P$13,MAX(Parámetros!L$7:$P$7),FALSE))","v":""},{"$f":"IF(M458=\"\",\"\",VLOOKUP(M458,Parámetros!M$11:$P$13,MAX(Parámetros!M$7:$P$7),FALSE))","v":""},{"$f":"IF(N458=\"\",\"\",VLOOKUP(N458,Parámetros!N$11:$P$13,MAX(Parámetros!N$7:$P$7),FALSE))","v":""},{"$f":"IF(O458=\"\",\"\",VLOOKUP(O458,Parámetros!O$11:$P$13,MAX(Parámetros!O$7:$P$7),FALSE))","v":""},""]
[null,null,null,{"$f":"IF(E459=\"\",\"\",VLOOKUP(E459,'Buenas prácticas'!$G$8:$H$1007,2,FALSE))","v":""},null,null,null,null,null,null,null,null,null,null,null,{"$f":"IF(F459=\"\",\"\",VLOOKUP(F459,Parámetros!F$11:$P$13,MAX(Parámetros!F$7:$P$7),FALSE))","v":""},{"$f":"IF(G459=\"\",\"\",VLOOKUP(G459,Parámetros!G$11:$P$13,MAX(Parámetros!G$7:$P$7),FALSE))","v":""},{"$f":"IF(H459=\"\",\"\",VLOOKUP(H459,Parámetros!H$11:$P$13,MAX(Parámetros!H$7:$P$7),FALSE))","v":""},{"$f":"IF(I459=\"\",\"\",VLOOKUP(I459,Parámetros!I$11:$P$13,MAX(Parámetros!I$7:$P$7),FALSE))","v":""},{"$f":"IF(J459=\"\",\"\",VLOOKUP(J459,Parámetros!J$11:$P$13,MAX(Parámetros!J$7:$P$7),FALSE))","v":""},{"$f":"IF(K459=\"\",\"\",VLOOKUP(K459,Parámetros!K$11:$P$13,MAX(Parámetros!K$7:$P$7),FALSE))","v":""},{"$f":"IF(L459=\"\",\"\",VLOOKUP(L459,Parámetros!L$11:$P$13,MAX(Parámetros!L$7:$P$7),FALSE))","v":""},{"$f":"IF(M459=\"\",\"\",VLOOKUP(M459,Parámetros!M$11:$P$13,MAX(Parámetros!M$7:$P$7),FALSE))","v":""},{"$f":"IF(N459=\"\",\"\",VLOOKUP(N459,Parámetros!N$11:$P$13,MAX(Parámetros!N$7:$P$7),FALSE))","v":""},{"$f":"IF(O459=\"\",\"\",VLOOKUP(O459,Parámetros!O$11:$P$13,MAX(Parámetros!O$7:$P$7),FALSE))","v":""},""]
[null,null,null,{"$f":"IF(E460=\"\",\"\",VLOOKUP(E460,'Buenas prácticas'!$G$8:$H$1007,2,FALSE))","v":""},null,null,null,null,null,null,null,null,null,null,null,{"$f":"IF(F460=\"\",\"\",VLOOKUP(F460,Parámetros!F$11:$P$13,MAX(Parámetros!F$7:$P$7),FALSE))","v":""},{"$f":"IF(G460=\"\",\"\",VLOOKUP(G460,Parámetros!G$11:$P$13,MAX(Parámetros!G$7:$P$7),FALSE))","v":""},{"$f":"IF(H460=\"\",\"\",VLOOKUP(H460,Parámetros!H$11:$P$13,MAX(Parámetros!H$7:$P$7),FALSE))","v":""},{"$f":"IF(I460=\"\",\"\",VLOOKUP(I460,Parámetros!I$11:$P$13,MAX(Parámetros!I$7:$P$7),FALSE))","v":""},{"$f":"IF(J460=\"\",\"\",VLOOKUP(J460,Parámetros!J$11:$P$13,MAX(Parámetros!J$7:$P$7),FALSE))","v":""},{"$f":"IF(K460=\"\",\"\",VLOOKUP(K460,Parámetros!K$11:$P$13,MAX(Parámetros!K$7:$P$7),FALSE))","v":""},{"$f":"IF(L460=\"\",\"\",VLOOKUP(L460,Parámetros!L$11:$P$13,MAX(Parámetros!L$7:$P$7),FALSE))","v":""},{"$f":"IF(M460=\"\",\"\",VLOOKUP(M460,Parámetros!M$11:$P$13,MAX(Parámetros!M$7:$P$7),FALSE))","v":""},{"$f":"IF(N460=\"\",\"\",VLOOKUP(N460,Parámetros!N$11:$P$13,MAX(Parámetros!N$7:$P$7),FALSE))","v":""},{"$f":"IF(O460=\"\",\"\",VLOOKUP(O460,Parámetros!O$11:$P$13,MAX(Parámetros!O$7:$P$7),FALSE))","v":""},""]
[null,null,null,{"$f":"IF(E461=\"\",\"\",VLOOKUP(E461,'Buenas prácticas'!$G$8:$H$1007,2,FALSE))","v":""},null,null,null,null,null,null,null,null,null,null,null,{"$f":"IF(F461=\"\",\"\",VLOOKUP(F461,Parámetros!F$11:$P$13,MAX(Parámetros!F$7:$P$7),FALSE))","v":""},{"$f":"IF(G461=\"\",\"\",VLOOKUP(G461,Parámetros!G$11:$P$13,MAX(Parámetros!G$7:$P$7),FALSE))","v":""},{"$f":"IF(H461=\"\",\"\",VLOOKUP(H461,Parámetros!H$11:$P$13,MAX(Parámetros!H$7:$P$7),FALSE))","v":""},{"$f":"IF(I461=\"\",\"\",VLOOKUP(I461,Parámetros!I$11:$P$13,MAX(Parámetros!I$7:$P$7),FALSE))","v":""},{"$f":"IF(J461=\"\",\"\",VLOOKUP(J461,Parámetros!J$11:$P$13,MAX(Parámetros!J$7:$P$7),FALSE))","v":""},{"$f":"IF(K461=\"\",\"\",VLOOKUP(K461,Parámetros!K$11:$P$13,MAX(Parámetros!K$7:$P$7),FALSE))","v":""},{"$f":"IF(L461=\"\",\"\",VLOOKUP(L461,Parámetros!L$11:$P$13,MAX(Parámetros!L$7:$P$7),FALSE))","v":""},{"$f":"IF(M461=\"\",\"\",VLOOKUP(M461,Parámetros!M$11:$P$13,MAX(Parámetros!M$7:$P$7),FALSE))","v":""},{"$f":"IF(N461=\"\",\"\",VLOOKUP(N461,Parámetros!N$11:$P$13,MAX(Parámetros!N$7:$P$7),FALSE))","v":""},{"$f":"IF(O461=\"\",\"\",VLOOKUP(O461,Parámetros!O$11:$P$13,MAX(Parámetros!O$7:$P$7),FALSE))","v":""},""]
[null,null,null,{"$f":"IF(E462=\"\",\"\",VLOOKUP(E462,'Buenas prácticas'!$G$8:$H$1007,2,FALSE))","v":""},null,null,null,null,null,null,null,null,null,null,null,{"$f":"IF(F462=\"\",\"\",VLOOKUP(F462,Parámetros!F$11:$P$13,MAX(Parámetros!F$7:$P$7),FALSE))","v":""},{"$f":"IF(G462=\"\",\"\",VLOOKUP(G462,Parámetros!G$11:$P$13,MAX(Parámetros!G$7:$P$7),FALSE))","v":""},{"$f":"IF(H462=\"\",\"\",VLOOKUP(H462,Parámetros!H$11:$P$13,MAX(Parámetros!H$7:$P$7),FALSE))","v":""},{"$f":"IF(I462=\"\",\"\",VLOOKUP(I462,Parámetros!I$11:$P$13,MAX(Parámetros!I$7:$P$7),FALSE))","v":""},{"$f":"IF(J462=\"\",\"\",VLOOKUP(J462,Parámetros!J$11:$P$13,MAX(Parámetros!J$7:$P$7),FALSE))","v":""},{"$f":"IF(K462=\"\",\"\",VLOOKUP(K462,Parámetros!K$11:$P$13,MAX(Parámetros!K$7:$P$7),FALSE))","v":""},{"$f":"IF(L462=\"\",\"\",VLOOKUP(L462,Parámetros!L$11:$P$13,MAX(Parámetros!L$7:$P$7),FALSE))","v":""},{"$f":"IF(M462=\"\",\"\",VLOOKUP(M462,Parámetros!M$11:$P$13,MAX(Parámetros!M$7:$P$7),FALSE))","v":""},{"$f":"IF(N462=\"\",\"\",VLOOKUP(N462,Parámetros!N$11:$P$13,MAX(Parámetros!N$7:$P$7),FALSE))","v":""},{"$f":"IF(O462=\"\",\"\",VLOOKUP(O462,Parámetros!O$11:$P$13,MAX(Parámetros!O$7:$P$7),FALSE))","v":""},""]
[null,null,null,{"$f":"IF(E463=\"\",\"\",VLOOKUP(E463,'Buenas prácticas'!$G$8:$H$1007,2,FALSE))","v":""},null,null,null,null,null,null,null,null,null,null,null,{"$f":"IF(F463=\"\",\"\",VLOOKUP(F463,Parámetros!F$11:$P$13,MAX(Parámetros!F$7:$P$7),FALSE))","v":""},{"$f":"IF(G463=\"\",\"\",VLOOKUP(G463,Parámetros!G$11:$P$13,MAX(Parámetros!G$7:$P$7),FALSE))","v":""},{"$f":"IF(H463=\"\",\"\",VLOOKUP(H463,Parámetros!H$11:$P$13,MAX(Parámetros!H$7:$P$7),FALSE))","v":""},{"$f":"IF(I463=\"\",\"\",VLOOKUP(I463,Parámetros!I$11:$P$13,MAX(Parámetros!I$7:$P$7),FALSE))","v":""},{"$f":"IF(J463=\"\",\"\",VLOOKUP(J463,Parámetros!J$11:$P$13,MAX(Parámetros!J$7:$P$7),FALSE))","v":""},{"$f":"IF(K463=\"\",\"\",VLOOKUP(K463,Parámetros!K$11:$P$13,MAX(Parámetros!K$7:$P$7),FALSE))","v":""},{"$f":"IF(L463=\"\",\"\",VLOOKUP(L463,Parámetros!L$11:$P$13,MAX(Parámetros!L$7:$P$7),FALSE))","v":""},{"$f":"IF(M463=\"\",\"\",VLOOKUP(M463,Parámetros!M$11:$P$13,MAX(Parámetros!M$7:$P$7),FALSE))","v":""},{"$f":"IF(N463=\"\",\"\",VLOOKUP(N463,Parámetros!N$11:$P$13,MAX(Parámetros!N$7:$P$7),FALSE))","v":""},{"$f":"IF(O463=\"\",\"\",VLOOKUP(O463,Parámetros!O$11:$P$13,MAX(Parámetros!O$7:$P$7),FALSE))","v":""},""]
[null,null,null,{"$f":"IF(E464=\"\",\"\",VLOOKUP(E464,'Buenas prácticas'!$G$8:$H$1007,2,FALSE))","v":""},null,null,null,null,null,null,null,null,null,null,null,{"$f":"IF(F464=\"\",\"\",VLOOKUP(F464,Parámetros!F$11:$P$13,MAX(Parámetros!F$7:$P$7),FALSE))","v":""},{"$f":"IF(G464=\"\",\"\",VLOOKUP(G464,Parámetros!G$11:$P$13,MAX(Parámetros!G$7:$P$7),FALSE))","v":""},{"$f":"IF(H464=\"\",\"\",VLOOKUP(H464,Parámetros!H$11:$P$13,MAX(Parámetros!H$7:$P$7),FALSE))","v":""},{"$f":"IF(I464=\"\",\"\",VLOOKUP(I464,Parámetros!I$11:$P$13,MAX(Parámetros!I$7:$P$7),FALSE))","v":""},{"$f":"IF(J464=\"\",\"\",VLOOKUP(J464,Parámetros!J$11:$P$13,MAX(Parámetros!J$7:$P$7),FALSE))","v":""},{"$f":"IF(K464=\"\",\"\",VLOOKUP(K464,Parámetros!K$11:$P$13,MAX(Parámetros!K$7:$P$7),FALSE))","v":""},{"$f":"IF(L464=\"\",\"\",VLOOKUP(L464,Parámetros!L$11:$P$13,MAX(Parámetros!L$7:$P$7),FALSE))","v":""},{"$f":"IF(M464=\"\",\"\",VLOOKUP(M464,Parámetros!M$11:$P$13,MAX(Parámetros!M$7:$P$7),FALSE))","v":""},{"$f":"IF(N464=\"\",\"\",VLOOKUP(N464,Parámetros!N$11:$P$13,MAX(Parámetros!N$7:$P$7),FALSE))","v":""},{"$f":"IF(O464=\"\",\"\",VLOOKUP(O464,Parámetros!O$11:$P$13,MAX(Parámetros!O$7:$P$7),FALSE))","v":""},""]
[null,null,null,{"$f":"IF(E465=\"\",\"\",VLOOKUP(E465,'Buenas prácticas'!$G$8:$H$1007,2,FALSE))","v":""},null,null,null,null,null,null,null,null,null,null,null,{"$f":"IF(F465=\"\",\"\",VLOOKUP(F465,Parámetros!F$11:$P$13,MAX(Parámetros!F$7:$P$7),FALSE))","v":""},{"$f":"IF(G465=\"\",\"\",VLOOKUP(G465,Parámetros!G$11:$P$13,MAX(Parámetros!G$7:$P$7),FALSE))","v":""},{"$f":"IF(H465=\"\",\"\",VLOOKUP(H465,Parámetros!H$11:$P$13,MAX(Parámetros!H$7:$P$7),FALSE))","v":""},{"$f":"IF(I465=\"\",\"\",VLOOKUP(I465,Parámetros!I$11:$P$13,MAX(Parámetros!I$7:$P$7),FALSE))","v":""},{"$f":"IF(J465=\"\",\"\",VLOOKUP(J465,Parámetros!J$11:$P$13,MAX(Parámetros!J$7:$P$7),FALSE))","v":""},{"$f":"IF(K465=\"\",\"\",VLOOKUP(K465,Parámetros!K$11:$P$13,MAX(Parámetros!K$7:$P$7),FALSE))","v":""},{"$f":"IF(L465=\"\",\"\",VLOOKUP(L465,Parámetros!L$11:$P$13,MAX(Parámetros!L$7:$P$7),FALSE))","v":""},{"$f":"IF(M465=\"\",\"\",VLOOKUP(M465,Parámetros!M$11:$P$13,MAX(Parámetros!M$7:$P$7),FALSE))","v":""},{"$f":"IF(N465=\"\",\"\",VLOOKUP(N465,Parámetros!N$11:$P$13,MAX(Parámetros!N$7:$P$7),FALSE))","v":""},{"$f":"IF(O465=\"\",\"\",VLOOKUP(O465,Parámetros!O$11:$P$13,MAX(Parámetros!O$7:$P$7),FALSE))","v":""},""]
[null,null,null,{"$f":"IF(E466=\"\",\"\",VLOOKUP(E466,'Buenas prácticas'!$G$8:$H$1007,2,FALSE))","v":""},null,null,null,null,null,null,null,null,null,null,null,{"$f":"IF(F466=\"\",\"\",VLOOKUP(F466,Parámetros!F$11:$P$13,MAX(Parámetros!F$7:$P$7),FALSE))","v":""},{"$f":"IF(G466=\"\",\"\",VLOOKUP(G466,Parámetros!G$11:$P$13,MAX(Parámetros!G$7:$P$7),FALSE))","v":""},{"$f":"IF(H466=\"\",\"\",VLOOKUP(H466,Parámetros!H$11:$P$13,MAX(Parámetros!H$7:$P$7),FALSE))","v":""},{"$f":"IF(I466=\"\",\"\",VLOOKUP(I466,Parámetros!I$11:$P$13,MAX(Parámetros!I$7:$P$7),FALSE))","v":""},{"$f":"IF(J466=\"\",\"\",VLOOKUP(J466,Parámetros!J$11:$P$13,MAX(Parámetros!J$7:$P$7),FALSE))","v":""},{"$f":"IF(K466=\"\",\"\",VLOOKUP(K466,Parámetros!K$11:$P$13,MAX(Parámetros!K$7:$P$7),FALSE))","v":""},{"$f":"IF(L466=\"\",\"\",VLOOKUP(L466,Parámetros!L$11:$P$13,MAX(Parámetros!L$7:$P$7),FALSE))","v":""},{"$f":"IF(M466=\"\",\"\",VLOOKUP(M466,Parámetros!M$11:$P$13,MAX(Parámetros!M$7:$P$7),FALSE))","v":""},{"$f":"IF(N466=\"\",\"\",VLOOKUP(N466,Parámetros!N$11:$P$13,MAX(Parámetros!N$7:$P$7),FALSE))","v":""},{"$f":"IF(O466=\"\",\"\",VLOOKUP(O466,Parámetros!O$11:$P$13,MAX(Parámetros!O$7:$P$7),FALSE))","v":""},""]
[null,null,null,{"$f":"IF(E467=\"\",\"\",VLOOKUP(E467,'Buenas prácticas'!$G$8:$H$1007,2,FALSE))","v":""},null,null,null,null,null,null,null,null,null,null,null,{"$f":"IF(F467=\"\",\"\",VLOOKUP(F467,Parámetros!F$11:$P$13,MAX(Parámetros!F$7:$P$7),FALSE))","v":""},{"$f":"IF(G467=\"\",\"\",VLOOKUP(G467,Parámetros!G$11:$P$13,MAX(Parámetros!G$7:$P$7),FALSE))","v":""},{"$f":"IF(H467=\"\",\"\",VLOOKUP(H467,Parámetros!H$11:$P$13,MAX(Parámetros!H$7:$P$7),FALSE))","v":""},{"$f":"IF(I467=\"\",\"\",VLOOKUP(I467,Parámetros!I$11:$P$13,MAX(Parámetros!I$7:$P$7),FALSE))","v":""},{"$f":"IF(J467=\"\",\"\",VLOOKUP(J467,Parámetros!J$11:$P$13,MAX(Parámetros!J$7:$P$7),FALSE))","v":""},{"$f":"IF(K467=\"\",\"\",VLOOKUP(K467,Parámetros!K$11:$P$13,MAX(Parámetros!K$7:$P$7),FALSE))","v":""},{"$f":"IF(L467=\"\",\"\",VLOOKUP(L467,Parámetros!L$11:$P$13,MAX(Parámetros!L$7:$P$7),FALSE))","v":""},{"$f":"IF(M467=\"\",\"\",VLOOKUP(M467,Parámetros!M$11:$P$13,MAX(Parámetros!M$7:$P$7),FALSE))","v":""},{"$f":"IF(N467=\"\",\"\",VLOOKUP(N467,Parámetros!N$11:$P$13,MAX(Parámetros!N$7:$P$7),FALSE))","v":""},{"$f":"IF(O467=\"\",\"\",VLOOKUP(O467,Parámetros!O$11:$P$13,MAX(Parámetros!O$7:$P$7),FALSE))","v":""},""]
[null,null,null,{"$f":"IF(E468=\"\",\"\",VLOOKUP(E468,'Buenas prácticas'!$G$8:$H$1007,2,FALSE))","v":""},null,null,null,null,null,null,null,null,null,null,null,{"$f":"IF(F468=\"\",\"\",VLOOKUP(F468,Parámetros!F$11:$P$13,MAX(Parámetros!F$7:$P$7),FALSE))","v":""},{"$f":"IF(G468=\"\",\"\",VLOOKUP(G468,Parámetros!G$11:$P$13,MAX(Parámetros!G$7:$P$7),FALSE))","v":""},{"$f":"IF(H468=\"\",\"\",VLOOKUP(H468,Parámetros!H$11:$P$13,MAX(Parámetros!H$7:$P$7),FALSE))","v":""},{"$f":"IF(I468=\"\",\"\",VLOOKUP(I468,Parámetros!I$11:$P$13,MAX(Parámetros!I$7:$P$7),FALSE))","v":""},{"$f":"IF(J468=\"\",\"\",VLOOKUP(J468,Parámetros!J$11:$P$13,MAX(Parámetros!J$7:$P$7),FALSE))","v":""},{"$f":"IF(K468=\"\",\"\",VLOOKUP(K468,Parámetros!K$11:$P$13,MAX(Parámetros!K$7:$P$7),FALSE))","v":""},{"$f":"IF(L468=\"\",\"\",VLOOKUP(L468,Parámetros!L$11:$P$13,MAX(Parámetros!L$7:$P$7),FALSE))","v":""},{"$f":"IF(M468=\"\",\"\",VLOOKUP(M468,Parámetros!M$11:$P$13,MAX(Parámetros!M$7:$P$7),FALSE))","v":""},{"$f":"IF(N468=\"\",\"\",VLOOKUP(N468,Parámetros!N$11:$P$13,MAX(Parámetros!N$7:$P$7),FALSE))","v":""},{"$f":"IF(O468=\"\",\"\",VLOOKUP(O468,Parámetros!O$11:$P$13,MAX(Parámetros!O$7:$P$7),FALSE))","v":""},""]
[null,null,null,{"$f":"IF(E469=\"\",\"\",VLOOKUP(E469,'Buenas prácticas'!$G$8:$H$1007,2,FALSE))","v":""},null,null,null,null,null,null,null,null,null,null,null,{"$f":"IF(F469=\"\",\"\",VLOOKUP(F469,Parámetros!F$11:$P$13,MAX(Parámetros!F$7:$P$7),FALSE))","v":""},{"$f":"IF(G469=\"\",\"\",VLOOKUP(G469,Parámetros!G$11:$P$13,MAX(Parámetros!G$7:$P$7),FALSE))","v":""},{"$f":"IF(H469=\"\",\"\",VLOOKUP(H469,Parámetros!H$11:$P$13,MAX(Parámetros!H$7:$P$7),FALSE))","v":""},{"$f":"IF(I469=\"\",\"\",VLOOKUP(I469,Parámetros!I$11:$P$13,MAX(Parámetros!I$7:$P$7),FALSE))","v":""},{"$f":"IF(J469=\"\",\"\",VLOOKUP(J469,Parámetros!J$11:$P$13,MAX(Parámetros!J$7:$P$7),FALSE))","v":""},{"$f":"IF(K469=\"\",\"\",VLOOKUP(K469,Parámetros!K$11:$P$13,MAX(Parámetros!K$7:$P$7),FALSE))","v":""},{"$f":"IF(L469=\"\",\"\",VLOOKUP(L469,Parámetros!L$11:$P$13,MAX(Parámetros!L$7:$P$7),FALSE))","v":""},{"$f":"IF(M469=\"\",\"\",VLOOKUP(M469,Parámetros!M$11:$P$13,MAX(Parámetros!M$7:$P$7),FALSE))","v":""},{"$f":"IF(N469=\"\",\"\",VLOOKUP(N469,Parámetros!N$11:$P$13,MAX(Parámetros!N$7:$P$7),FALSE))","v":""},{"$f":"IF(O469=\"\",\"\",VLOOKUP(O469,Parámetros!O$11:$P$13,MAX(Parámetros!O$7:$P$7),FALSE))","v":""},""]
[null,null,null,{"$f":"IF(E470=\"\",\"\",VLOOKUP(E470,'Buenas prácticas'!$G$8:$H$1007,2,FALSE))","v":""},null,null,null,null,null,null,null,null,null,null,null,{"$f":"IF(F470=\"\",\"\",VLOOKUP(F470,Parámetros!F$11:$P$13,MAX(Parámetros!F$7:$P$7),FALSE))","v":""},{"$f":"IF(G470=\"\",\"\",VLOOKUP(G470,Parámetros!G$11:$P$13,MAX(Parámetros!G$7:$P$7),FALSE))","v":""},{"$f":"IF(H470=\"\",\"\",VLOOKUP(H470,Parámetros!H$11:$P$13,MAX(Parámetros!H$7:$P$7),FALSE))","v":""},{"$f":"IF(I470=\"\",\"\",VLOOKUP(I470,Parámetros!I$11:$P$13,MAX(Parámetros!I$7:$P$7),FALSE))","v":""},{"$f":"IF(J470=\"\",\"\",VLOOKUP(J470,Parámetros!J$11:$P$13,MAX(Parámetros!J$7:$P$7),FALSE))","v":""},{"$f":"IF(K470=\"\",\"\",VLOOKUP(K470,Parámetros!K$11:$P$13,MAX(Parámetros!K$7:$P$7),FALSE))","v":""},{"$f":"IF(L470=\"\",\"\",VLOOKUP(L470,Parámetros!L$11:$P$13,MAX(Parámetros!L$7:$P$7),FALSE))","v":""},{"$f":"IF(M470=\"\",\"\",VLOOKUP(M470,Parámetros!M$11:$P$13,MAX(Parámetros!M$7:$P$7),FALSE))","v":""},{"$f":"IF(N470=\"\",\"\",VLOOKUP(N470,Parámetros!N$11:$P$13,MAX(Parámetros!N$7:$P$7),FALSE))","v":""},{"$f":"IF(O470=\"\",\"\",VLOOKUP(O470,Parámetros!O$11:$P$13,MAX(Parámetros!O$7:$P$7),FALSE))","v":""},""]
[null,null,null,{"$f":"IF(E471=\"\",\"\",VLOOKUP(E471,'Buenas prácticas'!$G$8:$H$1007,2,FALSE))","v":""},null,null,null,null,null,null,null,null,null,null,null,{"$f":"IF(F471=\"\",\"\",VLOOKUP(F471,Parámetros!F$11:$P$13,MAX(Parámetros!F$7:$P$7),FALSE))","v":""},{"$f":"IF(G471=\"\",\"\",VLOOKUP(G471,Parámetros!G$11:$P$13,MAX(Parámetros!G$7:$P$7),FALSE))","v":""},{"$f":"IF(H471=\"\",\"\",VLOOKUP(H471,Parámetros!H$11:$P$13,MAX(Parámetros!H$7:$P$7),FALSE))","v":""},{"$f":"IF(I471=\"\",\"\",VLOOKUP(I471,Parámetros!I$11:$P$13,MAX(Parámetros!I$7:$P$7),FALSE))","v":""},{"$f":"IF(J471=\"\",\"\",VLOOKUP(J471,Parámetros!J$11:$P$13,MAX(Parámetros!J$7:$P$7),FALSE))","v":""},{"$f":"IF(K471=\"\",\"\",VLOOKUP(K471,Parámetros!K$11:$P$13,MAX(Parámetros!K$7:$P$7),FALSE))","v":""},{"$f":"IF(L471=\"\",\"\",VLOOKUP(L471,Parámetros!L$11:$P$13,MAX(Parámetros!L$7:$P$7),FALSE))","v":""},{"$f":"IF(M471=\"\",\"\",VLOOKUP(M471,Parámetros!M$11:$P$13,MAX(Parámetros!M$7:$P$7),FALSE))","v":""},{"$f":"IF(N471=\"\",\"\",VLOOKUP(N471,Parámetros!N$11:$P$13,MAX(Parámetros!N$7:$P$7),FALSE))","v":""},{"$f":"IF(O471=\"\",\"\",VLOOKUP(O471,Parámetros!O$11:$P$13,MAX(Parámetros!O$7:$P$7),FALSE))","v":""},""]
[null,null,null,{"$f":"IF(E472=\"\",\"\",VLOOKUP(E472,'Buenas prácticas'!$G$8:$H$1007,2,FALSE))","v":""},null,null,null,null,null,null,null,null,null,null,null,{"$f":"IF(F472=\"\",\"\",VLOOKUP(F472,Parámetros!F$11:$P$13,MAX(Parámetros!F$7:$P$7),FALSE))","v":""},{"$f":"IF(G472=\"\",\"\",VLOOKUP(G472,Parámetros!G$11:$P$13,MAX(Parámetros!G$7:$P$7),FALSE))","v":""},{"$f":"IF(H472=\"\",\"\",VLOOKUP(H472,Parámetros!H$11:$P$13,MAX(Parámetros!H$7:$P$7),FALSE))","v":""},{"$f":"IF(I472=\"\",\"\",VLOOKUP(I472,Parámetros!I$11:$P$13,MAX(Parámetros!I$7:$P$7),FALSE))","v":""},{"$f":"IF(J472=\"\",\"\",VLOOKUP(J472,Parámetros!J$11:$P$13,MAX(Parámetros!J$7:$P$7),FALSE))","v":""},{"$f":"IF(K472=\"\",\"\",VLOOKUP(K472,Parámetros!K$11:$P$13,MAX(Parámetros!K$7:$P$7),FALSE))","v":""},{"$f":"IF(L472=\"\",\"\",VLOOKUP(L472,Parámetros!L$11:$P$13,MAX(Parámetros!L$7:$P$7),FALSE))","v":""},{"$f":"IF(M472=\"\",\"\",VLOOKUP(M472,Parámetros!M$11:$P$13,MAX(Parámetros!M$7:$P$7),FALSE))","v":""},{"$f":"IF(N472=\"\",\"\",VLOOKUP(N472,Parámetros!N$11:$P$13,MAX(Parámetros!N$7:$P$7),FALSE))","v":""},{"$f":"IF(O472=\"\",\"\",VLOOKUP(O472,Parámetros!O$11:$P$13,MAX(Parámetros!O$7:$P$7),FALSE))","v":""},""]
[null,null,null,{"$f":"IF(E473=\"\",\"\",VLOOKUP(E473,'Buenas prácticas'!$G$8:$H$1007,2,FALSE))","v":""},null,null,null,null,null,null,null,null,null,null,null,{"$f":"IF(F473=\"\",\"\",VLOOKUP(F473,Parámetros!F$11:$P$13,MAX(Parámetros!F$7:$P$7),FALSE))","v":""},{"$f":"IF(G473=\"\",\"\",VLOOKUP(G473,Parámetros!G$11:$P$13,MAX(Parámetros!G$7:$P$7),FALSE))","v":""},{"$f":"IF(H473=\"\",\"\",VLOOKUP(H473,Parámetros!H$11:$P$13,MAX(Parámetros!H$7:$P$7),FALSE))","v":""},{"$f":"IF(I473=\"\",\"\",VLOOKUP(I473,Parámetros!I$11:$P$13,MAX(Parámetros!I$7:$P$7),FALSE))","v":""},{"$f":"IF(J473=\"\",\"\",VLOOKUP(J473,Parámetros!J$11:$P$13,MAX(Parámetros!J$7:$P$7),FALSE))","v":""},{"$f":"IF(K473=\"\",\"\",VLOOKUP(K473,Parámetros!K$11:$P$13,MAX(Parámetros!K$7:$P$7),FALSE))","v":""},{"$f":"IF(L473=\"\",\"\",VLOOKUP(L473,Parámetros!L$11:$P$13,MAX(Parámetros!L$7:$P$7),FALSE))","v":""},{"$f":"IF(M473=\"\",\"\",VLOOKUP(M473,Parámetros!M$11:$P$13,MAX(Parámetros!M$7:$P$7),FALSE))","v":""},{"$f":"IF(N473=\"\",\"\",VLOOKUP(N473,Parámetros!N$11:$P$13,MAX(Parámetros!N$7:$P$7),FALSE))","v":""},{"$f":"IF(O473=\"\",\"\",VLOOKUP(O473,Parámetros!O$11:$P$13,MAX(Parámetros!O$7:$P$7),FALSE))","v":""},""]
[null,null,null,{"$f":"IF(E474=\"\",\"\",VLOOKUP(E474,'Buenas prácticas'!$G$8:$H$1007,2,FALSE))","v":""},null,null,null,null,null,null,null,null,null,null,null,{"$f":"IF(F474=\"\",\"\",VLOOKUP(F474,Parámetros!F$11:$P$13,MAX(Parámetros!F$7:$P$7),FALSE))","v":""},{"$f":"IF(G474=\"\",\"\",VLOOKUP(G474,Parámetros!G$11:$P$13,MAX(Parámetros!G$7:$P$7),FALSE))","v":""},{"$f":"IF(H474=\"\",\"\",VLOOKUP(H474,Parámetros!H$11:$P$13,MAX(Parámetros!H$7:$P$7),FALSE))","v":""},{"$f":"IF(I474=\"\",\"\",VLOOKUP(I474,Parámetros!I$11:$P$13,MAX(Parámetros!I$7:$P$7),FALSE))","v":""},{"$f":"IF(J474=\"\",\"\",VLOOKUP(J474,Parámetros!J$11:$P$13,MAX(Parámetros!J$7:$P$7),FALSE))","v":""},{"$f":"IF(K474=\"\",\"\",VLOOKUP(K474,Parámetros!K$11:$P$13,MAX(Parámetros!K$7:$P$7),FALSE))","v":""},{"$f":"IF(L474=\"\",\"\",VLOOKUP(L474,Parámetros!L$11:$P$13,MAX(Parámetros!L$7:$P$7),FALSE))","v":""},{"$f":"IF(M474=\"\",\"\",VLOOKUP(M474,Parámetros!M$11:$P$13,MAX(Parámetros!M$7:$P$7),FALSE))","v":""},{"$f":"IF(N474=\"\",\"\",VLOOKUP(N474,Parámetros!N$11:$P$13,MAX(Parámetros!N$7:$P$7),FALSE))","v":""},{"$f":"IF(O474=\"\",\"\",VLOOKUP(O474,Parámetros!O$11:$P$13,MAX(Parámetros!O$7:$P$7),FALSE))","v":""},""]
[null,null,null,{"$f":"IF(E475=\"\",\"\",VLOOKUP(E475,'Buenas prácticas'!$G$8:$H$1007,2,FALSE))","v":""},null,null,null,null,null,null,null,null,null,null,null,{"$f":"IF(F475=\"\",\"\",VLOOKUP(F475,Parámetros!F$11:$P$13,MAX(Parámetros!F$7:$P$7),FALSE))","v":""},{"$f":"IF(G475=\"\",\"\",VLOOKUP(G475,Parámetros!G$11:$P$13,MAX(Parámetros!G$7:$P$7),FALSE))","v":""},{"$f":"IF(H475=\"\",\"\",VLOOKUP(H475,Parámetros!H$11:$P$13,MAX(Parámetros!H$7:$P$7),FALSE))","v":""},{"$f":"IF(I475=\"\",\"\",VLOOKUP(I475,Parámetros!I$11:$P$13,MAX(Parámetros!I$7:$P$7),FALSE))","v":""},{"$f":"IF(J475=\"\",\"\",VLOOKUP(J475,Parámetros!J$11:$P$13,MAX(Parámetros!J$7:$P$7),FALSE))","v":""},{"$f":"IF(K475=\"\",\"\",VLOOKUP(K475,Parámetros!K$11:$P$13,MAX(Parámetros!K$7:$P$7),FALSE))","v":""},{"$f":"IF(L475=\"\",\"\",VLOOKUP(L475,Parámetros!L$11:$P$13,MAX(Parámetros!L$7:$P$7),FALSE))","v":""},{"$f":"IF(M475=\"\",\"\",VLOOKUP(M475,Parámetros!M$11:$P$13,MAX(Parámetros!M$7:$P$7),FALSE))","v":""},{"$f":"IF(N475=\"\",\"\",VLOOKUP(N475,Parámetros!N$11:$P$13,MAX(Parámetros!N$7:$P$7),FALSE))","v":""},{"$f":"IF(O475=\"\",\"\",VLOOKUP(O475,Parámetros!O$11:$P$13,MAX(Parámetros!O$7:$P$7),FALSE))","v":""},""]
[null,null,null,{"$f":"IF(E476=\"\",\"\",VLOOKUP(E476,'Buenas prácticas'!$G$8:$H$1007,2,FALSE))","v":""},null,null,null,null,null,null,null,null,null,null,null,{"$f":"IF(F476=\"\",\"\",VLOOKUP(F476,Parámetros!F$11:$P$13,MAX(Parámetros!F$7:$P$7),FALSE))","v":""},{"$f":"IF(G476=\"\",\"\",VLOOKUP(G476,Parámetros!G$11:$P$13,MAX(Parámetros!G$7:$P$7),FALSE))","v":""},{"$f":"IF(H476=\"\",\"\",VLOOKUP(H476,Parámetros!H$11:$P$13,MAX(Parámetros!H$7:$P$7),FALSE))","v":""},{"$f":"IF(I476=\"\",\"\",VLOOKUP(I476,Parámetros!I$11:$P$13,MAX(Parámetros!I$7:$P$7),FALSE))","v":""},{"$f":"IF(J476=\"\",\"\",VLOOKUP(J476,Parámetros!J$11:$P$13,MAX(Parámetros!J$7:$P$7),FALSE))","v":""},{"$f":"IF(K476=\"\",\"\",VLOOKUP(K476,Parámetros!K$11:$P$13,MAX(Parámetros!K$7:$P$7),FALSE))","v":""},{"$f":"IF(L476=\"\",\"\",VLOOKUP(L476,Parámetros!L$11:$P$13,MAX(Parámetros!L$7:$P$7),FALSE))","v":""},{"$f":"IF(M476=\"\",\"\",VLOOKUP(M476,Parámetros!M$11:$P$13,MAX(Parámetros!M$7:$P$7),FALSE))","v":""},{"$f":"IF(N476=\"\",\"\",VLOOKUP(N476,Parámetros!N$11:$P$13,MAX(Parámetros!N$7:$P$7),FALSE))","v":""},{"$f":"IF(O476=\"\",\"\",VLOOKUP(O476,Parámetros!O$11:$P$13,MAX(Parámetros!O$7:$P$7),FALSE))","v":""},""]
[null,null,null,{"$f":"IF(E477=\"\",\"\",VLOOKUP(E477,'Buenas prácticas'!$G$8:$H$1007,2,FALSE))","v":""},null,null,null,null,null,null,null,null,null,null,null,{"$f":"IF(F477=\"\",\"\",VLOOKUP(F477,Parámetros!F$11:$P$13,MAX(Parámetros!F$7:$P$7),FALSE))","v":""},{"$f":"IF(G477=\"\",\"\",VLOOKUP(G477,Parámetros!G$11:$P$13,MAX(Parámetros!G$7:$P$7),FALSE))","v":""},{"$f":"IF(H477=\"\",\"\",VLOOKUP(H477,Parámetros!H$11:$P$13,MAX(Parámetros!H$7:$P$7),FALSE))","v":""},{"$f":"IF(I477=\"\",\"\",VLOOKUP(I477,Parámetros!I$11:$P$13,MAX(Parámetros!I$7:$P$7),FALSE))","v":""},{"$f":"IF(J477=\"\",\"\",VLOOKUP(J477,Parámetros!J$11:$P$13,MAX(Parámetros!J$7:$P$7),FALSE))","v":""},{"$f":"IF(K477=\"\",\"\",VLOOKUP(K477,Parámetros!K$11:$P$13,MAX(Parámetros!K$7:$P$7),FALSE))","v":""},{"$f":"IF(L477=\"\",\"\",VLOOKUP(L477,Parámetros!L$11:$P$13,MAX(Parámetros!L$7:$P$7),FALSE))","v":""},{"$f":"IF(M477=\"\",\"\",VLOOKUP(M477,Parámetros!M$11:$P$13,MAX(Parámetros!M$7:$P$7),FALSE))","v":""},{"$f":"IF(N477=\"\",\"\",VLOOKUP(N477,Parámetros!N$11:$P$13,MAX(Parámetros!N$7:$P$7),FALSE))","v":""},{"$f":"IF(O477=\"\",\"\",VLOOKUP(O477,Parámetros!O$11:$P$13,MAX(Parámetros!O$7:$P$7),FALSE))","v":""},""]
[null,null,null,{"$f":"IF(E478=\"\",\"\",VLOOKUP(E478,'Buenas prácticas'!$G$8:$H$1007,2,FALSE))","v":""},null,null,null,null,null,null,null,null,null,null,null,{"$f":"IF(F478=\"\",\"\",VLOOKUP(F478,Parámetros!F$11:$P$13,MAX(Parámetros!F$7:$P$7),FALSE))","v":""},{"$f":"IF(G478=\"\",\"\",VLOOKUP(G478,Parámetros!G$11:$P$13,MAX(Parámetros!G$7:$P$7),FALSE))","v":""},{"$f":"IF(H478=\"\",\"\",VLOOKUP(H478,Parámetros!H$11:$P$13,MAX(Parámetros!H$7:$P$7),FALSE))","v":""},{"$f":"IF(I478=\"\",\"\",VLOOKUP(I478,Parámetros!I$11:$P$13,MAX(Parámetros!I$7:$P$7),FALSE))","v":""},{"$f":"IF(J478=\"\",\"\",VLOOKUP(J478,Parámetros!J$11:$P$13,MAX(Parámetros!J$7:$P$7),FALSE))","v":""},{"$f":"IF(K478=\"\",\"\",VLOOKUP(K478,Parámetros!K$11:$P$13,MAX(Parámetros!K$7:$P$7),FALSE))","v":""},{"$f":"IF(L478=\"\",\"\",VLOOKUP(L478,Parámetros!L$11:$P$13,MAX(Parámetros!L$7:$P$7),FALSE))","v":""},{"$f":"IF(M478=\"\",\"\",VLOOKUP(M478,Parámetros!M$11:$P$13,MAX(Parámetros!M$7:$P$7),FALSE))","v":""},{"$f":"IF(N478=\"\",\"\",VLOOKUP(N478,Parámetros!N$11:$P$13,MAX(Parámetros!N$7:$P$7),FALSE))","v":""},{"$f":"IF(O478=\"\",\"\",VLOOKUP(O478,Parámetros!O$11:$P$13,MAX(Parámetros!O$7:$P$7),FALSE))","v":""},""]
[null,null,null,{"$f":"IF(E479=\"\",\"\",VLOOKUP(E479,'Buenas prácticas'!$G$8:$H$1007,2,FALSE))","v":""},null,null,null,null,null,null,null,null,null,null,null,{"$f":"IF(F479=\"\",\"\",VLOOKUP(F479,Parámetros!F$11:$P$13,MAX(Parámetros!F$7:$P$7),FALSE))","v":""},{"$f":"IF(G479=\"\",\"\",VLOOKUP(G479,Parámetros!G$11:$P$13,MAX(Parámetros!G$7:$P$7),FALSE))","v":""},{"$f":"IF(H479=\"\",\"\",VLOOKUP(H479,Parámetros!H$11:$P$13,MAX(Parámetros!H$7:$P$7),FALSE))","v":""},{"$f":"IF(I479=\"\",\"\",VLOOKUP(I479,Parámetros!I$11:$P$13,MAX(Parámetros!I$7:$P$7),FALSE))","v":""},{"$f":"IF(J479=\"\",\"\",VLOOKUP(J479,Parámetros!J$11:$P$13,MAX(Parámetros!J$7:$P$7),FALSE))","v":""},{"$f":"IF(K479=\"\",\"\",VLOOKUP(K479,Parámetros!K$11:$P$13,MAX(Parámetros!K$7:$P$7),FALSE))","v":""},{"$f":"IF(L479=\"\",\"\",VLOOKUP(L479,Parámetros!L$11:$P$13,MAX(Parámetros!L$7:$P$7),FALSE))","v":""},{"$f":"IF(M479=\"\",\"\",VLOOKUP(M479,Parámetros!M$11:$P$13,MAX(Parámetros!M$7:$P$7),FALSE))","v":""},{"$f":"IF(N479=\"\",\"\",VLOOKUP(N479,Parámetros!N$11:$P$13,MAX(Parámetros!N$7:$P$7),FALSE))","v":""},{"$f":"IF(O479=\"\",\"\",VLOOKUP(O479,Parámetros!O$11:$P$13,MAX(Parámetros!O$7:$P$7),FALSE))","v":""},""]
[null,null,null,{"$f":"IF(E480=\"\",\"\",VLOOKUP(E480,'Buenas prácticas'!$G$8:$H$1007,2,FALSE))","v":""},null,null,null,null,null,null,null,null,null,null,null,{"$f":"IF(F480=\"\",\"\",VLOOKUP(F480,Parámetros!F$11:$P$13,MAX(Parámetros!F$7:$P$7),FALSE))","v":""},{"$f":"IF(G480=\"\",\"\",VLOOKUP(G480,Parámetros!G$11:$P$13,MAX(Parámetros!G$7:$P$7),FALSE))","v":""},{"$f":"IF(H480=\"\",\"\",VLOOKUP(H480,Parámetros!H$11:$P$13,MAX(Parámetros!H$7:$P$7),FALSE))","v":""},{"$f":"IF(I480=\"\",\"\",VLOOKUP(I480,Parámetros!I$11:$P$13,MAX(Parámetros!I$7:$P$7),FALSE))","v":""},{"$f":"IF(J480=\"\",\"\",VLOOKUP(J480,Parámetros!J$11:$P$13,MAX(Parámetros!J$7:$P$7),FALSE))","v":""},{"$f":"IF(K480=\"\",\"\",VLOOKUP(K480,Parámetros!K$11:$P$13,MAX(Parámetros!K$7:$P$7),FALSE))","v":""},{"$f":"IF(L480=\"\",\"\",VLOOKUP(L480,Parámetros!L$11:$P$13,MAX(Parámetros!L$7:$P$7),FALSE))","v":""},{"$f":"IF(M480=\"\",\"\",VLOOKUP(M480,Parámetros!M$11:$P$13,MAX(Parámetros!M$7:$P$7),FALSE))","v":""},{"$f":"IF(N480=\"\",\"\",VLOOKUP(N480,Parámetros!N$11:$P$13,MAX(Parámetros!N$7:$P$7),FALSE))","v":""},{"$f":"IF(O480=\"\",\"\",VLOOKUP(O480,Parámetros!O$11:$P$13,MAX(Parámetros!O$7:$P$7),FALSE))","v":""},""]
[null,null,null,{"$f":"IF(E481=\"\",\"\",VLOOKUP(E481,'Buenas prácticas'!$G$8:$H$1007,2,FALSE))","v":""},null,null,null,null,null,null,null,null,null,null,null,{"$f":"IF(F481=\"\",\"\",VLOOKUP(F481,Parámetros!F$11:$P$13,MAX(Parámetros!F$7:$P$7),FALSE))","v":""},{"$f":"IF(G481=\"\",\"\",VLOOKUP(G481,Parámetros!G$11:$P$13,MAX(Parámetros!G$7:$P$7),FALSE))","v":""},{"$f":"IF(H481=\"\",\"\",VLOOKUP(H481,Parámetros!H$11:$P$13,MAX(Parámetros!H$7:$P$7),FALSE))","v":""},{"$f":"IF(I481=\"\",\"\",VLOOKUP(I481,Parámetros!I$11:$P$13,MAX(Parámetros!I$7:$P$7),FALSE))","v":""},{"$f":"IF(J481=\"\",\"\",VLOOKUP(J481,Parámetros!J$11:$P$13,MAX(Parámetros!J$7:$P$7),FALSE))","v":""},{"$f":"IF(K481=\"\",\"\",VLOOKUP(K481,Parámetros!K$11:$P$13,MAX(Parámetros!K$7:$P$7),FALSE))","v":""},{"$f":"IF(L481=\"\",\"\",VLOOKUP(L481,Parámetros!L$11:$P$13,MAX(Parámetros!L$7:$P$7),FALSE))","v":""},{"$f":"IF(M481=\"\",\"\",VLOOKUP(M481,Parámetros!M$11:$P$13,MAX(Parámetros!M$7:$P$7),FALSE))","v":""},{"$f":"IF(N481=\"\",\"\",VLOOKUP(N481,Parámetros!N$11:$P$13,MAX(Parámetros!N$7:$P$7),FALSE))","v":""},{"$f":"IF(O481=\"\",\"\",VLOOKUP(O481,Parámetros!O$11:$P$13,MAX(Parámetros!O$7:$P$7),FALSE))","v":""},""]
[null,null,null,{"$f":"IF(E482=\"\",\"\",VLOOKUP(E482,'Buenas prácticas'!$G$8:$H$1007,2,FALSE))","v":""},null,null,null,null,null,null,null,null,null,null,null,{"$f":"IF(F482=\"\",\"\",VLOOKUP(F482,Parámetros!F$11:$P$13,MAX(Parámetros!F$7:$P$7),FALSE))","v":""},{"$f":"IF(G482=\"\",\"\",VLOOKUP(G482,Parámetros!G$11:$P$13,MAX(Parámetros!G$7:$P$7),FALSE))","v":""},{"$f":"IF(H482=\"\",\"\",VLOOKUP(H482,Parámetros!H$11:$P$13,MAX(Parámetros!H$7:$P$7),FALSE))","v":""},{"$f":"IF(I482=\"\",\"\",VLOOKUP(I482,Parámetros!I$11:$P$13,MAX(Parámetros!I$7:$P$7),FALSE))","v":""},{"$f":"IF(J482=\"\",\"\",VLOOKUP(J482,Parámetros!J$11:$P$13,MAX(Parámetros!J$7:$P$7),FALSE))","v":""},{"$f":"IF(K482=\"\",\"\",VLOOKUP(K482,Parámetros!K$11:$P$13,MAX(Parámetros!K$7:$P$7),FALSE))","v":""},{"$f":"IF(L482=\"\",\"\",VLOOKUP(L482,Parámetros!L$11:$P$13,MAX(Parámetros!L$7:$P$7),FALSE))","v":""},{"$f":"IF(M482=\"\",\"\",VLOOKUP(M482,Parámetros!M$11:$P$13,MAX(Parámetros!M$7:$P$7),FALSE))","v":""},{"$f":"IF(N482=\"\",\"\",VLOOKUP(N482,Parámetros!N$11:$P$13,MAX(Parámetros!N$7:$P$7),FALSE))","v":""},{"$f":"IF(O482=\"\",\"\",VLOOKUP(O482,Parámetros!O$11:$P$13,MAX(Parámetros!O$7:$P$7),FALSE))","v":""},""]
[null,null,null,{"$f":"IF(E483=\"\",\"\",VLOOKUP(E483,'Buenas prácticas'!$G$8:$H$1007,2,FALSE))","v":""},null,null,null,null,null,null,null,null,null,null,null,{"$f":"IF(F483=\"\",\"\",VLOOKUP(F483,Parámetros!F$11:$P$13,MAX(Parámetros!F$7:$P$7),FALSE))","v":""},{"$f":"IF(G483=\"\",\"\",VLOOKUP(G483,Parámetros!G$11:$P$13,MAX(Parámetros!G$7:$P$7),FALSE))","v":""},{"$f":"IF(H483=\"\",\"\",VLOOKUP(H483,Parámetros!H$11:$P$13,MAX(Parámetros!H$7:$P$7),FALSE))","v":""},{"$f":"IF(I483=\"\",\"\",VLOOKUP(I483,Parámetros!I$11:$P$13,MAX(Parámetros!I$7:$P$7),FALSE))","v":""},{"$f":"IF(J483=\"\",\"\",VLOOKUP(J483,Parámetros!J$11:$P$13,MAX(Parámetros!J$7:$P$7),FALSE))","v":""},{"$f":"IF(K483=\"\",\"\",VLOOKUP(K483,Parámetros!K$11:$P$13,MAX(Parámetros!K$7:$P$7),FALSE))","v":""},{"$f":"IF(L483=\"\",\"\",VLOOKUP(L483,Parámetros!L$11:$P$13,MAX(Parámetros!L$7:$P$7),FALSE))","v":""},{"$f":"IF(M483=\"\",\"\",VLOOKUP(M483,Parámetros!M$11:$P$13,MAX(Parámetros!M$7:$P$7),FALSE))","v":""},{"$f":"IF(N483=\"\",\"\",VLOOKUP(N483,Parámetros!N$11:$P$13,MAX(Parámetros!N$7:$P$7),FALSE))","v":""},{"$f":"IF(O483=\"\",\"\",VLOOKUP(O483,Parámetros!O$11:$P$13,MAX(Parámetros!O$7:$P$7),FALSE))","v":""},""]
[null,null,null,{"$f":"IF(E484=\"\",\"\",VLOOKUP(E484,'Buenas prácticas'!$G$8:$H$1007,2,FALSE))","v":""},null,null,null,null,null,null,null,null,null,null,null,{"$f":"IF(F484=\"\",\"\",VLOOKUP(F484,Parámetros!F$11:$P$13,MAX(Parámetros!F$7:$P$7),FALSE))","v":""},{"$f":"IF(G484=\"\",\"\",VLOOKUP(G484,Parámetros!G$11:$P$13,MAX(Parámetros!G$7:$P$7),FALSE))","v":""},{"$f":"IF(H484=\"\",\"\",VLOOKUP(H484,Parámetros!H$11:$P$13,MAX(Parámetros!H$7:$P$7),FALSE))","v":""},{"$f":"IF(I484=\"\",\"\",VLOOKUP(I484,Parámetros!I$11:$P$13,MAX(Parámetros!I$7:$P$7),FALSE))","v":""},{"$f":"IF(J484=\"\",\"\",VLOOKUP(J484,Parámetros!J$11:$P$13,MAX(Parámetros!J$7:$P$7),FALSE))","v":""},{"$f":"IF(K484=\"\",\"\",VLOOKUP(K484,Parámetros!K$11:$P$13,MAX(Parámetros!K$7:$P$7),FALSE))","v":""},{"$f":"IF(L484=\"\",\"\",VLOOKUP(L484,Parámetros!L$11:$P$13,MAX(Parámetros!L$7:$P$7),FALSE))","v":""},{"$f":"IF(M484=\"\",\"\",VLOOKUP(M484,Parámetros!M$11:$P$13,MAX(Parámetros!M$7:$P$7),FALSE))","v":""},{"$f":"IF(N484=\"\",\"\",VLOOKUP(N484,Parámetros!N$11:$P$13,MAX(Parámetros!N$7:$P$7),FALSE))","v":""},{"$f":"IF(O484=\"\",\"\",VLOOKUP(O484,Parámetros!O$11:$P$13,MAX(Parámetros!O$7:$P$7),FALSE))","v":""},""]
[null,null,null,{"$f":"IF(E485=\"\",\"\",VLOOKUP(E485,'Buenas prácticas'!$G$8:$H$1007,2,FALSE))","v":""},null,null,null,null,null,null,null,null,null,null,null,{"$f":"IF(F485=\"\",\"\",VLOOKUP(F485,Parámetros!F$11:$P$13,MAX(Parámetros!F$7:$P$7),FALSE))","v":""},{"$f":"IF(G485=\"\",\"\",VLOOKUP(G485,Parámetros!G$11:$P$13,MAX(Parámetros!G$7:$P$7),FALSE))","v":""},{"$f":"IF(H485=\"\",\"\",VLOOKUP(H485,Parámetros!H$11:$P$13,MAX(Parámetros!H$7:$P$7),FALSE))","v":""},{"$f":"IF(I485=\"\",\"\",VLOOKUP(I485,Parámetros!I$11:$P$13,MAX(Parámetros!I$7:$P$7),FALSE))","v":""},{"$f":"IF(J485=\"\",\"\",VLOOKUP(J485,Parámetros!J$11:$P$13,MAX(Parámetros!J$7:$P$7),FALSE))","v":""},{"$f":"IF(K485=\"\",\"\",VLOOKUP(K485,Parámetros!K$11:$P$13,MAX(Parámetros!K$7:$P$7),FALSE))","v":""},{"$f":"IF(L485=\"\",\"\",VLOOKUP(L485,Parámetros!L$11:$P$13,MAX(Parámetros!L$7:$P$7),FALSE))","v":""},{"$f":"IF(M485=\"\",\"\",VLOOKUP(M485,Parámetros!M$11:$P$13,MAX(Parámetros!M$7:$P$7),FALSE))","v":""},{"$f":"IF(N485=\"\",\"\",VLOOKUP(N485,Parámetros!N$11:$P$13,MAX(Parámetros!N$7:$P$7),FALSE))","v":""},{"$f":"IF(O485=\"\",\"\",VLOOKUP(O485,Parámetros!O$11:$P$13,MAX(Parámetros!O$7:$P$7),FALSE))","v":""},""]
[null,null,null,{"$f":"IF(E486=\"\",\"\",VLOOKUP(E486,'Buenas prácticas'!$G$8:$H$1007,2,FALSE))","v":""},null,null,null,null,null,null,null,null,null,null,null,{"$f":"IF(F486=\"\",\"\",VLOOKUP(F486,Parámetros!F$11:$P$13,MAX(Parámetros!F$7:$P$7),FALSE))","v":""},{"$f":"IF(G486=\"\",\"\",VLOOKUP(G486,Parámetros!G$11:$P$13,MAX(Parámetros!G$7:$P$7),FALSE))","v":""},{"$f":"IF(H486=\"\",\"\",VLOOKUP(H486,Parámetros!H$11:$P$13,MAX(Parámetros!H$7:$P$7),FALSE))","v":""},{"$f":"IF(I486=\"\",\"\",VLOOKUP(I486,Parámetros!I$11:$P$13,MAX(Parámetros!I$7:$P$7),FALSE))","v":""},{"$f":"IF(J486=\"\",\"\",VLOOKUP(J486,Parámetros!J$11:$P$13,MAX(Parámetros!J$7:$P$7),FALSE))","v":""},{"$f":"IF(K486=\"\",\"\",VLOOKUP(K486,Parámetros!K$11:$P$13,MAX(Parámetros!K$7:$P$7),FALSE))","v":""},{"$f":"IF(L486=\"\",\"\",VLOOKUP(L486,Parámetros!L$11:$P$13,MAX(Parámetros!L$7:$P$7),FALSE))","v":""},{"$f":"IF(M486=\"\",\"\",VLOOKUP(M486,Parámetros!M$11:$P$13,MAX(Parámetros!M$7:$P$7),FALSE))","v":""},{"$f":"IF(N486=\"\",\"\",VLOOKUP(N486,Parámetros!N$11:$P$13,MAX(Parámetros!N$7:$P$7),FALSE))","v":""},{"$f":"IF(O486=\"\",\"\",VLOOKUP(O486,Parámetros!O$11:$P$13,MAX(Parámetros!O$7:$P$7),FALSE))","v":""},""]
[null,null,null,{"$f":"IF(E487=\"\",\"\",VLOOKUP(E487,'Buenas prácticas'!$G$8:$H$1007,2,FALSE))","v":""},null,null,null,null,null,null,null,null,null,null,null,{"$f":"IF(F487=\"\",\"\",VLOOKUP(F487,Parámetros!F$11:$P$13,MAX(Parámetros!F$7:$P$7),FALSE))","v":""},{"$f":"IF(G487=\"\",\"\",VLOOKUP(G487,Parámetros!G$11:$P$13,MAX(Parámetros!G$7:$P$7),FALSE))","v":""},{"$f":"IF(H487=\"\",\"\",VLOOKUP(H487,Parámetros!H$11:$P$13,MAX(Parámetros!H$7:$P$7),FALSE))","v":""},{"$f":"IF(I487=\"\",\"\",VLOOKUP(I487,Parámetros!I$11:$P$13,MAX(Parámetros!I$7:$P$7),FALSE))","v":""},{"$f":"IF(J487=\"\",\"\",VLOOKUP(J487,Parámetros!J$11:$P$13,MAX(Parámetros!J$7:$P$7),FALSE))","v":""},{"$f":"IF(K487=\"\",\"\",VLOOKUP(K487,Parámetros!K$11:$P$13,MAX(Parámetros!K$7:$P$7),FALSE))","v":""},{"$f":"IF(L487=\"\",\"\",VLOOKUP(L487,Parámetros!L$11:$P$13,MAX(Parámetros!L$7:$P$7),FALSE))","v":""},{"$f":"IF(M487=\"\",\"\",VLOOKUP(M487,Parámetros!M$11:$P$13,MAX(Parámetros!M$7:$P$7),FALSE))","v":""},{"$f":"IF(N487=\"\",\"\",VLOOKUP(N487,Parámetros!N$11:$P$13,MAX(Parámetros!N$7:$P$7),FALSE))","v":""},{"$f":"IF(O487=\"\",\"\",VLOOKUP(O487,Parámetros!O$11:$P$13,MAX(Parámetros!O$7:$P$7),FALSE))","v":""},""]
[null,null,null,{"$f":"IF(E488=\"\",\"\",VLOOKUP(E488,'Buenas prácticas'!$G$8:$H$1007,2,FALSE))","v":""},null,null,null,null,null,null,null,null,null,null,null,{"$f":"IF(F488=\"\",\"\",VLOOKUP(F488,Parámetros!F$11:$P$13,MAX(Parámetros!F$7:$P$7),FALSE))","v":""},{"$f":"IF(G488=\"\",\"\",VLOOKUP(G488,Parámetros!G$11:$P$13,MAX(Parámetros!G$7:$P$7),FALSE))","v":""},{"$f":"IF(H488=\"\",\"\",VLOOKUP(H488,Parámetros!H$11:$P$13,MAX(Parámetros!H$7:$P$7),FALSE))","v":""},{"$f":"IF(I488=\"\",\"\",VLOOKUP(I488,Parámetros!I$11:$P$13,MAX(Parámetros!I$7:$P$7),FALSE))","v":""},{"$f":"IF(J488=\"\",\"\",VLOOKUP(J488,Parámetros!J$11:$P$13,MAX(Parámetros!J$7:$P$7),FALSE))","v":""},{"$f":"IF(K488=\"\",\"\",VLOOKUP(K488,Parámetros!K$11:$P$13,MAX(Parámetros!K$7:$P$7),FALSE))","v":""},{"$f":"IF(L488=\"\",\"\",VLOOKUP(L488,Parámetros!L$11:$P$13,MAX(Parámetros!L$7:$P$7),FALSE))","v":""},{"$f":"IF(M488=\"\",\"\",VLOOKUP(M488,Parámetros!M$11:$P$13,MAX(Parámetros!M$7:$P$7),FALSE))","v":""},{"$f":"IF(N488=\"\",\"\",VLOOKUP(N488,Parámetros!N$11:$P$13,MAX(Parámetros!N$7:$P$7),FALSE))","v":""},{"$f":"IF(O488=\"\",\"\",VLOOKUP(O488,Parámetros!O$11:$P$13,MAX(Parámetros!O$7:$P$7),FALSE))","v":""},""]
[null,null,null,{"$f":"IF(E489=\"\",\"\",VLOOKUP(E489,'Buenas prácticas'!$G$8:$H$1007,2,FALSE))","v":""},null,null,null,null,null,null,null,null,null,null,null,{"$f":"IF(F489=\"\",\"\",VLOOKUP(F489,Parámetros!F$11:$P$13,MAX(Parámetros!F$7:$P$7),FALSE))","v":""},{"$f":"IF(G489=\"\",\"\",VLOOKUP(G489,Parámetros!G$11:$P$13,MAX(Parámetros!G$7:$P$7),FALSE))","v":""},{"$f":"IF(H489=\"\",\"\",VLOOKUP(H489,Parámetros!H$11:$P$13,MAX(Parámetros!H$7:$P$7),FALSE))","v":""},{"$f":"IF(I489=\"\",\"\",VLOOKUP(I489,Parámetros!I$11:$P$13,MAX(Parámetros!I$7:$P$7),FALSE))","v":""},{"$f":"IF(J489=\"\",\"\",VLOOKUP(J489,Parámetros!J$11:$P$13,MAX(Parámetros!J$7:$P$7),FALSE))","v":""},{"$f":"IF(K489=\"\",\"\",VLOOKUP(K489,Parámetros!K$11:$P$13,MAX(Parámetros!K$7:$P$7),FALSE))","v":""},{"$f":"IF(L489=\"\",\"\",VLOOKUP(L489,Parámetros!L$11:$P$13,MAX(Parámetros!L$7:$P$7),FALSE))","v":""},{"$f":"IF(M489=\"\",\"\",VLOOKUP(M489,Parámetros!M$11:$P$13,MAX(Parámetros!M$7:$P$7),FALSE))","v":""},{"$f":"IF(N489=\"\",\"\",VLOOKUP(N489,Parámetros!N$11:$P$13,MAX(Parámetros!N$7:$P$7),FALSE))","v":""},{"$f":"IF(O489=\"\",\"\",VLOOKUP(O489,Parámetros!O$11:$P$13,MAX(Parámetros!O$7:$P$7),FALSE))","v":""},""]
[null,null,null,{"$f":"IF(E490=\"\",\"\",VLOOKUP(E490,'Buenas prácticas'!$G$8:$H$1007,2,FALSE))","v":""},null,null,null,null,null,null,null,null,null,null,null,{"$f":"IF(F490=\"\",\"\",VLOOKUP(F490,Parámetros!F$11:$P$13,MAX(Parámetros!F$7:$P$7),FALSE))","v":""},{"$f":"IF(G490=\"\",\"\",VLOOKUP(G490,Parámetros!G$11:$P$13,MAX(Parámetros!G$7:$P$7),FALSE))","v":""},{"$f":"IF(H490=\"\",\"\",VLOOKUP(H490,Parámetros!H$11:$P$13,MAX(Parámetros!H$7:$P$7),FALSE))","v":""},{"$f":"IF(I490=\"\",\"\",VLOOKUP(I490,Parámetros!I$11:$P$13,MAX(Parámetros!I$7:$P$7),FALSE))","v":""},{"$f":"IF(J490=\"\",\"\",VLOOKUP(J490,Parámetros!J$11:$P$13,MAX(Parámetros!J$7:$P$7),FALSE))","v":""},{"$f":"IF(K490=\"\",\"\",VLOOKUP(K490,Parámetros!K$11:$P$13,MAX(Parámetros!K$7:$P$7),FALSE))","v":""},{"$f":"IF(L490=\"\",\"\",VLOOKUP(L490,Parámetros!L$11:$P$13,MAX(Parámetros!L$7:$P$7),FALSE))","v":""},{"$f":"IF(M490=\"\",\"\",VLOOKUP(M490,Parámetros!M$11:$P$13,MAX(Parámetros!M$7:$P$7),FALSE))","v":""},{"$f":"IF(N490=\"\",\"\",VLOOKUP(N490,Parámetros!N$11:$P$13,MAX(Parámetros!N$7:$P$7),FALSE))","v":""},{"$f":"IF(O490=\"\",\"\",VLOOKUP(O490,Parámetros!O$11:$P$13,MAX(Parámetros!O$7:$P$7),FALSE))","v":""},""]
[null,null,null,{"$f":"IF(E491=\"\",\"\",VLOOKUP(E491,'Buenas prácticas'!$G$8:$H$1007,2,FALSE))","v":""},null,null,null,null,null,null,null,null,null,null,null,{"$f":"IF(F491=\"\",\"\",VLOOKUP(F491,Parámetros!F$11:$P$13,MAX(Parámetros!F$7:$P$7),FALSE))","v":""},{"$f":"IF(G491=\"\",\"\",VLOOKUP(G491,Parámetros!G$11:$P$13,MAX(Parámetros!G$7:$P$7),FALSE))","v":""},{"$f":"IF(H491=\"\",\"\",VLOOKUP(H491,Parámetros!H$11:$P$13,MAX(Parámetros!H$7:$P$7),FALSE))","v":""},{"$f":"IF(I491=\"\",\"\",VLOOKUP(I491,Parámetros!I$11:$P$13,MAX(Parámetros!I$7:$P$7),FALSE))","v":""},{"$f":"IF(J491=\"\",\"\",VLOOKUP(J491,Parámetros!J$11:$P$13,MAX(Parámetros!J$7:$P$7),FALSE))","v":""},{"$f":"IF(K491=\"\",\"\",VLOOKUP(K491,Parámetros!K$11:$P$13,MAX(Parámetros!K$7:$P$7),FALSE))","v":""},{"$f":"IF(L491=\"\",\"\",VLOOKUP(L491,Parámetros!L$11:$P$13,MAX(Parámetros!L$7:$P$7),FALSE))","v":""},{"$f":"IF(M491=\"\",\"\",VLOOKUP(M491,Parámetros!M$11:$P$13,MAX(Parámetros!M$7:$P$7),FALSE))","v":""},{"$f":"IF(N491=\"\",\"\",VLOOKUP(N491,Parámetros!N$11:$P$13,MAX(Parámetros!N$7:$P$7),FALSE))","v":""},{"$f":"IF(O491=\"\",\"\",VLOOKUP(O491,Parámetros!O$11:$P$13,MAX(Parámetros!O$7:$P$7),FALSE))","v":""},""]
[null,null,null,{"$f":"IF(E492=\"\",\"\",VLOOKUP(E492,'Buenas prácticas'!$G$8:$H$1007,2,FALSE))","v":""},null,null,null,null,null,null,null,null,null,null,null,{"$f":"IF(F492=\"\",\"\",VLOOKUP(F492,Parámetros!F$11:$P$13,MAX(Parámetros!F$7:$P$7),FALSE))","v":""},{"$f":"IF(G492=\"\",\"\",VLOOKUP(G492,Parámetros!G$11:$P$13,MAX(Parámetros!G$7:$P$7),FALSE))","v":""},{"$f":"IF(H492=\"\",\"\",VLOOKUP(H492,Parámetros!H$11:$P$13,MAX(Parámetros!H$7:$P$7),FALSE))","v":""},{"$f":"IF(I492=\"\",\"\",VLOOKUP(I492,Parámetros!I$11:$P$13,MAX(Parámetros!I$7:$P$7),FALSE))","v":""},{"$f":"IF(J492=\"\",\"\",VLOOKUP(J492,Parámetros!J$11:$P$13,MAX(Parámetros!J$7:$P$7),FALSE))","v":""},{"$f":"IF(K492=\"\",\"\",VLOOKUP(K492,Parámetros!K$11:$P$13,MAX(Parámetros!K$7:$P$7),FALSE))","v":""},{"$f":"IF(L492=\"\",\"\",VLOOKUP(L492,Parámetros!L$11:$P$13,MAX(Parámetros!L$7:$P$7),FALSE))","v":""},{"$f":"IF(M492=\"\",\"\",VLOOKUP(M492,Parámetros!M$11:$P$13,MAX(Parámetros!M$7:$P$7),FALSE))","v":""},{"$f":"IF(N492=\"\",\"\",VLOOKUP(N492,Parámetros!N$11:$P$13,MAX(Parámetros!N$7:$P$7),FALSE))","v":""},{"$f":"IF(O492=\"\",\"\",VLOOKUP(O492,Parámetros!O$11:$P$13,MAX(Parámetros!O$7:$P$7),FALSE))","v":""},""]
[null,null,null,{"$f":"IF(E493=\"\",\"\",VLOOKUP(E493,'Buenas prácticas'!$G$8:$H$1007,2,FALSE))","v":""},null,null,null,null,null,null,null,null,null,null,null,{"$f":"IF(F493=\"\",\"\",VLOOKUP(F493,Parámetros!F$11:$P$13,MAX(Parámetros!F$7:$P$7),FALSE))","v":""},{"$f":"IF(G493=\"\",\"\",VLOOKUP(G493,Parámetros!G$11:$P$13,MAX(Parámetros!G$7:$P$7),FALSE))","v":""},{"$f":"IF(H493=\"\",\"\",VLOOKUP(H493,Parámetros!H$11:$P$13,MAX(Parámetros!H$7:$P$7),FALSE))","v":""},{"$f":"IF(I493=\"\",\"\",VLOOKUP(I493,Parámetros!I$11:$P$13,MAX(Parámetros!I$7:$P$7),FALSE))","v":""},{"$f":"IF(J493=\"\",\"\",VLOOKUP(J493,Parámetros!J$11:$P$13,MAX(Parámetros!J$7:$P$7),FALSE))","v":""},{"$f":"IF(K493=\"\",\"\",VLOOKUP(K493,Parámetros!K$11:$P$13,MAX(Parámetros!K$7:$P$7),FALSE))","v":""},{"$f":"IF(L493=\"\",\"\",VLOOKUP(L493,Parámetros!L$11:$P$13,MAX(Parámetros!L$7:$P$7),FALSE))","v":""},{"$f":"IF(M493=\"\",\"\",VLOOKUP(M493,Parámetros!M$11:$P$13,MAX(Parámetros!M$7:$P$7),FALSE))","v":""},{"$f":"IF(N493=\"\",\"\",VLOOKUP(N493,Parámetros!N$11:$P$13,MAX(Parámetros!N$7:$P$7),FALSE))","v":""},{"$f":"IF(O493=\"\",\"\",VLOOKUP(O493,Parámetros!O$11:$P$13,MAX(Parámetros!O$7:$P$7),FALSE))","v":""},""]
[null,null,null,{"$f":"IF(E494=\"\",\"\",VLOOKUP(E494,'Buenas prácticas'!$G$8:$H$1007,2,FALSE))","v":""},null,null,null,null,null,null,null,null,null,null,null,{"$f":"IF(F494=\"\",\"\",VLOOKUP(F494,Parámetros!F$11:$P$13,MAX(Parámetros!F$7:$P$7),FALSE))","v":""},{"$f":"IF(G494=\"\",\"\",VLOOKUP(G494,Parámetros!G$11:$P$13,MAX(Parámetros!G$7:$P$7),FALSE))","v":""},{"$f":"IF(H494=\"\",\"\",VLOOKUP(H494,Parámetros!H$11:$P$13,MAX(Parámetros!H$7:$P$7),FALSE))","v":""},{"$f":"IF(I494=\"\",\"\",VLOOKUP(I494,Parámetros!I$11:$P$13,MAX(Parámetros!I$7:$P$7),FALSE))","v":""},{"$f":"IF(J494=\"\",\"\",VLOOKUP(J494,Parámetros!J$11:$P$13,MAX(Parámetros!J$7:$P$7),FALSE))","v":""},{"$f":"IF(K494=\"\",\"\",VLOOKUP(K494,Parámetros!K$11:$P$13,MAX(Parámetros!K$7:$P$7),FALSE))","v":""},{"$f":"IF(L494=\"\",\"\",VLOOKUP(L494,Parámetros!L$11:$P$13,MAX(Parámetros!L$7:$P$7),FALSE))","v":""},{"$f":"IF(M494=\"\",\"\",VLOOKUP(M494,Parámetros!M$11:$P$13,MAX(Parámetros!M$7:$P$7),FALSE))","v":""},{"$f":"IF(N494=\"\",\"\",VLOOKUP(N494,Parámetros!N$11:$P$13,MAX(Parámetros!N$7:$P$7),FALSE))","v":""},{"$f":"IF(O494=\"\",\"\",VLOOKUP(O494,Parámetros!O$11:$P$13,MAX(Parámetros!O$7:$P$7),FALSE))","v":""},""]
[null,null,null,{"$f":"IF(E495=\"\",\"\",VLOOKUP(E495,'Buenas prácticas'!$G$8:$H$1007,2,FALSE))","v":""},null,null,null,null,null,null,null,null,null,null,null,{"$f":"IF(F495=\"\",\"\",VLOOKUP(F495,Parámetros!F$11:$P$13,MAX(Parámetros!F$7:$P$7),FALSE))","v":""},{"$f":"IF(G495=\"\",\"\",VLOOKUP(G495,Parámetros!G$11:$P$13,MAX(Parámetros!G$7:$P$7),FALSE))","v":""},{"$f":"IF(H495=\"\",\"\",VLOOKUP(H495,Parámetros!H$11:$P$13,MAX(Parámetros!H$7:$P$7),FALSE))","v":""},{"$f":"IF(I495=\"\",\"\",VLOOKUP(I495,Parámetros!I$11:$P$13,MAX(Parámetros!I$7:$P$7),FALSE))","v":""},{"$f":"IF(J495=\"\",\"\",VLOOKUP(J495,Parámetros!J$11:$P$13,MAX(Parámetros!J$7:$P$7),FALSE))","v":""},{"$f":"IF(K495=\"\",\"\",VLOOKUP(K495,Parámetros!K$11:$P$13,MAX(Parámetros!K$7:$P$7),FALSE))","v":""},{"$f":"IF(L495=\"\",\"\",VLOOKUP(L495,Parámetros!L$11:$P$13,MAX(Parámetros!L$7:$P$7),FALSE))","v":""},{"$f":"IF(M495=\"\",\"\",VLOOKUP(M495,Parámetros!M$11:$P$13,MAX(Parámetros!M$7:$P$7),FALSE))","v":""},{"$f":"IF(N495=\"\",\"\",VLOOKUP(N495,Parámetros!N$11:$P$13,MAX(Parámetros!N$7:$P$7),FALSE))","v":""},{"$f":"IF(O495=\"\",\"\",VLOOKUP(O495,Parámetros!O$11:$P$13,MAX(Parámetros!O$7:$P$7),FALSE))","v":""},""]
[null,null,null,{"$f":"IF(E496=\"\",\"\",VLOOKUP(E496,'Buenas prácticas'!$G$8:$H$1007,2,FALSE))","v":""},null,null,null,null,null,null,null,null,null,null,null,{"$f":"IF(F496=\"\",\"\",VLOOKUP(F496,Parámetros!F$11:$P$13,MAX(Parámetros!F$7:$P$7),FALSE))","v":""},{"$f":"IF(G496=\"\",\"\",VLOOKUP(G496,Parámetros!G$11:$P$13,MAX(Parámetros!G$7:$P$7),FALSE))","v":""},{"$f":"IF(H496=\"\",\"\",VLOOKUP(H496,Parámetros!H$11:$P$13,MAX(Parámetros!H$7:$P$7),FALSE))","v":""},{"$f":"IF(I496=\"\",\"\",VLOOKUP(I496,Parámetros!I$11:$P$13,MAX(Parámetros!I$7:$P$7),FALSE))","v":""},{"$f":"IF(J496=\"\",\"\",VLOOKUP(J496,Parámetros!J$11:$P$13,MAX(Parámetros!J$7:$P$7),FALSE))","v":""},{"$f":"IF(K496=\"\",\"\",VLOOKUP(K496,Parámetros!K$11:$P$13,MAX(Parámetros!K$7:$P$7),FALSE))","v":""},{"$f":"IF(L496=\"\",\"\",VLOOKUP(L496,Parámetros!L$11:$P$13,MAX(Parámetros!L$7:$P$7),FALSE))","v":""},{"$f":"IF(M496=\"\",\"\",VLOOKUP(M496,Parámetros!M$11:$P$13,MAX(Parámetros!M$7:$P$7),FALSE))","v":""},{"$f":"IF(N496=\"\",\"\",VLOOKUP(N496,Parámetros!N$11:$P$13,MAX(Parámetros!N$7:$P$7),FALSE))","v":""},{"$f":"IF(O496=\"\",\"\",VLOOKUP(O496,Parámetros!O$11:$P$13,MAX(Parámetros!O$7:$P$7),FALSE))","v":""},""]
[null,null,null,{"$f":"IF(E497=\"\",\"\",VLOOKUP(E497,'Buenas prácticas'!$G$8:$H$1007,2,FALSE))","v":""},null,null,null,null,null,null,null,null,null,null,null,{"$f":"IF(F497=\"\",\"\",VLOOKUP(F497,Parámetros!F$11:$P$13,MAX(Parámetros!F$7:$P$7),FALSE))","v":""},{"$f":"IF(G497=\"\",\"\",VLOOKUP(G497,Parámetros!G$11:$P$13,MAX(Parámetros!G$7:$P$7),FALSE))","v":""},{"$f":"IF(H497=\"\",\"\",VLOOKUP(H497,Parámetros!H$11:$P$13,MAX(Parámetros!H$7:$P$7),FALSE))","v":""},{"$f":"IF(I497=\"\",\"\",VLOOKUP(I497,Parámetros!I$11:$P$13,MAX(Parámetros!I$7:$P$7),FALSE))","v":""},{"$f":"IF(J497=\"\",\"\",VLOOKUP(J497,Parámetros!J$11:$P$13,MAX(Parámetros!J$7:$P$7),FALSE))","v":""},{"$f":"IF(K497=\"\",\"\",VLOOKUP(K497,Parámetros!K$11:$P$13,MAX(Parámetros!K$7:$P$7),FALSE))","v":""},{"$f":"IF(L497=\"\",\"\",VLOOKUP(L497,Parámetros!L$11:$P$13,MAX(Parámetros!L$7:$P$7),FALSE))","v":""},{"$f":"IF(M497=\"\",\"\",VLOOKUP(M497,Parámetros!M$11:$P$13,MAX(Parámetros!M$7:$P$7),FALSE))","v":""},{"$f":"IF(N497=\"\",\"\",VLOOKUP(N497,Parámetros!N$11:$P$13,MAX(Parámetros!N$7:$P$7),FALSE))","v":""},{"$f":"IF(O497=\"\",\"\",VLOOKUP(O497,Parámetros!O$11:$P$13,MAX(Parámetros!O$7:$P$7),FALSE))","v":""},""]
[null,null,null,{"$f":"IF(E498=\"\",\"\",VLOOKUP(E498,'Buenas prácticas'!$G$8:$H$1007,2,FALSE))","v":""},null,null,null,null,null,null,null,null,null,null,null,{"$f":"IF(F498=\"\",\"\",VLOOKUP(F498,Parámetros!F$11:$P$13,MAX(Parámetros!F$7:$P$7),FALSE))","v":""},{"$f":"IF(G498=\"\",\"\",VLOOKUP(G498,Parámetros!G$11:$P$13,MAX(Parámetros!G$7:$P$7),FALSE))","v":""},{"$f":"IF(H498=\"\",\"\",VLOOKUP(H498,Parámetros!H$11:$P$13,MAX(Parámetros!H$7:$P$7),FALSE))","v":""},{"$f":"IF(I498=\"\",\"\",VLOOKUP(I498,Parámetros!I$11:$P$13,MAX(Parámetros!I$7:$P$7),FALSE))","v":""},{"$f":"IF(J498=\"\",\"\",VLOOKUP(J498,Parámetros!J$11:$P$13,MAX(Parámetros!J$7:$P$7),FALSE))","v":""},{"$f":"IF(K498=\"\",\"\",VLOOKUP(K498,Parámetros!K$11:$P$13,MAX(Parámetros!K$7:$P$7),FALSE))","v":""},{"$f":"IF(L498=\"\",\"\",VLOOKUP(L498,Parámetros!L$11:$P$13,MAX(Parámetros!L$7:$P$7),FALSE))","v":""},{"$f":"IF(M498=\"\",\"\",VLOOKUP(M498,Parámetros!M$11:$P$13,MAX(Parámetros!M$7:$P$7),FALSE))","v":""},{"$f":"IF(N498=\"\",\"\",VLOOKUP(N498,Parámetros!N$11:$P$13,MAX(Parámetros!N$7:$P$7),FALSE))","v":""},{"$f":"IF(O498=\"\",\"\",VLOOKUP(O498,Parámetros!O$11:$P$13,MAX(Parámetros!O$7:$P$7),FALSE))","v":""},""]
[null,null,null,{"$f":"IF(E499=\"\",\"\",VLOOKUP(E499,'Buenas prácticas'!$G$8:$H$1007,2,FALSE))","v":""},null,null,null,null,null,null,null,null,null,null,null,{"$f":"IF(F499=\"\",\"\",VLOOKUP(F499,Parámetros!F$11:$P$13,MAX(Parámetros!F$7:$P$7),FALSE))","v":""},{"$f":"IF(G499=\"\",\"\",VLOOKUP(G499,Parámetros!G$11:$P$13,MAX(Parámetros!G$7:$P$7),FALSE))","v":""},{"$f":"IF(H499=\"\",\"\",VLOOKUP(H499,Parámetros!H$11:$P$13,MAX(Parámetros!H$7:$P$7),FALSE))","v":""},{"$f":"IF(I499=\"\",\"\",VLOOKUP(I499,Parámetros!I$11:$P$13,MAX(Parámetros!I$7:$P$7),FALSE))","v":""},{"$f":"IF(J499=\"\",\"\",VLOOKUP(J499,Parámetros!J$11:$P$13,MAX(Parámetros!J$7:$P$7),FALSE))","v":""},{"$f":"IF(K499=\"\",\"\",VLOOKUP(K499,Parámetros!K$11:$P$13,MAX(Parámetros!K$7:$P$7),FALSE))","v":""},{"$f":"IF(L499=\"\",\"\",VLOOKUP(L499,Parámetros!L$11:$P$13,MAX(Parámetros!L$7:$P$7),FALSE))","v":""},{"$f":"IF(M499=\"\",\"\",VLOOKUP(M499,Parámetros!M$11:$P$13,MAX(Parámetros!M$7:$P$7),FALSE))","v":""},{"$f":"IF(N499=\"\",\"\",VLOOKUP(N499,Parámetros!N$11:$P$13,MAX(Parámetros!N$7:$P$7),FALSE))","v":""},{"$f":"IF(O499=\"\",\"\",VLOOKUP(O499,Parámetros!O$11:$P$13,MAX(Parámetros!O$7:$P$7),FALSE))","v":""},""]
[null,null,null,{"$f":"IF(E500=\"\",\"\",VLOOKUP(E500,'Buenas prácticas'!$G$8:$H$1007,2,FALSE))","v":""},null,null,null,null,null,null,null,null,null,null,null,{"$f":"IF(F500=\"\",\"\",VLOOKUP(F500,Parámetros!F$11:$P$13,MAX(Parámetros!F$7:$P$7),FALSE))","v":""},{"$f":"IF(G500=\"\",\"\",VLOOKUP(G500,Parámetros!G$11:$P$13,MAX(Parámetros!G$7:$P$7),FALSE))","v":""},{"$f":"IF(H500=\"\",\"\",VLOOKUP(H500,Parámetros!H$11:$P$13,MAX(Parámetros!H$7:$P$7),FALSE))","v":""},{"$f":"IF(I500=\"\",\"\",VLOOKUP(I500,Parámetros!I$11:$P$13,MAX(Parámetros!I$7:$P$7),FALSE))","v":""},{"$f":"IF(J500=\"\",\"\",VLOOKUP(J500,Parámetros!J$11:$P$13,MAX(Parámetros!J$7:$P$7),FALSE))","v":""},{"$f":"IF(K500=\"\",\"\",VLOOKUP(K500,Parámetros!K$11:$P$13,MAX(Parámetros!K$7:$P$7),FALSE))","v":""},{"$f":"IF(L500=\"\",\"\",VLOOKUP(L500,Parámetros!L$11:$P$13,MAX(Parámetros!L$7:$P$7),FALSE))","v":""},{"$f":"IF(M500=\"\",\"\",VLOOKUP(M500,Parámetros!M$11:$P$13,MAX(Parámetros!M$7:$P$7),FALSE))","v":""},{"$f":"IF(N500=\"\",\"\",VLOOKUP(N500,Parámetros!N$11:$P$13,MAX(Parámetros!N$7:$P$7),FALSE))","v":""},{"$f":"IF(O500=\"\",\"\",VLOOKUP(O500,Parámetros!O$11:$P$13,MAX(Parámetros!O$7:$P$7),FALSE))","v":""},""]
[null,null,null,{"$f":"IF(E501=\"\",\"\",VLOOKUP(E501,'Buenas prácticas'!$G$8:$H$1007,2,FALSE))","v":""},null,null,null,null,null,null,null,null,null,null,null,{"$f":"IF(F501=\"\",\"\",VLOOKUP(F501,Parámetros!F$11:$P$13,MAX(Parámetros!F$7:$P$7),FALSE))","v":""},{"$f":"IF(G501=\"\",\"\",VLOOKUP(G501,Parámetros!G$11:$P$13,MAX(Parámetros!G$7:$P$7),FALSE))","v":""},{"$f":"IF(H501=\"\",\"\",VLOOKUP(H501,Parámetros!H$11:$P$13,MAX(Parámetros!H$7:$P$7),FALSE))","v":""},{"$f":"IF(I501=\"\",\"\",VLOOKUP(I501,Parámetros!I$11:$P$13,MAX(Parámetros!I$7:$P$7),FALSE))","v":""},{"$f":"IF(J501=\"\",\"\",VLOOKUP(J501,Parámetros!J$11:$P$13,MAX(Parámetros!J$7:$P$7),FALSE))","v":""},{"$f":"IF(K501=\"\",\"\",VLOOKUP(K501,Parámetros!K$11:$P$13,MAX(Parámetros!K$7:$P$7),FALSE))","v":""},{"$f":"IF(L501=\"\",\"\",VLOOKUP(L501,Parámetros!L$11:$P$13,MAX(Parámetros!L$7:$P$7),FALSE))","v":""},{"$f":"IF(M501=\"\",\"\",VLOOKUP(M501,Parámetros!M$11:$P$13,MAX(Parámetros!M$7:$P$7),FALSE))","v":""},{"$f":"IF(N501=\"\",\"\",VLOOKUP(N501,Parámetros!N$11:$P$13,MAX(Parámetros!N$7:$P$7),FALSE))","v":""},{"$f":"IF(O501=\"\",\"\",VLOOKUP(O501,Parámetros!O$11:$P$13,MAX(Parámetros!O$7:$P$7),FALSE))","v":""},""]
[null,null,null,{"$f":"IF(E502=\"\",\"\",VLOOKUP(E502,'Buenas prácticas'!$G$8:$H$1007,2,FALSE))","v":""},null,null,null,null,null,null,null,null,null,null,null,{"$f":"IF(F502=\"\",\"\",VLOOKUP(F502,Parámetros!F$11:$P$13,MAX(Parámetros!F$7:$P$7),FALSE))","v":""},{"$f":"IF(G502=\"\",\"\",VLOOKUP(G502,Parámetros!G$11:$P$13,MAX(Parámetros!G$7:$P$7),FALSE))","v":""},{"$f":"IF(H502=\"\",\"\",VLOOKUP(H502,Parámetros!H$11:$P$13,MAX(Parámetros!H$7:$P$7),FALSE))","v":""},{"$f":"IF(I502=\"\",\"\",VLOOKUP(I502,Parámetros!I$11:$P$13,MAX(Parámetros!I$7:$P$7),FALSE))","v":""},{"$f":"IF(J502=\"\",\"\",VLOOKUP(J502,Parámetros!J$11:$P$13,MAX(Parámetros!J$7:$P$7),FALSE))","v":""},{"$f":"IF(K502=\"\",\"\",VLOOKUP(K502,Parámetros!K$11:$P$13,MAX(Parámetros!K$7:$P$7),FALSE))","v":""},{"$f":"IF(L502=\"\",\"\",VLOOKUP(L502,Parámetros!L$11:$P$13,MAX(Parámetros!L$7:$P$7),FALSE))","v":""},{"$f":"IF(M502=\"\",\"\",VLOOKUP(M502,Parámetros!M$11:$P$13,MAX(Parámetros!M$7:$P$7),FALSE))","v":""},{"$f":"IF(N502=\"\",\"\",VLOOKUP(N502,Parámetros!N$11:$P$13,MAX(Parámetros!N$7:$P$7),FALSE))","v":""},{"$f":"IF(O502=\"\",\"\",VLOOKUP(O502,Parámetros!O$11:$P$13,MAX(Parámetros!O$7:$P$7),FALSE))","v":""},""]
[null,null,null,{"$f":"IF(E503=\"\",\"\",VLOOKUP(E503,'Buenas prácticas'!$G$8:$H$1007,2,FALSE))","v":""},null,null,null,null,null,null,null,null,null,null,null,{"$f":"IF(F503=\"\",\"\",VLOOKUP(F503,Parámetros!F$11:$P$13,MAX(Parámetros!F$7:$P$7),FALSE))","v":""},{"$f":"IF(G503=\"\",\"\",VLOOKUP(G503,Parámetros!G$11:$P$13,MAX(Parámetros!G$7:$P$7),FALSE))","v":""},{"$f":"IF(H503=\"\",\"\",VLOOKUP(H503,Parámetros!H$11:$P$13,MAX(Parámetros!H$7:$P$7),FALSE))","v":""},{"$f":"IF(I503=\"\",\"\",VLOOKUP(I503,Parámetros!I$11:$P$13,MAX(Parámetros!I$7:$P$7),FALSE))","v":""},{"$f":"IF(J503=\"\",\"\",VLOOKUP(J503,Parámetros!J$11:$P$13,MAX(Parámetros!J$7:$P$7),FALSE))","v":""},{"$f":"IF(K503=\"\",\"\",VLOOKUP(K503,Parámetros!K$11:$P$13,MAX(Parámetros!K$7:$P$7),FALSE))","v":""},{"$f":"IF(L503=\"\",\"\",VLOOKUP(L503,Parámetros!L$11:$P$13,MAX(Parámetros!L$7:$P$7),FALSE))","v":""},{"$f":"IF(M503=\"\",\"\",VLOOKUP(M503,Parámetros!M$11:$P$13,MAX(Parámetros!M$7:$P$7),FALSE))","v":""},{"$f":"IF(N503=\"\",\"\",VLOOKUP(N503,Parámetros!N$11:$P$13,MAX(Parámetros!N$7:$P$7),FALSE))","v":""},{"$f":"IF(O503=\"\",\"\",VLOOKUP(O503,Parámetros!O$11:$P$13,MAX(Parámetros!O$7:$P$7),FALSE))","v":""},""]
[null,null,null,{"$f":"IF(E504=\"\",\"\",VLOOKUP(E504,'Buenas prácticas'!$G$8:$H$1007,2,FALSE))","v":""},null,null,null,null,null,null,null,null,null,null,null,{"$f":"IF(F504=\"\",\"\",VLOOKUP(F504,Parámetros!F$11:$P$13,MAX(Parámetros!F$7:$P$7),FALSE))","v":""},{"$f":"IF(G504=\"\",\"\",VLOOKUP(G504,Parámetros!G$11:$P$13,MAX(Parámetros!G$7:$P$7),FALSE))","v":""},{"$f":"IF(H504=\"\",\"\",VLOOKUP(H504,Parámetros!H$11:$P$13,MAX(Parámetros!H$7:$P$7),FALSE))","v":""},{"$f":"IF(I504=\"\",\"\",VLOOKUP(I504,Parámetros!I$11:$P$13,MAX(Parámetros!I$7:$P$7),FALSE))","v":""},{"$f":"IF(J504=\"\",\"\",VLOOKUP(J504,Parámetros!J$11:$P$13,MAX(Parámetros!J$7:$P$7),FALSE))","v":""},{"$f":"IF(K504=\"\",\"\",VLOOKUP(K504,Parámetros!K$11:$P$13,MAX(Parámetros!K$7:$P$7),FALSE))","v":""},{"$f":"IF(L504=\"\",\"\",VLOOKUP(L504,Parámetros!L$11:$P$13,MAX(Parámetros!L$7:$P$7),FALSE))","v":""},{"$f":"IF(M504=\"\",\"\",VLOOKUP(M504,Parámetros!M$11:$P$13,MAX(Parámetros!M$7:$P$7),FALSE))","v":""},{"$f":"IF(N504=\"\",\"\",VLOOKUP(N504,Parámetros!N$11:$P$13,MAX(Parámetros!N$7:$P$7),FALSE))","v":""},{"$f":"IF(O504=\"\",\"\",VLOOKUP(O504,Parámetros!O$11:$P$13,MAX(Parámetros!O$7:$P$7),FALSE))","v":""},""]
[null,null,null,{"$f":"IF(E505=\"\",\"\",VLOOKUP(E505,'Buenas prácticas'!$G$8:$H$1007,2,FALSE))","v":""},null,null,null,null,null,null,null,null,null,null,null,{"$f":"IF(F505=\"\",\"\",VLOOKUP(F505,Parámetros!F$11:$P$13,MAX(Parámetros!F$7:$P$7),FALSE))","v":""},{"$f":"IF(G505=\"\",\"\",VLOOKUP(G505,Parámetros!G$11:$P$13,MAX(Parámetros!G$7:$P$7),FALSE))","v":""},{"$f":"IF(H505=\"\",\"\",VLOOKUP(H505,Parámetros!H$11:$P$13,MAX(Parámetros!H$7:$P$7),FALSE))","v":""},{"$f":"IF(I505=\"\",\"\",VLOOKUP(I505,Parámetros!I$11:$P$13,MAX(Parámetros!I$7:$P$7),FALSE))","v":""},{"$f":"IF(J505=\"\",\"\",VLOOKUP(J505,Parámetros!J$11:$P$13,MAX(Parámetros!J$7:$P$7),FALSE))","v":""},{"$f":"IF(K505=\"\",\"\",VLOOKUP(K505,Parámetros!K$11:$P$13,MAX(Parámetros!K$7:$P$7),FALSE))","v":""},{"$f":"IF(L505=\"\",\"\",VLOOKUP(L505,Parámetros!L$11:$P$13,MAX(Parámetros!L$7:$P$7),FALSE))","v":""},{"$f":"IF(M505=\"\",\"\",VLOOKUP(M505,Parámetros!M$11:$P$13,MAX(Parámetros!M$7:$P$7),FALSE))","v":""},{"$f":"IF(N505=\"\",\"\",VLOOKUP(N505,Parámetros!N$11:$P$13,MAX(Parámetros!N$7:$P$7),FALSE))","v":""},{"$f":"IF(O505=\"\",\"\",VLOOKUP(O505,Parámetros!O$11:$P$13,MAX(Parámetros!O$7:$P$7),FALSE))","v":""},""]
[null,null,null,{"$f":"IF(E506=\"\",\"\",VLOOKUP(E506,'Buenas prácticas'!$G$8:$H$1007,2,FALSE))","v":""},null,null,null,null,null,null,null,null,null,null,null,{"$f":"IF(F506=\"\",\"\",VLOOKUP(F506,Parámetros!F$11:$P$13,MAX(Parámetros!F$7:$P$7),FALSE))","v":""},{"$f":"IF(G506=\"\",\"\",VLOOKUP(G506,Parámetros!G$11:$P$13,MAX(Parámetros!G$7:$P$7),FALSE))","v":""},{"$f":"IF(H506=\"\",\"\",VLOOKUP(H506,Parámetros!H$11:$P$13,MAX(Parámetros!H$7:$P$7),FALSE))","v":""},{"$f":"IF(I506=\"\",\"\",VLOOKUP(I506,Parámetros!I$11:$P$13,MAX(Parámetros!I$7:$P$7),FALSE))","v":""},{"$f":"IF(J506=\"\",\"\",VLOOKUP(J506,Parámetros!J$11:$P$13,MAX(Parámetros!J$7:$P$7),FALSE))","v":""},{"$f":"IF(K506=\"\",\"\",VLOOKUP(K506,Parámetros!K$11:$P$13,MAX(Parámetros!K$7:$P$7),FALSE))","v":""},{"$f":"IF(L506=\"\",\"\",VLOOKUP(L506,Parámetros!L$11:$P$13,MAX(Parámetros!L$7:$P$7),FALSE))","v":""},{"$f":"IF(M506=\"\",\"\",VLOOKUP(M506,Parámetros!M$11:$P$13,MAX(Parámetros!M$7:$P$7),FALSE))","v":""},{"$f":"IF(N506=\"\",\"\",VLOOKUP(N506,Parámetros!N$11:$P$13,MAX(Parámetros!N$7:$P$7),FALSE))","v":""},{"$f":"IF(O506=\"\",\"\",VLOOKUP(O506,Parámetros!O$11:$P$13,MAX(Parámetros!O$7:$P$7),FALSE))","v":""},""]
[null,null,null,{"$f":"IF(E507=\"\",\"\",VLOOKUP(E507,'Buenas prácticas'!$G$8:$H$1007,2,FALSE))","v":""},null,null,null,null,null,null,null,null,null,null,null,{"$f":"IF(F507=\"\",\"\",VLOOKUP(F507,Parámetros!F$11:$P$13,MAX(Parámetros!F$7:$P$7),FALSE))","v":""},{"$f":"IF(G507=\"\",\"\",VLOOKUP(G507,Parámetros!G$11:$P$13,MAX(Parámetros!G$7:$P$7),FALSE))","v":""},{"$f":"IF(H507=\"\",\"\",VLOOKUP(H507,Parámetros!H$11:$P$13,MAX(Parámetros!H$7:$P$7),FALSE))","v":""},{"$f":"IF(I507=\"\",\"\",VLOOKUP(I507,Parámetros!I$11:$P$13,MAX(Parámetros!I$7:$P$7),FALSE))","v":""},{"$f":"IF(J507=\"\",\"\",VLOOKUP(J507,Parámetros!J$11:$P$13,MAX(Parámetros!J$7:$P$7),FALSE))","v":""},{"$f":"IF(K507=\"\",\"\",VLOOKUP(K507,Parámetros!K$11:$P$13,MAX(Parámetros!K$7:$P$7),FALSE))","v":""},{"$f":"IF(L507=\"\",\"\",VLOOKUP(L507,Parámetros!L$11:$P$13,MAX(Parámetros!L$7:$P$7),FALSE))","v":""},{"$f":"IF(M507=\"\",\"\",VLOOKUP(M507,Parámetros!M$11:$P$13,MAX(Parámetros!M$7:$P$7),FALSE))","v":""},{"$f":"IF(N507=\"\",\"\",VLOOKUP(N507,Parámetros!N$11:$P$13,MAX(Parámetros!N$7:$P$7),FALSE))","v":""},{"$f":"IF(O507=\"\",\"\",VLOOKUP(O507,Parámetros!O$11:$P$13,MAX(Parámetros!O$7:$P$7),FALSE))","v":""},""]
[null,null,null,{"$f":"IF(E508=\"\",\"\",VLOOKUP(E508,'Buenas prácticas'!$G$8:$H$1007,2,FALSE))","v":""},null,null,null,null,null,null,null,null,null,null,null,{"$f":"IF(F508=\"\",\"\",VLOOKUP(F508,Parámetros!F$11:$P$13,MAX(Parámetros!F$7:$P$7),FALSE))","v":""},{"$f":"IF(G508=\"\",\"\",VLOOKUP(G508,Parámetros!G$11:$P$13,MAX(Parámetros!G$7:$P$7),FALSE))","v":""},{"$f":"IF(H508=\"\",\"\",VLOOKUP(H508,Parámetros!H$11:$P$13,MAX(Parámetros!H$7:$P$7),FALSE))","v":""},{"$f":"IF(I508=\"\",\"\",VLOOKUP(I508,Parámetros!I$11:$P$13,MAX(Parámetros!I$7:$P$7),FALSE))","v":""},{"$f":"IF(J508=\"\",\"\",VLOOKUP(J508,Parámetros!J$11:$P$13,MAX(Parámetros!J$7:$P$7),FALSE))","v":""},{"$f":"IF(K508=\"\",\"\",VLOOKUP(K508,Parámetros!K$11:$P$13,MAX(Parámetros!K$7:$P$7),FALSE))","v":""},{"$f":"IF(L508=\"\",\"\",VLOOKUP(L508,Parámetros!L$11:$P$13,MAX(Parámetros!L$7:$P$7),FALSE))","v":""},{"$f":"IF(M508=\"\",\"\",VLOOKUP(M508,Parámetros!M$11:$P$13,MAX(Parámetros!M$7:$P$7),FALSE))","v":""},{"$f":"IF(N508=\"\",\"\",VLOOKUP(N508,Parámetros!N$11:$P$13,MAX(Parámetros!N$7:$P$7),FALSE))","v":""},{"$f":"IF(O508=\"\",\"\",VLOOKUP(O508,Parámetros!O$11:$P$13,MAX(Parámetros!O$7:$P$7),FALSE))","v":""},""]
[null,null,null,{"$f":"IF(E509=\"\",\"\",VLOOKUP(E509,'Buenas prácticas'!$G$8:$H$1007,2,FALSE))","v":""},null,null,null,null,null,null,null,null,null,null,null,{"$f":"IF(F509=\"\",\"\",VLOOKUP(F509,Parámetros!F$11:$P$13,MAX(Parámetros!F$7:$P$7),FALSE))","v":""},{"$f":"IF(G509=\"\",\"\",VLOOKUP(G509,Parámetros!G$11:$P$13,MAX(Parámetros!G$7:$P$7),FALSE))","v":""},{"$f":"IF(H509=\"\",\"\",VLOOKUP(H509,Parámetros!H$11:$P$13,MAX(Parámetros!H$7:$P$7),FALSE))","v":""},{"$f":"IF(I509=\"\",\"\",VLOOKUP(I509,Parámetros!I$11:$P$13,MAX(Parámetros!I$7:$P$7),FALSE))","v":""},{"$f":"IF(J509=\"\",\"\",VLOOKUP(J509,Parámetros!J$11:$P$13,MAX(Parámetros!J$7:$P$7),FALSE))","v":""},{"$f":"IF(K509=\"\",\"\",VLOOKUP(K509,Parámetros!K$11:$P$13,MAX(Parámetros!K$7:$P$7),FALSE))","v":""},{"$f":"IF(L509=\"\",\"\",VLOOKUP(L509,Parámetros!L$11:$P$13,MAX(Parámetros!L$7:$P$7),FALSE))","v":""},{"$f":"IF(M509=\"\",\"\",VLOOKUP(M509,Parámetros!M$11:$P$13,MAX(Parámetros!M$7:$P$7),FALSE))","v":""},{"$f":"IF(N509=\"\",\"\",VLOOKUP(N509,Parámetros!N$11:$P$13,MAX(Parámetros!N$7:$P$7),FALSE))","v":""},{"$f":"IF(O509=\"\",\"\",VLOOKUP(O509,Parámetros!O$11:$P$13,MAX(Parámetros!O$7:$P$7),FALSE))","v":""},""]
[null,null,null,{"$f":"IF(E510=\"\",\"\",VLOOKUP(E510,'Buenas prácticas'!$G$8:$H$1007,2,FALSE))","v":""},null,null,null,null,null,null,null,null,null,null,null,{"$f":"IF(F510=\"\",\"\",VLOOKUP(F510,Parámetros!F$11:$P$13,MAX(Parámetros!F$7:$P$7),FALSE))","v":""},{"$f":"IF(G510=\"\",\"\",VLOOKUP(G510,Parámetros!G$11:$P$13,MAX(Parámetros!G$7:$P$7),FALSE))","v":""},{"$f":"IF(H510=\"\",\"\",VLOOKUP(H510,Parámetros!H$11:$P$13,MAX(Parámetros!H$7:$P$7),FALSE))","v":""},{"$f":"IF(I510=\"\",\"\",VLOOKUP(I510,Parámetros!I$11:$P$13,MAX(Parámetros!I$7:$P$7),FALSE))","v":""},{"$f":"IF(J510=\"\",\"\",VLOOKUP(J510,Parámetros!J$11:$P$13,MAX(Parámetros!J$7:$P$7),FALSE))","v":""},{"$f":"IF(K510=\"\",\"\",VLOOKUP(K510,Parámetros!K$11:$P$13,MAX(Parámetros!K$7:$P$7),FALSE))","v":""},{"$f":"IF(L510=\"\",\"\",VLOOKUP(L510,Parámetros!L$11:$P$13,MAX(Parámetros!L$7:$P$7),FALSE))","v":""},{"$f":"IF(M510=\"\",\"\",VLOOKUP(M510,Parámetros!M$11:$P$13,MAX(Parámetros!M$7:$P$7),FALSE))","v":""},{"$f":"IF(N510=\"\",\"\",VLOOKUP(N510,Parámetros!N$11:$P$13,MAX(Parámetros!N$7:$P$7),FALSE))","v":""},{"$f":"IF(O510=\"\",\"\",VLOOKUP(O510,Parámetros!O$11:$P$13,MAX(Parámetros!O$7:$P$7),FALSE))","v":""},""]
[null,null,null,{"$f":"IF(E511=\"\",\"\",VLOOKUP(E511,'Buenas prácticas'!$G$8:$H$1007,2,FALSE))","v":""},null,null,null,null,null,null,null,null,null,null,null,{"$f":"IF(F511=\"\",\"\",VLOOKUP(F511,Parámetros!F$11:$P$13,MAX(Parámetros!F$7:$P$7),FALSE))","v":""},{"$f":"IF(G511=\"\",\"\",VLOOKUP(G511,Parámetros!G$11:$P$13,MAX(Parámetros!G$7:$P$7),FALSE))","v":""},{"$f":"IF(H511=\"\",\"\",VLOOKUP(H511,Parámetros!H$11:$P$13,MAX(Parámetros!H$7:$P$7),FALSE))","v":""},{"$f":"IF(I511=\"\",\"\",VLOOKUP(I511,Parámetros!I$11:$P$13,MAX(Parámetros!I$7:$P$7),FALSE))","v":""},{"$f":"IF(J511=\"\",\"\",VLOOKUP(J511,Parámetros!J$11:$P$13,MAX(Parámetros!J$7:$P$7),FALSE))","v":""},{"$f":"IF(K511=\"\",\"\",VLOOKUP(K511,Parámetros!K$11:$P$13,MAX(Parámetros!K$7:$P$7),FALSE))","v":""},{"$f":"IF(L511=\"\",\"\",VLOOKUP(L511,Parámetros!L$11:$P$13,MAX(Parámetros!L$7:$P$7),FALSE))","v":""},{"$f":"IF(M511=\"\",\"\",VLOOKUP(M511,Parámetros!M$11:$P$13,MAX(Parámetros!M$7:$P$7),FALSE))","v":""},{"$f":"IF(N511=\"\",\"\",VLOOKUP(N511,Parámetros!N$11:$P$13,MAX(Parámetros!N$7:$P$7),FALSE))","v":""},{"$f":"IF(O511=\"\",\"\",VLOOKUP(O511,Parámetros!O$11:$P$13,MAX(Parámetros!O$7:$P$7),FALSE))","v":""},""]
[null,null,null,{"$f":"IF(E512=\"\",\"\",VLOOKUP(E512,'Buenas prácticas'!$G$8:$H$1007,2,FALSE))","v":""},null,null,null,null,null,null,null,null,null,null,null,{"$f":"IF(F512=\"\",\"\",VLOOKUP(F512,Parámetros!F$11:$P$13,MAX(Parámetros!F$7:$P$7),FALSE))","v":""},{"$f":"IF(G512=\"\",\"\",VLOOKUP(G512,Parámetros!G$11:$P$13,MAX(Parámetros!G$7:$P$7),FALSE))","v":""},{"$f":"IF(H512=\"\",\"\",VLOOKUP(H512,Parámetros!H$11:$P$13,MAX(Parámetros!H$7:$P$7),FALSE))","v":""},{"$f":"IF(I512=\"\",\"\",VLOOKUP(I512,Parámetros!I$11:$P$13,MAX(Parámetros!I$7:$P$7),FALSE))","v":""},{"$f":"IF(J512=\"\",\"\",VLOOKUP(J512,Parámetros!J$11:$P$13,MAX(Parámetros!J$7:$P$7),FALSE))","v":""},{"$f":"IF(K512=\"\",\"\",VLOOKUP(K512,Parámetros!K$11:$P$13,MAX(Parámetros!K$7:$P$7),FALSE))","v":""},{"$f":"IF(L512=\"\",\"\",VLOOKUP(L512,Parámetros!L$11:$P$13,MAX(Parámetros!L$7:$P$7),FALSE))","v":""},{"$f":"IF(M512=\"\",\"\",VLOOKUP(M512,Parámetros!M$11:$P$13,MAX(Parámetros!M$7:$P$7),FALSE))","v":""},{"$f":"IF(N512=\"\",\"\",VLOOKUP(N512,Parámetros!N$11:$P$13,MAX(Parámetros!N$7:$P$7),FALSE))","v":""},{"$f":"IF(O512=\"\",\"\",VLOOKUP(O512,Parámetros!O$11:$P$13,MAX(Parámetros!O$7:$P$7),FALSE))","v":""},""]
[null,null,null,{"$f":"IF(E513=\"\",\"\",VLOOKUP(E513,'Buenas prácticas'!$G$8:$H$1007,2,FALSE))","v":""},null,null,null,null,null,null,null,null,null,null,null,{"$f":"IF(F513=\"\",\"\",VLOOKUP(F513,Parámetros!F$11:$P$13,MAX(Parámetros!F$7:$P$7),FALSE))","v":""},{"$f":"IF(G513=\"\",\"\",VLOOKUP(G513,Parámetros!G$11:$P$13,MAX(Parámetros!G$7:$P$7),FALSE))","v":""},{"$f":"IF(H513=\"\",\"\",VLOOKUP(H513,Parámetros!H$11:$P$13,MAX(Parámetros!H$7:$P$7),FALSE))","v":""},{"$f":"IF(I513=\"\",\"\",VLOOKUP(I513,Parámetros!I$11:$P$13,MAX(Parámetros!I$7:$P$7),FALSE))","v":""},{"$f":"IF(J513=\"\",\"\",VLOOKUP(J513,Parámetros!J$11:$P$13,MAX(Parámetros!J$7:$P$7),FALSE))","v":""},{"$f":"IF(K513=\"\",\"\",VLOOKUP(K513,Parámetros!K$11:$P$13,MAX(Parámetros!K$7:$P$7),FALSE))","v":""},{"$f":"IF(L513=\"\",\"\",VLOOKUP(L513,Parámetros!L$11:$P$13,MAX(Parámetros!L$7:$P$7),FALSE))","v":""},{"$f":"IF(M513=\"\",\"\",VLOOKUP(M513,Parámetros!M$11:$P$13,MAX(Parámetros!M$7:$P$7),FALSE))","v":""},{"$f":"IF(N513=\"\",\"\",VLOOKUP(N513,Parámetros!N$11:$P$13,MAX(Parámetros!N$7:$P$7),FALSE))","v":""},{"$f":"IF(O513=\"\",\"\",VLOOKUP(O513,Parámetros!O$11:$P$13,MAX(Parámetros!O$7:$P$7),FALSE))","v":""},""]
[null,null,null,{"$f":"IF(E514=\"\",\"\",VLOOKUP(E514,'Buenas prácticas'!$G$8:$H$1007,2,FALSE))","v":""},null,null,null,null,null,null,null,null,null,null,null,{"$f":"IF(F514=\"\",\"\",VLOOKUP(F514,Parámetros!F$11:$P$13,MAX(Parámetros!F$7:$P$7),FALSE))","v":""},{"$f":"IF(G514=\"\",\"\",VLOOKUP(G514,Parámetros!G$11:$P$13,MAX(Parámetros!G$7:$P$7),FALSE))","v":""},{"$f":"IF(H514=\"\",\"\",VLOOKUP(H514,Parámetros!H$11:$P$13,MAX(Parámetros!H$7:$P$7),FALSE))","v":""},{"$f":"IF(I514=\"\",\"\",VLOOKUP(I514,Parámetros!I$11:$P$13,MAX(Parámetros!I$7:$P$7),FALSE))","v":""},{"$f":"IF(J514=\"\",\"\",VLOOKUP(J514,Parámetros!J$11:$P$13,MAX(Parámetros!J$7:$P$7),FALSE))","v":""},{"$f":"IF(K514=\"\",\"\",VLOOKUP(K514,Parámetros!K$11:$P$13,MAX(Parámetros!K$7:$P$7),FALSE))","v":""},{"$f":"IF(L514=\"\",\"\",VLOOKUP(L514,Parámetros!L$11:$P$13,MAX(Parámetros!L$7:$P$7),FALSE))","v":""},{"$f":"IF(M514=\"\",\"\",VLOOKUP(M514,Parámetros!M$11:$P$13,MAX(Parámetros!M$7:$P$7),FALSE))","v":""},{"$f":"IF(N514=\"\",\"\",VLOOKUP(N514,Parámetros!N$11:$P$13,MAX(Parámetros!N$7:$P$7),FALSE))","v":""},{"$f":"IF(O514=\"\",\"\",VLOOKUP(O514,Parámetros!O$11:$P$13,MAX(Parámetros!O$7:$P$7),FALSE))","v":""},""]
[null,null,null,{"$f":"IF(E515=\"\",\"\",VLOOKUP(E515,'Buenas prácticas'!$G$8:$H$1007,2,FALSE))","v":""},null,null,null,null,null,null,null,null,null,null,null,{"$f":"IF(F515=\"\",\"\",VLOOKUP(F515,Parámetros!F$11:$P$13,MAX(Parámetros!F$7:$P$7),FALSE))","v":""},{"$f":"IF(G515=\"\",\"\",VLOOKUP(G515,Parámetros!G$11:$P$13,MAX(Parámetros!G$7:$P$7),FALSE))","v":""},{"$f":"IF(H515=\"\",\"\",VLOOKUP(H515,Parámetros!H$11:$P$13,MAX(Parámetros!H$7:$P$7),FALSE))","v":""},{"$f":"IF(I515=\"\",\"\",VLOOKUP(I515,Parámetros!I$11:$P$13,MAX(Parámetros!I$7:$P$7),FALSE))","v":""},{"$f":"IF(J515=\"\",\"\",VLOOKUP(J515,Parámetros!J$11:$P$13,MAX(Parámetros!J$7:$P$7),FALSE))","v":""},{"$f":"IF(K515=\"\",\"\",VLOOKUP(K515,Parámetros!K$11:$P$13,MAX(Parámetros!K$7:$P$7),FALSE))","v":""},{"$f":"IF(L515=\"\",\"\",VLOOKUP(L515,Parámetros!L$11:$P$13,MAX(Parámetros!L$7:$P$7),FALSE))","v":""},{"$f":"IF(M515=\"\",\"\",VLOOKUP(M515,Parámetros!M$11:$P$13,MAX(Parámetros!M$7:$P$7),FALSE))","v":""},{"$f":"IF(N515=\"\",\"\",VLOOKUP(N515,Parámetros!N$11:$P$13,MAX(Parámetros!N$7:$P$7),FALSE))","v":""},{"$f":"IF(O515=\"\",\"\",VLOOKUP(O515,Parámetros!O$11:$P$13,MAX(Parámetros!O$7:$P$7),FALSE))","v":""},""]
[null,null,null,{"$f":"IF(E516=\"\",\"\",VLOOKUP(E516,'Buenas prácticas'!$G$8:$H$1007,2,FALSE))","v":""},null,null,null,null,null,null,null,null,null,null,null,{"$f":"IF(F516=\"\",\"\",VLOOKUP(F516,Parámetros!F$11:$P$13,MAX(Parámetros!F$7:$P$7),FALSE))","v":""},{"$f":"IF(G516=\"\",\"\",VLOOKUP(G516,Parámetros!G$11:$P$13,MAX(Parámetros!G$7:$P$7),FALSE))","v":""},{"$f":"IF(H516=\"\",\"\",VLOOKUP(H516,Parámetros!H$11:$P$13,MAX(Parámetros!H$7:$P$7),FALSE))","v":""},{"$f":"IF(I516=\"\",\"\",VLOOKUP(I516,Parámetros!I$11:$P$13,MAX(Parámetros!I$7:$P$7),FALSE))","v":""},{"$f":"IF(J516=\"\",\"\",VLOOKUP(J516,Parámetros!J$11:$P$13,MAX(Parámetros!J$7:$P$7),FALSE))","v":""},{"$f":"IF(K516=\"\",\"\",VLOOKUP(K516,Parámetros!K$11:$P$13,MAX(Parámetros!K$7:$P$7),FALSE))","v":""},{"$f":"IF(L516=\"\",\"\",VLOOKUP(L516,Parámetros!L$11:$P$13,MAX(Parámetros!L$7:$P$7),FALSE))","v":""},{"$f":"IF(M516=\"\",\"\",VLOOKUP(M516,Parámetros!M$11:$P$13,MAX(Parámetros!M$7:$P$7),FALSE))","v":""},{"$f":"IF(N516=\"\",\"\",VLOOKUP(N516,Parámetros!N$11:$P$13,MAX(Parámetros!N$7:$P$7),FALSE))","v":""},{"$f":"IF(O516=\"\",\"\",VLOOKUP(O516,Parámetros!O$11:$P$13,MAX(Parámetros!O$7:$P$7),FALSE))","v":""},""]
[null,null,null,{"$f":"IF(E517=\"\",\"\",VLOOKUP(E517,'Buenas prácticas'!$G$8:$H$1007,2,FALSE))","v":""},null,null,null,null,null,null,null,null,null,null,null,{"$f":"IF(F517=\"\",\"\",VLOOKUP(F517,Parámetros!F$11:$P$13,MAX(Parámetros!F$7:$P$7),FALSE))","v":""},{"$f":"IF(G517=\"\",\"\",VLOOKUP(G517,Parámetros!G$11:$P$13,MAX(Parámetros!G$7:$P$7),FALSE))","v":""},{"$f":"IF(H517=\"\",\"\",VLOOKUP(H517,Parámetros!H$11:$P$13,MAX(Parámetros!H$7:$P$7),FALSE))","v":""},{"$f":"IF(I517=\"\",\"\",VLOOKUP(I517,Parámetros!I$11:$P$13,MAX(Parámetros!I$7:$P$7),FALSE))","v":""},{"$f":"IF(J517=\"\",\"\",VLOOKUP(J517,Parámetros!J$11:$P$13,MAX(Parámetros!J$7:$P$7),FALSE))","v":""},{"$f":"IF(K517=\"\",\"\",VLOOKUP(K517,Parámetros!K$11:$P$13,MAX(Parámetros!K$7:$P$7),FALSE))","v":""},{"$f":"IF(L517=\"\",\"\",VLOOKUP(L517,Parámetros!L$11:$P$13,MAX(Parámetros!L$7:$P$7),FALSE))","v":""},{"$f":"IF(M517=\"\",\"\",VLOOKUP(M517,Parámetros!M$11:$P$13,MAX(Parámetros!M$7:$P$7),FALSE))","v":""},{"$f":"IF(N517=\"\",\"\",VLOOKUP(N517,Parámetros!N$11:$P$13,MAX(Parámetros!N$7:$P$7),FALSE))","v":""},{"$f":"IF(O517=\"\",\"\",VLOOKUP(O517,Parámetros!O$11:$P$13,MAX(Parámetros!O$7:$P$7),FALSE))","v":""},""]
[null,null,null,{"$f":"IF(E518=\"\",\"\",VLOOKUP(E518,'Buenas prácticas'!$G$8:$H$1007,2,FALSE))","v":""},null,null,null,null,null,null,null,null,null,null,null,{"$f":"IF(F518=\"\",\"\",VLOOKUP(F518,Parámetros!F$11:$P$13,MAX(Parámetros!F$7:$P$7),FALSE))","v":""},{"$f":"IF(G518=\"\",\"\",VLOOKUP(G518,Parámetros!G$11:$P$13,MAX(Parámetros!G$7:$P$7),FALSE))","v":""},{"$f":"IF(H518=\"\",\"\",VLOOKUP(H518,Parámetros!H$11:$P$13,MAX(Parámetros!H$7:$P$7),FALSE))","v":""},{"$f":"IF(I518=\"\",\"\",VLOOKUP(I518,Parámetros!I$11:$P$13,MAX(Parámetros!I$7:$P$7),FALSE))","v":""},{"$f":"IF(J518=\"\",\"\",VLOOKUP(J518,Parámetros!J$11:$P$13,MAX(Parámetros!J$7:$P$7),FALSE))","v":""},{"$f":"IF(K518=\"\",\"\",VLOOKUP(K518,Parámetros!K$11:$P$13,MAX(Parámetros!K$7:$P$7),FALSE))","v":""},{"$f":"IF(L518=\"\",\"\",VLOOKUP(L518,Parámetros!L$11:$P$13,MAX(Parámetros!L$7:$P$7),FALSE))","v":""},{"$f":"IF(M518=\"\",\"\",VLOOKUP(M518,Parámetros!M$11:$P$13,MAX(Parámetros!M$7:$P$7),FALSE))","v":""},{"$f":"IF(N518=\"\",\"\",VLOOKUP(N518,Parámetros!N$11:$P$13,MAX(Parámetros!N$7:$P$7),FALSE))","v":""},{"$f":"IF(O518=\"\",\"\",VLOOKUP(O518,Parámetros!O$11:$P$13,MAX(Parámetros!O$7:$P$7),FALSE))","v":""},""]
[null,null,null,{"$f":"IF(E519=\"\",\"\",VLOOKUP(E519,'Buenas prácticas'!$G$8:$H$1007,2,FALSE))","v":""},null,null,null,null,null,null,null,null,null,null,null,{"$f":"IF(F519=\"\",\"\",VLOOKUP(F519,Parámetros!F$11:$P$13,MAX(Parámetros!F$7:$P$7),FALSE))","v":""},{"$f":"IF(G519=\"\",\"\",VLOOKUP(G519,Parámetros!G$11:$P$13,MAX(Parámetros!G$7:$P$7),FALSE))","v":""},{"$f":"IF(H519=\"\",\"\",VLOOKUP(H519,Parámetros!H$11:$P$13,MAX(Parámetros!H$7:$P$7),FALSE))","v":""},{"$f":"IF(I519=\"\",\"\",VLOOKUP(I519,Parámetros!I$11:$P$13,MAX(Parámetros!I$7:$P$7),FALSE))","v":""},{"$f":"IF(J519=\"\",\"\",VLOOKUP(J519,Parámetros!J$11:$P$13,MAX(Parámetros!J$7:$P$7),FALSE))","v":""},{"$f":"IF(K519=\"\",\"\",VLOOKUP(K519,Parámetros!K$11:$P$13,MAX(Parámetros!K$7:$P$7),FALSE))","v":""},{"$f":"IF(L519=\"\",\"\",VLOOKUP(L519,Parámetros!L$11:$P$13,MAX(Parámetros!L$7:$P$7),FALSE))","v":""},{"$f":"IF(M519=\"\",\"\",VLOOKUP(M519,Parámetros!M$11:$P$13,MAX(Parámetros!M$7:$P$7),FALSE))","v":""},{"$f":"IF(N519=\"\",\"\",VLOOKUP(N519,Parámetros!N$11:$P$13,MAX(Parámetros!N$7:$P$7),FALSE))","v":""},{"$f":"IF(O519=\"\",\"\",VLOOKUP(O519,Parámetros!O$11:$P$13,MAX(Parámetros!O$7:$P$7),FALSE))","v":""},""]
[null,null,null,{"$f":"IF(E520=\"\",\"\",VLOOKUP(E520,'Buenas prácticas'!$G$8:$H$1007,2,FALSE))","v":""},null,null,null,null,null,null,null,null,null,null,null,{"$f":"IF(F520=\"\",\"\",VLOOKUP(F520,Parámetros!F$11:$P$13,MAX(Parámetros!F$7:$P$7),FALSE))","v":""},{"$f":"IF(G520=\"\",\"\",VLOOKUP(G520,Parámetros!G$11:$P$13,MAX(Parámetros!G$7:$P$7),FALSE))","v":""},{"$f":"IF(H520=\"\",\"\",VLOOKUP(H520,Parámetros!H$11:$P$13,MAX(Parámetros!H$7:$P$7),FALSE))","v":""},{"$f":"IF(I520=\"\",\"\",VLOOKUP(I520,Parámetros!I$11:$P$13,MAX(Parámetros!I$7:$P$7),FALSE))","v":""},{"$f":"IF(J520=\"\",\"\",VLOOKUP(J520,Parámetros!J$11:$P$13,MAX(Parámetros!J$7:$P$7),FALSE))","v":""},{"$f":"IF(K520=\"\",\"\",VLOOKUP(K520,Parámetros!K$11:$P$13,MAX(Parámetros!K$7:$P$7),FALSE))","v":""},{"$f":"IF(L520=\"\",\"\",VLOOKUP(L520,Parámetros!L$11:$P$13,MAX(Parámetros!L$7:$P$7),FALSE))","v":""},{"$f":"IF(M520=\"\",\"\",VLOOKUP(M520,Parámetros!M$11:$P$13,MAX(Parámetros!M$7:$P$7),FALSE))","v":""},{"$f":"IF(N520=\"\",\"\",VLOOKUP(N520,Parámetros!N$11:$P$13,MAX(Parámetros!N$7:$P$7),FALSE))","v":""},{"$f":"IF(O520=\"\",\"\",VLOOKUP(O520,Parámetros!O$11:$P$13,MAX(Parámetros!O$7:$P$7),FALSE))","v":""},""]
[null,null,null,{"$f":"IF(E521=\"\",\"\",VLOOKUP(E521,'Buenas prácticas'!$G$8:$H$1007,2,FALSE))","v":""},null,null,null,null,null,null,null,null,null,null,null,{"$f":"IF(F521=\"\",\"\",VLOOKUP(F521,Parámetros!F$11:$P$13,MAX(Parámetros!F$7:$P$7),FALSE))","v":""},{"$f":"IF(G521=\"\",\"\",VLOOKUP(G521,Parámetros!G$11:$P$13,MAX(Parámetros!G$7:$P$7),FALSE))","v":""},{"$f":"IF(H521=\"\",\"\",VLOOKUP(H521,Parámetros!H$11:$P$13,MAX(Parámetros!H$7:$P$7),FALSE))","v":""},{"$f":"IF(I521=\"\",\"\",VLOOKUP(I521,Parámetros!I$11:$P$13,MAX(Parámetros!I$7:$P$7),FALSE))","v":""},{"$f":"IF(J521=\"\",\"\",VLOOKUP(J521,Parámetros!J$11:$P$13,MAX(Parámetros!J$7:$P$7),FALSE))","v":""},{"$f":"IF(K521=\"\",\"\",VLOOKUP(K521,Parámetros!K$11:$P$13,MAX(Parámetros!K$7:$P$7),FALSE))","v":""},{"$f":"IF(L521=\"\",\"\",VLOOKUP(L521,Parámetros!L$11:$P$13,MAX(Parámetros!L$7:$P$7),FALSE))","v":""},{"$f":"IF(M521=\"\",\"\",VLOOKUP(M521,Parámetros!M$11:$P$13,MAX(Parámetros!M$7:$P$7),FALSE))","v":""},{"$f":"IF(N521=\"\",\"\",VLOOKUP(N521,Parámetros!N$11:$P$13,MAX(Parámetros!N$7:$P$7),FALSE))","v":""},{"$f":"IF(O521=\"\",\"\",VLOOKUP(O521,Parámetros!O$11:$P$13,MAX(Parámetros!O$7:$P$7),FALSE))","v":""},{"$f":"IF(SUMPRODUCT($P521:$Y521,$P$6:$Y$6)=0,\"\",SUMPRODUCT($P521:$Y521,$P$6:$Y$6)/3)","v":""}]
[null,null,null,{"$f":"IF(E522=\"\",\"\",VLOOKUP(E522,'Buenas prácticas'!$G$8:$H$1007,2,FALSE))","v":""},null,null,null,null,null,null,null,null,null,null,null,{"$f":"IF(F522=\"\",\"\",VLOOKUP(F522,Parámetros!F$11:$P$13,MAX(Parámetros!F$7:$P$7),FALSE))","v":""},{"$f":"IF(G522=\"\",\"\",VLOOKUP(G522,Parámetros!G$11:$P$13,MAX(Parámetros!G$7:$P$7),FALSE))","v":""},{"$f":"IF(H522=\"\",\"\",VLOOKUP(H522,Parámetros!H$11:$P$13,MAX(Parámetros!H$7:$P$7),FALSE))","v":""},{"$f":"IF(I522=\"\",\"\",VLOOKUP(I522,Parámetros!I$11:$P$13,MAX(Parámetros!I$7:$P$7),FALSE))","v":""},{"$f":"IF(J522=\"\",\"\",VLOOKUP(J522,Parámetros!J$11:$P$13,MAX(Parámetros!J$7:$P$7),FALSE))","v":""},{"$f":"IF(K522=\"\",\"\",VLOOKUP(K522,Parámetros!K$11:$P$13,MAX(Parámetros!K$7:$P$7),FALSE))","v":""},{"$f":"IF(L522=\"\",\"\",VLOOKUP(L522,Parámetros!L$11:$P$13,MAX(Parámetros!L$7:$P$7),FALSE))","v":""},{"$f":"IF(M522=\"\",\"\",VLOOKUP(M522,Parámetros!M$11:$P$13,MAX(Parámetros!M$7:$P$7),FALSE))","v":""},{"$f":"IF(N522=\"\",\"\",VLOOKUP(N522,Parámetros!N$11:$P$13,MAX(Parámetros!N$7:$P$7),FALSE))","v":""},{"$f":"IF(O522=\"\",\"\",VLOOKUP(O522,Parámetros!O$11:$P$13,MAX(Parámetros!O$7:$P$7),FALSE))","v":""},""]
[null,null,null,{"$f":"IF(E523=\"\",\"\",VLOOKUP(E523,'Buenas prácticas'!$G$8:$H$1007,2,FALSE))","v":""},null,null,null,null,null,null,null,null,null,null,null,{"$f":"IF(F523=\"\",\"\",VLOOKUP(F523,Parámetros!F$11:$P$13,MAX(Parámetros!F$7:$P$7),FALSE))","v":""},{"$f":"IF(G523=\"\",\"\",VLOOKUP(G523,Parámetros!G$11:$P$13,MAX(Parámetros!G$7:$P$7),FALSE))","v":""},{"$f":"IF(H523=\"\",\"\",VLOOKUP(H523,Parámetros!H$11:$P$13,MAX(Parámetros!H$7:$P$7),FALSE))","v":""},{"$f":"IF(I523=\"\",\"\",VLOOKUP(I523,Parámetros!I$11:$P$13,MAX(Parámetros!I$7:$P$7),FALSE))","v":""},{"$f":"IF(J523=\"\",\"\",VLOOKUP(J523,Parámetros!J$11:$P$13,MAX(Parámetros!J$7:$P$7),FALSE))","v":""},{"$f":"IF(K523=\"\",\"\",VLOOKUP(K523,Parámetros!K$11:$P$13,MAX(Parámetros!K$7:$P$7),FALSE))","v":""},{"$f":"IF(L523=\"\",\"\",VLOOKUP(L523,Parámetros!L$11:$P$13,MAX(Parámetros!L$7:$P$7),FALSE))","v":""},{"$f":"IF(M523=\"\",\"\",VLOOKUP(M523,Parámetros!M$11:$P$13,MAX(Parámetros!M$7:$P$7),FALSE))","v":""},{"$f":"IF(N523=\"\",\"\",VLOOKUP(N523,Parámetros!N$11:$P$13,MAX(Parámetros!N$7:$P$7),FALSE))","v":""},{"$f":"IF(O523=\"\",\"\",VLOOKUP(O523,Parámetros!O$11:$P$13,MAX(Parámetros!O$7:$P$7),FALSE))","v":""},""]
[null,null,null,{"$f":"IF(E524=\"\",\"\",VLOOKUP(E524,'Buenas prácticas'!$G$8:$H$1007,2,FALSE))","v":""},null,null,null,null,null,null,null,null,null,null,null,{"$f":"IF(F524=\"\",\"\",VLOOKUP(F524,Parámetros!F$11:$P$13,MAX(Parámetros!F$7:$P$7),FALSE))","v":""},{"$f":"IF(G524=\"\",\"\",VLOOKUP(G524,Parámetros!G$11:$P$13,MAX(Parámetros!G$7:$P$7),FALSE))","v":""},{"$f":"IF(H524=\"\",\"\",VLOOKUP(H524,Parámetros!H$11:$P$13,MAX(Parámetros!H$7:$P$7),FALSE))","v":""},{"$f":"IF(I524=\"\",\"\",VLOOKUP(I524,Parámetros!I$11:$P$13,MAX(Parámetros!I$7:$P$7),FALSE))","v":""},{"$f":"IF(J524=\"\",\"\",VLOOKUP(J524,Parámetros!J$11:$P$13,MAX(Parámetros!J$7:$P$7),FALSE))","v":""},{"$f":"IF(K524=\"\",\"\",VLOOKUP(K524,Parámetros!K$11:$P$13,MAX(Parámetros!K$7:$P$7),FALSE))","v":""},{"$f":"IF(L524=\"\",\"\",VLOOKUP(L524,Parámetros!L$11:$P$13,MAX(Parámetros!L$7:$P$7),FALSE))","v":""},{"$f":"IF(M524=\"\",\"\",VLOOKUP(M524,Parámetros!M$11:$P$13,MAX(Parámetros!M$7:$P$7),FALSE))","v":""},{"$f":"IF(N524=\"\",\"\",VLOOKUP(N524,Parámetros!N$11:$P$13,MAX(Parámetros!N$7:$P$7),FALSE))","v":""},{"$f":"IF(O524=\"\",\"\",VLOOKUP(O524,Parámetros!O$11:$P$13,MAX(Parámetros!O$7:$P$7),FALSE))","v":""},""]
[null,null,null,{"$f":"IF(E525=\"\",\"\",VLOOKUP(E525,'Buenas prácticas'!$G$8:$H$1007,2,FALSE))","v":""},null,null,null,null,null,null,null,null,null,null,null,{"$f":"IF(F525=\"\",\"\",VLOOKUP(F525,Parámetros!F$11:$P$13,MAX(Parámetros!F$7:$P$7),FALSE))","v":""},{"$f":"IF(G525=\"\",\"\",VLOOKUP(G525,Parámetros!G$11:$P$13,MAX(Parámetros!G$7:$P$7),FALSE))","v":""},{"$f":"IF(H525=\"\",\"\",VLOOKUP(H525,Parámetros!H$11:$P$13,MAX(Parámetros!H$7:$P$7),FALSE))","v":""},{"$f":"IF(I525=\"\",\"\",VLOOKUP(I525,Parámetros!I$11:$P$13,MAX(Parámetros!I$7:$P$7),FALSE))","v":""},{"$f":"IF(J525=\"\",\"\",VLOOKUP(J525,Parámetros!J$11:$P$13,MAX(Parámetros!J$7:$P$7),FALSE))","v":""},{"$f":"IF(K525=\"\",\"\",VLOOKUP(K525,Parámetros!K$11:$P$13,MAX(Parámetros!K$7:$P$7),FALSE))","v":""},{"$f":"IF(L525=\"\",\"\",VLOOKUP(L525,Parámetros!L$11:$P$13,MAX(Parámetros!L$7:$P$7),FALSE))","v":""},{"$f":"IF(M525=\"\",\"\",VLOOKUP(M525,Parámetros!M$11:$P$13,MAX(Parámetros!M$7:$P$7),FALSE))","v":""},{"$f":"IF(N525=\"\",\"\",VLOOKUP(N525,Parámetros!N$11:$P$13,MAX(Parámetros!N$7:$P$7),FALSE))","v":""},{"$f":"IF(O525=\"\",\"\",VLOOKUP(O525,Parámetros!O$11:$P$13,MAX(Parámetros!O$7:$P$7),FALSE))","v":""},""]
[null,null,null,{"$f":"IF(E526=\"\",\"\",VLOOKUP(E526,'Buenas prácticas'!$G$8:$H$1007,2,FALSE))","v":""},null,null,null,null,null,null,null,null,null,null,null,{"$f":"IF(F526=\"\",\"\",VLOOKUP(F526,Parámetros!F$11:$P$13,MAX(Parámetros!F$7:$P$7),FALSE))","v":""},{"$f":"IF(G526=\"\",\"\",VLOOKUP(G526,Parámetros!G$11:$P$13,MAX(Parámetros!G$7:$P$7),FALSE))","v":""},{"$f":"IF(H526=\"\",\"\",VLOOKUP(H526,Parámetros!H$11:$P$13,MAX(Parámetros!H$7:$P$7),FALSE))","v":""},{"$f":"IF(I526=\"\",\"\",VLOOKUP(I526,Parámetros!I$11:$P$13,MAX(Parámetros!I$7:$P$7),FALSE))","v":""},{"$f":"IF(J526=\"\",\"\",VLOOKUP(J526,Parámetros!J$11:$P$13,MAX(Parámetros!J$7:$P$7),FALSE))","v":""},{"$f":"IF(K526=\"\",\"\",VLOOKUP(K526,Parámetros!K$11:$P$13,MAX(Parámetros!K$7:$P$7),FALSE))","v":""},{"$f":"IF(L526=\"\",\"\",VLOOKUP(L526,Parámetros!L$11:$P$13,MAX(Parámetros!L$7:$P$7),FALSE))","v":""},{"$f":"IF(M526=\"\",\"\",VLOOKUP(M526,Parámetros!M$11:$P$13,MAX(Parámetros!M$7:$P$7),FALSE))","v":""},{"$f":"IF(N526=\"\",\"\",VLOOKUP(N526,Parámetros!N$11:$P$13,MAX(Parámetros!N$7:$P$7),FALSE))","v":""},{"$f":"IF(O526=\"\",\"\",VLOOKUP(O526,Parámetros!O$11:$P$13,MAX(Parámetros!O$7:$P$7),FALSE))","v":""},""]
[null,null,null,{"$f":"IF(E527=\"\",\"\",VLOOKUP(E527,'Buenas prácticas'!$G$8:$H$1007,2,FALSE))","v":""},null,null,null,null,null,null,null,null,null,null,null,{"$f":"IF(F527=\"\",\"\",VLOOKUP(F527,Parámetros!F$11:$P$13,MAX(Parámetros!F$7:$P$7),FALSE))","v":""},{"$f":"IF(G527=\"\",\"\",VLOOKUP(G527,Parámetros!G$11:$P$13,MAX(Parámetros!G$7:$P$7),FALSE))","v":""},{"$f":"IF(H527=\"\",\"\",VLOOKUP(H527,Parámetros!H$11:$P$13,MAX(Parámetros!H$7:$P$7),FALSE))","v":""},{"$f":"IF(I527=\"\",\"\",VLOOKUP(I527,Parámetros!I$11:$P$13,MAX(Parámetros!I$7:$P$7),FALSE))","v":""},{"$f":"IF(J527=\"\",\"\",VLOOKUP(J527,Parámetros!J$11:$P$13,MAX(Parámetros!J$7:$P$7),FALSE))","v":""},{"$f":"IF(K527=\"\",\"\",VLOOKUP(K527,Parámetros!K$11:$P$13,MAX(Parámetros!K$7:$P$7),FALSE))","v":""},{"$f":"IF(L527=\"\",\"\",VLOOKUP(L527,Parámetros!L$11:$P$13,MAX(Parámetros!L$7:$P$7),FALSE))","v":""},{"$f":"IF(M527=\"\",\"\",VLOOKUP(M527,Parámetros!M$11:$P$13,MAX(Parámetros!M$7:$P$7),FALSE))","v":""},{"$f":"IF(N527=\"\",\"\",VLOOKUP(N527,Parámetros!N$11:$P$13,MAX(Parámetros!N$7:$P$7),FALSE))","v":""},{"$f":"IF(O527=\"\",\"\",VLOOKUP(O527,Parámetros!O$11:$P$13,MAX(Parámetros!O$7:$P$7),FALSE))","v":""},""]
[null,null,null,{"$f":"IF(E528=\"\",\"\",VLOOKUP(E528,'Buenas prácticas'!$G$8:$H$1007,2,FALSE))","v":""},null,null,null,null,null,null,null,null,null,null,null,{"$f":"IF(F528=\"\",\"\",VLOOKUP(F528,Parámetros!F$11:$P$13,MAX(Parámetros!F$7:$P$7),FALSE))","v":""},{"$f":"IF(G528=\"\",\"\",VLOOKUP(G528,Parámetros!G$11:$P$13,MAX(Parámetros!G$7:$P$7),FALSE))","v":""},{"$f":"IF(H528=\"\",\"\",VLOOKUP(H528,Parámetros!H$11:$P$13,MAX(Parámetros!H$7:$P$7),FALSE))","v":""},{"$f":"IF(I528=\"\",\"\",VLOOKUP(I528,Parámetros!I$11:$P$13,MAX(Parámetros!I$7:$P$7),FALSE))","v":""},{"$f":"IF(J528=\"\",\"\",VLOOKUP(J528,Parámetros!J$11:$P$13,MAX(Parámetros!J$7:$P$7),FALSE))","v":""},{"$f":"IF(K528=\"\",\"\",VLOOKUP(K528,Parámetros!K$11:$P$13,MAX(Parámetros!K$7:$P$7),FALSE))","v":""},{"$f":"IF(L528=\"\",\"\",VLOOKUP(L528,Parámetros!L$11:$P$13,MAX(Parámetros!L$7:$P$7),FALSE))","v":""},{"$f":"IF(M528=\"\",\"\",VLOOKUP(M528,Parámetros!M$11:$P$13,MAX(Parámetros!M$7:$P$7),FALSE))","v":""},{"$f":"IF(N528=\"\",\"\",VLOOKUP(N528,Parámetros!N$11:$P$13,MAX(Parámetros!N$7:$P$7),FALSE))","v":""},{"$f":"IF(O528=\"\",\"\",VLOOKUP(O528,Parámetros!O$11:$P$13,MAX(Parámetros!O$7:$P$7),FALSE))","v":""},""]
[null,null,null,{"$f":"IF(E529=\"\",\"\",VLOOKUP(E529,'Buenas prácticas'!$G$8:$H$1007,2,FALSE))","v":""},null,null,null,null,null,null,null,null,null,null,null,{"$f":"IF(F529=\"\",\"\",VLOOKUP(F529,Parámetros!F$11:$P$13,MAX(Parámetros!F$7:$P$7),FALSE))","v":""},{"$f":"IF(G529=\"\",\"\",VLOOKUP(G529,Parámetros!G$11:$P$13,MAX(Parámetros!G$7:$P$7),FALSE))","v":""},{"$f":"IF(H529=\"\",\"\",VLOOKUP(H529,Parámetros!H$11:$P$13,MAX(Parámetros!H$7:$P$7),FALSE))","v":""},{"$f":"IF(I529=\"\",\"\",VLOOKUP(I529,Parámetros!I$11:$P$13,MAX(Parámetros!I$7:$P$7),FALSE))","v":""},{"$f":"IF(J529=\"\",\"\",VLOOKUP(J529,Parámetros!J$11:$P$13,MAX(Parámetros!J$7:$P$7),FALSE))","v":""},{"$f":"IF(K529=\"\",\"\",VLOOKUP(K529,Parámetros!K$11:$P$13,MAX(Parámetros!K$7:$P$7),FALSE))","v":""},{"$f":"IF(L529=\"\",\"\",VLOOKUP(L529,Parámetros!L$11:$P$13,MAX(Parámetros!L$7:$P$7),FALSE))","v":""},{"$f":"IF(M529=\"\",\"\",VLOOKUP(M529,Parámetros!M$11:$P$13,MAX(Parámetros!M$7:$P$7),FALSE))","v":""},{"$f":"IF(N529=\"\",\"\",VLOOKUP(N529,Parámetros!N$11:$P$13,MAX(Parámetros!N$7:$P$7),FALSE))","v":""},{"$f":"IF(O529=\"\",\"\",VLOOKUP(O529,Parámetros!O$11:$P$13,MAX(Parámetros!O$7:$P$7),FALSE))","v":""},""]
[null,null,null,{"$f":"IF(E530=\"\",\"\",VLOOKUP(E530,'Buenas prácticas'!$G$8:$H$1007,2,FALSE))","v":""},null,null,null,null,null,null,null,null,null,null,null,{"$f":"IF(F530=\"\",\"\",VLOOKUP(F530,Parámetros!F$11:$P$13,MAX(Parámetros!F$7:$P$7),FALSE))","v":""},{"$f":"IF(G530=\"\",\"\",VLOOKUP(G530,Parámetros!G$11:$P$13,MAX(Parámetros!G$7:$P$7),FALSE))","v":""},{"$f":"IF(H530=\"\",\"\",VLOOKUP(H530,Parámetros!H$11:$P$13,MAX(Parámetros!H$7:$P$7),FALSE))","v":""},{"$f":"IF(I530=\"\",\"\",VLOOKUP(I530,Parámetros!I$11:$P$13,MAX(Parámetros!I$7:$P$7),FALSE))","v":""},{"$f":"IF(J530=\"\",\"\",VLOOKUP(J530,Parámetros!J$11:$P$13,MAX(Parámetros!J$7:$P$7),FALSE))","v":""},{"$f":"IF(K530=\"\",\"\",VLOOKUP(K530,Parámetros!K$11:$P$13,MAX(Parámetros!K$7:$P$7),FALSE))","v":""},{"$f":"IF(L530=\"\",\"\",VLOOKUP(L530,Parámetros!L$11:$P$13,MAX(Parámetros!L$7:$P$7),FALSE))","v":""},{"$f":"IF(M530=\"\",\"\",VLOOKUP(M530,Parámetros!M$11:$P$13,MAX(Parámetros!M$7:$P$7),FALSE))","v":""},{"$f":"IF(N530=\"\",\"\",VLOOKUP(N530,Parámetros!N$11:$P$13,MAX(Parámetros!N$7:$P$7),FALSE))","v":""},{"$f":"IF(O530=\"\",\"\",VLOOKUP(O530,Parámetros!O$11:$P$13,MAX(Parámetros!O$7:$P$7),FALSE))","v":""},""]
[null,null,null,{"$f":"IF(E531=\"\",\"\",VLOOKUP(E531,'Buenas prácticas'!$G$8:$H$1007,2,FALSE))","v":""},null,null,null,null,null,null,null,null,null,null,null,{"$f":"IF(F531=\"\",\"\",VLOOKUP(F531,Parámetros!F$11:$P$13,MAX(Parámetros!F$7:$P$7),FALSE))","v":""},{"$f":"IF(G531=\"\",\"\",VLOOKUP(G531,Parámetros!G$11:$P$13,MAX(Parámetros!G$7:$P$7),FALSE))","v":""},{"$f":"IF(H531=\"\",\"\",VLOOKUP(H531,Parámetros!H$11:$P$13,MAX(Parámetros!H$7:$P$7),FALSE))","v":""},{"$f":"IF(I531=\"\",\"\",VLOOKUP(I531,Parámetros!I$11:$P$13,MAX(Parámetros!I$7:$P$7),FALSE))","v":""},{"$f":"IF(J531=\"\",\"\",VLOOKUP(J531,Parámetros!J$11:$P$13,MAX(Parámetros!J$7:$P$7),FALSE))","v":""},{"$f":"IF(K531=\"\",\"\",VLOOKUP(K531,Parámetros!K$11:$P$13,MAX(Parámetros!K$7:$P$7),FALSE))","v":""},{"$f":"IF(L531=\"\",\"\",VLOOKUP(L531,Parámetros!L$11:$P$13,MAX(Parámetros!L$7:$P$7),FALSE))","v":""},{"$f":"IF(M531=\"\",\"\",VLOOKUP(M531,Parámetros!M$11:$P$13,MAX(Parámetros!M$7:$P$7),FALSE))","v":""},{"$f":"IF(N531=\"\",\"\",VLOOKUP(N531,Parámetros!N$11:$P$13,MAX(Parámetros!N$7:$P$7),FALSE))","v":""},{"$f":"IF(O531=\"\",\"\",VLOOKUP(O531,Parámetros!O$11:$P$13,MAX(Parámetros!O$7:$P$7),FALSE))","v":""},""]
[null,null,null,{"$f":"IF(E532=\"\",\"\",VLOOKUP(E532,'Buenas prácticas'!$G$8:$H$1007,2,FALSE))","v":""},null,null,null,null,null,null,null,null,null,null,null,{"$f":"IF(F532=\"\",\"\",VLOOKUP(F532,Parámetros!F$11:$P$13,MAX(Parámetros!F$7:$P$7),FALSE))","v":""},{"$f":"IF(G532=\"\",\"\",VLOOKUP(G532,Parámetros!G$11:$P$13,MAX(Parámetros!G$7:$P$7),FALSE))","v":""},{"$f":"IF(H532=\"\",\"\",VLOOKUP(H532,Parámetros!H$11:$P$13,MAX(Parámetros!H$7:$P$7),FALSE))","v":""},{"$f":"IF(I532=\"\",\"\",VLOOKUP(I532,Parámetros!I$11:$P$13,MAX(Parámetros!I$7:$P$7),FALSE))","v":""},{"$f":"IF(J532=\"\",\"\",VLOOKUP(J532,Parámetros!J$11:$P$13,MAX(Parámetros!J$7:$P$7),FALSE))","v":""},{"$f":"IF(K532=\"\",\"\",VLOOKUP(K532,Parámetros!K$11:$P$13,MAX(Parámetros!K$7:$P$7),FALSE))","v":""},{"$f":"IF(L532=\"\",\"\",VLOOKUP(L532,Parámetros!L$11:$P$13,MAX(Parámetros!L$7:$P$7),FALSE))","v":""},{"$f":"IF(M532=\"\",\"\",VLOOKUP(M532,Parámetros!M$11:$P$13,MAX(Parámetros!M$7:$P$7),FALSE))","v":""},{"$f":"IF(N532=\"\",\"\",VLOOKUP(N532,Parámetros!N$11:$P$13,MAX(Parámetros!N$7:$P$7),FALSE))","v":""},{"$f":"IF(O532=\"\",\"\",VLOOKUP(O532,Parámetros!O$11:$P$13,MAX(Parámetros!O$7:$P$7),FALSE))","v":""},""]
[null,null,null,{"$f":"IF(E533=\"\",\"\",VLOOKUP(E533,'Buenas prácticas'!$G$8:$H$1007,2,FALSE))","v":""},null,null,null,null,null,null,null,null,null,null,null,{"$f":"IF(F533=\"\",\"\",VLOOKUP(F533,Parámetros!F$11:$P$13,MAX(Parámetros!F$7:$P$7),FALSE))","v":""},{"$f":"IF(G533=\"\",\"\",VLOOKUP(G533,Parámetros!G$11:$P$13,MAX(Parámetros!G$7:$P$7),FALSE))","v":""},{"$f":"IF(H533=\"\",\"\",VLOOKUP(H533,Parámetros!H$11:$P$13,MAX(Parámetros!H$7:$P$7),FALSE))","v":""},{"$f":"IF(I533=\"\",\"\",VLOOKUP(I533,Parámetros!I$11:$P$13,MAX(Parámetros!I$7:$P$7),FALSE))","v":""},{"$f":"IF(J533=\"\",\"\",VLOOKUP(J533,Parámetros!J$11:$P$13,MAX(Parámetros!J$7:$P$7),FALSE))","v":""},{"$f":"IF(K533=\"\",\"\",VLOOKUP(K533,Parámetros!K$11:$P$13,MAX(Parámetros!K$7:$P$7),FALSE))","v":""},{"$f":"IF(L533=\"\",\"\",VLOOKUP(L533,Parámetros!L$11:$P$13,MAX(Parámetros!L$7:$P$7),FALSE))","v":""},{"$f":"IF(M533=\"\",\"\",VLOOKUP(M533,Parámetros!M$11:$P$13,MAX(Parámetros!M$7:$P$7),FALSE))","v":""},{"$f":"IF(N533=\"\",\"\",VLOOKUP(N533,Parámetros!N$11:$P$13,MAX(Parámetros!N$7:$P$7),FALSE))","v":""},{"$f":"IF(O533=\"\",\"\",VLOOKUP(O533,Parámetros!O$11:$P$13,MAX(Parámetros!O$7:$P$7),FALSE))","v":""},""]
[null,null,null,{"$f":"IF(E534=\"\",\"\",VLOOKUP(E534,'Buenas prácticas'!$G$8:$H$1007,2,FALSE))","v":""},null,null,null,null,null,null,null,null,null,null,null,{"$f":"IF(F534=\"\",\"\",VLOOKUP(F534,Parámetros!F$11:$P$13,MAX(Parámetros!F$7:$P$7),FALSE))","v":""},{"$f":"IF(G534=\"\",\"\",VLOOKUP(G534,Parámetros!G$11:$P$13,MAX(Parámetros!G$7:$P$7),FALSE))","v":""},{"$f":"IF(H534=\"\",\"\",VLOOKUP(H534,Parámetros!H$11:$P$13,MAX(Parámetros!H$7:$P$7),FALSE))","v":""},{"$f":"IF(I534=\"\",\"\",VLOOKUP(I534,Parámetros!I$11:$P$13,MAX(Parámetros!I$7:$P$7),FALSE))","v":""},{"$f":"IF(J534=\"\",\"\",VLOOKUP(J534,Parámetros!J$11:$P$13,MAX(Parámetros!J$7:$P$7),FALSE))","v":""},{"$f":"IF(K534=\"\",\"\",VLOOKUP(K534,Parámetros!K$11:$P$13,MAX(Parámetros!K$7:$P$7),FALSE))","v":""},{"$f":"IF(L534=\"\",\"\",VLOOKUP(L534,Parámetros!L$11:$P$13,MAX(Parámetros!L$7:$P$7),FALSE))","v":""},{"$f":"IF(M534=\"\",\"\",VLOOKUP(M534,Parámetros!M$11:$P$13,MAX(Parámetros!M$7:$P$7),FALSE))","v":""},{"$f":"IF(N534=\"\",\"\",VLOOKUP(N534,Parámetros!N$11:$P$13,MAX(Parámetros!N$7:$P$7),FALSE))","v":""},{"$f":"IF(O534=\"\",\"\",VLOOKUP(O534,Parámetros!O$11:$P$13,MAX(Parámetros!O$7:$P$7),FALSE))","v":""},""]
[null,null,null,{"$f":"IF(E535=\"\",\"\",VLOOKUP(E535,'Buenas prácticas'!$G$8:$H$1007,2,FALSE))","v":""},null,null,null,null,null,null,null,null,null,null,null,{"$f":"IF(F535=\"\",\"\",VLOOKUP(F535,Parámetros!F$11:$P$13,MAX(Parámetros!F$7:$P$7),FALSE))","v":""},{"$f":"IF(G535=\"\",\"\",VLOOKUP(G535,Parámetros!G$11:$P$13,MAX(Parámetros!G$7:$P$7),FALSE))","v":""},{"$f":"IF(H535=\"\",\"\",VLOOKUP(H535,Parámetros!H$11:$P$13,MAX(Parámetros!H$7:$P$7),FALSE))","v":""},{"$f":"IF(I535=\"\",\"\",VLOOKUP(I535,Parámetros!I$11:$P$13,MAX(Parámetros!I$7:$P$7),FALSE))","v":""},{"$f":"IF(J535=\"\",\"\",VLOOKUP(J535,Parámetros!J$11:$P$13,MAX(Parámetros!J$7:$P$7),FALSE))","v":""},{"$f":"IF(K535=\"\",\"\",VLOOKUP(K535,Parámetros!K$11:$P$13,MAX(Parámetros!K$7:$P$7),FALSE))","v":""},{"$f":"IF(L535=\"\",\"\",VLOOKUP(L535,Parámetros!L$11:$P$13,MAX(Parámetros!L$7:$P$7),FALSE))","v":""},{"$f":"IF(M535=\"\",\"\",VLOOKUP(M535,Parámetros!M$11:$P$13,MAX(Parámetros!M$7:$P$7),FALSE))","v":""},{"$f":"IF(N535=\"\",\"\",VLOOKUP(N535,Parámetros!N$11:$P$13,MAX(Parámetros!N$7:$P$7),FALSE))","v":""},{"$f":"IF(O535=\"\",\"\",VLOOKUP(O535,Parámetros!O$11:$P$13,MAX(Parámetros!O$7:$P$7),FALSE))","v":""},""]
[null,null,null,{"$f":"IF(E536=\"\",\"\",VLOOKUP(E536,'Buenas prácticas'!$G$8:$H$1007,2,FALSE))","v":""},null,null,null,null,null,null,null,null,null,null,null,{"$f":"IF(F536=\"\",\"\",VLOOKUP(F536,Parámetros!F$11:$P$13,MAX(Parámetros!F$7:$P$7),FALSE))","v":""},{"$f":"IF(G536=\"\",\"\",VLOOKUP(G536,Parámetros!G$11:$P$13,MAX(Parámetros!G$7:$P$7),FALSE))","v":""},{"$f":"IF(H536=\"\",\"\",VLOOKUP(H536,Parámetros!H$11:$P$13,MAX(Parámetros!H$7:$P$7),FALSE))","v":""},{"$f":"IF(I536=\"\",\"\",VLOOKUP(I536,Parámetros!I$11:$P$13,MAX(Parámetros!I$7:$P$7),FALSE))","v":""},{"$f":"IF(J536=\"\",\"\",VLOOKUP(J536,Parámetros!J$11:$P$13,MAX(Parámetros!J$7:$P$7),FALSE))","v":""},{"$f":"IF(K536=\"\",\"\",VLOOKUP(K536,Parámetros!K$11:$P$13,MAX(Parámetros!K$7:$P$7),FALSE))","v":""},{"$f":"IF(L536=\"\",\"\",VLOOKUP(L536,Parámetros!L$11:$P$13,MAX(Parámetros!L$7:$P$7),FALSE))","v":""},{"$f":"IF(M536=\"\",\"\",VLOOKUP(M536,Parámetros!M$11:$P$13,MAX(Parámetros!M$7:$P$7),FALSE))","v":""},{"$f":"IF(N536=\"\",\"\",VLOOKUP(N536,Parámetros!N$11:$P$13,MAX(Parámetros!N$7:$P$7),FALSE))","v":""},{"$f":"IF(O536=\"\",\"\",VLOOKUP(O536,Parámetros!O$11:$P$13,MAX(Parámetros!O$7:$P$7),FALSE))","v":""},""]
[null,null,null,{"$f":"IF(E537=\"\",\"\",VLOOKUP(E537,'Buenas prácticas'!$G$8:$H$1007,2,FALSE))","v":""},null,null,null,null,null,null,null,null,null,null,null,{"$f":"IF(F537=\"\",\"\",VLOOKUP(F537,Parámetros!F$11:$P$13,MAX(Parámetros!F$7:$P$7),FALSE))","v":""},{"$f":"IF(G537=\"\",\"\",VLOOKUP(G537,Parámetros!G$11:$P$13,MAX(Parámetros!G$7:$P$7),FALSE))","v":""},{"$f":"IF(H537=\"\",\"\",VLOOKUP(H537,Parámetros!H$11:$P$13,MAX(Parámetros!H$7:$P$7),FALSE))","v":""},{"$f":"IF(I537=\"\",\"\",VLOOKUP(I537,Parámetros!I$11:$P$13,MAX(Parámetros!I$7:$P$7),FALSE))","v":""},{"$f":"IF(J537=\"\",\"\",VLOOKUP(J537,Parámetros!J$11:$P$13,MAX(Parámetros!J$7:$P$7),FALSE))","v":""},{"$f":"IF(K537=\"\",\"\",VLOOKUP(K537,Parámetros!K$11:$P$13,MAX(Parámetros!K$7:$P$7),FALSE))","v":""},{"$f":"IF(L537=\"\",\"\",VLOOKUP(L537,Parámetros!L$11:$P$13,MAX(Parámetros!L$7:$P$7),FALSE))","v":""},{"$f":"IF(M537=\"\",\"\",VLOOKUP(M537,Parámetros!M$11:$P$13,MAX(Parámetros!M$7:$P$7),FALSE))","v":""},{"$f":"IF(N537=\"\",\"\",VLOOKUP(N537,Parámetros!N$11:$P$13,MAX(Parámetros!N$7:$P$7),FALSE))","v":""},{"$f":"IF(O537=\"\",\"\",VLOOKUP(O537,Parámetros!O$11:$P$13,MAX(Parámetros!O$7:$P$7),FALSE))","v":""},""]
[null,null,null,{"$f":"IF(E538=\"\",\"\",VLOOKUP(E538,'Buenas prácticas'!$G$8:$H$1007,2,FALSE))","v":""},null,null,null,null,null,null,null,null,null,null,null,{"$f":"IF(F538=\"\",\"\",VLOOKUP(F538,Parámetros!F$11:$P$13,MAX(Parámetros!F$7:$P$7),FALSE))","v":""},{"$f":"IF(G538=\"\",\"\",VLOOKUP(G538,Parámetros!G$11:$P$13,MAX(Parámetros!G$7:$P$7),FALSE))","v":""},{"$f":"IF(H538=\"\",\"\",VLOOKUP(H538,Parámetros!H$11:$P$13,MAX(Parámetros!H$7:$P$7),FALSE))","v":""},{"$f":"IF(I538=\"\",\"\",VLOOKUP(I538,Parámetros!I$11:$P$13,MAX(Parámetros!I$7:$P$7),FALSE))","v":""},{"$f":"IF(J538=\"\",\"\",VLOOKUP(J538,Parámetros!J$11:$P$13,MAX(Parámetros!J$7:$P$7),FALSE))","v":""},{"$f":"IF(K538=\"\",\"\",VLOOKUP(K538,Parámetros!K$11:$P$13,MAX(Parámetros!K$7:$P$7),FALSE))","v":""},{"$f":"IF(L538=\"\",\"\",VLOOKUP(L538,Parámetros!L$11:$P$13,MAX(Parámetros!L$7:$P$7),FALSE))","v":""},{"$f":"IF(M538=\"\",\"\",VLOOKUP(M538,Parámetros!M$11:$P$13,MAX(Parámetros!M$7:$P$7),FALSE))","v":""},{"$f":"IF(N538=\"\",\"\",VLOOKUP(N538,Parámetros!N$11:$P$13,MAX(Parámetros!N$7:$P$7),FALSE))","v":""},{"$f":"IF(O538=\"\",\"\",VLOOKUP(O538,Parámetros!O$11:$P$13,MAX(Parámetros!O$7:$P$7),FALSE))","v":""},""]
[null,null,null,{"$f":"IF(E539=\"\",\"\",VLOOKUP(E539,'Buenas prácticas'!$G$8:$H$1007,2,FALSE))","v":""},null,null,null,null,null,null,null,null,null,null,null,{"$f":"IF(F539=\"\",\"\",VLOOKUP(F539,Parámetros!F$11:$P$13,MAX(Parámetros!F$7:$P$7),FALSE))","v":""},{"$f":"IF(G539=\"\",\"\",VLOOKUP(G539,Parámetros!G$11:$P$13,MAX(Parámetros!G$7:$P$7),FALSE))","v":""},{"$f":"IF(H539=\"\",\"\",VLOOKUP(H539,Parámetros!H$11:$P$13,MAX(Parámetros!H$7:$P$7),FALSE))","v":""},{"$f":"IF(I539=\"\",\"\",VLOOKUP(I539,Parámetros!I$11:$P$13,MAX(Parámetros!I$7:$P$7),FALSE))","v":""},{"$f":"IF(J539=\"\",\"\",VLOOKUP(J539,Parámetros!J$11:$P$13,MAX(Parámetros!J$7:$P$7),FALSE))","v":""},{"$f":"IF(K539=\"\",\"\",VLOOKUP(K539,Parámetros!K$11:$P$13,MAX(Parámetros!K$7:$P$7),FALSE))","v":""},{"$f":"IF(L539=\"\",\"\",VLOOKUP(L539,Parámetros!L$11:$P$13,MAX(Parámetros!L$7:$P$7),FALSE))","v":""},{"$f":"IF(M539=\"\",\"\",VLOOKUP(M539,Parámetros!M$11:$P$13,MAX(Parámetros!M$7:$P$7),FALSE))","v":""},{"$f":"IF(N539=\"\",\"\",VLOOKUP(N539,Parámetros!N$11:$P$13,MAX(Parámetros!N$7:$P$7),FALSE))","v":""},{"$f":"IF(O539=\"\",\"\",VLOOKUP(O539,Parámetros!O$11:$P$13,MAX(Parámetros!O$7:$P$7),FALSE))","v":""},""]
[null,null,null,{"$f":"IF(E540=\"\",\"\",VLOOKUP(E540,'Buenas prácticas'!$G$8:$H$1007,2,FALSE))","v":""},null,null,null,null,null,null,null,null,null,null,null,{"$f":"IF(F540=\"\",\"\",VLOOKUP(F540,Parámetros!F$11:$P$13,MAX(Parámetros!F$7:$P$7),FALSE))","v":""},{"$f":"IF(G540=\"\",\"\",VLOOKUP(G540,Parámetros!G$11:$P$13,MAX(Parámetros!G$7:$P$7),FALSE))","v":""},{"$f":"IF(H540=\"\",\"\",VLOOKUP(H540,Parámetros!H$11:$P$13,MAX(Parámetros!H$7:$P$7),FALSE))","v":""},{"$f":"IF(I540=\"\",\"\",VLOOKUP(I540,Parámetros!I$11:$P$13,MAX(Parámetros!I$7:$P$7),FALSE))","v":""},{"$f":"IF(J540=\"\",\"\",VLOOKUP(J540,Parámetros!J$11:$P$13,MAX(Parámetros!J$7:$P$7),FALSE))","v":""},{"$f":"IF(K540=\"\",\"\",VLOOKUP(K540,Parámetros!K$11:$P$13,MAX(Parámetros!K$7:$P$7),FALSE))","v":""},{"$f":"IF(L540=\"\",\"\",VLOOKUP(L540,Parámetros!L$11:$P$13,MAX(Parámetros!L$7:$P$7),FALSE))","v":""},{"$f":"IF(M540=\"\",\"\",VLOOKUP(M540,Parámetros!M$11:$P$13,MAX(Parámetros!M$7:$P$7),FALSE))","v":""},{"$f":"IF(N540=\"\",\"\",VLOOKUP(N540,Parámetros!N$11:$P$13,MAX(Parámetros!N$7:$P$7),FALSE))","v":""},{"$f":"IF(O540=\"\",\"\",VLOOKUP(O540,Parámetros!O$11:$P$13,MAX(Parámetros!O$7:$P$7),FALSE))","v":""},""]
[null,null,null,{"$f":"IF(E541=\"\",\"\",VLOOKUP(E541,'Buenas prácticas'!$G$8:$H$1007,2,FALSE))","v":""},null,null,null,null,null,null,null,null,null,null,null,{"$f":"IF(F541=\"\",\"\",VLOOKUP(F541,Parámetros!F$11:$P$13,MAX(Parámetros!F$7:$P$7),FALSE))","v":""},{"$f":"IF(G541=\"\",\"\",VLOOKUP(G541,Parámetros!G$11:$P$13,MAX(Parámetros!G$7:$P$7),FALSE))","v":""},{"$f":"IF(H541=\"\",\"\",VLOOKUP(H541,Parámetros!H$11:$P$13,MAX(Parámetros!H$7:$P$7),FALSE))","v":""},{"$f":"IF(I541=\"\",\"\",VLOOKUP(I541,Parámetros!I$11:$P$13,MAX(Parámetros!I$7:$P$7),FALSE))","v":""},{"$f":"IF(J541=\"\",\"\",VLOOKUP(J541,Parámetros!J$11:$P$13,MAX(Parámetros!J$7:$P$7),FALSE))","v":""},{"$f":"IF(K541=\"\",\"\",VLOOKUP(K541,Parámetros!K$11:$P$13,MAX(Parámetros!K$7:$P$7),FALSE))","v":""},{"$f":"IF(L541=\"\",\"\",VLOOKUP(L541,Parámetros!L$11:$P$13,MAX(Parámetros!L$7:$P$7),FALSE))","v":""},{"$f":"IF(M541=\"\",\"\",VLOOKUP(M541,Parámetros!M$11:$P$13,MAX(Parámetros!M$7:$P$7),FALSE))","v":""},{"$f":"IF(N541=\"\",\"\",VLOOKUP(N541,Parámetros!N$11:$P$13,MAX(Parámetros!N$7:$P$7),FALSE))","v":""},{"$f":"IF(O541=\"\",\"\",VLOOKUP(O541,Parámetros!O$11:$P$13,MAX(Parámetros!O$7:$P$7),FALSE))","v":""},""]
[null,null,null,{"$f":"IF(E542=\"\",\"\",VLOOKUP(E542,'Buenas prácticas'!$G$8:$H$1007,2,FALSE))","v":""},null,null,null,null,null,null,null,null,null,null,null,{"$f":"IF(F542=\"\",\"\",VLOOKUP(F542,Parámetros!F$11:$P$13,MAX(Parámetros!F$7:$P$7),FALSE))","v":""},{"$f":"IF(G542=\"\",\"\",VLOOKUP(G542,Parámetros!G$11:$P$13,MAX(Parámetros!G$7:$P$7),FALSE))","v":""},{"$f":"IF(H542=\"\",\"\",VLOOKUP(H542,Parámetros!H$11:$P$13,MAX(Parámetros!H$7:$P$7),FALSE))","v":""},{"$f":"IF(I542=\"\",\"\",VLOOKUP(I542,Parámetros!I$11:$P$13,MAX(Parámetros!I$7:$P$7),FALSE))","v":""},{"$f":"IF(J542=\"\",\"\",VLOOKUP(J542,Parámetros!J$11:$P$13,MAX(Parámetros!J$7:$P$7),FALSE))","v":""},{"$f":"IF(K542=\"\",\"\",VLOOKUP(K542,Parámetros!K$11:$P$13,MAX(Parámetros!K$7:$P$7),FALSE))","v":""},{"$f":"IF(L542=\"\",\"\",VLOOKUP(L542,Parámetros!L$11:$P$13,MAX(Parámetros!L$7:$P$7),FALSE))","v":""},{"$f":"IF(M542=\"\",\"\",VLOOKUP(M542,Parámetros!M$11:$P$13,MAX(Parámetros!M$7:$P$7),FALSE))","v":""},{"$f":"IF(N542=\"\",\"\",VLOOKUP(N542,Parámetros!N$11:$P$13,MAX(Parámetros!N$7:$P$7),FALSE))","v":""},{"$f":"IF(O542=\"\",\"\",VLOOKUP(O542,Parámetros!O$11:$P$13,MAX(Parámetros!O$7:$P$7),FALSE))","v":""},""]
[null,null,null,{"$f":"IF(E543=\"\",\"\",VLOOKUP(E543,'Buenas prácticas'!$G$8:$H$1007,2,FALSE))","v":""},null,null,null,null,null,null,null,null,null,null,null,{"$f":"IF(F543=\"\",\"\",VLOOKUP(F543,Parámetros!F$11:$P$13,MAX(Parámetros!F$7:$P$7),FALSE))","v":""},{"$f":"IF(G543=\"\",\"\",VLOOKUP(G543,Parámetros!G$11:$P$13,MAX(Parámetros!G$7:$P$7),FALSE))","v":""},{"$f":"IF(H543=\"\",\"\",VLOOKUP(H543,Parámetros!H$11:$P$13,MAX(Parámetros!H$7:$P$7),FALSE))","v":""},{"$f":"IF(I543=\"\",\"\",VLOOKUP(I543,Parámetros!I$11:$P$13,MAX(Parámetros!I$7:$P$7),FALSE))","v":""},{"$f":"IF(J543=\"\",\"\",VLOOKUP(J543,Parámetros!J$11:$P$13,MAX(Parámetros!J$7:$P$7),FALSE))","v":""},{"$f":"IF(K543=\"\",\"\",VLOOKUP(K543,Parámetros!K$11:$P$13,MAX(Parámetros!K$7:$P$7),FALSE))","v":""},{"$f":"IF(L543=\"\",\"\",VLOOKUP(L543,Parámetros!L$11:$P$13,MAX(Parámetros!L$7:$P$7),FALSE))","v":""},{"$f":"IF(M543=\"\",\"\",VLOOKUP(M543,Parámetros!M$11:$P$13,MAX(Parámetros!M$7:$P$7),FALSE))","v":""},{"$f":"IF(N543=\"\",\"\",VLOOKUP(N543,Parámetros!N$11:$P$13,MAX(Parámetros!N$7:$P$7),FALSE))","v":""},{"$f":"IF(O543=\"\",\"\",VLOOKUP(O543,Parámetros!O$11:$P$13,MAX(Parámetros!O$7:$P$7),FALSE))","v":""},""]
[null,null,null,{"$f":"IF(E544=\"\",\"\",VLOOKUP(E544,'Buenas prácticas'!$G$8:$H$1007,2,FALSE))","v":""},null,null,null,null,null,null,null,null,null,null,null,{"$f":"IF(F544=\"\",\"\",VLOOKUP(F544,Parámetros!F$11:$P$13,MAX(Parámetros!F$7:$P$7),FALSE))","v":""},{"$f":"IF(G544=\"\",\"\",VLOOKUP(G544,Parámetros!G$11:$P$13,MAX(Parámetros!G$7:$P$7),FALSE))","v":""},{"$f":"IF(H544=\"\",\"\",VLOOKUP(H544,Parámetros!H$11:$P$13,MAX(Parámetros!H$7:$P$7),FALSE))","v":""},{"$f":"IF(I544=\"\",\"\",VLOOKUP(I544,Parámetros!I$11:$P$13,MAX(Parámetros!I$7:$P$7),FALSE))","v":""},{"$f":"IF(J544=\"\",\"\",VLOOKUP(J544,Parámetros!J$11:$P$13,MAX(Parámetros!J$7:$P$7),FALSE))","v":""},{"$f":"IF(K544=\"\",\"\",VLOOKUP(K544,Parámetros!K$11:$P$13,MAX(Parámetros!K$7:$P$7),FALSE))","v":""},{"$f":"IF(L544=\"\",\"\",VLOOKUP(L544,Parámetros!L$11:$P$13,MAX(Parámetros!L$7:$P$7),FALSE))","v":""},{"$f":"IF(M544=\"\",\"\",VLOOKUP(M544,Parámetros!M$11:$P$13,MAX(Parámetros!M$7:$P$7),FALSE))","v":""},{"$f":"IF(N544=\"\",\"\",VLOOKUP(N544,Parámetros!N$11:$P$13,MAX(Parámetros!N$7:$P$7),FALSE))","v":""},{"$f":"IF(O544=\"\",\"\",VLOOKUP(O544,Parámetros!O$11:$P$13,MAX(Parámetros!O$7:$P$7),FALSE))","v":""},""]
[null,null,null,{"$f":"IF(E545=\"\",\"\",VLOOKUP(E545,'Buenas prácticas'!$G$8:$H$1007,2,FALSE))","v":""},null,null,null,null,null,null,null,null,null,null,null,{"$f":"IF(F545=\"\",\"\",VLOOKUP(F545,Parámetros!F$11:$P$13,MAX(Parámetros!F$7:$P$7),FALSE))","v":""},{"$f":"IF(G545=\"\",\"\",VLOOKUP(G545,Parámetros!G$11:$P$13,MAX(Parámetros!G$7:$P$7),FALSE))","v":""},{"$f":"IF(H545=\"\",\"\",VLOOKUP(H545,Parámetros!H$11:$P$13,MAX(Parámetros!H$7:$P$7),FALSE))","v":""},{"$f":"IF(I545=\"\",\"\",VLOOKUP(I545,Parámetros!I$11:$P$13,MAX(Parámetros!I$7:$P$7),FALSE))","v":""},{"$f":"IF(J545=\"\",\"\",VLOOKUP(J545,Parámetros!J$11:$P$13,MAX(Parámetros!J$7:$P$7),FALSE))","v":""},{"$f":"IF(K545=\"\",\"\",VLOOKUP(K545,Parámetros!K$11:$P$13,MAX(Parámetros!K$7:$P$7),FALSE))","v":""},{"$f":"IF(L545=\"\",\"\",VLOOKUP(L545,Parámetros!L$11:$P$13,MAX(Parámetros!L$7:$P$7),FALSE))","v":""},{"$f":"IF(M545=\"\",\"\",VLOOKUP(M545,Parámetros!M$11:$P$13,MAX(Parámetros!M$7:$P$7),FALSE))","v":""},{"$f":"IF(N545=\"\",\"\",VLOOKUP(N545,Parámetros!N$11:$P$13,MAX(Parámetros!N$7:$P$7),FALSE))","v":""},{"$f":"IF(O545=\"\",\"\",VLOOKUP(O545,Parámetros!O$11:$P$13,MAX(Parámetros!O$7:$P$7),FALSE))","v":""},""]
[null,null,null,{"$f":"IF(E546=\"\",\"\",VLOOKUP(E546,'Buenas prácticas'!$G$8:$H$1007,2,FALSE))","v":""},null,null,null,null,null,null,null,null,null,null,null,{"$f":"IF(F546=\"\",\"\",VLOOKUP(F546,Parámetros!F$11:$P$13,MAX(Parámetros!F$7:$P$7),FALSE))","v":""},{"$f":"IF(G546=\"\",\"\",VLOOKUP(G546,Parámetros!G$11:$P$13,MAX(Parámetros!G$7:$P$7),FALSE))","v":""},{"$f":"IF(H546=\"\",\"\",VLOOKUP(H546,Parámetros!H$11:$P$13,MAX(Parámetros!H$7:$P$7),FALSE))","v":""},{"$f":"IF(I546=\"\",\"\",VLOOKUP(I546,Parámetros!I$11:$P$13,MAX(Parámetros!I$7:$P$7),FALSE))","v":""},{"$f":"IF(J546=\"\",\"\",VLOOKUP(J546,Parámetros!J$11:$P$13,MAX(Parámetros!J$7:$P$7),FALSE))","v":""},{"$f":"IF(K546=\"\",\"\",VLOOKUP(K546,Parámetros!K$11:$P$13,MAX(Parámetros!K$7:$P$7),FALSE))","v":""},{"$f":"IF(L546=\"\",\"\",VLOOKUP(L546,Parámetros!L$11:$P$13,MAX(Parámetros!L$7:$P$7),FALSE))","v":""},{"$f":"IF(M546=\"\",\"\",VLOOKUP(M546,Parámetros!M$11:$P$13,MAX(Parámetros!M$7:$P$7),FALSE))","v":""},{"$f":"IF(N546=\"\",\"\",VLOOKUP(N546,Parámetros!N$11:$P$13,MAX(Parámetros!N$7:$P$7),FALSE))","v":""},{"$f":"IF(O546=\"\",\"\",VLOOKUP(O546,Parámetros!O$11:$P$13,MAX(Parámetros!O$7:$P$7),FALSE))","v":""},""]
[null,null,null,{"$f":"IF(E547=\"\",\"\",VLOOKUP(E547,'Buenas prácticas'!$G$8:$H$1007,2,FALSE))","v":""},null,null,null,null,null,null,null,null,null,null,null,{"$f":"IF(F547=\"\",\"\",VLOOKUP(F547,Parámetros!F$11:$P$13,MAX(Parámetros!F$7:$P$7),FALSE))","v":""},{"$f":"IF(G547=\"\",\"\",VLOOKUP(G547,Parámetros!G$11:$P$13,MAX(Parámetros!G$7:$P$7),FALSE))","v":""},{"$f":"IF(H547=\"\",\"\",VLOOKUP(H547,Parámetros!H$11:$P$13,MAX(Parámetros!H$7:$P$7),FALSE))","v":""},{"$f":"IF(I547=\"\",\"\",VLOOKUP(I547,Parámetros!I$11:$P$13,MAX(Parámetros!I$7:$P$7),FALSE))","v":""},{"$f":"IF(J547=\"\",\"\",VLOOKUP(J547,Parámetros!J$11:$P$13,MAX(Parámetros!J$7:$P$7),FALSE))","v":""},{"$f":"IF(K547=\"\",\"\",VLOOKUP(K547,Parámetros!K$11:$P$13,MAX(Parámetros!K$7:$P$7),FALSE))","v":""},{"$f":"IF(L547=\"\",\"\",VLOOKUP(L547,Parámetros!L$11:$P$13,MAX(Parámetros!L$7:$P$7),FALSE))","v":""},{"$f":"IF(M547=\"\",\"\",VLOOKUP(M547,Parámetros!M$11:$P$13,MAX(Parámetros!M$7:$P$7),FALSE))","v":""},{"$f":"IF(N547=\"\",\"\",VLOOKUP(N547,Parámetros!N$11:$P$13,MAX(Parámetros!N$7:$P$7),FALSE))","v":""},{"$f":"IF(O547=\"\",\"\",VLOOKUP(O547,Parámetros!O$11:$P$13,MAX(Parámetros!O$7:$P$7),FALSE))","v":""},""]
[null,null,null,{"$f":"IF(E548=\"\",\"\",VLOOKUP(E548,'Buenas prácticas'!$G$8:$H$1007,2,FALSE))","v":""},null,null,null,null,null,null,null,null,null,null,null,{"$f":"IF(F548=\"\",\"\",VLOOKUP(F548,Parámetros!F$11:$P$13,MAX(Parámetros!F$7:$P$7),FALSE))","v":""},{"$f":"IF(G548=\"\",\"\",VLOOKUP(G548,Parámetros!G$11:$P$13,MAX(Parámetros!G$7:$P$7),FALSE))","v":""},{"$f":"IF(H548=\"\",\"\",VLOOKUP(H548,Parámetros!H$11:$P$13,MAX(Parámetros!H$7:$P$7),FALSE))","v":""},{"$f":"IF(I548=\"\",\"\",VLOOKUP(I548,Parámetros!I$11:$P$13,MAX(Parámetros!I$7:$P$7),FALSE))","v":""},{"$f":"IF(J548=\"\",\"\",VLOOKUP(J548,Parámetros!J$11:$P$13,MAX(Parámetros!J$7:$P$7),FALSE))","v":""},{"$f":"IF(K548=\"\",\"\",VLOOKUP(K548,Parámetros!K$11:$P$13,MAX(Parámetros!K$7:$P$7),FALSE))","v":""},{"$f":"IF(L548=\"\",\"\",VLOOKUP(L548,Parámetros!L$11:$P$13,MAX(Parámetros!L$7:$P$7),FALSE))","v":""},{"$f":"IF(M548=\"\",\"\",VLOOKUP(M548,Parámetros!M$11:$P$13,MAX(Parámetros!M$7:$P$7),FALSE))","v":""},{"$f":"IF(N548=\"\",\"\",VLOOKUP(N548,Parámetros!N$11:$P$13,MAX(Parámetros!N$7:$P$7),FALSE))","v":""},{"$f":"IF(O548=\"\",\"\",VLOOKUP(O548,Parámetros!O$11:$P$13,MAX(Parámetros!O$7:$P$7),FALSE))","v":""},""]
[null,null,null,{"$f":"IF(E549=\"\",\"\",VLOOKUP(E549,'Buenas prácticas'!$G$8:$H$1007,2,FALSE))","v":""},null,null,null,null,null,null,null,null,null,null,null,{"$f":"IF(F549=\"\",\"\",VLOOKUP(F549,Parámetros!F$11:$P$13,MAX(Parámetros!F$7:$P$7),FALSE))","v":""},{"$f":"IF(G549=\"\",\"\",VLOOKUP(G549,Parámetros!G$11:$P$13,MAX(Parámetros!G$7:$P$7),FALSE))","v":""},{"$f":"IF(H549=\"\",\"\",VLOOKUP(H549,Parámetros!H$11:$P$13,MAX(Parámetros!H$7:$P$7),FALSE))","v":""},{"$f":"IF(I549=\"\",\"\",VLOOKUP(I549,Parámetros!I$11:$P$13,MAX(Parámetros!I$7:$P$7),FALSE))","v":""},{"$f":"IF(J549=\"\",\"\",VLOOKUP(J549,Parámetros!J$11:$P$13,MAX(Parámetros!J$7:$P$7),FALSE))","v":""},{"$f":"IF(K549=\"\",\"\",VLOOKUP(K549,Parámetros!K$11:$P$13,MAX(Parámetros!K$7:$P$7),FALSE))","v":""},{"$f":"IF(L549=\"\",\"\",VLOOKUP(L549,Parámetros!L$11:$P$13,MAX(Parámetros!L$7:$P$7),FALSE))","v":""},{"$f":"IF(M549=\"\",\"\",VLOOKUP(M549,Parámetros!M$11:$P$13,MAX(Parámetros!M$7:$P$7),FALSE))","v":""},{"$f":"IF(N549=\"\",\"\",VLOOKUP(N549,Parámetros!N$11:$P$13,MAX(Parámetros!N$7:$P$7),FALSE))","v":""},{"$f":"IF(O549=\"\",\"\",VLOOKUP(O549,Parámetros!O$11:$P$13,MAX(Parámetros!O$7:$P$7),FALSE))","v":""},""]
[null,null,null,{"$f":"IF(E550=\"\",\"\",VLOOKUP(E550,'Buenas prácticas'!$G$8:$H$1007,2,FALSE))","v":""},null,null,null,null,null,null,null,null,null,null,null,{"$f":"IF(F550=\"\",\"\",VLOOKUP(F550,Parámetros!F$11:$P$13,MAX(Parámetros!F$7:$P$7),FALSE))","v":""},{"$f":"IF(G550=\"\",\"\",VLOOKUP(G550,Parámetros!G$11:$P$13,MAX(Parámetros!G$7:$P$7),FALSE))","v":""},{"$f":"IF(H550=\"\",\"\",VLOOKUP(H550,Parámetros!H$11:$P$13,MAX(Parámetros!H$7:$P$7),FALSE))","v":""},{"$f":"IF(I550=\"\",\"\",VLOOKUP(I550,Parámetros!I$11:$P$13,MAX(Parámetros!I$7:$P$7),FALSE))","v":""},{"$f":"IF(J550=\"\",\"\",VLOOKUP(J550,Parámetros!J$11:$P$13,MAX(Parámetros!J$7:$P$7),FALSE))","v":""},{"$f":"IF(K550=\"\",\"\",VLOOKUP(K550,Parámetros!K$11:$P$13,MAX(Parámetros!K$7:$P$7),FALSE))","v":""},{"$f":"IF(L550=\"\",\"\",VLOOKUP(L550,Parámetros!L$11:$P$13,MAX(Parámetros!L$7:$P$7),FALSE))","v":""},{"$f":"IF(M550=\"\",\"\",VLOOKUP(M550,Parámetros!M$11:$P$13,MAX(Parámetros!M$7:$P$7),FALSE))","v":""},{"$f":"IF(N550=\"\",\"\",VLOOKUP(N550,Parámetros!N$11:$P$13,MAX(Parámetros!N$7:$P$7),FALSE))","v":""},{"$f":"IF(O550=\"\",\"\",VLOOKUP(O550,Parámetros!O$11:$P$13,MAX(Parámetros!O$7:$P$7),FALSE))","v":""},""]
[null,null,null,{"$f":"IF(E551=\"\",\"\",VLOOKUP(E551,'Buenas prácticas'!$G$8:$H$1007,2,FALSE))","v":""},null,null,null,null,null,null,null,null,null,null,null,{"$f":"IF(F551=\"\",\"\",VLOOKUP(F551,Parámetros!F$11:$P$13,MAX(Parámetros!F$7:$P$7),FALSE))","v":""},{"$f":"IF(G551=\"\",\"\",VLOOKUP(G551,Parámetros!G$11:$P$13,MAX(Parámetros!G$7:$P$7),FALSE))","v":""},{"$f":"IF(H551=\"\",\"\",VLOOKUP(H551,Parámetros!H$11:$P$13,MAX(Parámetros!H$7:$P$7),FALSE))","v":""},{"$f":"IF(I551=\"\",\"\",VLOOKUP(I551,Parámetros!I$11:$P$13,MAX(Parámetros!I$7:$P$7),FALSE))","v":""},{"$f":"IF(J551=\"\",\"\",VLOOKUP(J551,Parámetros!J$11:$P$13,MAX(Parámetros!J$7:$P$7),FALSE))","v":""},{"$f":"IF(K551=\"\",\"\",VLOOKUP(K551,Parámetros!K$11:$P$13,MAX(Parámetros!K$7:$P$7),FALSE))","v":""},{"$f":"IF(L551=\"\",\"\",VLOOKUP(L551,Parámetros!L$11:$P$13,MAX(Parámetros!L$7:$P$7),FALSE))","v":""},{"$f":"IF(M551=\"\",\"\",VLOOKUP(M551,Parámetros!M$11:$P$13,MAX(Parámetros!M$7:$P$7),FALSE))","v":""},{"$f":"IF(N551=\"\",\"\",VLOOKUP(N551,Parámetros!N$11:$P$13,MAX(Parámetros!N$7:$P$7),FALSE))","v":""},{"$f":"IF(O551=\"\",\"\",VLOOKUP(O551,Parámetros!O$11:$P$13,MAX(Parámetros!O$7:$P$7),FALSE))","v":""},""]
[null,null,null,{"$f":"IF(E552=\"\",\"\",VLOOKUP(E552,'Buenas prácticas'!$G$8:$H$1007,2,FALSE))","v":""},null,null,null,null,null,null,null,null,null,null,null,{"$f":"IF(F552=\"\",\"\",VLOOKUP(F552,Parámetros!F$11:$P$13,MAX(Parámetros!F$7:$P$7),FALSE))","v":""},{"$f":"IF(G552=\"\",\"\",VLOOKUP(G552,Parámetros!G$11:$P$13,MAX(Parámetros!G$7:$P$7),FALSE))","v":""},{"$f":"IF(H552=\"\",\"\",VLOOKUP(H552,Parámetros!H$11:$P$13,MAX(Parámetros!H$7:$P$7),FALSE))","v":""},{"$f":"IF(I552=\"\",\"\",VLOOKUP(I552,Parámetros!I$11:$P$13,MAX(Parámetros!I$7:$P$7),FALSE))","v":""},{"$f":"IF(J552=\"\",\"\",VLOOKUP(J552,Parámetros!J$11:$P$13,MAX(Parámetros!J$7:$P$7),FALSE))","v":""},{"$f":"IF(K552=\"\",\"\",VLOOKUP(K552,Parámetros!K$11:$P$13,MAX(Parámetros!K$7:$P$7),FALSE))","v":""},{"$f":"IF(L552=\"\",\"\",VLOOKUP(L552,Parámetros!L$11:$P$13,MAX(Parámetros!L$7:$P$7),FALSE))","v":""},{"$f":"IF(M552=\"\",\"\",VLOOKUP(M552,Parámetros!M$11:$P$13,MAX(Parámetros!M$7:$P$7),FALSE))","v":""},{"$f":"IF(N552=\"\",\"\",VLOOKUP(N552,Parámetros!N$11:$P$13,MAX(Parámetros!N$7:$P$7),FALSE))","v":""},{"$f":"IF(O552=\"\",\"\",VLOOKUP(O552,Parámetros!O$11:$P$13,MAX(Parámetros!O$7:$P$7),FALSE))","v":""},""]
[null,null,null,{"$f":"IF(E553=\"\",\"\",VLOOKUP(E553,'Buenas prácticas'!$G$8:$H$1007,2,FALSE))","v":""},null,null,null,null,null,null,null,null,null,null,null,{"$f":"IF(F553=\"\",\"\",VLOOKUP(F553,Parámetros!F$11:$P$13,MAX(Parámetros!F$7:$P$7),FALSE))","v":""},{"$f":"IF(G553=\"\",\"\",VLOOKUP(G553,Parámetros!G$11:$P$13,MAX(Parámetros!G$7:$P$7),FALSE))","v":""},{"$f":"IF(H553=\"\",\"\",VLOOKUP(H553,Parámetros!H$11:$P$13,MAX(Parámetros!H$7:$P$7),FALSE))","v":""},{"$f":"IF(I553=\"\",\"\",VLOOKUP(I553,Parámetros!I$11:$P$13,MAX(Parámetros!I$7:$P$7),FALSE))","v":""},{"$f":"IF(J553=\"\",\"\",VLOOKUP(J553,Parámetros!J$11:$P$13,MAX(Parámetros!J$7:$P$7),FALSE))","v":""},{"$f":"IF(K553=\"\",\"\",VLOOKUP(K553,Parámetros!K$11:$P$13,MAX(Parámetros!K$7:$P$7),FALSE))","v":""},{"$f":"IF(L553=\"\",\"\",VLOOKUP(L553,Parámetros!L$11:$P$13,MAX(Parámetros!L$7:$P$7),FALSE))","v":""},{"$f":"IF(M553=\"\",\"\",VLOOKUP(M553,Parámetros!M$11:$P$13,MAX(Parámetros!M$7:$P$7),FALSE))","v":""},{"$f":"IF(N553=\"\",\"\",VLOOKUP(N553,Parámetros!N$11:$P$13,MAX(Parámetros!N$7:$P$7),FALSE))","v":""},{"$f":"IF(O553=\"\",\"\",VLOOKUP(O553,Parámetros!O$11:$P$13,MAX(Parámetros!O$7:$P$7),FALSE))","v":""},""]
[null,null,null,{"$f":"IF(E554=\"\",\"\",VLOOKUP(E554,'Buenas prácticas'!$G$8:$H$1007,2,FALSE))","v":""},null,null,null,null,null,null,null,null,null,null,null,{"$f":"IF(F554=\"\",\"\",VLOOKUP(F554,Parámetros!F$11:$P$13,MAX(Parámetros!F$7:$P$7),FALSE))","v":""},{"$f":"IF(G554=\"\",\"\",VLOOKUP(G554,Parámetros!G$11:$P$13,MAX(Parámetros!G$7:$P$7),FALSE))","v":""},{"$f":"IF(H554=\"\",\"\",VLOOKUP(H554,Parámetros!H$11:$P$13,MAX(Parámetros!H$7:$P$7),FALSE))","v":""},{"$f":"IF(I554=\"\",\"\",VLOOKUP(I554,Parámetros!I$11:$P$13,MAX(Parámetros!I$7:$P$7),FALSE))","v":""},{"$f":"IF(J554=\"\",\"\",VLOOKUP(J554,Parámetros!J$11:$P$13,MAX(Parámetros!J$7:$P$7),FALSE))","v":""},{"$f":"IF(K554=\"\",\"\",VLOOKUP(K554,Parámetros!K$11:$P$13,MAX(Parámetros!K$7:$P$7),FALSE))","v":""},{"$f":"IF(L554=\"\",\"\",VLOOKUP(L554,Parámetros!L$11:$P$13,MAX(Parámetros!L$7:$P$7),FALSE))","v":""},{"$f":"IF(M554=\"\",\"\",VLOOKUP(M554,Parámetros!M$11:$P$13,MAX(Parámetros!M$7:$P$7),FALSE))","v":""},{"$f":"IF(N554=\"\",\"\",VLOOKUP(N554,Parámetros!N$11:$P$13,MAX(Parámetros!N$7:$P$7),FALSE))","v":""},{"$f":"IF(O554=\"\",\"\",VLOOKUP(O554,Parámetros!O$11:$P$13,MAX(Parámetros!O$7:$P$7),FALSE))","v":""},""]
[null,null,null,{"$f":"IF(E555=\"\",\"\",VLOOKUP(E555,'Buenas prácticas'!$G$8:$H$1007,2,FALSE))","v":""},null,null,null,null,null,null,null,null,null,null,null,{"$f":"IF(F555=\"\",\"\",VLOOKUP(F555,Parámetros!F$11:$P$13,MAX(Parámetros!F$7:$P$7),FALSE))","v":""},{"$f":"IF(G555=\"\",\"\",VLOOKUP(G555,Parámetros!G$11:$P$13,MAX(Parámetros!G$7:$P$7),FALSE))","v":""},{"$f":"IF(H555=\"\",\"\",VLOOKUP(H555,Parámetros!H$11:$P$13,MAX(Parámetros!H$7:$P$7),FALSE))","v":""},{"$f":"IF(I555=\"\",\"\",VLOOKUP(I555,Parámetros!I$11:$P$13,MAX(Parámetros!I$7:$P$7),FALSE))","v":""},{"$f":"IF(J555=\"\",\"\",VLOOKUP(J555,Parámetros!J$11:$P$13,MAX(Parámetros!J$7:$P$7),FALSE))","v":""},{"$f":"IF(K555=\"\",\"\",VLOOKUP(K555,Parámetros!K$11:$P$13,MAX(Parámetros!K$7:$P$7),FALSE))","v":""},{"$f":"IF(L555=\"\",\"\",VLOOKUP(L555,Parámetros!L$11:$P$13,MAX(Parámetros!L$7:$P$7),FALSE))","v":""},{"$f":"IF(M555=\"\",\"\",VLOOKUP(M555,Parámetros!M$11:$P$13,MAX(Parámetros!M$7:$P$7),FALSE))","v":""},{"$f":"IF(N555=\"\",\"\",VLOOKUP(N555,Parámetros!N$11:$P$13,MAX(Parámetros!N$7:$P$7),FALSE))","v":""},{"$f":"IF(O555=\"\",\"\",VLOOKUP(O555,Parámetros!O$11:$P$13,MAX(Parámetros!O$7:$P$7),FALSE))","v":""},""]
[null,null,null,{"$f":"IF(E556=\"\",\"\",VLOOKUP(E556,'Buenas prácticas'!$G$8:$H$1007,2,FALSE))","v":""},null,null,null,null,null,null,null,null,null,null,null,{"$f":"IF(F556=\"\",\"\",VLOOKUP(F556,Parámetros!F$11:$P$13,MAX(Parámetros!F$7:$P$7),FALSE))","v":""},{"$f":"IF(G556=\"\",\"\",VLOOKUP(G556,Parámetros!G$11:$P$13,MAX(Parámetros!G$7:$P$7),FALSE))","v":""},{"$f":"IF(H556=\"\",\"\",VLOOKUP(H556,Parámetros!H$11:$P$13,MAX(Parámetros!H$7:$P$7),FALSE))","v":""},{"$f":"IF(I556=\"\",\"\",VLOOKUP(I556,Parámetros!I$11:$P$13,MAX(Parámetros!I$7:$P$7),FALSE))","v":""},{"$f":"IF(J556=\"\",\"\",VLOOKUP(J556,Parámetros!J$11:$P$13,MAX(Parámetros!J$7:$P$7),FALSE))","v":""},{"$f":"IF(K556=\"\",\"\",VLOOKUP(K556,Parámetros!K$11:$P$13,MAX(Parámetros!K$7:$P$7),FALSE))","v":""},{"$f":"IF(L556=\"\",\"\",VLOOKUP(L556,Parámetros!L$11:$P$13,MAX(Parámetros!L$7:$P$7),FALSE))","v":""},{"$f":"IF(M556=\"\",\"\",VLOOKUP(M556,Parámetros!M$11:$P$13,MAX(Parámetros!M$7:$P$7),FALSE))","v":""},{"$f":"IF(N556=\"\",\"\",VLOOKUP(N556,Parámetros!N$11:$P$13,MAX(Parámetros!N$7:$P$7),FALSE))","v":""},{"$f":"IF(O556=\"\",\"\",VLOOKUP(O556,Parámetros!O$11:$P$13,MAX(Parámetros!O$7:$P$7),FALSE))","v":""},""]
[null,null,null,{"$f":"IF(E557=\"\",\"\",VLOOKUP(E557,'Buenas prácticas'!$G$8:$H$1007,2,FALSE))","v":""},null,null,null,null,null,null,null,null,null,null,null,{"$f":"IF(F557=\"\",\"\",VLOOKUP(F557,Parámetros!F$11:$P$13,MAX(Parámetros!F$7:$P$7),FALSE))","v":""},{"$f":"IF(G557=\"\",\"\",VLOOKUP(G557,Parámetros!G$11:$P$13,MAX(Parámetros!G$7:$P$7),FALSE))","v":""},{"$f":"IF(H557=\"\",\"\",VLOOKUP(H557,Parámetros!H$11:$P$13,MAX(Parámetros!H$7:$P$7),FALSE))","v":""},{"$f":"IF(I557=\"\",\"\",VLOOKUP(I557,Parámetros!I$11:$P$13,MAX(Parámetros!I$7:$P$7),FALSE))","v":""},{"$f":"IF(J557=\"\",\"\",VLOOKUP(J557,Parámetros!J$11:$P$13,MAX(Parámetros!J$7:$P$7),FALSE))","v":""},{"$f":"IF(K557=\"\",\"\",VLOOKUP(K557,Parámetros!K$11:$P$13,MAX(Parámetros!K$7:$P$7),FALSE))","v":""},{"$f":"IF(L557=\"\",\"\",VLOOKUP(L557,Parámetros!L$11:$P$13,MAX(Parámetros!L$7:$P$7),FALSE))","v":""},{"$f":"IF(M557=\"\",\"\",VLOOKUP(M557,Parámetros!M$11:$P$13,MAX(Parámetros!M$7:$P$7),FALSE))","v":""},{"$f":"IF(N557=\"\",\"\",VLOOKUP(N557,Parámetros!N$11:$P$13,MAX(Parámetros!N$7:$P$7),FALSE))","v":""},{"$f":"IF(O557=\"\",\"\",VLOOKUP(O557,Parámetros!O$11:$P$13,MAX(Parámetros!O$7:$P$7),FALSE))","v":""},""]
[null,null,null,{"$f":"IF(E558=\"\",\"\",VLOOKUP(E558,'Buenas prácticas'!$G$8:$H$1007,2,FALSE))","v":""},null,null,null,null,null,null,null,null,null,null,null,{"$f":"IF(F558=\"\",\"\",VLOOKUP(F558,Parámetros!F$11:$P$13,MAX(Parámetros!F$7:$P$7),FALSE))","v":""},{"$f":"IF(G558=\"\",\"\",VLOOKUP(G558,Parámetros!G$11:$P$13,MAX(Parámetros!G$7:$P$7),FALSE))","v":""},{"$f":"IF(H558=\"\",\"\",VLOOKUP(H558,Parámetros!H$11:$P$13,MAX(Parámetros!H$7:$P$7),FALSE))","v":""},{"$f":"IF(I558=\"\",\"\",VLOOKUP(I558,Parámetros!I$11:$P$13,MAX(Parámetros!I$7:$P$7),FALSE))","v":""},{"$f":"IF(J558=\"\",\"\",VLOOKUP(J558,Parámetros!J$11:$P$13,MAX(Parámetros!J$7:$P$7),FALSE))","v":""},{"$f":"IF(K558=\"\",\"\",VLOOKUP(K558,Parámetros!K$11:$P$13,MAX(Parámetros!K$7:$P$7),FALSE))","v":""},{"$f":"IF(L558=\"\",\"\",VLOOKUP(L558,Parámetros!L$11:$P$13,MAX(Parámetros!L$7:$P$7),FALSE))","v":""},{"$f":"IF(M558=\"\",\"\",VLOOKUP(M558,Parámetros!M$11:$P$13,MAX(Parámetros!M$7:$P$7),FALSE))","v":""},{"$f":"IF(N558=\"\",\"\",VLOOKUP(N558,Parámetros!N$11:$P$13,MAX(Parámetros!N$7:$P$7),FALSE))","v":""},{"$f":"IF(O558=\"\",\"\",VLOOKUP(O558,Parámetros!O$11:$P$13,MAX(Parámetros!O$7:$P$7),FALSE))","v":""},""]
[null,null,null,{"$f":"IF(E559=\"\",\"\",VLOOKUP(E559,'Buenas prácticas'!$G$8:$H$1007,2,FALSE))","v":""},null,null,null,null,null,null,null,null,null,null,null,{"$f":"IF(F559=\"\",\"\",VLOOKUP(F559,Parámetros!F$11:$P$13,MAX(Parámetros!F$7:$P$7),FALSE))","v":""},{"$f":"IF(G559=\"\",\"\",VLOOKUP(G559,Parámetros!G$11:$P$13,MAX(Parámetros!G$7:$P$7),FALSE))","v":""},{"$f":"IF(H559=\"\",\"\",VLOOKUP(H559,Parámetros!H$11:$P$13,MAX(Parámetros!H$7:$P$7),FALSE))","v":""},{"$f":"IF(I559=\"\",\"\",VLOOKUP(I559,Parámetros!I$11:$P$13,MAX(Parámetros!I$7:$P$7),FALSE))","v":""},{"$f":"IF(J559=\"\",\"\",VLOOKUP(J559,Parámetros!J$11:$P$13,MAX(Parámetros!J$7:$P$7),FALSE))","v":""},{"$f":"IF(K559=\"\",\"\",VLOOKUP(K559,Parámetros!K$11:$P$13,MAX(Parámetros!K$7:$P$7),FALSE))","v":""},{"$f":"IF(L559=\"\",\"\",VLOOKUP(L559,Parámetros!L$11:$P$13,MAX(Parámetros!L$7:$P$7),FALSE))","v":""},{"$f":"IF(M559=\"\",\"\",VLOOKUP(M559,Parámetros!M$11:$P$13,MAX(Parámetros!M$7:$P$7),FALSE))","v":""},{"$f":"IF(N559=\"\",\"\",VLOOKUP(N559,Parámetros!N$11:$P$13,MAX(Parámetros!N$7:$P$7),FALSE))","v":""},{"$f":"IF(O559=\"\",\"\",VLOOKUP(O559,Parámetros!O$11:$P$13,MAX(Parámetros!O$7:$P$7),FALSE))","v":""},""]
[null,null,null,{"$f":"IF(E560=\"\",\"\",VLOOKUP(E560,'Buenas prácticas'!$G$8:$H$1007,2,FALSE))","v":""},null,null,null,null,null,null,null,null,null,null,null,{"$f":"IF(F560=\"\",\"\",VLOOKUP(F560,Parámetros!F$11:$P$13,MAX(Parámetros!F$7:$P$7),FALSE))","v":""},{"$f":"IF(G560=\"\",\"\",VLOOKUP(G560,Parámetros!G$11:$P$13,MAX(Parámetros!G$7:$P$7),FALSE))","v":""},{"$f":"IF(H560=\"\",\"\",VLOOKUP(H560,Parámetros!H$11:$P$13,MAX(Parámetros!H$7:$P$7),FALSE))","v":""},{"$f":"IF(I560=\"\",\"\",VLOOKUP(I560,Parámetros!I$11:$P$13,MAX(Parámetros!I$7:$P$7),FALSE))","v":""},{"$f":"IF(J560=\"\",\"\",VLOOKUP(J560,Parámetros!J$11:$P$13,MAX(Parámetros!J$7:$P$7),FALSE))","v":""},{"$f":"IF(K560=\"\",\"\",VLOOKUP(K560,Parámetros!K$11:$P$13,MAX(Parámetros!K$7:$P$7),FALSE))","v":""},{"$f":"IF(L560=\"\",\"\",VLOOKUP(L560,Parámetros!L$11:$P$13,MAX(Parámetros!L$7:$P$7),FALSE))","v":""},{"$f":"IF(M560=\"\",\"\",VLOOKUP(M560,Parámetros!M$11:$P$13,MAX(Parámetros!M$7:$P$7),FALSE))","v":""},{"$f":"IF(N560=\"\",\"\",VLOOKUP(N560,Parámetros!N$11:$P$13,MAX(Parámetros!N$7:$P$7),FALSE))","v":""},{"$f":"IF(O560=\"\",\"\",VLOOKUP(O560,Parámetros!O$11:$P$13,MAX(Parámetros!O$7:$P$7),FALSE))","v":""},""]
[null,null,null,{"$f":"IF(E561=\"\",\"\",VLOOKUP(E561,'Buenas prácticas'!$G$8:$H$1007,2,FALSE))","v":""},null,null,null,null,null,null,null,null,null,null,null,{"$f":"IF(F561=\"\",\"\",VLOOKUP(F561,Parámetros!F$11:$P$13,MAX(Parámetros!F$7:$P$7),FALSE))","v":""},{"$f":"IF(G561=\"\",\"\",VLOOKUP(G561,Parámetros!G$11:$P$13,MAX(Parámetros!G$7:$P$7),FALSE))","v":""},{"$f":"IF(H561=\"\",\"\",VLOOKUP(H561,Parámetros!H$11:$P$13,MAX(Parámetros!H$7:$P$7),FALSE))","v":""},{"$f":"IF(I561=\"\",\"\",VLOOKUP(I561,Parámetros!I$11:$P$13,MAX(Parámetros!I$7:$P$7),FALSE))","v":""},{"$f":"IF(J561=\"\",\"\",VLOOKUP(J561,Parámetros!J$11:$P$13,MAX(Parámetros!J$7:$P$7),FALSE))","v":""},{"$f":"IF(K561=\"\",\"\",VLOOKUP(K561,Parámetros!K$11:$P$13,MAX(Parámetros!K$7:$P$7),FALSE))","v":""},{"$f":"IF(L561=\"\",\"\",VLOOKUP(L561,Parámetros!L$11:$P$13,MAX(Parámetros!L$7:$P$7),FALSE))","v":""},{"$f":"IF(M561=\"\",\"\",VLOOKUP(M561,Parámetros!M$11:$P$13,MAX(Parámetros!M$7:$P$7),FALSE))","v":""},{"$f":"IF(N561=\"\",\"\",VLOOKUP(N561,Parámetros!N$11:$P$13,MAX(Parámetros!N$7:$P$7),FALSE))","v":""},{"$f":"IF(O561=\"\",\"\",VLOOKUP(O561,Parámetros!O$11:$P$13,MAX(Parámetros!O$7:$P$7),FALSE))","v":""},""]
[null,null,null,{"$f":"IF(E562=\"\",\"\",VLOOKUP(E562,'Buenas prácticas'!$G$8:$H$1007,2,FALSE))","v":""},null,null,null,null,null,null,null,null,null,null,null,{"$f":"IF(F562=\"\",\"\",VLOOKUP(F562,Parámetros!F$11:$P$13,MAX(Parámetros!F$7:$P$7),FALSE))","v":""},{"$f":"IF(G562=\"\",\"\",VLOOKUP(G562,Parámetros!G$11:$P$13,MAX(Parámetros!G$7:$P$7),FALSE))","v":""},{"$f":"IF(H562=\"\",\"\",VLOOKUP(H562,Parámetros!H$11:$P$13,MAX(Parámetros!H$7:$P$7),FALSE))","v":""},{"$f":"IF(I562=\"\",\"\",VLOOKUP(I562,Parámetros!I$11:$P$13,MAX(Parámetros!I$7:$P$7),FALSE))","v":""},{"$f":"IF(J562=\"\",\"\",VLOOKUP(J562,Parámetros!J$11:$P$13,MAX(Parámetros!J$7:$P$7),FALSE))","v":""},{"$f":"IF(K562=\"\",\"\",VLOOKUP(K562,Parámetros!K$11:$P$13,MAX(Parámetros!K$7:$P$7),FALSE))","v":""},{"$f":"IF(L562=\"\",\"\",VLOOKUP(L562,Parámetros!L$11:$P$13,MAX(Parámetros!L$7:$P$7),FALSE))","v":""},{"$f":"IF(M562=\"\",\"\",VLOOKUP(M562,Parámetros!M$11:$P$13,MAX(Parámetros!M$7:$P$7),FALSE))","v":""},{"$f":"IF(N562=\"\",\"\",VLOOKUP(N562,Parámetros!N$11:$P$13,MAX(Parámetros!N$7:$P$7),FALSE))","v":""},{"$f":"IF(O562=\"\",\"\",VLOOKUP(O562,Parámetros!O$11:$P$13,MAX(Parámetros!O$7:$P$7),FALSE))","v":""},""]
[null,null,null,{"$f":"IF(E563=\"\",\"\",VLOOKUP(E563,'Buenas prácticas'!$G$8:$H$1007,2,FALSE))","v":""},null,null,null,null,null,null,null,null,null,null,null,{"$f":"IF(F563=\"\",\"\",VLOOKUP(F563,Parámetros!F$11:$P$13,MAX(Parámetros!F$7:$P$7),FALSE))","v":""},{"$f":"IF(G563=\"\",\"\",VLOOKUP(G563,Parámetros!G$11:$P$13,MAX(Parámetros!G$7:$P$7),FALSE))","v":""},{"$f":"IF(H563=\"\",\"\",VLOOKUP(H563,Parámetros!H$11:$P$13,MAX(Parámetros!H$7:$P$7),FALSE))","v":""},{"$f":"IF(I563=\"\",\"\",VLOOKUP(I563,Parámetros!I$11:$P$13,MAX(Parámetros!I$7:$P$7),FALSE))","v":""},{"$f":"IF(J563=\"\",\"\",VLOOKUP(J563,Parámetros!J$11:$P$13,MAX(Parámetros!J$7:$P$7),FALSE))","v":""},{"$f":"IF(K563=\"\",\"\",VLOOKUP(K563,Parámetros!K$11:$P$13,MAX(Parámetros!K$7:$P$7),FALSE))","v":""},{"$f":"IF(L563=\"\",\"\",VLOOKUP(L563,Parámetros!L$11:$P$13,MAX(Parámetros!L$7:$P$7),FALSE))","v":""},{"$f":"IF(M563=\"\",\"\",VLOOKUP(M563,Parámetros!M$11:$P$13,MAX(Parámetros!M$7:$P$7),FALSE))","v":""},{"$f":"IF(N563=\"\",\"\",VLOOKUP(N563,Parámetros!N$11:$P$13,MAX(Parámetros!N$7:$P$7),FALSE))","v":""},{"$f":"IF(O563=\"\",\"\",VLOOKUP(O563,Parámetros!O$11:$P$13,MAX(Parámetros!O$7:$P$7),FALSE))","v":""},""]
[null,null,null,{"$f":"IF(E564=\"\",\"\",VLOOKUP(E564,'Buenas prácticas'!$G$8:$H$1007,2,FALSE))","v":""},null,null,null,null,null,null,null,null,null,null,null,{"$f":"IF(F564=\"\",\"\",VLOOKUP(F564,Parámetros!F$11:$P$13,MAX(Parámetros!F$7:$P$7),FALSE))","v":""},{"$f":"IF(G564=\"\",\"\",VLOOKUP(G564,Parámetros!G$11:$P$13,MAX(Parámetros!G$7:$P$7),FALSE))","v":""},{"$f":"IF(H564=\"\",\"\",VLOOKUP(H564,Parámetros!H$11:$P$13,MAX(Parámetros!H$7:$P$7),FALSE))","v":""},{"$f":"IF(I564=\"\",\"\",VLOOKUP(I564,Parámetros!I$11:$P$13,MAX(Parámetros!I$7:$P$7),FALSE))","v":""},{"$f":"IF(J564=\"\",\"\",VLOOKUP(J564,Parámetros!J$11:$P$13,MAX(Parámetros!J$7:$P$7),FALSE))","v":""},{"$f":"IF(K564=\"\",\"\",VLOOKUP(K564,Parámetros!K$11:$P$13,MAX(Parámetros!K$7:$P$7),FALSE))","v":""},{"$f":"IF(L564=\"\",\"\",VLOOKUP(L564,Parámetros!L$11:$P$13,MAX(Parámetros!L$7:$P$7),FALSE))","v":""},{"$f":"IF(M564=\"\",\"\",VLOOKUP(M564,Parámetros!M$11:$P$13,MAX(Parámetros!M$7:$P$7),FALSE))","v":""},{"$f":"IF(N564=\"\",\"\",VLOOKUP(N564,Parámetros!N$11:$P$13,MAX(Parámetros!N$7:$P$7),FALSE))","v":""},{"$f":"IF(O564=\"\",\"\",VLOOKUP(O564,Parámetros!O$11:$P$13,MAX(Parámetros!O$7:$P$7),FALSE))","v":""},""]
[null,null,null,{"$f":"IF(E565=\"\",\"\",VLOOKUP(E565,'Buenas prácticas'!$G$8:$H$1007,2,FALSE))","v":""},null,null,null,null,null,null,null,null,null,null,null,{"$f":"IF(F565=\"\",\"\",VLOOKUP(F565,Parámetros!F$11:$P$13,MAX(Parámetros!F$7:$P$7),FALSE))","v":""},{"$f":"IF(G565=\"\",\"\",VLOOKUP(G565,Parámetros!G$11:$P$13,MAX(Parámetros!G$7:$P$7),FALSE))","v":""},{"$f":"IF(H565=\"\",\"\",VLOOKUP(H565,Parámetros!H$11:$P$13,MAX(Parámetros!H$7:$P$7),FALSE))","v":""},{"$f":"IF(I565=\"\",\"\",VLOOKUP(I565,Parámetros!I$11:$P$13,MAX(Parámetros!I$7:$P$7),FALSE))","v":""},{"$f":"IF(J565=\"\",\"\",VLOOKUP(J565,Parámetros!J$11:$P$13,MAX(Parámetros!J$7:$P$7),FALSE))","v":""},{"$f":"IF(K565=\"\",\"\",VLOOKUP(K565,Parámetros!K$11:$P$13,MAX(Parámetros!K$7:$P$7),FALSE))","v":""},{"$f":"IF(L565=\"\",\"\",VLOOKUP(L565,Parámetros!L$11:$P$13,MAX(Parámetros!L$7:$P$7),FALSE))","v":""},{"$f":"IF(M565=\"\",\"\",VLOOKUP(M565,Parámetros!M$11:$P$13,MAX(Parámetros!M$7:$P$7),FALSE))","v":""},{"$f":"IF(N565=\"\",\"\",VLOOKUP(N565,Parámetros!N$11:$P$13,MAX(Parámetros!N$7:$P$7),FALSE))","v":""},{"$f":"IF(O565=\"\",\"\",VLOOKUP(O565,Parámetros!O$11:$P$13,MAX(Parámetros!O$7:$P$7),FALSE))","v":""},""]
[null,null,null,{"$f":"IF(E566=\"\",\"\",VLOOKUP(E566,'Buenas prácticas'!$G$8:$H$1007,2,FALSE))","v":""},null,null,null,null,null,null,null,null,null,null,null,{"$f":"IF(F566=\"\",\"\",VLOOKUP(F566,Parámetros!F$11:$P$13,MAX(Parámetros!F$7:$P$7),FALSE))","v":""},{"$f":"IF(G566=\"\",\"\",VLOOKUP(G566,Parámetros!G$11:$P$13,MAX(Parámetros!G$7:$P$7),FALSE))","v":""},{"$f":"IF(H566=\"\",\"\",VLOOKUP(H566,Parámetros!H$11:$P$13,MAX(Parámetros!H$7:$P$7),FALSE))","v":""},{"$f":"IF(I566=\"\",\"\",VLOOKUP(I566,Parámetros!I$11:$P$13,MAX(Parámetros!I$7:$P$7),FALSE))","v":""},{"$f":"IF(J566=\"\",\"\",VLOOKUP(J566,Parámetros!J$11:$P$13,MAX(Parámetros!J$7:$P$7),FALSE))","v":""},{"$f":"IF(K566=\"\",\"\",VLOOKUP(K566,Parámetros!K$11:$P$13,MAX(Parámetros!K$7:$P$7),FALSE))","v":""},{"$f":"IF(L566=\"\",\"\",VLOOKUP(L566,Parámetros!L$11:$P$13,MAX(Parámetros!L$7:$P$7),FALSE))","v":""},{"$f":"IF(M566=\"\",\"\",VLOOKUP(M566,Parámetros!M$11:$P$13,MAX(Parámetros!M$7:$P$7),FALSE))","v":""},{"$f":"IF(N566=\"\",\"\",VLOOKUP(N566,Parámetros!N$11:$P$13,MAX(Parámetros!N$7:$P$7),FALSE))","v":""},{"$f":"IF(O566=\"\",\"\",VLOOKUP(O566,Parámetros!O$11:$P$13,MAX(Parámetros!O$7:$P$7),FALSE))","v":""},""]
[null,null,null,{"$f":"IF(E567=\"\",\"\",VLOOKUP(E567,'Buenas prácticas'!$G$8:$H$1007,2,FALSE))","v":""},null,null,null,null,null,null,null,null,null,null,null,{"$f":"IF(F567=\"\",\"\",VLOOKUP(F567,Parámetros!F$11:$P$13,MAX(Parámetros!F$7:$P$7),FALSE))","v":""},{"$f":"IF(G567=\"\",\"\",VLOOKUP(G567,Parámetros!G$11:$P$13,MAX(Parámetros!G$7:$P$7),FALSE))","v":""},{"$f":"IF(H567=\"\",\"\",VLOOKUP(H567,Parámetros!H$11:$P$13,MAX(Parámetros!H$7:$P$7),FALSE))","v":""},{"$f":"IF(I567=\"\",\"\",VLOOKUP(I567,Parámetros!I$11:$P$13,MAX(Parámetros!I$7:$P$7),FALSE))","v":""},{"$f":"IF(J567=\"\",\"\",VLOOKUP(J567,Parámetros!J$11:$P$13,MAX(Parámetros!J$7:$P$7),FALSE))","v":""},{"$f":"IF(K567=\"\",\"\",VLOOKUP(K567,Parámetros!K$11:$P$13,MAX(Parámetros!K$7:$P$7),FALSE))","v":""},{"$f":"IF(L567=\"\",\"\",VLOOKUP(L567,Parámetros!L$11:$P$13,MAX(Parámetros!L$7:$P$7),FALSE))","v":""},{"$f":"IF(M567=\"\",\"\",VLOOKUP(M567,Parámetros!M$11:$P$13,MAX(Parámetros!M$7:$P$7),FALSE))","v":""},{"$f":"IF(N567=\"\",\"\",VLOOKUP(N567,Parámetros!N$11:$P$13,MAX(Parámetros!N$7:$P$7),FALSE))","v":""},{"$f":"IF(O567=\"\",\"\",VLOOKUP(O567,Parámetros!O$11:$P$13,MAX(Parámetros!O$7:$P$7),FALSE))","v":""},""]
[null,null,null,{"$f":"IF(E568=\"\",\"\",VLOOKUP(E568,'Buenas prácticas'!$G$8:$H$1007,2,FALSE))","v":""},null,null,null,null,null,null,null,null,null,null,null,{"$f":"IF(F568=\"\",\"\",VLOOKUP(F568,Parámetros!F$11:$P$13,MAX(Parámetros!F$7:$P$7),FALSE))","v":""},{"$f":"IF(G568=\"\",\"\",VLOOKUP(G568,Parámetros!G$11:$P$13,MAX(Parámetros!G$7:$P$7),FALSE))","v":""},{"$f":"IF(H568=\"\",\"\",VLOOKUP(H568,Parámetros!H$11:$P$13,MAX(Parámetros!H$7:$P$7),FALSE))","v":""},{"$f":"IF(I568=\"\",\"\",VLOOKUP(I568,Parámetros!I$11:$P$13,MAX(Parámetros!I$7:$P$7),FALSE))","v":""},{"$f":"IF(J568=\"\",\"\",VLOOKUP(J568,Parámetros!J$11:$P$13,MAX(Parámetros!J$7:$P$7),FALSE))","v":""},{"$f":"IF(K568=\"\",\"\",VLOOKUP(K568,Parámetros!K$11:$P$13,MAX(Parámetros!K$7:$P$7),FALSE))","v":""},{"$f":"IF(L568=\"\",\"\",VLOOKUP(L568,Parámetros!L$11:$P$13,MAX(Parámetros!L$7:$P$7),FALSE))","v":""},{"$f":"IF(M568=\"\",\"\",VLOOKUP(M568,Parámetros!M$11:$P$13,MAX(Parámetros!M$7:$P$7),FALSE))","v":""},{"$f":"IF(N568=\"\",\"\",VLOOKUP(N568,Parámetros!N$11:$P$13,MAX(Parámetros!N$7:$P$7),FALSE))","v":""},{"$f":"IF(O568=\"\",\"\",VLOOKUP(O568,Parámetros!O$11:$P$13,MAX(Parámetros!O$7:$P$7),FALSE))","v":""},""]
[null,null,null,{"$f":"IF(E569=\"\",\"\",VLOOKUP(E569,'Buenas prácticas'!$G$8:$H$1007,2,FALSE))","v":""},null,null,null,null,null,null,null,null,null,null,null,{"$f":"IF(F569=\"\",\"\",VLOOKUP(F569,Parámetros!F$11:$P$13,MAX(Parámetros!F$7:$P$7),FALSE))","v":""},{"$f":"IF(G569=\"\",\"\",VLOOKUP(G569,Parámetros!G$11:$P$13,MAX(Parámetros!G$7:$P$7),FALSE))","v":""},{"$f":"IF(H569=\"\",\"\",VLOOKUP(H569,Parámetros!H$11:$P$13,MAX(Parámetros!H$7:$P$7),FALSE))","v":""},{"$f":"IF(I569=\"\",\"\",VLOOKUP(I569,Parámetros!I$11:$P$13,MAX(Parámetros!I$7:$P$7),FALSE))","v":""},{"$f":"IF(J569=\"\",\"\",VLOOKUP(J569,Parámetros!J$11:$P$13,MAX(Parámetros!J$7:$P$7),FALSE))","v":""},{"$f":"IF(K569=\"\",\"\",VLOOKUP(K569,Parámetros!K$11:$P$13,MAX(Parámetros!K$7:$P$7),FALSE))","v":""},{"$f":"IF(L569=\"\",\"\",VLOOKUP(L569,Parámetros!L$11:$P$13,MAX(Parámetros!L$7:$P$7),FALSE))","v":""},{"$f":"IF(M569=\"\",\"\",VLOOKUP(M569,Parámetros!M$11:$P$13,MAX(Parámetros!M$7:$P$7),FALSE))","v":""},{"$f":"IF(N569=\"\",\"\",VLOOKUP(N569,Parámetros!N$11:$P$13,MAX(Parámetros!N$7:$P$7),FALSE))","v":""},{"$f":"IF(O569=\"\",\"\",VLOOKUP(O569,Parámetros!O$11:$P$13,MAX(Parámetros!O$7:$P$7),FALSE))","v":""},""]
[null,null,null,{"$f":"IF(E570=\"\",\"\",VLOOKUP(E570,'Buenas prácticas'!$G$8:$H$1007,2,FALSE))","v":""},null,null,null,null,null,null,null,null,null,null,null,{"$f":"IF(F570=\"\",\"\",VLOOKUP(F570,Parámetros!F$11:$P$13,MAX(Parámetros!F$7:$P$7),FALSE))","v":""},{"$f":"IF(G570=\"\",\"\",VLOOKUP(G570,Parámetros!G$11:$P$13,MAX(Parámetros!G$7:$P$7),FALSE))","v":""},{"$f":"IF(H570=\"\",\"\",VLOOKUP(H570,Parámetros!H$11:$P$13,MAX(Parámetros!H$7:$P$7),FALSE))","v":""},{"$f":"IF(I570=\"\",\"\",VLOOKUP(I570,Parámetros!I$11:$P$13,MAX(Parámetros!I$7:$P$7),FALSE))","v":""},{"$f":"IF(J570=\"\",\"\",VLOOKUP(J570,Parámetros!J$11:$P$13,MAX(Parámetros!J$7:$P$7),FALSE))","v":""},{"$f":"IF(K570=\"\",\"\",VLOOKUP(K570,Parámetros!K$11:$P$13,MAX(Parámetros!K$7:$P$7),FALSE))","v":""},{"$f":"IF(L570=\"\",\"\",VLOOKUP(L570,Parámetros!L$11:$P$13,MAX(Parámetros!L$7:$P$7),FALSE))","v":""},{"$f":"IF(M570=\"\",\"\",VLOOKUP(M570,Parámetros!M$11:$P$13,MAX(Parámetros!M$7:$P$7),FALSE))","v":""},{"$f":"IF(N570=\"\",\"\",VLOOKUP(N570,Parámetros!N$11:$P$13,MAX(Parámetros!N$7:$P$7),FALSE))","v":""},{"$f":"IF(O570=\"\",\"\",VLOOKUP(O570,Parámetros!O$11:$P$13,MAX(Parámetros!O$7:$P$7),FALSE))","v":""},""]
[null,null,null,{"$f":"IF(E571=\"\",\"\",VLOOKUP(E571,'Buenas prácticas'!$G$8:$H$1007,2,FALSE))","v":""},null,null,null,null,null,null,null,null,null,null,null,{"$f":"IF(F571=\"\",\"\",VLOOKUP(F571,Parámetros!F$11:$P$13,MAX(Parámetros!F$7:$P$7),FALSE))","v":""},{"$f":"IF(G571=\"\",\"\",VLOOKUP(G571,Parámetros!G$11:$P$13,MAX(Parámetros!G$7:$P$7),FALSE))","v":""},{"$f":"IF(H571=\"\",\"\",VLOOKUP(H571,Parámetros!H$11:$P$13,MAX(Parámetros!H$7:$P$7),FALSE))","v":""},{"$f":"IF(I571=\"\",\"\",VLOOKUP(I571,Parámetros!I$11:$P$13,MAX(Parámetros!I$7:$P$7),FALSE))","v":""},{"$f":"IF(J571=\"\",\"\",VLOOKUP(J571,Parámetros!J$11:$P$13,MAX(Parámetros!J$7:$P$7),FALSE))","v":""},{"$f":"IF(K571=\"\",\"\",VLOOKUP(K571,Parámetros!K$11:$P$13,MAX(Parámetros!K$7:$P$7),FALSE))","v":""},{"$f":"IF(L571=\"\",\"\",VLOOKUP(L571,Parámetros!L$11:$P$13,MAX(Parámetros!L$7:$P$7),FALSE))","v":""},{"$f":"IF(M571=\"\",\"\",VLOOKUP(M571,Parámetros!M$11:$P$13,MAX(Parámetros!M$7:$P$7),FALSE))","v":""},{"$f":"IF(N571=\"\",\"\",VLOOKUP(N571,Parámetros!N$11:$P$13,MAX(Parámetros!N$7:$P$7),FALSE))","v":""},{"$f":"IF(O571=\"\",\"\",VLOOKUP(O571,Parámetros!O$11:$P$13,MAX(Parámetros!O$7:$P$7),FALSE))","v":""},""]
[null,null,null,{"$f":"IF(E572=\"\",\"\",VLOOKUP(E572,'Buenas prácticas'!$G$8:$H$1007,2,FALSE))","v":""},null,null,null,null,null,null,null,null,null,null,null,{"$f":"IF(F572=\"\",\"\",VLOOKUP(F572,Parámetros!F$11:$P$13,MAX(Parámetros!F$7:$P$7),FALSE))","v":""},{"$f":"IF(G572=\"\",\"\",VLOOKUP(G572,Parámetros!G$11:$P$13,MAX(Parámetros!G$7:$P$7),FALSE))","v":""},{"$f":"IF(H572=\"\",\"\",VLOOKUP(H572,Parámetros!H$11:$P$13,MAX(Parámetros!H$7:$P$7),FALSE))","v":""},{"$f":"IF(I572=\"\",\"\",VLOOKUP(I572,Parámetros!I$11:$P$13,MAX(Parámetros!I$7:$P$7),FALSE))","v":""},{"$f":"IF(J572=\"\",\"\",VLOOKUP(J572,Parámetros!J$11:$P$13,MAX(Parámetros!J$7:$P$7),FALSE))","v":""},{"$f":"IF(K572=\"\",\"\",VLOOKUP(K572,Parámetros!K$11:$P$13,MAX(Parámetros!K$7:$P$7),FALSE))","v":""},{"$f":"IF(L572=\"\",\"\",VLOOKUP(L572,Parámetros!L$11:$P$13,MAX(Parámetros!L$7:$P$7),FALSE))","v":""},{"$f":"IF(M572=\"\",\"\",VLOOKUP(M572,Parámetros!M$11:$P$13,MAX(Parámetros!M$7:$P$7),FALSE))","v":""},{"$f":"IF(N572=\"\",\"\",VLOOKUP(N572,Parámetros!N$11:$P$13,MAX(Parámetros!N$7:$P$7),FALSE))","v":""},{"$f":"IF(O572=\"\",\"\",VLOOKUP(O572,Parámetros!O$11:$P$13,MAX(Parámetros!O$7:$P$7),FALSE))","v":""},""]
[null,null,null,{"$f":"IF(E573=\"\",\"\",VLOOKUP(E573,'Buenas prácticas'!$G$8:$H$1007,2,FALSE))","v":""},null,null,null,null,null,null,null,null,null,null,null,{"$f":"IF(F573=\"\",\"\",VLOOKUP(F573,Parámetros!F$11:$P$13,MAX(Parámetros!F$7:$P$7),FALSE))","v":""},{"$f":"IF(G573=\"\",\"\",VLOOKUP(G573,Parámetros!G$11:$P$13,MAX(Parámetros!G$7:$P$7),FALSE))","v":""},{"$f":"IF(H573=\"\",\"\",VLOOKUP(H573,Parámetros!H$11:$P$13,MAX(Parámetros!H$7:$P$7),FALSE))","v":""},{"$f":"IF(I573=\"\",\"\",VLOOKUP(I573,Parámetros!I$11:$P$13,MAX(Parámetros!I$7:$P$7),FALSE))","v":""},{"$f":"IF(J573=\"\",\"\",VLOOKUP(J573,Parámetros!J$11:$P$13,MAX(Parámetros!J$7:$P$7),FALSE))","v":""},{"$f":"IF(K573=\"\",\"\",VLOOKUP(K573,Parámetros!K$11:$P$13,MAX(Parámetros!K$7:$P$7),FALSE))","v":""},{"$f":"IF(L573=\"\",\"\",VLOOKUP(L573,Parámetros!L$11:$P$13,MAX(Parámetros!L$7:$P$7),FALSE))","v":""},{"$f":"IF(M573=\"\",\"\",VLOOKUP(M573,Parámetros!M$11:$P$13,MAX(Parámetros!M$7:$P$7),FALSE))","v":""},{"$f":"IF(N573=\"\",\"\",VLOOKUP(N573,Parámetros!N$11:$P$13,MAX(Parámetros!N$7:$P$7),FALSE))","v":""},{"$f":"IF(O573=\"\",\"\",VLOOKUP(O573,Parámetros!O$11:$P$13,MAX(Parámetros!O$7:$P$7),FALSE))","v":""},""]
[null,null,null,{"$f":"IF(E574=\"\",\"\",VLOOKUP(E574,'Buenas prácticas'!$G$8:$H$1007,2,FALSE))","v":""},null,null,null,null,null,null,null,null,null,null,null,{"$f":"IF(F574=\"\",\"\",VLOOKUP(F574,Parámetros!F$11:$P$13,MAX(Parámetros!F$7:$P$7),FALSE))","v":""},{"$f":"IF(G574=\"\",\"\",VLOOKUP(G574,Parámetros!G$11:$P$13,MAX(Parámetros!G$7:$P$7),FALSE))","v":""},{"$f":"IF(H574=\"\",\"\",VLOOKUP(H574,Parámetros!H$11:$P$13,MAX(Parámetros!H$7:$P$7),FALSE))","v":""},{"$f":"IF(I574=\"\",\"\",VLOOKUP(I574,Parámetros!I$11:$P$13,MAX(Parámetros!I$7:$P$7),FALSE))","v":""},{"$f":"IF(J574=\"\",\"\",VLOOKUP(J574,Parámetros!J$11:$P$13,MAX(Parámetros!J$7:$P$7),FALSE))","v":""},{"$f":"IF(K574=\"\",\"\",VLOOKUP(K574,Parámetros!K$11:$P$13,MAX(Parámetros!K$7:$P$7),FALSE))","v":""},{"$f":"IF(L574=\"\",\"\",VLOOKUP(L574,Parámetros!L$11:$P$13,MAX(Parámetros!L$7:$P$7),FALSE))","v":""},{"$f":"IF(M574=\"\",\"\",VLOOKUP(M574,Parámetros!M$11:$P$13,MAX(Parámetros!M$7:$P$7),FALSE))","v":""},{"$f":"IF(N574=\"\",\"\",VLOOKUP(N574,Parámetros!N$11:$P$13,MAX(Parámetros!N$7:$P$7),FALSE))","v":""},{"$f":"IF(O574=\"\",\"\",VLOOKUP(O574,Parámetros!O$11:$P$13,MAX(Parámetros!O$7:$P$7),FALSE))","v":""},""]
[null,null,null,{"$f":"IF(E575=\"\",\"\",VLOOKUP(E575,'Buenas prácticas'!$G$8:$H$1007,2,FALSE))","v":""},null,null,null,null,null,null,null,null,null,null,null,{"$f":"IF(F575=\"\",\"\",VLOOKUP(F575,Parámetros!F$11:$P$13,MAX(Parámetros!F$7:$P$7),FALSE))","v":""},{"$f":"IF(G575=\"\",\"\",VLOOKUP(G575,Parámetros!G$11:$P$13,MAX(Parámetros!G$7:$P$7),FALSE))","v":""},{"$f":"IF(H575=\"\",\"\",VLOOKUP(H575,Parámetros!H$11:$P$13,MAX(Parámetros!H$7:$P$7),FALSE))","v":""},{"$f":"IF(I575=\"\",\"\",VLOOKUP(I575,Parámetros!I$11:$P$13,MAX(Parámetros!I$7:$P$7),FALSE))","v":""},{"$f":"IF(J575=\"\",\"\",VLOOKUP(J575,Parámetros!J$11:$P$13,MAX(Parámetros!J$7:$P$7),FALSE))","v":""},{"$f":"IF(K575=\"\",\"\",VLOOKUP(K575,Parámetros!K$11:$P$13,MAX(Parámetros!K$7:$P$7),FALSE))","v":""},{"$f":"IF(L575=\"\",\"\",VLOOKUP(L575,Parámetros!L$11:$P$13,MAX(Parámetros!L$7:$P$7),FALSE))","v":""},{"$f":"IF(M575=\"\",\"\",VLOOKUP(M575,Parámetros!M$11:$P$13,MAX(Parámetros!M$7:$P$7),FALSE))","v":""},{"$f":"IF(N575=\"\",\"\",VLOOKUP(N575,Parámetros!N$11:$P$13,MAX(Parámetros!N$7:$P$7),FALSE))","v":""},{"$f":"IF(O575=\"\",\"\",VLOOKUP(O575,Parámetros!O$11:$P$13,MAX(Parámetros!O$7:$P$7),FALSE))","v":""},""]
[null,null,null,{"$f":"IF(E576=\"\",\"\",VLOOKUP(E576,'Buenas prácticas'!$G$8:$H$1007,2,FALSE))","v":""},null,null,null,null,null,null,null,null,null,null,null,{"$f":"IF(F576=\"\",\"\",VLOOKUP(F576,Parámetros!F$11:$P$13,MAX(Parámetros!F$7:$P$7),FALSE))","v":""},{"$f":"IF(G576=\"\",\"\",VLOOKUP(G576,Parámetros!G$11:$P$13,MAX(Parámetros!G$7:$P$7),FALSE))","v":""},{"$f":"IF(H576=\"\",\"\",VLOOKUP(H576,Parámetros!H$11:$P$13,MAX(Parámetros!H$7:$P$7),FALSE))","v":""},{"$f":"IF(I576=\"\",\"\",VLOOKUP(I576,Parámetros!I$11:$P$13,MAX(Parámetros!I$7:$P$7),FALSE))","v":""},{"$f":"IF(J576=\"\",\"\",VLOOKUP(J576,Parámetros!J$11:$P$13,MAX(Parámetros!J$7:$P$7),FALSE))","v":""},{"$f":"IF(K576=\"\",\"\",VLOOKUP(K576,Parámetros!K$11:$P$13,MAX(Parámetros!K$7:$P$7),FALSE))","v":""},{"$f":"IF(L576=\"\",\"\",VLOOKUP(L576,Parámetros!L$11:$P$13,MAX(Parámetros!L$7:$P$7),FALSE))","v":""},{"$f":"IF(M576=\"\",\"\",VLOOKUP(M576,Parámetros!M$11:$P$13,MAX(Parámetros!M$7:$P$7),FALSE))","v":""},{"$f":"IF(N576=\"\",\"\",VLOOKUP(N576,Parámetros!N$11:$P$13,MAX(Parámetros!N$7:$P$7),FALSE))","v":""},{"$f":"IF(O576=\"\",\"\",VLOOKUP(O576,Parámetros!O$11:$P$13,MAX(Parámetros!O$7:$P$7),FALSE))","v":""},""]
[null,null,null,{"$f":"IF(E577=\"\",\"\",VLOOKUP(E577,'Buenas prácticas'!$G$8:$H$1007,2,FALSE))","v":""},null,null,null,null,null,null,null,null,null,null,null,{"$f":"IF(F577=\"\",\"\",VLOOKUP(F577,Parámetros!F$11:$P$13,MAX(Parámetros!F$7:$P$7),FALSE))","v":""},{"$f":"IF(G577=\"\",\"\",VLOOKUP(G577,Parámetros!G$11:$P$13,MAX(Parámetros!G$7:$P$7),FALSE))","v":""},{"$f":"IF(H577=\"\",\"\",VLOOKUP(H577,Parámetros!H$11:$P$13,MAX(Parámetros!H$7:$P$7),FALSE))","v":""},{"$f":"IF(I577=\"\",\"\",VLOOKUP(I577,Parámetros!I$11:$P$13,MAX(Parámetros!I$7:$P$7),FALSE))","v":""},{"$f":"IF(J577=\"\",\"\",VLOOKUP(J577,Parámetros!J$11:$P$13,MAX(Parámetros!J$7:$P$7),FALSE))","v":""},{"$f":"IF(K577=\"\",\"\",VLOOKUP(K577,Parámetros!K$11:$P$13,MAX(Parámetros!K$7:$P$7),FALSE))","v":""},{"$f":"IF(L577=\"\",\"\",VLOOKUP(L577,Parámetros!L$11:$P$13,MAX(Parámetros!L$7:$P$7),FALSE))","v":""},{"$f":"IF(M577=\"\",\"\",VLOOKUP(M577,Parámetros!M$11:$P$13,MAX(Parámetros!M$7:$P$7),FALSE))","v":""},{"$f":"IF(N577=\"\",\"\",VLOOKUP(N577,Parámetros!N$11:$P$13,MAX(Parámetros!N$7:$P$7),FALSE))","v":""},{"$f":"IF(O577=\"\",\"\",VLOOKUP(O577,Parámetros!O$11:$P$13,MAX(Parámetros!O$7:$P$7),FALSE))","v":""},""]
[null,null,null,{"$f":"IF(E578=\"\",\"\",VLOOKUP(E578,'Buenas prácticas'!$G$8:$H$1007,2,FALSE))","v":""},null,null,null,null,null,null,null,null,null,null,null,{"$f":"IF(F578=\"\",\"\",VLOOKUP(F578,Parámetros!F$11:$P$13,MAX(Parámetros!F$7:$P$7),FALSE))","v":""},{"$f":"IF(G578=\"\",\"\",VLOOKUP(G578,Parámetros!G$11:$P$13,MAX(Parámetros!G$7:$P$7),FALSE))","v":""},{"$f":"IF(H578=\"\",\"\",VLOOKUP(H578,Parámetros!H$11:$P$13,MAX(Parámetros!H$7:$P$7),FALSE))","v":""},{"$f":"IF(I578=\"\",\"\",VLOOKUP(I578,Parámetros!I$11:$P$13,MAX(Parámetros!I$7:$P$7),FALSE))","v":""},{"$f":"IF(J578=\"\",\"\",VLOOKUP(J578,Parámetros!J$11:$P$13,MAX(Parámetros!J$7:$P$7),FALSE))","v":""},{"$f":"IF(K578=\"\",\"\",VLOOKUP(K578,Parámetros!K$11:$P$13,MAX(Parámetros!K$7:$P$7),FALSE))","v":""},{"$f":"IF(L578=\"\",\"\",VLOOKUP(L578,Parámetros!L$11:$P$13,MAX(Parámetros!L$7:$P$7),FALSE))","v":""},{"$f":"IF(M578=\"\",\"\",VLOOKUP(M578,Parámetros!M$11:$P$13,MAX(Parámetros!M$7:$P$7),FALSE))","v":""},{"$f":"IF(N578=\"\",\"\",VLOOKUP(N578,Parámetros!N$11:$P$13,MAX(Parámetros!N$7:$P$7),FALSE))","v":""},{"$f":"IF(O578=\"\",\"\",VLOOKUP(O578,Parámetros!O$11:$P$13,MAX(Parámetros!O$7:$P$7),FALSE))","v":""},""]
[null,null,null,{"$f":"IF(E579=\"\",\"\",VLOOKUP(E579,'Buenas prácticas'!$G$8:$H$1007,2,FALSE))","v":""},null,null,null,null,null,null,null,null,null,null,null,{"$f":"IF(F579=\"\",\"\",VLOOKUP(F579,Parámetros!F$11:$P$13,MAX(Parámetros!F$7:$P$7),FALSE))","v":""},{"$f":"IF(G579=\"\",\"\",VLOOKUP(G579,Parámetros!G$11:$P$13,MAX(Parámetros!G$7:$P$7),FALSE))","v":""},{"$f":"IF(H579=\"\",\"\",VLOOKUP(H579,Parámetros!H$11:$P$13,MAX(Parámetros!H$7:$P$7),FALSE))","v":""},{"$f":"IF(I579=\"\",\"\",VLOOKUP(I579,Parámetros!I$11:$P$13,MAX(Parámetros!I$7:$P$7),FALSE))","v":""},{"$f":"IF(J579=\"\",\"\",VLOOKUP(J579,Parámetros!J$11:$P$13,MAX(Parámetros!J$7:$P$7),FALSE))","v":""},{"$f":"IF(K579=\"\",\"\",VLOOKUP(K579,Parámetros!K$11:$P$13,MAX(Parámetros!K$7:$P$7),FALSE))","v":""},{"$f":"IF(L579=\"\",\"\",VLOOKUP(L579,Parámetros!L$11:$P$13,MAX(Parámetros!L$7:$P$7),FALSE))","v":""},{"$f":"IF(M579=\"\",\"\",VLOOKUP(M579,Parámetros!M$11:$P$13,MAX(Parámetros!M$7:$P$7),FALSE))","v":""},{"$f":"IF(N579=\"\",\"\",VLOOKUP(N579,Parámetros!N$11:$P$13,MAX(Parámetros!N$7:$P$7),FALSE))","v":""},{"$f":"IF(O579=\"\",\"\",VLOOKUP(O579,Parámetros!O$11:$P$13,MAX(Parámetros!O$7:$P$7),FALSE))","v":""},""]
[null,null,null,{"$f":"IF(E580=\"\",\"\",VLOOKUP(E580,'Buenas prácticas'!$G$8:$H$1007,2,FALSE))","v":""},null,null,null,null,null,null,null,null,null,null,null,{"$f":"IF(F580=\"\",\"\",VLOOKUP(F580,Parámetros!F$11:$P$13,MAX(Parámetros!F$7:$P$7),FALSE))","v":""},{"$f":"IF(G580=\"\",\"\",VLOOKUP(G580,Parámetros!G$11:$P$13,MAX(Parámetros!G$7:$P$7),FALSE))","v":""},{"$f":"IF(H580=\"\",\"\",VLOOKUP(H580,Parámetros!H$11:$P$13,MAX(Parámetros!H$7:$P$7),FALSE))","v":""},{"$f":"IF(I580=\"\",\"\",VLOOKUP(I580,Parámetros!I$11:$P$13,MAX(Parámetros!I$7:$P$7),FALSE))","v":""},{"$f":"IF(J580=\"\",\"\",VLOOKUP(J580,Parámetros!J$11:$P$13,MAX(Parámetros!J$7:$P$7),FALSE))","v":""},{"$f":"IF(K580=\"\",\"\",VLOOKUP(K580,Parámetros!K$11:$P$13,MAX(Parámetros!K$7:$P$7),FALSE))","v":""},{"$f":"IF(L580=\"\",\"\",VLOOKUP(L580,Parámetros!L$11:$P$13,MAX(Parámetros!L$7:$P$7),FALSE))","v":""},{"$f":"IF(M580=\"\",\"\",VLOOKUP(M580,Parámetros!M$11:$P$13,MAX(Parámetros!M$7:$P$7),FALSE))","v":""},{"$f":"IF(N580=\"\",\"\",VLOOKUP(N580,Parámetros!N$11:$P$13,MAX(Parámetros!N$7:$P$7),FALSE))","v":""},{"$f":"IF(O580=\"\",\"\",VLOOKUP(O580,Parámetros!O$11:$P$13,MAX(Parámetros!O$7:$P$7),FALSE))","v":""},""]
[null,null,null,{"$f":"IF(E581=\"\",\"\",VLOOKUP(E581,'Buenas prácticas'!$G$8:$H$1007,2,FALSE))","v":""},null,null,null,null,null,null,null,null,null,null,null,{"$f":"IF(F581=\"\",\"\",VLOOKUP(F581,Parámetros!F$11:$P$13,MAX(Parámetros!F$7:$P$7),FALSE))","v":""},{"$f":"IF(G581=\"\",\"\",VLOOKUP(G581,Parámetros!G$11:$P$13,MAX(Parámetros!G$7:$P$7),FALSE))","v":""},{"$f":"IF(H581=\"\",\"\",VLOOKUP(H581,Parámetros!H$11:$P$13,MAX(Parámetros!H$7:$P$7),FALSE))","v":""},{"$f":"IF(I581=\"\",\"\",VLOOKUP(I581,Parámetros!I$11:$P$13,MAX(Parámetros!I$7:$P$7),FALSE))","v":""},{"$f":"IF(J581=\"\",\"\",VLOOKUP(J581,Parámetros!J$11:$P$13,MAX(Parámetros!J$7:$P$7),FALSE))","v":""},{"$f":"IF(K581=\"\",\"\",VLOOKUP(K581,Parámetros!K$11:$P$13,MAX(Parámetros!K$7:$P$7),FALSE))","v":""},{"$f":"IF(L581=\"\",\"\",VLOOKUP(L581,Parámetros!L$11:$P$13,MAX(Parámetros!L$7:$P$7),FALSE))","v":""},{"$f":"IF(M581=\"\",\"\",VLOOKUP(M581,Parámetros!M$11:$P$13,MAX(Parámetros!M$7:$P$7),FALSE))","v":""},{"$f":"IF(N581=\"\",\"\",VLOOKUP(N581,Parámetros!N$11:$P$13,MAX(Parámetros!N$7:$P$7),FALSE))","v":""},{"$f":"IF(O581=\"\",\"\",VLOOKUP(O581,Parámetros!O$11:$P$13,MAX(Parámetros!O$7:$P$7),FALSE))","v":""},""]
[null,null,null,{"$f":"IF(E582=\"\",\"\",VLOOKUP(E582,'Buenas prácticas'!$G$8:$H$1007,2,FALSE))","v":""},null,null,null,null,null,null,null,null,null,null,null,{"$f":"IF(F582=\"\",\"\",VLOOKUP(F582,Parámetros!F$11:$P$13,MAX(Parámetros!F$7:$P$7),FALSE))","v":""},{"$f":"IF(G582=\"\",\"\",VLOOKUP(G582,Parámetros!G$11:$P$13,MAX(Parámetros!G$7:$P$7),FALSE))","v":""},{"$f":"IF(H582=\"\",\"\",VLOOKUP(H582,Parámetros!H$11:$P$13,MAX(Parámetros!H$7:$P$7),FALSE))","v":""},{"$f":"IF(I582=\"\",\"\",VLOOKUP(I582,Parámetros!I$11:$P$13,MAX(Parámetros!I$7:$P$7),FALSE))","v":""},{"$f":"IF(J582=\"\",\"\",VLOOKUP(J582,Parámetros!J$11:$P$13,MAX(Parámetros!J$7:$P$7),FALSE))","v":""},{"$f":"IF(K582=\"\",\"\",VLOOKUP(K582,Parámetros!K$11:$P$13,MAX(Parámetros!K$7:$P$7),FALSE))","v":""},{"$f":"IF(L582=\"\",\"\",VLOOKUP(L582,Parámetros!L$11:$P$13,MAX(Parámetros!L$7:$P$7),FALSE))","v":""},{"$f":"IF(M582=\"\",\"\",VLOOKUP(M582,Parámetros!M$11:$P$13,MAX(Parámetros!M$7:$P$7),FALSE))","v":""},{"$f":"IF(N582=\"\",\"\",VLOOKUP(N582,Parámetros!N$11:$P$13,MAX(Parámetros!N$7:$P$7),FALSE))","v":""},{"$f":"IF(O582=\"\",\"\",VLOOKUP(O582,Parámetros!O$11:$P$13,MAX(Parámetros!O$7:$P$7),FALSE))","v":""},""]
[null,null,null,{"$f":"IF(E583=\"\",\"\",VLOOKUP(E583,'Buenas prácticas'!$G$8:$H$1007,2,FALSE))","v":""},null,null,null,null,null,null,null,null,null,null,null,{"$f":"IF(F583=\"\",\"\",VLOOKUP(F583,Parámetros!F$11:$P$13,MAX(Parámetros!F$7:$P$7),FALSE))","v":""},{"$f":"IF(G583=\"\",\"\",VLOOKUP(G583,Parámetros!G$11:$P$13,MAX(Parámetros!G$7:$P$7),FALSE))","v":""},{"$f":"IF(H583=\"\",\"\",VLOOKUP(H583,Parámetros!H$11:$P$13,MAX(Parámetros!H$7:$P$7),FALSE))","v":""},{"$f":"IF(I583=\"\",\"\",VLOOKUP(I583,Parámetros!I$11:$P$13,MAX(Parámetros!I$7:$P$7),FALSE))","v":""},{"$f":"IF(J583=\"\",\"\",VLOOKUP(J583,Parámetros!J$11:$P$13,MAX(Parámetros!J$7:$P$7),FALSE))","v":""},{"$f":"IF(K583=\"\",\"\",VLOOKUP(K583,Parámetros!K$11:$P$13,MAX(Parámetros!K$7:$P$7),FALSE))","v":""},{"$f":"IF(L583=\"\",\"\",VLOOKUP(L583,Parámetros!L$11:$P$13,MAX(Parámetros!L$7:$P$7),FALSE))","v":""},{"$f":"IF(M583=\"\",\"\",VLOOKUP(M583,Parámetros!M$11:$P$13,MAX(Parámetros!M$7:$P$7),FALSE))","v":""},{"$f":"IF(N583=\"\",\"\",VLOOKUP(N583,Parámetros!N$11:$P$13,MAX(Parámetros!N$7:$P$7),FALSE))","v":""},{"$f":"IF(O583=\"\",\"\",VLOOKUP(O583,Parámetros!O$11:$P$13,MAX(Parámetros!O$7:$P$7),FALSE))","v":""},""]
[null,null,null,{"$f":"IF(E584=\"\",\"\",VLOOKUP(E584,'Buenas prácticas'!$G$8:$H$1007,2,FALSE))","v":""},null,null,null,null,null,null,null,null,null,null,null,{"$f":"IF(F584=\"\",\"\",VLOOKUP(F584,Parámetros!F$11:$P$13,MAX(Parámetros!F$7:$P$7),FALSE))","v":""},{"$f":"IF(G584=\"\",\"\",VLOOKUP(G584,Parámetros!G$11:$P$13,MAX(Parámetros!G$7:$P$7),FALSE))","v":""},{"$f":"IF(H584=\"\",\"\",VLOOKUP(H584,Parámetros!H$11:$P$13,MAX(Parámetros!H$7:$P$7),FALSE))","v":""},{"$f":"IF(I584=\"\",\"\",VLOOKUP(I584,Parámetros!I$11:$P$13,MAX(Parámetros!I$7:$P$7),FALSE))","v":""},{"$f":"IF(J584=\"\",\"\",VLOOKUP(J584,Parámetros!J$11:$P$13,MAX(Parámetros!J$7:$P$7),FALSE))","v":""},{"$f":"IF(K584=\"\",\"\",VLOOKUP(K584,Parámetros!K$11:$P$13,MAX(Parámetros!K$7:$P$7),FALSE))","v":""},{"$f":"IF(L584=\"\",\"\",VLOOKUP(L584,Parámetros!L$11:$P$13,MAX(Parámetros!L$7:$P$7),FALSE))","v":""},{"$f":"IF(M584=\"\",\"\",VLOOKUP(M584,Parámetros!M$11:$P$13,MAX(Parámetros!M$7:$P$7),FALSE))","v":""},{"$f":"IF(N584=\"\",\"\",VLOOKUP(N584,Parámetros!N$11:$P$13,MAX(Parámetros!N$7:$P$7),FALSE))","v":""},{"$f":"IF(O584=\"\",\"\",VLOOKUP(O584,Parámetros!O$11:$P$13,MAX(Parámetros!O$7:$P$7),FALSE))","v":""},""]
[null,null,null,{"$f":"IF(E585=\"\",\"\",VLOOKUP(E585,'Buenas prácticas'!$G$8:$H$1007,2,FALSE))","v":""},null,null,null,null,null,null,null,null,null,null,null,{"$f":"IF(F585=\"\",\"\",VLOOKUP(F585,Parámetros!F$11:$P$13,MAX(Parámetros!F$7:$P$7),FALSE))","v":""},{"$f":"IF(G585=\"\",\"\",VLOOKUP(G585,Parámetros!G$11:$P$13,MAX(Parámetros!G$7:$P$7),FALSE))","v":""},{"$f":"IF(H585=\"\",\"\",VLOOKUP(H585,Parámetros!H$11:$P$13,MAX(Parámetros!H$7:$P$7),FALSE))","v":""},{"$f":"IF(I585=\"\",\"\",VLOOKUP(I585,Parámetros!I$11:$P$13,MAX(Parámetros!I$7:$P$7),FALSE))","v":""},{"$f":"IF(J585=\"\",\"\",VLOOKUP(J585,Parámetros!J$11:$P$13,MAX(Parámetros!J$7:$P$7),FALSE))","v":""},{"$f":"IF(K585=\"\",\"\",VLOOKUP(K585,Parámetros!K$11:$P$13,MAX(Parámetros!K$7:$P$7),FALSE))","v":""},{"$f":"IF(L585=\"\",\"\",VLOOKUP(L585,Parámetros!L$11:$P$13,MAX(Parámetros!L$7:$P$7),FALSE))","v":""},{"$f":"IF(M585=\"\",\"\",VLOOKUP(M585,Parámetros!M$11:$P$13,MAX(Parámetros!M$7:$P$7),FALSE))","v":""},{"$f":"IF(N585=\"\",\"\",VLOOKUP(N585,Parámetros!N$11:$P$13,MAX(Parámetros!N$7:$P$7),FALSE))","v":""},{"$f":"IF(O585=\"\",\"\",VLOOKUP(O585,Parámetros!O$11:$P$13,MAX(Parámetros!O$7:$P$7),FALSE))","v":""},{"$f":"IF(SUMPRODUCT($P585:$Y585,$P$6:$Y$6)=0,\"\",SUMPRODUCT($P585:$Y585,$P$6:$Y$6)/3)","v":""}]
[null,null,null,{"$f":"IF(E586=\"\",\"\",VLOOKUP(E586,'Buenas prácticas'!$G$8:$H$1007,2,FALSE))","v":""},null,null,null,null,null,null,null,null,null,null,null,{"$f":"IF(F586=\"\",\"\",VLOOKUP(F586,Parámetros!F$11:$P$13,MAX(Parámetros!F$7:$P$7),FALSE))","v":""},{"$f":"IF(G586=\"\",\"\",VLOOKUP(G586,Parámetros!G$11:$P$13,MAX(Parámetros!G$7:$P$7),FALSE))","v":""},{"$f":"IF(H586=\"\",\"\",VLOOKUP(H586,Parámetros!H$11:$P$13,MAX(Parámetros!H$7:$P$7),FALSE))","v":""},{"$f":"IF(I586=\"\",\"\",VLOOKUP(I586,Parámetros!I$11:$P$13,MAX(Parámetros!I$7:$P$7),FALSE))","v":""},{"$f":"IF(J586=\"\",\"\",VLOOKUP(J586,Parámetros!J$11:$P$13,MAX(Parámetros!J$7:$P$7),FALSE))","v":""},{"$f":"IF(K586=\"\",\"\",VLOOKUP(K586,Parámetros!K$11:$P$13,MAX(Parámetros!K$7:$P$7),FALSE))","v":""},{"$f":"IF(L586=\"\",\"\",VLOOKUP(L586,Parámetros!L$11:$P$13,MAX(Parámetros!L$7:$P$7),FALSE))","v":""},{"$f":"IF(M586=\"\",\"\",VLOOKUP(M586,Parámetros!M$11:$P$13,MAX(Parámetros!M$7:$P$7),FALSE))","v":""},{"$f":"IF(N586=\"\",\"\",VLOOKUP(N586,Parámetros!N$11:$P$13,MAX(Parámetros!N$7:$P$7),FALSE))","v":""},{"$f":"IF(O586=\"\",\"\",VLOOKUP(O586,Parámetros!O$11:$P$13,MAX(Parámetros!O$7:$P$7),FALSE))","v":""},""]
[null,null,null,{"$f":"IF(E587=\"\",\"\",VLOOKUP(E587,'Buenas prácticas'!$G$8:$H$1007,2,FALSE))","v":""},null,null,null,null,null,null,null,null,null,null,null,{"$f":"IF(F587=\"\",\"\",VLOOKUP(F587,Parámetros!F$11:$P$13,MAX(Parámetros!F$7:$P$7),FALSE))","v":""},{"$f":"IF(G587=\"\",\"\",VLOOKUP(G587,Parámetros!G$11:$P$13,MAX(Parámetros!G$7:$P$7),FALSE))","v":""},{"$f":"IF(H587=\"\",\"\",VLOOKUP(H587,Parámetros!H$11:$P$13,MAX(Parámetros!H$7:$P$7),FALSE))","v":""},{"$f":"IF(I587=\"\",\"\",VLOOKUP(I587,Parámetros!I$11:$P$13,MAX(Parámetros!I$7:$P$7),FALSE))","v":""},{"$f":"IF(J587=\"\",\"\",VLOOKUP(J587,Parámetros!J$11:$P$13,MAX(Parámetros!J$7:$P$7),FALSE))","v":""},{"$f":"IF(K587=\"\",\"\",VLOOKUP(K587,Parámetros!K$11:$P$13,MAX(Parámetros!K$7:$P$7),FALSE))","v":""},{"$f":"IF(L587=\"\",\"\",VLOOKUP(L587,Parámetros!L$11:$P$13,MAX(Parámetros!L$7:$P$7),FALSE))","v":""},{"$f":"IF(M587=\"\",\"\",VLOOKUP(M587,Parámetros!M$11:$P$13,MAX(Parámetros!M$7:$P$7),FALSE))","v":""},{"$f":"IF(N587=\"\",\"\",VLOOKUP(N587,Parámetros!N$11:$P$13,MAX(Parámetros!N$7:$P$7),FALSE))","v":""},{"$f":"IF(O587=\"\",\"\",VLOOKUP(O587,Parámetros!O$11:$P$13,MAX(Parámetros!O$7:$P$7),FALSE))","v":""},""]
[null,null,null,{"$f":"IF(E588=\"\",\"\",VLOOKUP(E588,'Buenas prácticas'!$G$8:$H$1007,2,FALSE))","v":""},null,null,null,null,null,null,null,null,null,null,null,{"$f":"IF(F588=\"\",\"\",VLOOKUP(F588,Parámetros!F$11:$P$13,MAX(Parámetros!F$7:$P$7),FALSE))","v":""},{"$f":"IF(G588=\"\",\"\",VLOOKUP(G588,Parámetros!G$11:$P$13,MAX(Parámetros!G$7:$P$7),FALSE))","v":""},{"$f":"IF(H588=\"\",\"\",VLOOKUP(H588,Parámetros!H$11:$P$13,MAX(Parámetros!H$7:$P$7),FALSE))","v":""},{"$f":"IF(I588=\"\",\"\",VLOOKUP(I588,Parámetros!I$11:$P$13,MAX(Parámetros!I$7:$P$7),FALSE))","v":""},{"$f":"IF(J588=\"\",\"\",VLOOKUP(J588,Parámetros!J$11:$P$13,MAX(Parámetros!J$7:$P$7),FALSE))","v":""},{"$f":"IF(K588=\"\",\"\",VLOOKUP(K588,Parámetros!K$11:$P$13,MAX(Parámetros!K$7:$P$7),FALSE))","v":""},{"$f":"IF(L588=\"\",\"\",VLOOKUP(L588,Parámetros!L$11:$P$13,MAX(Parámetros!L$7:$P$7),FALSE))","v":""},{"$f":"IF(M588=\"\",\"\",VLOOKUP(M588,Parámetros!M$11:$P$13,MAX(Parámetros!M$7:$P$7),FALSE))","v":""},{"$f":"IF(N588=\"\",\"\",VLOOKUP(N588,Parámetros!N$11:$P$13,MAX(Parámetros!N$7:$P$7),FALSE))","v":""},{"$f":"IF(O588=\"\",\"\",VLOOKUP(O588,Parámetros!O$11:$P$13,MAX(Parámetros!O$7:$P$7),FALSE))","v":""},""]
[null,null,null,{"$f":"IF(E589=\"\",\"\",VLOOKUP(E589,'Buenas prácticas'!$G$8:$H$1007,2,FALSE))","v":""},null,null,null,null,null,null,null,null,null,null,null,{"$f":"IF(F589=\"\",\"\",VLOOKUP(F589,Parámetros!F$11:$P$13,MAX(Parámetros!F$7:$P$7),FALSE))","v":""},{"$f":"IF(G589=\"\",\"\",VLOOKUP(G589,Parámetros!G$11:$P$13,MAX(Parámetros!G$7:$P$7),FALSE))","v":""},{"$f":"IF(H589=\"\",\"\",VLOOKUP(H589,Parámetros!H$11:$P$13,MAX(Parámetros!H$7:$P$7),FALSE))","v":""},{"$f":"IF(I589=\"\",\"\",VLOOKUP(I589,Parámetros!I$11:$P$13,MAX(Parámetros!I$7:$P$7),FALSE))","v":""},{"$f":"IF(J589=\"\",\"\",VLOOKUP(J589,Parámetros!J$11:$P$13,MAX(Parámetros!J$7:$P$7),FALSE))","v":""},{"$f":"IF(K589=\"\",\"\",VLOOKUP(K589,Parámetros!K$11:$P$13,MAX(Parámetros!K$7:$P$7),FALSE))","v":""},{"$f":"IF(L589=\"\",\"\",VLOOKUP(L589,Parámetros!L$11:$P$13,MAX(Parámetros!L$7:$P$7),FALSE))","v":""},{"$f":"IF(M589=\"\",\"\",VLOOKUP(M589,Parámetros!M$11:$P$13,MAX(Parámetros!M$7:$P$7),FALSE))","v":""},{"$f":"IF(N589=\"\",\"\",VLOOKUP(N589,Parámetros!N$11:$P$13,MAX(Parámetros!N$7:$P$7),FALSE))","v":""},{"$f":"IF(O589=\"\",\"\",VLOOKUP(O589,Parámetros!O$11:$P$13,MAX(Parámetros!O$7:$P$7),FALSE))","v":""},""]
[null,null,null,{"$f":"IF(E590=\"\",\"\",VLOOKUP(E590,'Buenas prácticas'!$G$8:$H$1007,2,FALSE))","v":""},null,null,null,null,null,null,null,null,null,null,null,{"$f":"IF(F590=\"\",\"\",VLOOKUP(F590,Parámetros!F$11:$P$13,MAX(Parámetros!F$7:$P$7),FALSE))","v":""},{"$f":"IF(G590=\"\",\"\",VLOOKUP(G590,Parámetros!G$11:$P$13,MAX(Parámetros!G$7:$P$7),FALSE))","v":""},{"$f":"IF(H590=\"\",\"\",VLOOKUP(H590,Parámetros!H$11:$P$13,MAX(Parámetros!H$7:$P$7),FALSE))","v":""},{"$f":"IF(I590=\"\",\"\",VLOOKUP(I590,Parámetros!I$11:$P$13,MAX(Parámetros!I$7:$P$7),FALSE))","v":""},{"$f":"IF(J590=\"\",\"\",VLOOKUP(J590,Parámetros!J$11:$P$13,MAX(Parámetros!J$7:$P$7),FALSE))","v":""},{"$f":"IF(K590=\"\",\"\",VLOOKUP(K590,Parámetros!K$11:$P$13,MAX(Parámetros!K$7:$P$7),FALSE))","v":""},{"$f":"IF(L590=\"\",\"\",VLOOKUP(L590,Parámetros!L$11:$P$13,MAX(Parámetros!L$7:$P$7),FALSE))","v":""},{"$f":"IF(M590=\"\",\"\",VLOOKUP(M590,Parámetros!M$11:$P$13,MAX(Parámetros!M$7:$P$7),FALSE))","v":""},{"$f":"IF(N590=\"\",\"\",VLOOKUP(N590,Parámetros!N$11:$P$13,MAX(Parámetros!N$7:$P$7),FALSE))","v":""},{"$f":"IF(O590=\"\",\"\",VLOOKUP(O590,Parámetros!O$11:$P$13,MAX(Parámetros!O$7:$P$7),FALSE))","v":""},""]
[null,null,null,{"$f":"IF(E591=\"\",\"\",VLOOKUP(E591,'Buenas prácticas'!$G$8:$H$1007,2,FALSE))","v":""},null,null,null,null,null,null,null,null,null,null,null,{"$f":"IF(F591=\"\",\"\",VLOOKUP(F591,Parámetros!F$11:$P$13,MAX(Parámetros!F$7:$P$7),FALSE))","v":""},{"$f":"IF(G591=\"\",\"\",VLOOKUP(G591,Parámetros!G$11:$P$13,MAX(Parámetros!G$7:$P$7),FALSE))","v":""},{"$f":"IF(H591=\"\",\"\",VLOOKUP(H591,Parámetros!H$11:$P$13,MAX(Parámetros!H$7:$P$7),FALSE))","v":""},{"$f":"IF(I591=\"\",\"\",VLOOKUP(I591,Parámetros!I$11:$P$13,MAX(Parámetros!I$7:$P$7),FALSE))","v":""},{"$f":"IF(J591=\"\",\"\",VLOOKUP(J591,Parámetros!J$11:$P$13,MAX(Parámetros!J$7:$P$7),FALSE))","v":""},{"$f":"IF(K591=\"\",\"\",VLOOKUP(K591,Parámetros!K$11:$P$13,MAX(Parámetros!K$7:$P$7),FALSE))","v":""},{"$f":"IF(L591=\"\",\"\",VLOOKUP(L591,Parámetros!L$11:$P$13,MAX(Parámetros!L$7:$P$7),FALSE))","v":""},{"$f":"IF(M591=\"\",\"\",VLOOKUP(M591,Parámetros!M$11:$P$13,MAX(Parámetros!M$7:$P$7),FALSE))","v":""},{"$f":"IF(N591=\"\",\"\",VLOOKUP(N591,Parámetros!N$11:$P$13,MAX(Parámetros!N$7:$P$7),FALSE))","v":""},{"$f":"IF(O591=\"\",\"\",VLOOKUP(O591,Parámetros!O$11:$P$13,MAX(Parámetros!O$7:$P$7),FALSE))","v":""},""]
[null,null,null,{"$f":"IF(E592=\"\",\"\",VLOOKUP(E592,'Buenas prácticas'!$G$8:$H$1007,2,FALSE))","v":""},null,null,null,null,null,null,null,null,null,null,null,{"$f":"IF(F592=\"\",\"\",VLOOKUP(F592,Parámetros!F$11:$P$13,MAX(Parámetros!F$7:$P$7),FALSE))","v":""},{"$f":"IF(G592=\"\",\"\",VLOOKUP(G592,Parámetros!G$11:$P$13,MAX(Parámetros!G$7:$P$7),FALSE))","v":""},{"$f":"IF(H592=\"\",\"\",VLOOKUP(H592,Parámetros!H$11:$P$13,MAX(Parámetros!H$7:$P$7),FALSE))","v":""},{"$f":"IF(I592=\"\",\"\",VLOOKUP(I592,Parámetros!I$11:$P$13,MAX(Parámetros!I$7:$P$7),FALSE))","v":""},{"$f":"IF(J592=\"\",\"\",VLOOKUP(J592,Parámetros!J$11:$P$13,MAX(Parámetros!J$7:$P$7),FALSE))","v":""},{"$f":"IF(K592=\"\",\"\",VLOOKUP(K592,Parámetros!K$11:$P$13,MAX(Parámetros!K$7:$P$7),FALSE))","v":""},{"$f":"IF(L592=\"\",\"\",VLOOKUP(L592,Parámetros!L$11:$P$13,MAX(Parámetros!L$7:$P$7),FALSE))","v":""},{"$f":"IF(M592=\"\",\"\",VLOOKUP(M592,Parámetros!M$11:$P$13,MAX(Parámetros!M$7:$P$7),FALSE))","v":""},{"$f":"IF(N592=\"\",\"\",VLOOKUP(N592,Parámetros!N$11:$P$13,MAX(Parámetros!N$7:$P$7),FALSE))","v":""},{"$f":"IF(O592=\"\",\"\",VLOOKUP(O592,Parámetros!O$11:$P$13,MAX(Parámetros!O$7:$P$7),FALSE))","v":""},""]
[null,null,null,{"$f":"IF(E593=\"\",\"\",VLOOKUP(E593,'Buenas prácticas'!$G$8:$H$1007,2,FALSE))","v":""},null,null,null,null,null,null,null,null,null,null,null,{"$f":"IF(F593=\"\",\"\",VLOOKUP(F593,Parámetros!F$11:$P$13,MAX(Parámetros!F$7:$P$7),FALSE))","v":""},{"$f":"IF(G593=\"\",\"\",VLOOKUP(G593,Parámetros!G$11:$P$13,MAX(Parámetros!G$7:$P$7),FALSE))","v":""},{"$f":"IF(H593=\"\",\"\",VLOOKUP(H593,Parámetros!H$11:$P$13,MAX(Parámetros!H$7:$P$7),FALSE))","v":""},{"$f":"IF(I593=\"\",\"\",VLOOKUP(I593,Parámetros!I$11:$P$13,MAX(Parámetros!I$7:$P$7),FALSE))","v":""},{"$f":"IF(J593=\"\",\"\",VLOOKUP(J593,Parámetros!J$11:$P$13,MAX(Parámetros!J$7:$P$7),FALSE))","v":""},{"$f":"IF(K593=\"\",\"\",VLOOKUP(K593,Parámetros!K$11:$P$13,MAX(Parámetros!K$7:$P$7),FALSE))","v":""},{"$f":"IF(L593=\"\",\"\",VLOOKUP(L593,Parámetros!L$11:$P$13,MAX(Parámetros!L$7:$P$7),FALSE))","v":""},{"$f":"IF(M593=\"\",\"\",VLOOKUP(M593,Parámetros!M$11:$P$13,MAX(Parámetros!M$7:$P$7),FALSE))","v":""},{"$f":"IF(N593=\"\",\"\",VLOOKUP(N593,Parámetros!N$11:$P$13,MAX(Parámetros!N$7:$P$7),FALSE))","v":""},{"$f":"IF(O593=\"\",\"\",VLOOKUP(O593,Parámetros!O$11:$P$13,MAX(Parámetros!O$7:$P$7),FALSE))","v":""},""]
[null,null,null,{"$f":"IF(E594=\"\",\"\",VLOOKUP(E594,'Buenas prácticas'!$G$8:$H$1007,2,FALSE))","v":""},null,null,null,null,null,null,null,null,null,null,null,{"$f":"IF(F594=\"\",\"\",VLOOKUP(F594,Parámetros!F$11:$P$13,MAX(Parámetros!F$7:$P$7),FALSE))","v":""},{"$f":"IF(G594=\"\",\"\",VLOOKUP(G594,Parámetros!G$11:$P$13,MAX(Parámetros!G$7:$P$7),FALSE))","v":""},{"$f":"IF(H594=\"\",\"\",VLOOKUP(H594,Parámetros!H$11:$P$13,MAX(Parámetros!H$7:$P$7),FALSE))","v":""},{"$f":"IF(I594=\"\",\"\",VLOOKUP(I594,Parámetros!I$11:$P$13,MAX(Parámetros!I$7:$P$7),FALSE))","v":""},{"$f":"IF(J594=\"\",\"\",VLOOKUP(J594,Parámetros!J$11:$P$13,MAX(Parámetros!J$7:$P$7),FALSE))","v":""},{"$f":"IF(K594=\"\",\"\",VLOOKUP(K594,Parámetros!K$11:$P$13,MAX(Parámetros!K$7:$P$7),FALSE))","v":""},{"$f":"IF(L594=\"\",\"\",VLOOKUP(L594,Parámetros!L$11:$P$13,MAX(Parámetros!L$7:$P$7),FALSE))","v":""},{"$f":"IF(M594=\"\",\"\",VLOOKUP(M594,Parámetros!M$11:$P$13,MAX(Parámetros!M$7:$P$7),FALSE))","v":""},{"$f":"IF(N594=\"\",\"\",VLOOKUP(N594,Parámetros!N$11:$P$13,MAX(Parámetros!N$7:$P$7),FALSE))","v":""},{"$f":"IF(O594=\"\",\"\",VLOOKUP(O594,Parámetros!O$11:$P$13,MAX(Parámetros!O$7:$P$7),FALSE))","v":""},""]
[null,null,null,{"$f":"IF(E595=\"\",\"\",VLOOKUP(E595,'Buenas prácticas'!$G$8:$H$1007,2,FALSE))","v":""},null,null,null,null,null,null,null,null,null,null,null,{"$f":"IF(F595=\"\",\"\",VLOOKUP(F595,Parámetros!F$11:$P$13,MAX(Parámetros!F$7:$P$7),FALSE))","v":""},{"$f":"IF(G595=\"\",\"\",VLOOKUP(G595,Parámetros!G$11:$P$13,MAX(Parámetros!G$7:$P$7),FALSE))","v":""},{"$f":"IF(H595=\"\",\"\",VLOOKUP(H595,Parámetros!H$11:$P$13,MAX(Parámetros!H$7:$P$7),FALSE))","v":""},{"$f":"IF(I595=\"\",\"\",VLOOKUP(I595,Parámetros!I$11:$P$13,MAX(Parámetros!I$7:$P$7),FALSE))","v":""},{"$f":"IF(J595=\"\",\"\",VLOOKUP(J595,Parámetros!J$11:$P$13,MAX(Parámetros!J$7:$P$7),FALSE))","v":""},{"$f":"IF(K595=\"\",\"\",VLOOKUP(K595,Parámetros!K$11:$P$13,MAX(Parámetros!K$7:$P$7),FALSE))","v":""},{"$f":"IF(L595=\"\",\"\",VLOOKUP(L595,Parámetros!L$11:$P$13,MAX(Parámetros!L$7:$P$7),FALSE))","v":""},{"$f":"IF(M595=\"\",\"\",VLOOKUP(M595,Parámetros!M$11:$P$13,MAX(Parámetros!M$7:$P$7),FALSE))","v":""},{"$f":"IF(N595=\"\",\"\",VLOOKUP(N595,Parámetros!N$11:$P$13,MAX(Parámetros!N$7:$P$7),FALSE))","v":""},{"$f":"IF(O595=\"\",\"\",VLOOKUP(O595,Parámetros!O$11:$P$13,MAX(Parámetros!O$7:$P$7),FALSE))","v":""},""]
[null,null,null,{"$f":"IF(E596=\"\",\"\",VLOOKUP(E596,'Buenas prácticas'!$G$8:$H$1007,2,FALSE))","v":""},null,null,null,null,null,null,null,null,null,null,null,{"$f":"IF(F596=\"\",\"\",VLOOKUP(F596,Parámetros!F$11:$P$13,MAX(Parámetros!F$7:$P$7),FALSE))","v":""},{"$f":"IF(G596=\"\",\"\",VLOOKUP(G596,Parámetros!G$11:$P$13,MAX(Parámetros!G$7:$P$7),FALSE))","v":""},{"$f":"IF(H596=\"\",\"\",VLOOKUP(H596,Parámetros!H$11:$P$13,MAX(Parámetros!H$7:$P$7),FALSE))","v":""},{"$f":"IF(I596=\"\",\"\",VLOOKUP(I596,Parámetros!I$11:$P$13,MAX(Parámetros!I$7:$P$7),FALSE))","v":""},{"$f":"IF(J596=\"\",\"\",VLOOKUP(J596,Parámetros!J$11:$P$13,MAX(Parámetros!J$7:$P$7),FALSE))","v":""},{"$f":"IF(K596=\"\",\"\",VLOOKUP(K596,Parámetros!K$11:$P$13,MAX(Parámetros!K$7:$P$7),FALSE))","v":""},{"$f":"IF(L596=\"\",\"\",VLOOKUP(L596,Parámetros!L$11:$P$13,MAX(Parámetros!L$7:$P$7),FALSE))","v":""},{"$f":"IF(M596=\"\",\"\",VLOOKUP(M596,Parámetros!M$11:$P$13,MAX(Parámetros!M$7:$P$7),FALSE))","v":""},{"$f":"IF(N596=\"\",\"\",VLOOKUP(N596,Parámetros!N$11:$P$13,MAX(Parámetros!N$7:$P$7),FALSE))","v":""},{"$f":"IF(O596=\"\",\"\",VLOOKUP(O596,Parámetros!O$11:$P$13,MAX(Parámetros!O$7:$P$7),FALSE))","v":""},""]
[null,null,null,{"$f":"IF(E597=\"\",\"\",VLOOKUP(E597,'Buenas prácticas'!$G$8:$H$1007,2,FALSE))","v":""},null,null,null,null,null,null,null,null,null,null,null,{"$f":"IF(F597=\"\",\"\",VLOOKUP(F597,Parámetros!F$11:$P$13,MAX(Parámetros!F$7:$P$7),FALSE))","v":""},{"$f":"IF(G597=\"\",\"\",VLOOKUP(G597,Parámetros!G$11:$P$13,MAX(Parámetros!G$7:$P$7),FALSE))","v":""},{"$f":"IF(H597=\"\",\"\",VLOOKUP(H597,Parámetros!H$11:$P$13,MAX(Parámetros!H$7:$P$7),FALSE))","v":""},{"$f":"IF(I597=\"\",\"\",VLOOKUP(I597,Parámetros!I$11:$P$13,MAX(Parámetros!I$7:$P$7),FALSE))","v":""},{"$f":"IF(J597=\"\",\"\",VLOOKUP(J597,Parámetros!J$11:$P$13,MAX(Parámetros!J$7:$P$7),FALSE))","v":""},{"$f":"IF(K597=\"\",\"\",VLOOKUP(K597,Parámetros!K$11:$P$13,MAX(Parámetros!K$7:$P$7),FALSE))","v":""},{"$f":"IF(L597=\"\",\"\",VLOOKUP(L597,Parámetros!L$11:$P$13,MAX(Parámetros!L$7:$P$7),FALSE))","v":""},{"$f":"IF(M597=\"\",\"\",VLOOKUP(M597,Parámetros!M$11:$P$13,MAX(Parámetros!M$7:$P$7),FALSE))","v":""},{"$f":"IF(N597=\"\",\"\",VLOOKUP(N597,Parámetros!N$11:$P$13,MAX(Parámetros!N$7:$P$7),FALSE))","v":""},{"$f":"IF(O597=\"\",\"\",VLOOKUP(O597,Parámetros!O$11:$P$13,MAX(Parámetros!O$7:$P$7),FALSE))","v":""},""]
[null,null,null,{"$f":"IF(E598=\"\",\"\",VLOOKUP(E598,'Buenas prácticas'!$G$8:$H$1007,2,FALSE))","v":""},null,null,null,null,null,null,null,null,null,null,null,{"$f":"IF(F598=\"\",\"\",VLOOKUP(F598,Parámetros!F$11:$P$13,MAX(Parámetros!F$7:$P$7),FALSE))","v":""},{"$f":"IF(G598=\"\",\"\",VLOOKUP(G598,Parámetros!G$11:$P$13,MAX(Parámetros!G$7:$P$7),FALSE))","v":""},{"$f":"IF(H598=\"\",\"\",VLOOKUP(H598,Parámetros!H$11:$P$13,MAX(Parámetros!H$7:$P$7),FALSE))","v":""},{"$f":"IF(I598=\"\",\"\",VLOOKUP(I598,Parámetros!I$11:$P$13,MAX(Parámetros!I$7:$P$7),FALSE))","v":""},{"$f":"IF(J598=\"\",\"\",VLOOKUP(J598,Parámetros!J$11:$P$13,MAX(Parámetros!J$7:$P$7),FALSE))","v":""},{"$f":"IF(K598=\"\",\"\",VLOOKUP(K598,Parámetros!K$11:$P$13,MAX(Parámetros!K$7:$P$7),FALSE))","v":""},{"$f":"IF(L598=\"\",\"\",VLOOKUP(L598,Parámetros!L$11:$P$13,MAX(Parámetros!L$7:$P$7),FALSE))","v":""},{"$f":"IF(M598=\"\",\"\",VLOOKUP(M598,Parámetros!M$11:$P$13,MAX(Parámetros!M$7:$P$7),FALSE))","v":""},{"$f":"IF(N598=\"\",\"\",VLOOKUP(N598,Parámetros!N$11:$P$13,MAX(Parámetros!N$7:$P$7),FALSE))","v":""},{"$f":"IF(O598=\"\",\"\",VLOOKUP(O598,Parámetros!O$11:$P$13,MAX(Parámetros!O$7:$P$7),FALSE))","v":""},""]
[null,null,null,{"$f":"IF(E599=\"\",\"\",VLOOKUP(E599,'Buenas prácticas'!$G$8:$H$1007,2,FALSE))","v":""},null,null,null,null,null,null,null,null,null,null,null,{"$f":"IF(F599=\"\",\"\",VLOOKUP(F599,Parámetros!F$11:$P$13,MAX(Parámetros!F$7:$P$7),FALSE))","v":""},{"$f":"IF(G599=\"\",\"\",VLOOKUP(G599,Parámetros!G$11:$P$13,MAX(Parámetros!G$7:$P$7),FALSE))","v":""},{"$f":"IF(H599=\"\",\"\",VLOOKUP(H599,Parámetros!H$11:$P$13,MAX(Parámetros!H$7:$P$7),FALSE))","v":""},{"$f":"IF(I599=\"\",\"\",VLOOKUP(I599,Parámetros!I$11:$P$13,MAX(Parámetros!I$7:$P$7),FALSE))","v":""},{"$f":"IF(J599=\"\",\"\",VLOOKUP(J599,Parámetros!J$11:$P$13,MAX(Parámetros!J$7:$P$7),FALSE))","v":""},{"$f":"IF(K599=\"\",\"\",VLOOKUP(K599,Parámetros!K$11:$P$13,MAX(Parámetros!K$7:$P$7),FALSE))","v":""},{"$f":"IF(L599=\"\",\"\",VLOOKUP(L599,Parámetros!L$11:$P$13,MAX(Parámetros!L$7:$P$7),FALSE))","v":""},{"$f":"IF(M599=\"\",\"\",VLOOKUP(M599,Parámetros!M$11:$P$13,MAX(Parámetros!M$7:$P$7),FALSE))","v":""},{"$f":"IF(N599=\"\",\"\",VLOOKUP(N599,Parámetros!N$11:$P$13,MAX(Parámetros!N$7:$P$7),FALSE))","v":""},{"$f":"IF(O599=\"\",\"\",VLOOKUP(O599,Parámetros!O$11:$P$13,MAX(Parámetros!O$7:$P$7),FALSE))","v":""},""]
[null,null,null,{"$f":"IF(E600=\"\",\"\",VLOOKUP(E600,'Buenas prácticas'!$G$8:$H$1007,2,FALSE))","v":""},null,null,null,null,null,null,null,null,null,null,null,{"$f":"IF(F600=\"\",\"\",VLOOKUP(F600,Parámetros!F$11:$P$13,MAX(Parámetros!F$7:$P$7),FALSE))","v":""},{"$f":"IF(G600=\"\",\"\",VLOOKUP(G600,Parámetros!G$11:$P$13,MAX(Parámetros!G$7:$P$7),FALSE))","v":""},{"$f":"IF(H600=\"\",\"\",VLOOKUP(H600,Parámetros!H$11:$P$13,MAX(Parámetros!H$7:$P$7),FALSE))","v":""},{"$f":"IF(I600=\"\",\"\",VLOOKUP(I600,Parámetros!I$11:$P$13,MAX(Parámetros!I$7:$P$7),FALSE))","v":""},{"$f":"IF(J600=\"\",\"\",VLOOKUP(J600,Parámetros!J$11:$P$13,MAX(Parámetros!J$7:$P$7),FALSE))","v":""},{"$f":"IF(K600=\"\",\"\",VLOOKUP(K600,Parámetros!K$11:$P$13,MAX(Parámetros!K$7:$P$7),FALSE))","v":""},{"$f":"IF(L600=\"\",\"\",VLOOKUP(L600,Parámetros!L$11:$P$13,MAX(Parámetros!L$7:$P$7),FALSE))","v":""},{"$f":"IF(M600=\"\",\"\",VLOOKUP(M600,Parámetros!M$11:$P$13,MAX(Parámetros!M$7:$P$7),FALSE))","v":""},{"$f":"IF(N600=\"\",\"\",VLOOKUP(N600,Parámetros!N$11:$P$13,MAX(Parámetros!N$7:$P$7),FALSE))","v":""},{"$f":"IF(O600=\"\",\"\",VLOOKUP(O600,Parámetros!O$11:$P$13,MAX(Parámetros!O$7:$P$7),FALSE))","v":""},""]
[null,null,null,{"$f":"IF(E601=\"\",\"\",VLOOKUP(E601,'Buenas prácticas'!$G$8:$H$1007,2,FALSE))","v":""},null,null,null,null,null,null,null,null,null,null,null,{"$f":"IF(F601=\"\",\"\",VLOOKUP(F601,Parámetros!F$11:$P$13,MAX(Parámetros!F$7:$P$7),FALSE))","v":""},{"$f":"IF(G601=\"\",\"\",VLOOKUP(G601,Parámetros!G$11:$P$13,MAX(Parámetros!G$7:$P$7),FALSE))","v":""},{"$f":"IF(H601=\"\",\"\",VLOOKUP(H601,Parámetros!H$11:$P$13,MAX(Parámetros!H$7:$P$7),FALSE))","v":""},{"$f":"IF(I601=\"\",\"\",VLOOKUP(I601,Parámetros!I$11:$P$13,MAX(Parámetros!I$7:$P$7),FALSE))","v":""},{"$f":"IF(J601=\"\",\"\",VLOOKUP(J601,Parámetros!J$11:$P$13,MAX(Parámetros!J$7:$P$7),FALSE))","v":""},{"$f":"IF(K601=\"\",\"\",VLOOKUP(K601,Parámetros!K$11:$P$13,MAX(Parámetros!K$7:$P$7),FALSE))","v":""},{"$f":"IF(L601=\"\",\"\",VLOOKUP(L601,Parámetros!L$11:$P$13,MAX(Parámetros!L$7:$P$7),FALSE))","v":""},{"$f":"IF(M601=\"\",\"\",VLOOKUP(M601,Parámetros!M$11:$P$13,MAX(Parámetros!M$7:$P$7),FALSE))","v":""},{"$f":"IF(N601=\"\",\"\",VLOOKUP(N601,Parámetros!N$11:$P$13,MAX(Parámetros!N$7:$P$7),FALSE))","v":""},{"$f":"IF(O601=\"\",\"\",VLOOKUP(O601,Parámetros!O$11:$P$13,MAX(Parámetros!O$7:$P$7),FALSE))","v":""},""]
[null,null,null,{"$f":"IF(E602=\"\",\"\",VLOOKUP(E602,'Buenas prácticas'!$G$8:$H$1007,2,FALSE))","v":""},null,null,null,null,null,null,null,null,null,null,null,{"$f":"IF(F602=\"\",\"\",VLOOKUP(F602,Parámetros!F$11:$P$13,MAX(Parámetros!F$7:$P$7),FALSE))","v":""},{"$f":"IF(G602=\"\",\"\",VLOOKUP(G602,Parámetros!G$11:$P$13,MAX(Parámetros!G$7:$P$7),FALSE))","v":""},{"$f":"IF(H602=\"\",\"\",VLOOKUP(H602,Parámetros!H$11:$P$13,MAX(Parámetros!H$7:$P$7),FALSE))","v":""},{"$f":"IF(I602=\"\",\"\",VLOOKUP(I602,Parámetros!I$11:$P$13,MAX(Parámetros!I$7:$P$7),FALSE))","v":""},{"$f":"IF(J602=\"\",\"\",VLOOKUP(J602,Parámetros!J$11:$P$13,MAX(Parámetros!J$7:$P$7),FALSE))","v":""},{"$f":"IF(K602=\"\",\"\",VLOOKUP(K602,Parámetros!K$11:$P$13,MAX(Parámetros!K$7:$P$7),FALSE))","v":""},{"$f":"IF(L602=\"\",\"\",VLOOKUP(L602,Parámetros!L$11:$P$13,MAX(Parámetros!L$7:$P$7),FALSE))","v":""},{"$f":"IF(M602=\"\",\"\",VLOOKUP(M602,Parámetros!M$11:$P$13,MAX(Parámetros!M$7:$P$7),FALSE))","v":""},{"$f":"IF(N602=\"\",\"\",VLOOKUP(N602,Parámetros!N$11:$P$13,MAX(Parámetros!N$7:$P$7),FALSE))","v":""},{"$f":"IF(O602=\"\",\"\",VLOOKUP(O602,Parámetros!O$11:$P$13,MAX(Parámetros!O$7:$P$7),FALSE))","v":""},""]
[null,null,null,{"$f":"IF(E603=\"\",\"\",VLOOKUP(E603,'Buenas prácticas'!$G$8:$H$1007,2,FALSE))","v":""},null,null,null,null,null,null,null,null,null,null,null,{"$f":"IF(F603=\"\",\"\",VLOOKUP(F603,Parámetros!F$11:$P$13,MAX(Parámetros!F$7:$P$7),FALSE))","v":""},{"$f":"IF(G603=\"\",\"\",VLOOKUP(G603,Parámetros!G$11:$P$13,MAX(Parámetros!G$7:$P$7),FALSE))","v":""},{"$f":"IF(H603=\"\",\"\",VLOOKUP(H603,Parámetros!H$11:$P$13,MAX(Parámetros!H$7:$P$7),FALSE))","v":""},{"$f":"IF(I603=\"\",\"\",VLOOKUP(I603,Parámetros!I$11:$P$13,MAX(Parámetros!I$7:$P$7),FALSE))","v":""},{"$f":"IF(J603=\"\",\"\",VLOOKUP(J603,Parámetros!J$11:$P$13,MAX(Parámetros!J$7:$P$7),FALSE))","v":""},{"$f":"IF(K603=\"\",\"\",VLOOKUP(K603,Parámetros!K$11:$P$13,MAX(Parámetros!K$7:$P$7),FALSE))","v":""},{"$f":"IF(L603=\"\",\"\",VLOOKUP(L603,Parámetros!L$11:$P$13,MAX(Parámetros!L$7:$P$7),FALSE))","v":""},{"$f":"IF(M603=\"\",\"\",VLOOKUP(M603,Parámetros!M$11:$P$13,MAX(Parámetros!M$7:$P$7),FALSE))","v":""},{"$f":"IF(N603=\"\",\"\",VLOOKUP(N603,Parámetros!N$11:$P$13,MAX(Parámetros!N$7:$P$7),FALSE))","v":""},{"$f":"IF(O603=\"\",\"\",VLOOKUP(O603,Parámetros!O$11:$P$13,MAX(Parámetros!O$7:$P$7),FALSE))","v":""},""]
[null,null,null,{"$f":"IF(E604=\"\",\"\",VLOOKUP(E604,'Buenas prácticas'!$G$8:$H$1007,2,FALSE))","v":""},null,null,null,null,null,null,null,null,null,null,null,{"$f":"IF(F604=\"\",\"\",VLOOKUP(F604,Parámetros!F$11:$P$13,MAX(Parámetros!F$7:$P$7),FALSE))","v":""},{"$f":"IF(G604=\"\",\"\",VLOOKUP(G604,Parámetros!G$11:$P$13,MAX(Parámetros!G$7:$P$7),FALSE))","v":""},{"$f":"IF(H604=\"\",\"\",VLOOKUP(H604,Parámetros!H$11:$P$13,MAX(Parámetros!H$7:$P$7),FALSE))","v":""},{"$f":"IF(I604=\"\",\"\",VLOOKUP(I604,Parámetros!I$11:$P$13,MAX(Parámetros!I$7:$P$7),FALSE))","v":""},{"$f":"IF(J604=\"\",\"\",VLOOKUP(J604,Parámetros!J$11:$P$13,MAX(Parámetros!J$7:$P$7),FALSE))","v":""},{"$f":"IF(K604=\"\",\"\",VLOOKUP(K604,Parámetros!K$11:$P$13,MAX(Parámetros!K$7:$P$7),FALSE))","v":""},{"$f":"IF(L604=\"\",\"\",VLOOKUP(L604,Parámetros!L$11:$P$13,MAX(Parámetros!L$7:$P$7),FALSE))","v":""},{"$f":"IF(M604=\"\",\"\",VLOOKUP(M604,Parámetros!M$11:$P$13,MAX(Parámetros!M$7:$P$7),FALSE))","v":""},{"$f":"IF(N604=\"\",\"\",VLOOKUP(N604,Parámetros!N$11:$P$13,MAX(Parámetros!N$7:$P$7),FALSE))","v":""},{"$f":"IF(O604=\"\",\"\",VLOOKUP(O604,Parámetros!O$11:$P$13,MAX(Parámetros!O$7:$P$7),FALSE))","v":""},""]
[null,null,null,{"$f":"IF(E605=\"\",\"\",VLOOKUP(E605,'Buenas prácticas'!$G$8:$H$1007,2,FALSE))","v":""},null,null,null,null,null,null,null,null,null,null,null,{"$f":"IF(F605=\"\",\"\",VLOOKUP(F605,Parámetros!F$11:$P$13,MAX(Parámetros!F$7:$P$7),FALSE))","v":""},{"$f":"IF(G605=\"\",\"\",VLOOKUP(G605,Parámetros!G$11:$P$13,MAX(Parámetros!G$7:$P$7),FALSE))","v":""},{"$f":"IF(H605=\"\",\"\",VLOOKUP(H605,Parámetros!H$11:$P$13,MAX(Parámetros!H$7:$P$7),FALSE))","v":""},{"$f":"IF(I605=\"\",\"\",VLOOKUP(I605,Parámetros!I$11:$P$13,MAX(Parámetros!I$7:$P$7),FALSE))","v":""},{"$f":"IF(J605=\"\",\"\",VLOOKUP(J605,Parámetros!J$11:$P$13,MAX(Parámetros!J$7:$P$7),FALSE))","v":""},{"$f":"IF(K605=\"\",\"\",VLOOKUP(K605,Parámetros!K$11:$P$13,MAX(Parámetros!K$7:$P$7),FALSE))","v":""},{"$f":"IF(L605=\"\",\"\",VLOOKUP(L605,Parámetros!L$11:$P$13,MAX(Parámetros!L$7:$P$7),FALSE))","v":""},{"$f":"IF(M605=\"\",\"\",VLOOKUP(M605,Parámetros!M$11:$P$13,MAX(Parámetros!M$7:$P$7),FALSE))","v":""},{"$f":"IF(N605=\"\",\"\",VLOOKUP(N605,Parámetros!N$11:$P$13,MAX(Parámetros!N$7:$P$7),FALSE))","v":""},{"$f":"IF(O605=\"\",\"\",VLOOKUP(O605,Parámetros!O$11:$P$13,MAX(Parámetros!O$7:$P$7),FALSE))","v":""},""]
[null,null,null,{"$f":"IF(E606=\"\",\"\",VLOOKUP(E606,'Buenas prácticas'!$G$8:$H$1007,2,FALSE))","v":""},null,null,null,null,null,null,null,null,null,null,null,{"$f":"IF(F606=\"\",\"\",VLOOKUP(F606,Parámetros!F$11:$P$13,MAX(Parámetros!F$7:$P$7),FALSE))","v":""},{"$f":"IF(G606=\"\",\"\",VLOOKUP(G606,Parámetros!G$11:$P$13,MAX(Parámetros!G$7:$P$7),FALSE))","v":""},{"$f":"IF(H606=\"\",\"\",VLOOKUP(H606,Parámetros!H$11:$P$13,MAX(Parámetros!H$7:$P$7),FALSE))","v":""},{"$f":"IF(I606=\"\",\"\",VLOOKUP(I606,Parámetros!I$11:$P$13,MAX(Parámetros!I$7:$P$7),FALSE))","v":""},{"$f":"IF(J606=\"\",\"\",VLOOKUP(J606,Parámetros!J$11:$P$13,MAX(Parámetros!J$7:$P$7),FALSE))","v":""},{"$f":"IF(K606=\"\",\"\",VLOOKUP(K606,Parámetros!K$11:$P$13,MAX(Parámetros!K$7:$P$7),FALSE))","v":""},{"$f":"IF(L606=\"\",\"\",VLOOKUP(L606,Parámetros!L$11:$P$13,MAX(Parámetros!L$7:$P$7),FALSE))","v":""},{"$f":"IF(M606=\"\",\"\",VLOOKUP(M606,Parámetros!M$11:$P$13,MAX(Parámetros!M$7:$P$7),FALSE))","v":""},{"$f":"IF(N606=\"\",\"\",VLOOKUP(N606,Parámetros!N$11:$P$13,MAX(Parámetros!N$7:$P$7),FALSE))","v":""},{"$f":"IF(O606=\"\",\"\",VLOOKUP(O606,Parámetros!O$11:$P$13,MAX(Parámetros!O$7:$P$7),FALSE))","v":""},""]
[null,null,null,{"$f":"IF(E607=\"\",\"\",VLOOKUP(E607,'Buenas prácticas'!$G$8:$H$1007,2,FALSE))","v":""},null,null,null,null,null,null,null,null,null,null,null,{"$f":"IF(F607=\"\",\"\",VLOOKUP(F607,Parámetros!F$11:$P$13,MAX(Parámetros!F$7:$P$7),FALSE))","v":""},{"$f":"IF(G607=\"\",\"\",VLOOKUP(G607,Parámetros!G$11:$P$13,MAX(Parámetros!G$7:$P$7),FALSE))","v":""},{"$f":"IF(H607=\"\",\"\",VLOOKUP(H607,Parámetros!H$11:$P$13,MAX(Parámetros!H$7:$P$7),FALSE))","v":""},{"$f":"IF(I607=\"\",\"\",VLOOKUP(I607,Parámetros!I$11:$P$13,MAX(Parámetros!I$7:$P$7),FALSE))","v":""},{"$f":"IF(J607=\"\",\"\",VLOOKUP(J607,Parámetros!J$11:$P$13,MAX(Parámetros!J$7:$P$7),FALSE))","v":""},{"$f":"IF(K607=\"\",\"\",VLOOKUP(K607,Parámetros!K$11:$P$13,MAX(Parámetros!K$7:$P$7),FALSE))","v":""},{"$f":"IF(L607=\"\",\"\",VLOOKUP(L607,Parámetros!L$11:$P$13,MAX(Parámetros!L$7:$P$7),FALSE))","v":""},{"$f":"IF(M607=\"\",\"\",VLOOKUP(M607,Parámetros!M$11:$P$13,MAX(Parámetros!M$7:$P$7),FALSE))","v":""},{"$f":"IF(N607=\"\",\"\",VLOOKUP(N607,Parámetros!N$11:$P$13,MAX(Parámetros!N$7:$P$7),FALSE))","v":""},{"$f":"IF(O607=\"\",\"\",VLOOKUP(O607,Parámetros!O$11:$P$13,MAX(Parámetros!O$7:$P$7),FALSE))","v":""},""]
[null,null,null,{"$f":"IF(E608=\"\",\"\",VLOOKUP(E608,'Buenas prácticas'!$G$8:$H$1007,2,FALSE))","v":""},null,null,null,null,null,null,null,null,null,null,null,{"$f":"IF(F608=\"\",\"\",VLOOKUP(F608,Parámetros!F$11:$P$13,MAX(Parámetros!F$7:$P$7),FALSE))","v":""},{"$f":"IF(G608=\"\",\"\",VLOOKUP(G608,Parámetros!G$11:$P$13,MAX(Parámetros!G$7:$P$7),FALSE))","v":""},{"$f":"IF(H608=\"\",\"\",VLOOKUP(H608,Parámetros!H$11:$P$13,MAX(Parámetros!H$7:$P$7),FALSE))","v":""},{"$f":"IF(I608=\"\",\"\",VLOOKUP(I608,Parámetros!I$11:$P$13,MAX(Parámetros!I$7:$P$7),FALSE))","v":""},{"$f":"IF(J608=\"\",\"\",VLOOKUP(J608,Parámetros!J$11:$P$13,MAX(Parámetros!J$7:$P$7),FALSE))","v":""},{"$f":"IF(K608=\"\",\"\",VLOOKUP(K608,Parámetros!K$11:$P$13,MAX(Parámetros!K$7:$P$7),FALSE))","v":""},{"$f":"IF(L608=\"\",\"\",VLOOKUP(L608,Parámetros!L$11:$P$13,MAX(Parámetros!L$7:$P$7),FALSE))","v":""},{"$f":"IF(M608=\"\",\"\",VLOOKUP(M608,Parámetros!M$11:$P$13,MAX(Parámetros!M$7:$P$7),FALSE))","v":""},{"$f":"IF(N608=\"\",\"\",VLOOKUP(N608,Parámetros!N$11:$P$13,MAX(Parámetros!N$7:$P$7),FALSE))","v":""},{"$f":"IF(O608=\"\",\"\",VLOOKUP(O608,Parámetros!O$11:$P$13,MAX(Parámetros!O$7:$P$7),FALSE))","v":""},""]
[null,null,null,{"$f":"IF(E609=\"\",\"\",VLOOKUP(E609,'Buenas prácticas'!$G$8:$H$1007,2,FALSE))","v":""},null,null,null,null,null,null,null,null,null,null,null,{"$f":"IF(F609=\"\",\"\",VLOOKUP(F609,Parámetros!F$11:$P$13,MAX(Parámetros!F$7:$P$7),FALSE))","v":""},{"$f":"IF(G609=\"\",\"\",VLOOKUP(G609,Parámetros!G$11:$P$13,MAX(Parámetros!G$7:$P$7),FALSE))","v":""},{"$f":"IF(H609=\"\",\"\",VLOOKUP(H609,Parámetros!H$11:$P$13,MAX(Parámetros!H$7:$P$7),FALSE))","v":""},{"$f":"IF(I609=\"\",\"\",VLOOKUP(I609,Parámetros!I$11:$P$13,MAX(Parámetros!I$7:$P$7),FALSE))","v":""},{"$f":"IF(J609=\"\",\"\",VLOOKUP(J609,Parámetros!J$11:$P$13,MAX(Parámetros!J$7:$P$7),FALSE))","v":""},{"$f":"IF(K609=\"\",\"\",VLOOKUP(K609,Parámetros!K$11:$P$13,MAX(Parámetros!K$7:$P$7),FALSE))","v":""},{"$f":"IF(L609=\"\",\"\",VLOOKUP(L609,Parámetros!L$11:$P$13,MAX(Parámetros!L$7:$P$7),FALSE))","v":""},{"$f":"IF(M609=\"\",\"\",VLOOKUP(M609,Parámetros!M$11:$P$13,MAX(Parámetros!M$7:$P$7),FALSE))","v":""},{"$f":"IF(N609=\"\",\"\",VLOOKUP(N609,Parámetros!N$11:$P$13,MAX(Parámetros!N$7:$P$7),FALSE))","v":""},{"$f":"IF(O609=\"\",\"\",VLOOKUP(O609,Parámetros!O$11:$P$13,MAX(Parámetros!O$7:$P$7),FALSE))","v":""},""]
[null,null,null,{"$f":"IF(E610=\"\",\"\",VLOOKUP(E610,'Buenas prácticas'!$G$8:$H$1007,2,FALSE))","v":""},null,null,null,null,null,null,null,null,null,null,null,{"$f":"IF(F610=\"\",\"\",VLOOKUP(F610,Parámetros!F$11:$P$13,MAX(Parámetros!F$7:$P$7),FALSE))","v":""},{"$f":"IF(G610=\"\",\"\",VLOOKUP(G610,Parámetros!G$11:$P$13,MAX(Parámetros!G$7:$P$7),FALSE))","v":""},{"$f":"IF(H610=\"\",\"\",VLOOKUP(H610,Parámetros!H$11:$P$13,MAX(Parámetros!H$7:$P$7),FALSE))","v":""},{"$f":"IF(I610=\"\",\"\",VLOOKUP(I610,Parámetros!I$11:$P$13,MAX(Parámetros!I$7:$P$7),FALSE))","v":""},{"$f":"IF(J610=\"\",\"\",VLOOKUP(J610,Parámetros!J$11:$P$13,MAX(Parámetros!J$7:$P$7),FALSE))","v":""},{"$f":"IF(K610=\"\",\"\",VLOOKUP(K610,Parámetros!K$11:$P$13,MAX(Parámetros!K$7:$P$7),FALSE))","v":""},{"$f":"IF(L610=\"\",\"\",VLOOKUP(L610,Parámetros!L$11:$P$13,MAX(Parámetros!L$7:$P$7),FALSE))","v":""},{"$f":"IF(M610=\"\",\"\",VLOOKUP(M610,Parámetros!M$11:$P$13,MAX(Parámetros!M$7:$P$7),FALSE))","v":""},{"$f":"IF(N610=\"\",\"\",VLOOKUP(N610,Parámetros!N$11:$P$13,MAX(Parámetros!N$7:$P$7),FALSE))","v":""},{"$f":"IF(O610=\"\",\"\",VLOOKUP(O610,Parámetros!O$11:$P$13,MAX(Parámetros!O$7:$P$7),FALSE))","v":""},""]
[null,null,null,{"$f":"IF(E611=\"\",\"\",VLOOKUP(E611,'Buenas prácticas'!$G$8:$H$1007,2,FALSE))","v":""},null,null,null,null,null,null,null,null,null,null,null,{"$f":"IF(F611=\"\",\"\",VLOOKUP(F611,Parámetros!F$11:$P$13,MAX(Parámetros!F$7:$P$7),FALSE))","v":""},{"$f":"IF(G611=\"\",\"\",VLOOKUP(G611,Parámetros!G$11:$P$13,MAX(Parámetros!G$7:$P$7),FALSE))","v":""},{"$f":"IF(H611=\"\",\"\",VLOOKUP(H611,Parámetros!H$11:$P$13,MAX(Parámetros!H$7:$P$7),FALSE))","v":""},{"$f":"IF(I611=\"\",\"\",VLOOKUP(I611,Parámetros!I$11:$P$13,MAX(Parámetros!I$7:$P$7),FALSE))","v":""},{"$f":"IF(J611=\"\",\"\",VLOOKUP(J611,Parámetros!J$11:$P$13,MAX(Parámetros!J$7:$P$7),FALSE))","v":""},{"$f":"IF(K611=\"\",\"\",VLOOKUP(K611,Parámetros!K$11:$P$13,MAX(Parámetros!K$7:$P$7),FALSE))","v":""},{"$f":"IF(L611=\"\",\"\",VLOOKUP(L611,Parámetros!L$11:$P$13,MAX(Parámetros!L$7:$P$7),FALSE))","v":""},{"$f":"IF(M611=\"\",\"\",VLOOKUP(M611,Parámetros!M$11:$P$13,MAX(Parámetros!M$7:$P$7),FALSE))","v":""},{"$f":"IF(N611=\"\",\"\",VLOOKUP(N611,Parámetros!N$11:$P$13,MAX(Parámetros!N$7:$P$7),FALSE))","v":""},{"$f":"IF(O611=\"\",\"\",VLOOKUP(O611,Parámetros!O$11:$P$13,MAX(Parámetros!O$7:$P$7),FALSE))","v":""},""]
[null,null,null,{"$f":"IF(E612=\"\",\"\",VLOOKUP(E612,'Buenas prácticas'!$G$8:$H$1007,2,FALSE))","v":""},null,null,null,null,null,null,null,null,null,null,null,{"$f":"IF(F612=\"\",\"\",VLOOKUP(F612,Parámetros!F$11:$P$13,MAX(Parámetros!F$7:$P$7),FALSE))","v":""},{"$f":"IF(G612=\"\",\"\",VLOOKUP(G612,Parámetros!G$11:$P$13,MAX(Parámetros!G$7:$P$7),FALSE))","v":""},{"$f":"IF(H612=\"\",\"\",VLOOKUP(H612,Parámetros!H$11:$P$13,MAX(Parámetros!H$7:$P$7),FALSE))","v":""},{"$f":"IF(I612=\"\",\"\",VLOOKUP(I612,Parámetros!I$11:$P$13,MAX(Parámetros!I$7:$P$7),FALSE))","v":""},{"$f":"IF(J612=\"\",\"\",VLOOKUP(J612,Parámetros!J$11:$P$13,MAX(Parámetros!J$7:$P$7),FALSE))","v":""},{"$f":"IF(K612=\"\",\"\",VLOOKUP(K612,Parámetros!K$11:$P$13,MAX(Parámetros!K$7:$P$7),FALSE))","v":""},{"$f":"IF(L612=\"\",\"\",VLOOKUP(L612,Parámetros!L$11:$P$13,MAX(Parámetros!L$7:$P$7),FALSE))","v":""},{"$f":"IF(M612=\"\",\"\",VLOOKUP(M612,Parámetros!M$11:$P$13,MAX(Parámetros!M$7:$P$7),FALSE))","v":""},{"$f":"IF(N612=\"\",\"\",VLOOKUP(N612,Parámetros!N$11:$P$13,MAX(Parámetros!N$7:$P$7),FALSE))","v":""},{"$f":"IF(O612=\"\",\"\",VLOOKUP(O612,Parámetros!O$11:$P$13,MAX(Parámetros!O$7:$P$7),FALSE))","v":""},""]
[null,null,null,{"$f":"IF(E613=\"\",\"\",VLOOKUP(E613,'Buenas prácticas'!$G$8:$H$1007,2,FALSE))","v":""},null,null,null,null,null,null,null,null,null,null,null,{"$f":"IF(F613=\"\",\"\",VLOOKUP(F613,Parámetros!F$11:$P$13,MAX(Parámetros!F$7:$P$7),FALSE))","v":""},{"$f":"IF(G613=\"\",\"\",VLOOKUP(G613,Parámetros!G$11:$P$13,MAX(Parámetros!G$7:$P$7),FALSE))","v":""},{"$f":"IF(H613=\"\",\"\",VLOOKUP(H613,Parámetros!H$11:$P$13,MAX(Parámetros!H$7:$P$7),FALSE))","v":""},{"$f":"IF(I613=\"\",\"\",VLOOKUP(I613,Parámetros!I$11:$P$13,MAX(Parámetros!I$7:$P$7),FALSE))","v":""},{"$f":"IF(J613=\"\",\"\",VLOOKUP(J613,Parámetros!J$11:$P$13,MAX(Parámetros!J$7:$P$7),FALSE))","v":""},{"$f":"IF(K613=\"\",\"\",VLOOKUP(K613,Parámetros!K$11:$P$13,MAX(Parámetros!K$7:$P$7),FALSE))","v":""},{"$f":"IF(L613=\"\",\"\",VLOOKUP(L613,Parámetros!L$11:$P$13,MAX(Parámetros!L$7:$P$7),FALSE))","v":""},{"$f":"IF(M613=\"\",\"\",VLOOKUP(M613,Parámetros!M$11:$P$13,MAX(Parámetros!M$7:$P$7),FALSE))","v":""},{"$f":"IF(N613=\"\",\"\",VLOOKUP(N613,Parámetros!N$11:$P$13,MAX(Parámetros!N$7:$P$7),FALSE))","v":""},{"$f":"IF(O613=\"\",\"\",VLOOKUP(O613,Parámetros!O$11:$P$13,MAX(Parámetros!O$7:$P$7),FALSE))","v":""},""]
[null,null,null,{"$f":"IF(E614=\"\",\"\",VLOOKUP(E614,'Buenas prácticas'!$G$8:$H$1007,2,FALSE))","v":""},null,null,null,null,null,null,null,null,null,null,null,{"$f":"IF(F614=\"\",\"\",VLOOKUP(F614,Parámetros!F$11:$P$13,MAX(Parámetros!F$7:$P$7),FALSE))","v":""},{"$f":"IF(G614=\"\",\"\",VLOOKUP(G614,Parámetros!G$11:$P$13,MAX(Parámetros!G$7:$P$7),FALSE))","v":""},{"$f":"IF(H614=\"\",\"\",VLOOKUP(H614,Parámetros!H$11:$P$13,MAX(Parámetros!H$7:$P$7),FALSE))","v":""},{"$f":"IF(I614=\"\",\"\",VLOOKUP(I614,Parámetros!I$11:$P$13,MAX(Parámetros!I$7:$P$7),FALSE))","v":""},{"$f":"IF(J614=\"\",\"\",VLOOKUP(J614,Parámetros!J$11:$P$13,MAX(Parámetros!J$7:$P$7),FALSE))","v":""},{"$f":"IF(K614=\"\",\"\",VLOOKUP(K614,Parámetros!K$11:$P$13,MAX(Parámetros!K$7:$P$7),FALSE))","v":""},{"$f":"IF(L614=\"\",\"\",VLOOKUP(L614,Parámetros!L$11:$P$13,MAX(Parámetros!L$7:$P$7),FALSE))","v":""},{"$f":"IF(M614=\"\",\"\",VLOOKUP(M614,Parámetros!M$11:$P$13,MAX(Parámetros!M$7:$P$7),FALSE))","v":""},{"$f":"IF(N614=\"\",\"\",VLOOKUP(N614,Parámetros!N$11:$P$13,MAX(Parámetros!N$7:$P$7),FALSE))","v":""},{"$f":"IF(O614=\"\",\"\",VLOOKUP(O614,Parámetros!O$11:$P$13,MAX(Parámetros!O$7:$P$7),FALSE))","v":""},""]
[null,null,null,{"$f":"IF(E615=\"\",\"\",VLOOKUP(E615,'Buenas prácticas'!$G$8:$H$1007,2,FALSE))","v":""},null,null,null,null,null,null,null,null,null,null,null,{"$f":"IF(F615=\"\",\"\",VLOOKUP(F615,Parámetros!F$11:$P$13,MAX(Parámetros!F$7:$P$7),FALSE))","v":""},{"$f":"IF(G615=\"\",\"\",VLOOKUP(G615,Parámetros!G$11:$P$13,MAX(Parámetros!G$7:$P$7),FALSE))","v":""},{"$f":"IF(H615=\"\",\"\",VLOOKUP(H615,Parámetros!H$11:$P$13,MAX(Parámetros!H$7:$P$7),FALSE))","v":""},{"$f":"IF(I615=\"\",\"\",VLOOKUP(I615,Parámetros!I$11:$P$13,MAX(Parámetros!I$7:$P$7),FALSE))","v":""},{"$f":"IF(J615=\"\",\"\",VLOOKUP(J615,Parámetros!J$11:$P$13,MAX(Parámetros!J$7:$P$7),FALSE))","v":""},{"$f":"IF(K615=\"\",\"\",VLOOKUP(K615,Parámetros!K$11:$P$13,MAX(Parámetros!K$7:$P$7),FALSE))","v":""},{"$f":"IF(L615=\"\",\"\",VLOOKUP(L615,Parámetros!L$11:$P$13,MAX(Parámetros!L$7:$P$7),FALSE))","v":""},{"$f":"IF(M615=\"\",\"\",VLOOKUP(M615,Parámetros!M$11:$P$13,MAX(Parámetros!M$7:$P$7),FALSE))","v":""},{"$f":"IF(N615=\"\",\"\",VLOOKUP(N615,Parámetros!N$11:$P$13,MAX(Parámetros!N$7:$P$7),FALSE))","v":""},{"$f":"IF(O615=\"\",\"\",VLOOKUP(O615,Parámetros!O$11:$P$13,MAX(Parámetros!O$7:$P$7),FALSE))","v":""},""]
[null,null,null,{"$f":"IF(E616=\"\",\"\",VLOOKUP(E616,'Buenas prácticas'!$G$8:$H$1007,2,FALSE))","v":""},null,null,null,null,null,null,null,null,null,null,null,{"$f":"IF(F616=\"\",\"\",VLOOKUP(F616,Parámetros!F$11:$P$13,MAX(Parámetros!F$7:$P$7),FALSE))","v":""},{"$f":"IF(G616=\"\",\"\",VLOOKUP(G616,Parámetros!G$11:$P$13,MAX(Parámetros!G$7:$P$7),FALSE))","v":""},{"$f":"IF(H616=\"\",\"\",VLOOKUP(H616,Parámetros!H$11:$P$13,MAX(Parámetros!H$7:$P$7),FALSE))","v":""},{"$f":"IF(I616=\"\",\"\",VLOOKUP(I616,Parámetros!I$11:$P$13,MAX(Parámetros!I$7:$P$7),FALSE))","v":""},{"$f":"IF(J616=\"\",\"\",VLOOKUP(J616,Parámetros!J$11:$P$13,MAX(Parámetros!J$7:$P$7),FALSE))","v":""},{"$f":"IF(K616=\"\",\"\",VLOOKUP(K616,Parámetros!K$11:$P$13,MAX(Parámetros!K$7:$P$7),FALSE))","v":""},{"$f":"IF(L616=\"\",\"\",VLOOKUP(L616,Parámetros!L$11:$P$13,MAX(Parámetros!L$7:$P$7),FALSE))","v":""},{"$f":"IF(M616=\"\",\"\",VLOOKUP(M616,Parámetros!M$11:$P$13,MAX(Parámetros!M$7:$P$7),FALSE))","v":""},{"$f":"IF(N616=\"\",\"\",VLOOKUP(N616,Parámetros!N$11:$P$13,MAX(Parámetros!N$7:$P$7),FALSE))","v":""},{"$f":"IF(O616=\"\",\"\",VLOOKUP(O616,Parámetros!O$11:$P$13,MAX(Parámetros!O$7:$P$7),FALSE))","v":""},""]
[null,null,null,{"$f":"IF(E617=\"\",\"\",VLOOKUP(E617,'Buenas prácticas'!$G$8:$H$1007,2,FALSE))","v":""},null,null,null,null,null,null,null,null,null,null,null,{"$f":"IF(F617=\"\",\"\",VLOOKUP(F617,Parámetros!F$11:$P$13,MAX(Parámetros!F$7:$P$7),FALSE))","v":""},{"$f":"IF(G617=\"\",\"\",VLOOKUP(G617,Parámetros!G$11:$P$13,MAX(Parámetros!G$7:$P$7),FALSE))","v":""},{"$f":"IF(H617=\"\",\"\",VLOOKUP(H617,Parámetros!H$11:$P$13,MAX(Parámetros!H$7:$P$7),FALSE))","v":""},{"$f":"IF(I617=\"\",\"\",VLOOKUP(I617,Parámetros!I$11:$P$13,MAX(Parámetros!I$7:$P$7),FALSE))","v":""},{"$f":"IF(J617=\"\",\"\",VLOOKUP(J617,Parámetros!J$11:$P$13,MAX(Parámetros!J$7:$P$7),FALSE))","v":""},{"$f":"IF(K617=\"\",\"\",VLOOKUP(K617,Parámetros!K$11:$P$13,MAX(Parámetros!K$7:$P$7),FALSE))","v":""},{"$f":"IF(L617=\"\",\"\",VLOOKUP(L617,Parámetros!L$11:$P$13,MAX(Parámetros!L$7:$P$7),FALSE))","v":""},{"$f":"IF(M617=\"\",\"\",VLOOKUP(M617,Parámetros!M$11:$P$13,MAX(Parámetros!M$7:$P$7),FALSE))","v":""},{"$f":"IF(N617=\"\",\"\",VLOOKUP(N617,Parámetros!N$11:$P$13,MAX(Parámetros!N$7:$P$7),FALSE))","v":""},{"$f":"IF(O617=\"\",\"\",VLOOKUP(O617,Parámetros!O$11:$P$13,MAX(Parámetros!O$7:$P$7),FALSE))","v":""},""]
[null,null,null,{"$f":"IF(E618=\"\",\"\",VLOOKUP(E618,'Buenas prácticas'!$G$8:$H$1007,2,FALSE))","v":""},null,null,null,null,null,null,null,null,null,null,null,{"$f":"IF(F618=\"\",\"\",VLOOKUP(F618,Parámetros!F$11:$P$13,MAX(Parámetros!F$7:$P$7),FALSE))","v":""},{"$f":"IF(G618=\"\",\"\",VLOOKUP(G618,Parámetros!G$11:$P$13,MAX(Parámetros!G$7:$P$7),FALSE))","v":""},{"$f":"IF(H618=\"\",\"\",VLOOKUP(H618,Parámetros!H$11:$P$13,MAX(Parámetros!H$7:$P$7),FALSE))","v":""},{"$f":"IF(I618=\"\",\"\",VLOOKUP(I618,Parámetros!I$11:$P$13,MAX(Parámetros!I$7:$P$7),FALSE))","v":""},{"$f":"IF(J618=\"\",\"\",VLOOKUP(J618,Parámetros!J$11:$P$13,MAX(Parámetros!J$7:$P$7),FALSE))","v":""},{"$f":"IF(K618=\"\",\"\",VLOOKUP(K618,Parámetros!K$11:$P$13,MAX(Parámetros!K$7:$P$7),FALSE))","v":""},{"$f":"IF(L618=\"\",\"\",VLOOKUP(L618,Parámetros!L$11:$P$13,MAX(Parámetros!L$7:$P$7),FALSE))","v":""},{"$f":"IF(M618=\"\",\"\",VLOOKUP(M618,Parámetros!M$11:$P$13,MAX(Parámetros!M$7:$P$7),FALSE))","v":""},{"$f":"IF(N618=\"\",\"\",VLOOKUP(N618,Parámetros!N$11:$P$13,MAX(Parámetros!N$7:$P$7),FALSE))","v":""},{"$f":"IF(O618=\"\",\"\",VLOOKUP(O618,Parámetros!O$11:$P$13,MAX(Parámetros!O$7:$P$7),FALSE))","v":""},""]
[null,null,null,{"$f":"IF(E619=\"\",\"\",VLOOKUP(E619,'Buenas prácticas'!$G$8:$H$1007,2,FALSE))","v":""},null,null,null,null,null,null,null,null,null,null,null,{"$f":"IF(F619=\"\",\"\",VLOOKUP(F619,Parámetros!F$11:$P$13,MAX(Parámetros!F$7:$P$7),FALSE))","v":""},{"$f":"IF(G619=\"\",\"\",VLOOKUP(G619,Parámetros!G$11:$P$13,MAX(Parámetros!G$7:$P$7),FALSE))","v":""},{"$f":"IF(H619=\"\",\"\",VLOOKUP(H619,Parámetros!H$11:$P$13,MAX(Parámetros!H$7:$P$7),FALSE))","v":""},{"$f":"IF(I619=\"\",\"\",VLOOKUP(I619,Parámetros!I$11:$P$13,MAX(Parámetros!I$7:$P$7),FALSE))","v":""},{"$f":"IF(J619=\"\",\"\",VLOOKUP(J619,Parámetros!J$11:$P$13,MAX(Parámetros!J$7:$P$7),FALSE))","v":""},{"$f":"IF(K619=\"\",\"\",VLOOKUP(K619,Parámetros!K$11:$P$13,MAX(Parámetros!K$7:$P$7),FALSE))","v":""},{"$f":"IF(L619=\"\",\"\",VLOOKUP(L619,Parámetros!L$11:$P$13,MAX(Parámetros!L$7:$P$7),FALSE))","v":""},{"$f":"IF(M619=\"\",\"\",VLOOKUP(M619,Parámetros!M$11:$P$13,MAX(Parámetros!M$7:$P$7),FALSE))","v":""},{"$f":"IF(N619=\"\",\"\",VLOOKUP(N619,Parámetros!N$11:$P$13,MAX(Parámetros!N$7:$P$7),FALSE))","v":""},{"$f":"IF(O619=\"\",\"\",VLOOKUP(O619,Parámetros!O$11:$P$13,MAX(Parámetros!O$7:$P$7),FALSE))","v":""},""]
[null,null,null,{"$f":"IF(E620=\"\",\"\",VLOOKUP(E620,'Buenas prácticas'!$G$8:$H$1007,2,FALSE))","v":""},null,null,null,null,null,null,null,null,null,null,null,{"$f":"IF(F620=\"\",\"\",VLOOKUP(F620,Parámetros!F$11:$P$13,MAX(Parámetros!F$7:$P$7),FALSE))","v":""},{"$f":"IF(G620=\"\",\"\",VLOOKUP(G620,Parámetros!G$11:$P$13,MAX(Parámetros!G$7:$P$7),FALSE))","v":""},{"$f":"IF(H620=\"\",\"\",VLOOKUP(H620,Parámetros!H$11:$P$13,MAX(Parámetros!H$7:$P$7),FALSE))","v":""},{"$f":"IF(I620=\"\",\"\",VLOOKUP(I620,Parámetros!I$11:$P$13,MAX(Parámetros!I$7:$P$7),FALSE))","v":""},{"$f":"IF(J620=\"\",\"\",VLOOKUP(J620,Parámetros!J$11:$P$13,MAX(Parámetros!J$7:$P$7),FALSE))","v":""},{"$f":"IF(K620=\"\",\"\",VLOOKUP(K620,Parámetros!K$11:$P$13,MAX(Parámetros!K$7:$P$7),FALSE))","v":""},{"$f":"IF(L620=\"\",\"\",VLOOKUP(L620,Parámetros!L$11:$P$13,MAX(Parámetros!L$7:$P$7),FALSE))","v":""},{"$f":"IF(M620=\"\",\"\",VLOOKUP(M620,Parámetros!M$11:$P$13,MAX(Parámetros!M$7:$P$7),FALSE))","v":""},{"$f":"IF(N620=\"\",\"\",VLOOKUP(N620,Parámetros!N$11:$P$13,MAX(Parámetros!N$7:$P$7),FALSE))","v":""},{"$f":"IF(O620=\"\",\"\",VLOOKUP(O620,Parámetros!O$11:$P$13,MAX(Parámetros!O$7:$P$7),FALSE))","v":""},""]
[null,null,null,{"$f":"IF(E621=\"\",\"\",VLOOKUP(E621,'Buenas prácticas'!$G$8:$H$1007,2,FALSE))","v":""},null,null,null,null,null,null,null,null,null,null,null,{"$f":"IF(F621=\"\",\"\",VLOOKUP(F621,Parámetros!F$11:$P$13,MAX(Parámetros!F$7:$P$7),FALSE))","v":""},{"$f":"IF(G621=\"\",\"\",VLOOKUP(G621,Parámetros!G$11:$P$13,MAX(Parámetros!G$7:$P$7),FALSE))","v":""},{"$f":"IF(H621=\"\",\"\",VLOOKUP(H621,Parámetros!H$11:$P$13,MAX(Parámetros!H$7:$P$7),FALSE))","v":""},{"$f":"IF(I621=\"\",\"\",VLOOKUP(I621,Parámetros!I$11:$P$13,MAX(Parámetros!I$7:$P$7),FALSE))","v":""},{"$f":"IF(J621=\"\",\"\",VLOOKUP(J621,Parámetros!J$11:$P$13,MAX(Parámetros!J$7:$P$7),FALSE))","v":""},{"$f":"IF(K621=\"\",\"\",VLOOKUP(K621,Parámetros!K$11:$P$13,MAX(Parámetros!K$7:$P$7),FALSE))","v":""},{"$f":"IF(L621=\"\",\"\",VLOOKUP(L621,Parámetros!L$11:$P$13,MAX(Parámetros!L$7:$P$7),FALSE))","v":""},{"$f":"IF(M621=\"\",\"\",VLOOKUP(M621,Parámetros!M$11:$P$13,MAX(Parámetros!M$7:$P$7),FALSE))","v":""},{"$f":"IF(N621=\"\",\"\",VLOOKUP(N621,Parámetros!N$11:$P$13,MAX(Parámetros!N$7:$P$7),FALSE))","v":""},{"$f":"IF(O621=\"\",\"\",VLOOKUP(O621,Parámetros!O$11:$P$13,MAX(Parámetros!O$7:$P$7),FALSE))","v":""},""]
[null,null,null,{"$f":"IF(E622=\"\",\"\",VLOOKUP(E622,'Buenas prácticas'!$G$8:$H$1007,2,FALSE))","v":""},null,null,null,null,null,null,null,null,null,null,null,{"$f":"IF(F622=\"\",\"\",VLOOKUP(F622,Parámetros!F$11:$P$13,MAX(Parámetros!F$7:$P$7),FALSE))","v":""},{"$f":"IF(G622=\"\",\"\",VLOOKUP(G622,Parámetros!G$11:$P$13,MAX(Parámetros!G$7:$P$7),FALSE))","v":""},{"$f":"IF(H622=\"\",\"\",VLOOKUP(H622,Parámetros!H$11:$P$13,MAX(Parámetros!H$7:$P$7),FALSE))","v":""},{"$f":"IF(I622=\"\",\"\",VLOOKUP(I622,Parámetros!I$11:$P$13,MAX(Parámetros!I$7:$P$7),FALSE))","v":""},{"$f":"IF(J622=\"\",\"\",VLOOKUP(J622,Parámetros!J$11:$P$13,MAX(Parámetros!J$7:$P$7),FALSE))","v":""},{"$f":"IF(K622=\"\",\"\",VLOOKUP(K622,Parámetros!K$11:$P$13,MAX(Parámetros!K$7:$P$7),FALSE))","v":""},{"$f":"IF(L622=\"\",\"\",VLOOKUP(L622,Parámetros!L$11:$P$13,MAX(Parámetros!L$7:$P$7),FALSE))","v":""},{"$f":"IF(M622=\"\",\"\",VLOOKUP(M622,Parámetros!M$11:$P$13,MAX(Parámetros!M$7:$P$7),FALSE))","v":""},{"$f":"IF(N622=\"\",\"\",VLOOKUP(N622,Parámetros!N$11:$P$13,MAX(Parámetros!N$7:$P$7),FALSE))","v":""},{"$f":"IF(O622=\"\",\"\",VLOOKUP(O622,Parámetros!O$11:$P$13,MAX(Parámetros!O$7:$P$7),FALSE))","v":""},""]
[null,null,null,{"$f":"IF(E623=\"\",\"\",VLOOKUP(E623,'Buenas prácticas'!$G$8:$H$1007,2,FALSE))","v":""},null,null,null,null,null,null,null,null,null,null,null,{"$f":"IF(F623=\"\",\"\",VLOOKUP(F623,Parámetros!F$11:$P$13,MAX(Parámetros!F$7:$P$7),FALSE))","v":""},{"$f":"IF(G623=\"\",\"\",VLOOKUP(G623,Parámetros!G$11:$P$13,MAX(Parámetros!G$7:$P$7),FALSE))","v":""},{"$f":"IF(H623=\"\",\"\",VLOOKUP(H623,Parámetros!H$11:$P$13,MAX(Parámetros!H$7:$P$7),FALSE))","v":""},{"$f":"IF(I623=\"\",\"\",VLOOKUP(I623,Parámetros!I$11:$P$13,MAX(Parámetros!I$7:$P$7),FALSE))","v":""},{"$f":"IF(J623=\"\",\"\",VLOOKUP(J623,Parámetros!J$11:$P$13,MAX(Parámetros!J$7:$P$7),FALSE))","v":""},{"$f":"IF(K623=\"\",\"\",VLOOKUP(K623,Parámetros!K$11:$P$13,MAX(Parámetros!K$7:$P$7),FALSE))","v":""},{"$f":"IF(L623=\"\",\"\",VLOOKUP(L623,Parámetros!L$11:$P$13,MAX(Parámetros!L$7:$P$7),FALSE))","v":""},{"$f":"IF(M623=\"\",\"\",VLOOKUP(M623,Parámetros!M$11:$P$13,MAX(Parámetros!M$7:$P$7),FALSE))","v":""},{"$f":"IF(N623=\"\",\"\",VLOOKUP(N623,Parámetros!N$11:$P$13,MAX(Parámetros!N$7:$P$7),FALSE))","v":""},{"$f":"IF(O623=\"\",\"\",VLOOKUP(O623,Parámetros!O$11:$P$13,MAX(Parámetros!O$7:$P$7),FALSE))","v":""},""]
[null,null,null,{"$f":"IF(E624=\"\",\"\",VLOOKUP(E624,'Buenas prácticas'!$G$8:$H$1007,2,FALSE))","v":""},null,null,null,null,null,null,null,null,null,null,null,{"$f":"IF(F624=\"\",\"\",VLOOKUP(F624,Parámetros!F$11:$P$13,MAX(Parámetros!F$7:$P$7),FALSE))","v":""},{"$f":"IF(G624=\"\",\"\",VLOOKUP(G624,Parámetros!G$11:$P$13,MAX(Parámetros!G$7:$P$7),FALSE))","v":""},{"$f":"IF(H624=\"\",\"\",VLOOKUP(H624,Parámetros!H$11:$P$13,MAX(Parámetros!H$7:$P$7),FALSE))","v":""},{"$f":"IF(I624=\"\",\"\",VLOOKUP(I624,Parámetros!I$11:$P$13,MAX(Parámetros!I$7:$P$7),FALSE))","v":""},{"$f":"IF(J624=\"\",\"\",VLOOKUP(J624,Parámetros!J$11:$P$13,MAX(Parámetros!J$7:$P$7),FALSE))","v":""},{"$f":"IF(K624=\"\",\"\",VLOOKUP(K624,Parámetros!K$11:$P$13,MAX(Parámetros!K$7:$P$7),FALSE))","v":""},{"$f":"IF(L624=\"\",\"\",VLOOKUP(L624,Parámetros!L$11:$P$13,MAX(Parámetros!L$7:$P$7),FALSE))","v":""},{"$f":"IF(M624=\"\",\"\",VLOOKUP(M624,Parámetros!M$11:$P$13,MAX(Parámetros!M$7:$P$7),FALSE))","v":""},{"$f":"IF(N624=\"\",\"\",VLOOKUP(N624,Parámetros!N$11:$P$13,MAX(Parámetros!N$7:$P$7),FALSE))","v":""},{"$f":"IF(O624=\"\",\"\",VLOOKUP(O624,Parámetros!O$11:$P$13,MAX(Parámetros!O$7:$P$7),FALSE))","v":""},""]
[null,null,null,{"$f":"IF(E625=\"\",\"\",VLOOKUP(E625,'Buenas prácticas'!$G$8:$H$1007,2,FALSE))","v":""},null,null,null,null,null,null,null,null,null,null,null,{"$f":"IF(F625=\"\",\"\",VLOOKUP(F625,Parámetros!F$11:$P$13,MAX(Parámetros!F$7:$P$7),FALSE))","v":""},{"$f":"IF(G625=\"\",\"\",VLOOKUP(G625,Parámetros!G$11:$P$13,MAX(Parámetros!G$7:$P$7),FALSE))","v":""},{"$f":"IF(H625=\"\",\"\",VLOOKUP(H625,Parámetros!H$11:$P$13,MAX(Parámetros!H$7:$P$7),FALSE))","v":""},{"$f":"IF(I625=\"\",\"\",VLOOKUP(I625,Parámetros!I$11:$P$13,MAX(Parámetros!I$7:$P$7),FALSE))","v":""},{"$f":"IF(J625=\"\",\"\",VLOOKUP(J625,Parámetros!J$11:$P$13,MAX(Parámetros!J$7:$P$7),FALSE))","v":""},{"$f":"IF(K625=\"\",\"\",VLOOKUP(K625,Parámetros!K$11:$P$13,MAX(Parámetros!K$7:$P$7),FALSE))","v":""},{"$f":"IF(L625=\"\",\"\",VLOOKUP(L625,Parámetros!L$11:$P$13,MAX(Parámetros!L$7:$P$7),FALSE))","v":""},{"$f":"IF(M625=\"\",\"\",VLOOKUP(M625,Parámetros!M$11:$P$13,MAX(Parámetros!M$7:$P$7),FALSE))","v":""},{"$f":"IF(N625=\"\",\"\",VLOOKUP(N625,Parámetros!N$11:$P$13,MAX(Parámetros!N$7:$P$7),FALSE))","v":""},{"$f":"IF(O625=\"\",\"\",VLOOKUP(O625,Parámetros!O$11:$P$13,MAX(Parámetros!O$7:$P$7),FALSE))","v":""},""]
[null,null,null,{"$f":"IF(E626=\"\",\"\",VLOOKUP(E626,'Buenas prácticas'!$G$8:$H$1007,2,FALSE))","v":""},null,null,null,null,null,null,null,null,null,null,null,{"$f":"IF(F626=\"\",\"\",VLOOKUP(F626,Parámetros!F$11:$P$13,MAX(Parámetros!F$7:$P$7),FALSE))","v":""},{"$f":"IF(G626=\"\",\"\",VLOOKUP(G626,Parámetros!G$11:$P$13,MAX(Parámetros!G$7:$P$7),FALSE))","v":""},{"$f":"IF(H626=\"\",\"\",VLOOKUP(H626,Parámetros!H$11:$P$13,MAX(Parámetros!H$7:$P$7),FALSE))","v":""},{"$f":"IF(I626=\"\",\"\",VLOOKUP(I626,Parámetros!I$11:$P$13,MAX(Parámetros!I$7:$P$7),FALSE))","v":""},{"$f":"IF(J626=\"\",\"\",VLOOKUP(J626,Parámetros!J$11:$P$13,MAX(Parámetros!J$7:$P$7),FALSE))","v":""},{"$f":"IF(K626=\"\",\"\",VLOOKUP(K626,Parámetros!K$11:$P$13,MAX(Parámetros!K$7:$P$7),FALSE))","v":""},{"$f":"IF(L626=\"\",\"\",VLOOKUP(L626,Parámetros!L$11:$P$13,MAX(Parámetros!L$7:$P$7),FALSE))","v":""},{"$f":"IF(M626=\"\",\"\",VLOOKUP(M626,Parámetros!M$11:$P$13,MAX(Parámetros!M$7:$P$7),FALSE))","v":""},{"$f":"IF(N626=\"\",\"\",VLOOKUP(N626,Parámetros!N$11:$P$13,MAX(Parámetros!N$7:$P$7),FALSE))","v":""},{"$f":"IF(O626=\"\",\"\",VLOOKUP(O626,Parámetros!O$11:$P$13,MAX(Parámetros!O$7:$P$7),FALSE))","v":""},""]
[null,null,null,{"$f":"IF(E627=\"\",\"\",VLOOKUP(E627,'Buenas prácticas'!$G$8:$H$1007,2,FALSE))","v":""},null,null,null,null,null,null,null,null,null,null,null,{"$f":"IF(F627=\"\",\"\",VLOOKUP(F627,Parámetros!F$11:$P$13,MAX(Parámetros!F$7:$P$7),FALSE))","v":""},{"$f":"IF(G627=\"\",\"\",VLOOKUP(G627,Parámetros!G$11:$P$13,MAX(Parámetros!G$7:$P$7),FALSE))","v":""},{"$f":"IF(H627=\"\",\"\",VLOOKUP(H627,Parámetros!H$11:$P$13,MAX(Parámetros!H$7:$P$7),FALSE))","v":""},{"$f":"IF(I627=\"\",\"\",VLOOKUP(I627,Parámetros!I$11:$P$13,MAX(Parámetros!I$7:$P$7),FALSE))","v":""},{"$f":"IF(J627=\"\",\"\",VLOOKUP(J627,Parámetros!J$11:$P$13,MAX(Parámetros!J$7:$P$7),FALSE))","v":""},{"$f":"IF(K627=\"\",\"\",VLOOKUP(K627,Parámetros!K$11:$P$13,MAX(Parámetros!K$7:$P$7),FALSE))","v":""},{"$f":"IF(L627=\"\",\"\",VLOOKUP(L627,Parámetros!L$11:$P$13,MAX(Parámetros!L$7:$P$7),FALSE))","v":""},{"$f":"IF(M627=\"\",\"\",VLOOKUP(M627,Parámetros!M$11:$P$13,MAX(Parámetros!M$7:$P$7),FALSE))","v":""},{"$f":"IF(N627=\"\",\"\",VLOOKUP(N627,Parámetros!N$11:$P$13,MAX(Parámetros!N$7:$P$7),FALSE))","v":""},{"$f":"IF(O627=\"\",\"\",VLOOKUP(O627,Parámetros!O$11:$P$13,MAX(Parámetros!O$7:$P$7),FALSE))","v":""},""]
[null,null,null,{"$f":"IF(E628=\"\",\"\",VLOOKUP(E628,'Buenas prácticas'!$G$8:$H$1007,2,FALSE))","v":""},null,null,null,null,null,null,null,null,null,null,null,{"$f":"IF(F628=\"\",\"\",VLOOKUP(F628,Parámetros!F$11:$P$13,MAX(Parámetros!F$7:$P$7),FALSE))","v":""},{"$f":"IF(G628=\"\",\"\",VLOOKUP(G628,Parámetros!G$11:$P$13,MAX(Parámetros!G$7:$P$7),FALSE))","v":""},{"$f":"IF(H628=\"\",\"\",VLOOKUP(H628,Parámetros!H$11:$P$13,MAX(Parámetros!H$7:$P$7),FALSE))","v":""},{"$f":"IF(I628=\"\",\"\",VLOOKUP(I628,Parámetros!I$11:$P$13,MAX(Parámetros!I$7:$P$7),FALSE))","v":""},{"$f":"IF(J628=\"\",\"\",VLOOKUP(J628,Parámetros!J$11:$P$13,MAX(Parámetros!J$7:$P$7),FALSE))","v":""},{"$f":"IF(K628=\"\",\"\",VLOOKUP(K628,Parámetros!K$11:$P$13,MAX(Parámetros!K$7:$P$7),FALSE))","v":""},{"$f":"IF(L628=\"\",\"\",VLOOKUP(L628,Parámetros!L$11:$P$13,MAX(Parámetros!L$7:$P$7),FALSE))","v":""},{"$f":"IF(M628=\"\",\"\",VLOOKUP(M628,Parámetros!M$11:$P$13,MAX(Parámetros!M$7:$P$7),FALSE))","v":""},{"$f":"IF(N628=\"\",\"\",VLOOKUP(N628,Parámetros!N$11:$P$13,MAX(Parámetros!N$7:$P$7),FALSE))","v":""},{"$f":"IF(O628=\"\",\"\",VLOOKUP(O628,Parámetros!O$11:$P$13,MAX(Parámetros!O$7:$P$7),FALSE))","v":""},""]
[null,null,null,{"$f":"IF(E629=\"\",\"\",VLOOKUP(E629,'Buenas prácticas'!$G$8:$H$1007,2,FALSE))","v":""},null,null,null,null,null,null,null,null,null,null,null,{"$f":"IF(F629=\"\",\"\",VLOOKUP(F629,Parámetros!F$11:$P$13,MAX(Parámetros!F$7:$P$7),FALSE))","v":""},{"$f":"IF(G629=\"\",\"\",VLOOKUP(G629,Parámetros!G$11:$P$13,MAX(Parámetros!G$7:$P$7),FALSE))","v":""},{"$f":"IF(H629=\"\",\"\",VLOOKUP(H629,Parámetros!H$11:$P$13,MAX(Parámetros!H$7:$P$7),FALSE))","v":""},{"$f":"IF(I629=\"\",\"\",VLOOKUP(I629,Parámetros!I$11:$P$13,MAX(Parámetros!I$7:$P$7),FALSE))","v":""},{"$f":"IF(J629=\"\",\"\",VLOOKUP(J629,Parámetros!J$11:$P$13,MAX(Parámetros!J$7:$P$7),FALSE))","v":""},{"$f":"IF(K629=\"\",\"\",VLOOKUP(K629,Parámetros!K$11:$P$13,MAX(Parámetros!K$7:$P$7),FALSE))","v":""},{"$f":"IF(L629=\"\",\"\",VLOOKUP(L629,Parámetros!L$11:$P$13,MAX(Parámetros!L$7:$P$7),FALSE))","v":""},{"$f":"IF(M629=\"\",\"\",VLOOKUP(M629,Parámetros!M$11:$P$13,MAX(Parámetros!M$7:$P$7),FALSE))","v":""},{"$f":"IF(N629=\"\",\"\",VLOOKUP(N629,Parámetros!N$11:$P$13,MAX(Parámetros!N$7:$P$7),FALSE))","v":""},{"$f":"IF(O629=\"\",\"\",VLOOKUP(O629,Parámetros!O$11:$P$13,MAX(Parámetros!O$7:$P$7),FALSE))","v":""},""]
[null,null,null,{"$f":"IF(E630=\"\",\"\",VLOOKUP(E630,'Buenas prácticas'!$G$8:$H$1007,2,FALSE))","v":""},null,null,null,null,null,null,null,null,null,null,null,{"$f":"IF(F630=\"\",\"\",VLOOKUP(F630,Parámetros!F$11:$P$13,MAX(Parámetros!F$7:$P$7),FALSE))","v":""},{"$f":"IF(G630=\"\",\"\",VLOOKUP(G630,Parámetros!G$11:$P$13,MAX(Parámetros!G$7:$P$7),FALSE))","v":""},{"$f":"IF(H630=\"\",\"\",VLOOKUP(H630,Parámetros!H$11:$P$13,MAX(Parámetros!H$7:$P$7),FALSE))","v":""},{"$f":"IF(I630=\"\",\"\",VLOOKUP(I630,Parámetros!I$11:$P$13,MAX(Parámetros!I$7:$P$7),FALSE))","v":""},{"$f":"IF(J630=\"\",\"\",VLOOKUP(J630,Parámetros!J$11:$P$13,MAX(Parámetros!J$7:$P$7),FALSE))","v":""},{"$f":"IF(K630=\"\",\"\",VLOOKUP(K630,Parámetros!K$11:$P$13,MAX(Parámetros!K$7:$P$7),FALSE))","v":""},{"$f":"IF(L630=\"\",\"\",VLOOKUP(L630,Parámetros!L$11:$P$13,MAX(Parámetros!L$7:$P$7),FALSE))","v":""},{"$f":"IF(M630=\"\",\"\",VLOOKUP(M630,Parámetros!M$11:$P$13,MAX(Parámetros!M$7:$P$7),FALSE))","v":""},{"$f":"IF(N630=\"\",\"\",VLOOKUP(N630,Parámetros!N$11:$P$13,MAX(Parámetros!N$7:$P$7),FALSE))","v":""},{"$f":"IF(O630=\"\",\"\",VLOOKUP(O630,Parámetros!O$11:$P$13,MAX(Parámetros!O$7:$P$7),FALSE))","v":""},""]
[null,null,null,{"$f":"IF(E631=\"\",\"\",VLOOKUP(E631,'Buenas prácticas'!$G$8:$H$1007,2,FALSE))","v":""},null,null,null,null,null,null,null,null,null,null,null,{"$f":"IF(F631=\"\",\"\",VLOOKUP(F631,Parámetros!F$11:$P$13,MAX(Parámetros!F$7:$P$7),FALSE))","v":""},{"$f":"IF(G631=\"\",\"\",VLOOKUP(G631,Parámetros!G$11:$P$13,MAX(Parámetros!G$7:$P$7),FALSE))","v":""},{"$f":"IF(H631=\"\",\"\",VLOOKUP(H631,Parámetros!H$11:$P$13,MAX(Parámetros!H$7:$P$7),FALSE))","v":""},{"$f":"IF(I631=\"\",\"\",VLOOKUP(I631,Parámetros!I$11:$P$13,MAX(Parámetros!I$7:$P$7),FALSE))","v":""},{"$f":"IF(J631=\"\",\"\",VLOOKUP(J631,Parámetros!J$11:$P$13,MAX(Parámetros!J$7:$P$7),FALSE))","v":""},{"$f":"IF(K631=\"\",\"\",VLOOKUP(K631,Parámetros!K$11:$P$13,MAX(Parámetros!K$7:$P$7),FALSE))","v":""},{"$f":"IF(L631=\"\",\"\",VLOOKUP(L631,Parámetros!L$11:$P$13,MAX(Parámetros!L$7:$P$7),FALSE))","v":""},{"$f":"IF(M631=\"\",\"\",VLOOKUP(M631,Parámetros!M$11:$P$13,MAX(Parámetros!M$7:$P$7),FALSE))","v":""},{"$f":"IF(N631=\"\",\"\",VLOOKUP(N631,Parámetros!N$11:$P$13,MAX(Parámetros!N$7:$P$7),FALSE))","v":""},{"$f":"IF(O631=\"\",\"\",VLOOKUP(O631,Parámetros!O$11:$P$13,MAX(Parámetros!O$7:$P$7),FALSE))","v":""},""]
[null,null,null,{"$f":"IF(E632=\"\",\"\",VLOOKUP(E632,'Buenas prácticas'!$G$8:$H$1007,2,FALSE))","v":""},null,null,null,null,null,null,null,null,null,null,null,{"$f":"IF(F632=\"\",\"\",VLOOKUP(F632,Parámetros!F$11:$P$13,MAX(Parámetros!F$7:$P$7),FALSE))","v":""},{"$f":"IF(G632=\"\",\"\",VLOOKUP(G632,Parámetros!G$11:$P$13,MAX(Parámetros!G$7:$P$7),FALSE))","v":""},{"$f":"IF(H632=\"\",\"\",VLOOKUP(H632,Parámetros!H$11:$P$13,MAX(Parámetros!H$7:$P$7),FALSE))","v":""},{"$f":"IF(I632=\"\",\"\",VLOOKUP(I632,Parámetros!I$11:$P$13,MAX(Parámetros!I$7:$P$7),FALSE))","v":""},{"$f":"IF(J632=\"\",\"\",VLOOKUP(J632,Parámetros!J$11:$P$13,MAX(Parámetros!J$7:$P$7),FALSE))","v":""},{"$f":"IF(K632=\"\",\"\",VLOOKUP(K632,Parámetros!K$11:$P$13,MAX(Parámetros!K$7:$P$7),FALSE))","v":""},{"$f":"IF(L632=\"\",\"\",VLOOKUP(L632,Parámetros!L$11:$P$13,MAX(Parámetros!L$7:$P$7),FALSE))","v":""},{"$f":"IF(M632=\"\",\"\",VLOOKUP(M632,Parámetros!M$11:$P$13,MAX(Parámetros!M$7:$P$7),FALSE))","v":""},{"$f":"IF(N632=\"\",\"\",VLOOKUP(N632,Parámetros!N$11:$P$13,MAX(Parámetros!N$7:$P$7),FALSE))","v":""},{"$f":"IF(O632=\"\",\"\",VLOOKUP(O632,Parámetros!O$11:$P$13,MAX(Parámetros!O$7:$P$7),FALSE))","v":""},""]
[null,null,null,{"$f":"IF(E633=\"\",\"\",VLOOKUP(E633,'Buenas prácticas'!$G$8:$H$1007,2,FALSE))","v":""},null,null,null,null,null,null,null,null,null,null,null,{"$f":"IF(F633=\"\",\"\",VLOOKUP(F633,Parámetros!F$11:$P$13,MAX(Parámetros!F$7:$P$7),FALSE))","v":""},{"$f":"IF(G633=\"\",\"\",VLOOKUP(G633,Parámetros!G$11:$P$13,MAX(Parámetros!G$7:$P$7),FALSE))","v":""},{"$f":"IF(H633=\"\",\"\",VLOOKUP(H633,Parámetros!H$11:$P$13,MAX(Parámetros!H$7:$P$7),FALSE))","v":""},{"$f":"IF(I633=\"\",\"\",VLOOKUP(I633,Parámetros!I$11:$P$13,MAX(Parámetros!I$7:$P$7),FALSE))","v":""},{"$f":"IF(J633=\"\",\"\",VLOOKUP(J633,Parámetros!J$11:$P$13,MAX(Parámetros!J$7:$P$7),FALSE))","v":""},{"$f":"IF(K633=\"\",\"\",VLOOKUP(K633,Parámetros!K$11:$P$13,MAX(Parámetros!K$7:$P$7),FALSE))","v":""},{"$f":"IF(L633=\"\",\"\",VLOOKUP(L633,Parámetros!L$11:$P$13,MAX(Parámetros!L$7:$P$7),FALSE))","v":""},{"$f":"IF(M633=\"\",\"\",VLOOKUP(M633,Parámetros!M$11:$P$13,MAX(Parámetros!M$7:$P$7),FALSE))","v":""},{"$f":"IF(N633=\"\",\"\",VLOOKUP(N633,Parámetros!N$11:$P$13,MAX(Parámetros!N$7:$P$7),FALSE))","v":""},{"$f":"IF(O633=\"\",\"\",VLOOKUP(O633,Parámetros!O$11:$P$13,MAX(Parámetros!O$7:$P$7),FALSE))","v":""},""]
[null,null,null,{"$f":"IF(E634=\"\",\"\",VLOOKUP(E634,'Buenas prácticas'!$G$8:$H$1007,2,FALSE))","v":""},null,null,null,null,null,null,null,null,null,null,null,{"$f":"IF(F634=\"\",\"\",VLOOKUP(F634,Parámetros!F$11:$P$13,MAX(Parámetros!F$7:$P$7),FALSE))","v":""},{"$f":"IF(G634=\"\",\"\",VLOOKUP(G634,Parámetros!G$11:$P$13,MAX(Parámetros!G$7:$P$7),FALSE))","v":""},{"$f":"IF(H634=\"\",\"\",VLOOKUP(H634,Parámetros!H$11:$P$13,MAX(Parámetros!H$7:$P$7),FALSE))","v":""},{"$f":"IF(I634=\"\",\"\",VLOOKUP(I634,Parámetros!I$11:$P$13,MAX(Parámetros!I$7:$P$7),FALSE))","v":""},{"$f":"IF(J634=\"\",\"\",VLOOKUP(J634,Parámetros!J$11:$P$13,MAX(Parámetros!J$7:$P$7),FALSE))","v":""},{"$f":"IF(K634=\"\",\"\",VLOOKUP(K634,Parámetros!K$11:$P$13,MAX(Parámetros!K$7:$P$7),FALSE))","v":""},{"$f":"IF(L634=\"\",\"\",VLOOKUP(L634,Parámetros!L$11:$P$13,MAX(Parámetros!L$7:$P$7),FALSE))","v":""},{"$f":"IF(M634=\"\",\"\",VLOOKUP(M634,Parámetros!M$11:$P$13,MAX(Parámetros!M$7:$P$7),FALSE))","v":""},{"$f":"IF(N634=\"\",\"\",VLOOKUP(N634,Parámetros!N$11:$P$13,MAX(Parámetros!N$7:$P$7),FALSE))","v":""},{"$f":"IF(O634=\"\",\"\",VLOOKUP(O634,Parámetros!O$11:$P$13,MAX(Parámetros!O$7:$P$7),FALSE))","v":""},""]
[null,null,null,{"$f":"IF(E635=\"\",\"\",VLOOKUP(E635,'Buenas prácticas'!$G$8:$H$1007,2,FALSE))","v":""},null,null,null,null,null,null,null,null,null,null,null,{"$f":"IF(F635=\"\",\"\",VLOOKUP(F635,Parámetros!F$11:$P$13,MAX(Parámetros!F$7:$P$7),FALSE))","v":""},{"$f":"IF(G635=\"\",\"\",VLOOKUP(G635,Parámetros!G$11:$P$13,MAX(Parámetros!G$7:$P$7),FALSE))","v":""},{"$f":"IF(H635=\"\",\"\",VLOOKUP(H635,Parámetros!H$11:$P$13,MAX(Parámetros!H$7:$P$7),FALSE))","v":""},{"$f":"IF(I635=\"\",\"\",VLOOKUP(I635,Parámetros!I$11:$P$13,MAX(Parámetros!I$7:$P$7),FALSE))","v":""},{"$f":"IF(J635=\"\",\"\",VLOOKUP(J635,Parámetros!J$11:$P$13,MAX(Parámetros!J$7:$P$7),FALSE))","v":""},{"$f":"IF(K635=\"\",\"\",VLOOKUP(K635,Parámetros!K$11:$P$13,MAX(Parámetros!K$7:$P$7),FALSE))","v":""},{"$f":"IF(L635=\"\",\"\",VLOOKUP(L635,Parámetros!L$11:$P$13,MAX(Parámetros!L$7:$P$7),FALSE))","v":""},{"$f":"IF(M635=\"\",\"\",VLOOKUP(M635,Parámetros!M$11:$P$13,MAX(Parámetros!M$7:$P$7),FALSE))","v":""},{"$f":"IF(N635=\"\",\"\",VLOOKUP(N635,Parámetros!N$11:$P$13,MAX(Parámetros!N$7:$P$7),FALSE))","v":""},{"$f":"IF(O635=\"\",\"\",VLOOKUP(O635,Parámetros!O$11:$P$13,MAX(Parámetros!O$7:$P$7),FALSE))","v":""},""]
[null,null,null,{"$f":"IF(E636=\"\",\"\",VLOOKUP(E636,'Buenas prácticas'!$G$8:$H$1007,2,FALSE))","v":""},null,null,null,null,null,null,null,null,null,null,null,{"$f":"IF(F636=\"\",\"\",VLOOKUP(F636,Parámetros!F$11:$P$13,MAX(Parámetros!F$7:$P$7),FALSE))","v":""},{"$f":"IF(G636=\"\",\"\",VLOOKUP(G636,Parámetros!G$11:$P$13,MAX(Parámetros!G$7:$P$7),FALSE))","v":""},{"$f":"IF(H636=\"\",\"\",VLOOKUP(H636,Parámetros!H$11:$P$13,MAX(Parámetros!H$7:$P$7),FALSE))","v":""},{"$f":"IF(I636=\"\",\"\",VLOOKUP(I636,Parámetros!I$11:$P$13,MAX(Parámetros!I$7:$P$7),FALSE))","v":""},{"$f":"IF(J636=\"\",\"\",VLOOKUP(J636,Parámetros!J$11:$P$13,MAX(Parámetros!J$7:$P$7),FALSE))","v":""},{"$f":"IF(K636=\"\",\"\",VLOOKUP(K636,Parámetros!K$11:$P$13,MAX(Parámetros!K$7:$P$7),FALSE))","v":""},{"$f":"IF(L636=\"\",\"\",VLOOKUP(L636,Parámetros!L$11:$P$13,MAX(Parámetros!L$7:$P$7),FALSE))","v":""},{"$f":"IF(M636=\"\",\"\",VLOOKUP(M636,Parámetros!M$11:$P$13,MAX(Parámetros!M$7:$P$7),FALSE))","v":""},{"$f":"IF(N636=\"\",\"\",VLOOKUP(N636,Parámetros!N$11:$P$13,MAX(Parámetros!N$7:$P$7),FALSE))","v":""},{"$f":"IF(O636=\"\",\"\",VLOOKUP(O636,Parámetros!O$11:$P$13,MAX(Parámetros!O$7:$P$7),FALSE))","v":""},""]
[null,null,null,{"$f":"IF(E637=\"\",\"\",VLOOKUP(E637,'Buenas prácticas'!$G$8:$H$1007,2,FALSE))","v":""},null,null,null,null,null,null,null,null,null,null,null,{"$f":"IF(F637=\"\",\"\",VLOOKUP(F637,Parámetros!F$11:$P$13,MAX(Parámetros!F$7:$P$7),FALSE))","v":""},{"$f":"IF(G637=\"\",\"\",VLOOKUP(G637,Parámetros!G$11:$P$13,MAX(Parámetros!G$7:$P$7),FALSE))","v":""},{"$f":"IF(H637=\"\",\"\",VLOOKUP(H637,Parámetros!H$11:$P$13,MAX(Parámetros!H$7:$P$7),FALSE))","v":""},{"$f":"IF(I637=\"\",\"\",VLOOKUP(I637,Parámetros!I$11:$P$13,MAX(Parámetros!I$7:$P$7),FALSE))","v":""},{"$f":"IF(J637=\"\",\"\",VLOOKUP(J637,Parámetros!J$11:$P$13,MAX(Parámetros!J$7:$P$7),FALSE))","v":""},{"$f":"IF(K637=\"\",\"\",VLOOKUP(K637,Parámetros!K$11:$P$13,MAX(Parámetros!K$7:$P$7),FALSE))","v":""},{"$f":"IF(L637=\"\",\"\",VLOOKUP(L637,Parámetros!L$11:$P$13,MAX(Parámetros!L$7:$P$7),FALSE))","v":""},{"$f":"IF(M637=\"\",\"\",VLOOKUP(M637,Parámetros!M$11:$P$13,MAX(Parámetros!M$7:$P$7),FALSE))","v":""},{"$f":"IF(N637=\"\",\"\",VLOOKUP(N637,Parámetros!N$11:$P$13,MAX(Parámetros!N$7:$P$7),FALSE))","v":""},{"$f":"IF(O637=\"\",\"\",VLOOKUP(O637,Parámetros!O$11:$P$13,MAX(Parámetros!O$7:$P$7),FALSE))","v":""},""]
[null,null,null,{"$f":"IF(E638=\"\",\"\",VLOOKUP(E638,'Buenas prácticas'!$G$8:$H$1007,2,FALSE))","v":""},null,null,null,null,null,null,null,null,null,null,null,{"$f":"IF(F638=\"\",\"\",VLOOKUP(F638,Parámetros!F$11:$P$13,MAX(Parámetros!F$7:$P$7),FALSE))","v":""},{"$f":"IF(G638=\"\",\"\",VLOOKUP(G638,Parámetros!G$11:$P$13,MAX(Parámetros!G$7:$P$7),FALSE))","v":""},{"$f":"IF(H638=\"\",\"\",VLOOKUP(H638,Parámetros!H$11:$P$13,MAX(Parámetros!H$7:$P$7),FALSE))","v":""},{"$f":"IF(I638=\"\",\"\",VLOOKUP(I638,Parámetros!I$11:$P$13,MAX(Parámetros!I$7:$P$7),FALSE))","v":""},{"$f":"IF(J638=\"\",\"\",VLOOKUP(J638,Parámetros!J$11:$P$13,MAX(Parámetros!J$7:$P$7),FALSE))","v":""},{"$f":"IF(K638=\"\",\"\",VLOOKUP(K638,Parámetros!K$11:$P$13,MAX(Parámetros!K$7:$P$7),FALSE))","v":""},{"$f":"IF(L638=\"\",\"\",VLOOKUP(L638,Parámetros!L$11:$P$13,MAX(Parámetros!L$7:$P$7),FALSE))","v":""},{"$f":"IF(M638=\"\",\"\",VLOOKUP(M638,Parámetros!M$11:$P$13,MAX(Parámetros!M$7:$P$7),FALSE))","v":""},{"$f":"IF(N638=\"\",\"\",VLOOKUP(N638,Parámetros!N$11:$P$13,MAX(Parámetros!N$7:$P$7),FALSE))","v":""},{"$f":"IF(O638=\"\",\"\",VLOOKUP(O638,Parámetros!O$11:$P$13,MAX(Parámetros!O$7:$P$7),FALSE))","v":""},""]
[null,null,null,{"$f":"IF(E639=\"\",\"\",VLOOKUP(E639,'Buenas prácticas'!$G$8:$H$1007,2,FALSE))","v":""},null,null,null,null,null,null,null,null,null,null,null,{"$f":"IF(F639=\"\",\"\",VLOOKUP(F639,Parámetros!F$11:$P$13,MAX(Parámetros!F$7:$P$7),FALSE))","v":""},{"$f":"IF(G639=\"\",\"\",VLOOKUP(G639,Parámetros!G$11:$P$13,MAX(Parámetros!G$7:$P$7),FALSE))","v":""},{"$f":"IF(H639=\"\",\"\",VLOOKUP(H639,Parámetros!H$11:$P$13,MAX(Parámetros!H$7:$P$7),FALSE))","v":""},{"$f":"IF(I639=\"\",\"\",VLOOKUP(I639,Parámetros!I$11:$P$13,MAX(Parámetros!I$7:$P$7),FALSE))","v":""},{"$f":"IF(J639=\"\",\"\",VLOOKUP(J639,Parámetros!J$11:$P$13,MAX(Parámetros!J$7:$P$7),FALSE))","v":""},{"$f":"IF(K639=\"\",\"\",VLOOKUP(K639,Parámetros!K$11:$P$13,MAX(Parámetros!K$7:$P$7),FALSE))","v":""},{"$f":"IF(L639=\"\",\"\",VLOOKUP(L639,Parámetros!L$11:$P$13,MAX(Parámetros!L$7:$P$7),FALSE))","v":""},{"$f":"IF(M639=\"\",\"\",VLOOKUP(M639,Parámetros!M$11:$P$13,MAX(Parámetros!M$7:$P$7),FALSE))","v":""},{"$f":"IF(N639=\"\",\"\",VLOOKUP(N639,Parámetros!N$11:$P$13,MAX(Parámetros!N$7:$P$7),FALSE))","v":""},{"$f":"IF(O639=\"\",\"\",VLOOKUP(O639,Parámetros!O$11:$P$13,MAX(Parámetros!O$7:$P$7),FALSE))","v":""},""]
[null,null,null,{"$f":"IF(E640=\"\",\"\",VLOOKUP(E640,'Buenas prácticas'!$G$8:$H$1007,2,FALSE))","v":""},null,null,null,null,null,null,null,null,null,null,null,{"$f":"IF(F640=\"\",\"\",VLOOKUP(F640,Parámetros!F$11:$P$13,MAX(Parámetros!F$7:$P$7),FALSE))","v":""},{"$f":"IF(G640=\"\",\"\",VLOOKUP(G640,Parámetros!G$11:$P$13,MAX(Parámetros!G$7:$P$7),FALSE))","v":""},{"$f":"IF(H640=\"\",\"\",VLOOKUP(H640,Parámetros!H$11:$P$13,MAX(Parámetros!H$7:$P$7),FALSE))","v":""},{"$f":"IF(I640=\"\",\"\",VLOOKUP(I640,Parámetros!I$11:$P$13,MAX(Parámetros!I$7:$P$7),FALSE))","v":""},{"$f":"IF(J640=\"\",\"\",VLOOKUP(J640,Parámetros!J$11:$P$13,MAX(Parámetros!J$7:$P$7),FALSE))","v":""},{"$f":"IF(K640=\"\",\"\",VLOOKUP(K640,Parámetros!K$11:$P$13,MAX(Parámetros!K$7:$P$7),FALSE))","v":""},{"$f":"IF(L640=\"\",\"\",VLOOKUP(L640,Parámetros!L$11:$P$13,MAX(Parámetros!L$7:$P$7),FALSE))","v":""},{"$f":"IF(M640=\"\",\"\",VLOOKUP(M640,Parámetros!M$11:$P$13,MAX(Parámetros!M$7:$P$7),FALSE))","v":""},{"$f":"IF(N640=\"\",\"\",VLOOKUP(N640,Parámetros!N$11:$P$13,MAX(Parámetros!N$7:$P$7),FALSE))","v":""},{"$f":"IF(O640=\"\",\"\",VLOOKUP(O640,Parámetros!O$11:$P$13,MAX(Parámetros!O$7:$P$7),FALSE))","v":""},""]
[null,null,null,{"$f":"IF(E641=\"\",\"\",VLOOKUP(E641,'Buenas prácticas'!$G$8:$H$1007,2,FALSE))","v":""},null,null,null,null,null,null,null,null,null,null,null,{"$f":"IF(F641=\"\",\"\",VLOOKUP(F641,Parámetros!F$11:$P$13,MAX(Parámetros!F$7:$P$7),FALSE))","v":""},{"$f":"IF(G641=\"\",\"\",VLOOKUP(G641,Parámetros!G$11:$P$13,MAX(Parámetros!G$7:$P$7),FALSE))","v":""},{"$f":"IF(H641=\"\",\"\",VLOOKUP(H641,Parámetros!H$11:$P$13,MAX(Parámetros!H$7:$P$7),FALSE))","v":""},{"$f":"IF(I641=\"\",\"\",VLOOKUP(I641,Parámetros!I$11:$P$13,MAX(Parámetros!I$7:$P$7),FALSE))","v":""},{"$f":"IF(J641=\"\",\"\",VLOOKUP(J641,Parámetros!J$11:$P$13,MAX(Parámetros!J$7:$P$7),FALSE))","v":""},{"$f":"IF(K641=\"\",\"\",VLOOKUP(K641,Parámetros!K$11:$P$13,MAX(Parámetros!K$7:$P$7),FALSE))","v":""},{"$f":"IF(L641=\"\",\"\",VLOOKUP(L641,Parámetros!L$11:$P$13,MAX(Parámetros!L$7:$P$7),FALSE))","v":""},{"$f":"IF(M641=\"\",\"\",VLOOKUP(M641,Parámetros!M$11:$P$13,MAX(Parámetros!M$7:$P$7),FALSE))","v":""},{"$f":"IF(N641=\"\",\"\",VLOOKUP(N641,Parámetros!N$11:$P$13,MAX(Parámetros!N$7:$P$7),FALSE))","v":""},{"$f":"IF(O641=\"\",\"\",VLOOKUP(O641,Parámetros!O$11:$P$13,MAX(Parámetros!O$7:$P$7),FALSE))","v":""},""]
[null,null,null,{"$f":"IF(E642=\"\",\"\",VLOOKUP(E642,'Buenas prácticas'!$G$8:$H$1007,2,FALSE))","v":""},null,null,null,null,null,null,null,null,null,null,null,{"$f":"IF(F642=\"\",\"\",VLOOKUP(F642,Parámetros!F$11:$P$13,MAX(Parámetros!F$7:$P$7),FALSE))","v":""},{"$f":"IF(G642=\"\",\"\",VLOOKUP(G642,Parámetros!G$11:$P$13,MAX(Parámetros!G$7:$P$7),FALSE))","v":""},{"$f":"IF(H642=\"\",\"\",VLOOKUP(H642,Parámetros!H$11:$P$13,MAX(Parámetros!H$7:$P$7),FALSE))","v":""},{"$f":"IF(I642=\"\",\"\",VLOOKUP(I642,Parámetros!I$11:$P$13,MAX(Parámetros!I$7:$P$7),FALSE))","v":""},{"$f":"IF(J642=\"\",\"\",VLOOKUP(J642,Parámetros!J$11:$P$13,MAX(Parámetros!J$7:$P$7),FALSE))","v":""},{"$f":"IF(K642=\"\",\"\",VLOOKUP(K642,Parámetros!K$11:$P$13,MAX(Parámetros!K$7:$P$7),FALSE))","v":""},{"$f":"IF(L642=\"\",\"\",VLOOKUP(L642,Parámetros!L$11:$P$13,MAX(Parámetros!L$7:$P$7),FALSE))","v":""},{"$f":"IF(M642=\"\",\"\",VLOOKUP(M642,Parámetros!M$11:$P$13,MAX(Parámetros!M$7:$P$7),FALSE))","v":""},{"$f":"IF(N642=\"\",\"\",VLOOKUP(N642,Parámetros!N$11:$P$13,MAX(Parámetros!N$7:$P$7),FALSE))","v":""},{"$f":"IF(O642=\"\",\"\",VLOOKUP(O642,Parámetros!O$11:$P$13,MAX(Parámetros!O$7:$P$7),FALSE))","v":""},""]
[null,null,null,{"$f":"IF(E643=\"\",\"\",VLOOKUP(E643,'Buenas prácticas'!$G$8:$H$1007,2,FALSE))","v":""},null,null,null,null,null,null,null,null,null,null,null,{"$f":"IF(F643=\"\",\"\",VLOOKUP(F643,Parámetros!F$11:$P$13,MAX(Parámetros!F$7:$P$7),FALSE))","v":""},{"$f":"IF(G643=\"\",\"\",VLOOKUP(G643,Parámetros!G$11:$P$13,MAX(Parámetros!G$7:$P$7),FALSE))","v":""},{"$f":"IF(H643=\"\",\"\",VLOOKUP(H643,Parámetros!H$11:$P$13,MAX(Parámetros!H$7:$P$7),FALSE))","v":""},{"$f":"IF(I643=\"\",\"\",VLOOKUP(I643,Parámetros!I$11:$P$13,MAX(Parámetros!I$7:$P$7),FALSE))","v":""},{"$f":"IF(J643=\"\",\"\",VLOOKUP(J643,Parámetros!J$11:$P$13,MAX(Parámetros!J$7:$P$7),FALSE))","v":""},{"$f":"IF(K643=\"\",\"\",VLOOKUP(K643,Parámetros!K$11:$P$13,MAX(Parámetros!K$7:$P$7),FALSE))","v":""},{"$f":"IF(L643=\"\",\"\",VLOOKUP(L643,Parámetros!L$11:$P$13,MAX(Parámetros!L$7:$P$7),FALSE))","v":""},{"$f":"IF(M643=\"\",\"\",VLOOKUP(M643,Parámetros!M$11:$P$13,MAX(Parámetros!M$7:$P$7),FALSE))","v":""},{"$f":"IF(N643=\"\",\"\",VLOOKUP(N643,Parámetros!N$11:$P$13,MAX(Parámetros!N$7:$P$7),FALSE))","v":""},{"$f":"IF(O643=\"\",\"\",VLOOKUP(O643,Parámetros!O$11:$P$13,MAX(Parámetros!O$7:$P$7),FALSE))","v":""},""]
[null,null,null,{"$f":"IF(E644=\"\",\"\",VLOOKUP(E644,'Buenas prácticas'!$G$8:$H$1007,2,FALSE))","v":""},null,null,null,null,null,null,null,null,null,null,null,{"$f":"IF(F644=\"\",\"\",VLOOKUP(F644,Parámetros!F$11:$P$13,MAX(Parámetros!F$7:$P$7),FALSE))","v":""},{"$f":"IF(G644=\"\",\"\",VLOOKUP(G644,Parámetros!G$11:$P$13,MAX(Parámetros!G$7:$P$7),FALSE))","v":""},{"$f":"IF(H644=\"\",\"\",VLOOKUP(H644,Parámetros!H$11:$P$13,MAX(Parámetros!H$7:$P$7),FALSE))","v":""},{"$f":"IF(I644=\"\",\"\",VLOOKUP(I644,Parámetros!I$11:$P$13,MAX(Parámetros!I$7:$P$7),FALSE))","v":""},{"$f":"IF(J644=\"\",\"\",VLOOKUP(J644,Parámetros!J$11:$P$13,MAX(Parámetros!J$7:$P$7),FALSE))","v":""},{"$f":"IF(K644=\"\",\"\",VLOOKUP(K644,Parámetros!K$11:$P$13,MAX(Parámetros!K$7:$P$7),FALSE))","v":""},{"$f":"IF(L644=\"\",\"\",VLOOKUP(L644,Parámetros!L$11:$P$13,MAX(Parámetros!L$7:$P$7),FALSE))","v":""},{"$f":"IF(M644=\"\",\"\",VLOOKUP(M644,Parámetros!M$11:$P$13,MAX(Parámetros!M$7:$P$7),FALSE))","v":""},{"$f":"IF(N644=\"\",\"\",VLOOKUP(N644,Parámetros!N$11:$P$13,MAX(Parámetros!N$7:$P$7),FALSE))","v":""},{"$f":"IF(O644=\"\",\"\",VLOOKUP(O644,Parámetros!O$11:$P$13,MAX(Parámetros!O$7:$P$7),FALSE))","v":""},""]
[null,null,null,{"$f":"IF(E645=\"\",\"\",VLOOKUP(E645,'Buenas prácticas'!$G$8:$H$1007,2,FALSE))","v":""},null,null,null,null,null,null,null,null,null,null,null,{"$f":"IF(F645=\"\",\"\",VLOOKUP(F645,Parámetros!F$11:$P$13,MAX(Parámetros!F$7:$P$7),FALSE))","v":""},{"$f":"IF(G645=\"\",\"\",VLOOKUP(G645,Parámetros!G$11:$P$13,MAX(Parámetros!G$7:$P$7),FALSE))","v":""},{"$f":"IF(H645=\"\",\"\",VLOOKUP(H645,Parámetros!H$11:$P$13,MAX(Parámetros!H$7:$P$7),FALSE))","v":""},{"$f":"IF(I645=\"\",\"\",VLOOKUP(I645,Parámetros!I$11:$P$13,MAX(Parámetros!I$7:$P$7),FALSE))","v":""},{"$f":"IF(J645=\"\",\"\",VLOOKUP(J645,Parámetros!J$11:$P$13,MAX(Parámetros!J$7:$P$7),FALSE))","v":""},{"$f":"IF(K645=\"\",\"\",VLOOKUP(K645,Parámetros!K$11:$P$13,MAX(Parámetros!K$7:$P$7),FALSE))","v":""},{"$f":"IF(L645=\"\",\"\",VLOOKUP(L645,Parámetros!L$11:$P$13,MAX(Parámetros!L$7:$P$7),FALSE))","v":""},{"$f":"IF(M645=\"\",\"\",VLOOKUP(M645,Parámetros!M$11:$P$13,MAX(Parámetros!M$7:$P$7),FALSE))","v":""},{"$f":"IF(N645=\"\",\"\",VLOOKUP(N645,Parámetros!N$11:$P$13,MAX(Parámetros!N$7:$P$7),FALSE))","v":""},{"$f":"IF(O645=\"\",\"\",VLOOKUP(O645,Parámetros!O$11:$P$13,MAX(Parámetros!O$7:$P$7),FALSE))","v":""},""]
[null,null,null,{"$f":"IF(E646=\"\",\"\",VLOOKUP(E646,'Buenas prácticas'!$G$8:$H$1007,2,FALSE))","v":""},null,null,null,null,null,null,null,null,null,null,null,{"$f":"IF(F646=\"\",\"\",VLOOKUP(F646,Parámetros!F$11:$P$13,MAX(Parámetros!F$7:$P$7),FALSE))","v":""},{"$f":"IF(G646=\"\",\"\",VLOOKUP(G646,Parámetros!G$11:$P$13,MAX(Parámetros!G$7:$P$7),FALSE))","v":""},{"$f":"IF(H646=\"\",\"\",VLOOKUP(H646,Parámetros!H$11:$P$13,MAX(Parámetros!H$7:$P$7),FALSE))","v":""},{"$f":"IF(I646=\"\",\"\",VLOOKUP(I646,Parámetros!I$11:$P$13,MAX(Parámetros!I$7:$P$7),FALSE))","v":""},{"$f":"IF(J646=\"\",\"\",VLOOKUP(J646,Parámetros!J$11:$P$13,MAX(Parámetros!J$7:$P$7),FALSE))","v":""},{"$f":"IF(K646=\"\",\"\",VLOOKUP(K646,Parámetros!K$11:$P$13,MAX(Parámetros!K$7:$P$7),FALSE))","v":""},{"$f":"IF(L646=\"\",\"\",VLOOKUP(L646,Parámetros!L$11:$P$13,MAX(Parámetros!L$7:$P$7),FALSE))","v":""},{"$f":"IF(M646=\"\",\"\",VLOOKUP(M646,Parámetros!M$11:$P$13,MAX(Parámetros!M$7:$P$7),FALSE))","v":""},{"$f":"IF(N646=\"\",\"\",VLOOKUP(N646,Parámetros!N$11:$P$13,MAX(Parámetros!N$7:$P$7),FALSE))","v":""},{"$f":"IF(O646=\"\",\"\",VLOOKUP(O646,Parámetros!O$11:$P$13,MAX(Parámetros!O$7:$P$7),FALSE))","v":""},""]
[null,null,null,{"$f":"IF(E647=\"\",\"\",VLOOKUP(E647,'Buenas prácticas'!$G$8:$H$1007,2,FALSE))","v":""},null,null,null,null,null,null,null,null,null,null,null,{"$f":"IF(F647=\"\",\"\",VLOOKUP(F647,Parámetros!F$11:$P$13,MAX(Parámetros!F$7:$P$7),FALSE))","v":""},{"$f":"IF(G647=\"\",\"\",VLOOKUP(G647,Parámetros!G$11:$P$13,MAX(Parámetros!G$7:$P$7),FALSE))","v":""},{"$f":"IF(H647=\"\",\"\",VLOOKUP(H647,Parámetros!H$11:$P$13,MAX(Parámetros!H$7:$P$7),FALSE))","v":""},{"$f":"IF(I647=\"\",\"\",VLOOKUP(I647,Parámetros!I$11:$P$13,MAX(Parámetros!I$7:$P$7),FALSE))","v":""},{"$f":"IF(J647=\"\",\"\",VLOOKUP(J647,Parámetros!J$11:$P$13,MAX(Parámetros!J$7:$P$7),FALSE))","v":""},{"$f":"IF(K647=\"\",\"\",VLOOKUP(K647,Parámetros!K$11:$P$13,MAX(Parámetros!K$7:$P$7),FALSE))","v":""},{"$f":"IF(L647=\"\",\"\",VLOOKUP(L647,Parámetros!L$11:$P$13,MAX(Parámetros!L$7:$P$7),FALSE))","v":""},{"$f":"IF(M647=\"\",\"\",VLOOKUP(M647,Parámetros!M$11:$P$13,MAX(Parámetros!M$7:$P$7),FALSE))","v":""},{"$f":"IF(N647=\"\",\"\",VLOOKUP(N647,Parámetros!N$11:$P$13,MAX(Parámetros!N$7:$P$7),FALSE))","v":""},{"$f":"IF(O647=\"\",\"\",VLOOKUP(O647,Parámetros!O$11:$P$13,MAX(Parámetros!O$7:$P$7),FALSE))","v":""},""]
[null,null,null,{"$f":"IF(E648=\"\",\"\",VLOOKUP(E648,'Buenas prácticas'!$G$8:$H$1007,2,FALSE))","v":""},null,null,null,null,null,null,null,null,null,null,null,{"$f":"IF(F648=\"\",\"\",VLOOKUP(F648,Parámetros!F$11:$P$13,MAX(Parámetros!F$7:$P$7),FALSE))","v":""},{"$f":"IF(G648=\"\",\"\",VLOOKUP(G648,Parámetros!G$11:$P$13,MAX(Parámetros!G$7:$P$7),FALSE))","v":""},{"$f":"IF(H648=\"\",\"\",VLOOKUP(H648,Parámetros!H$11:$P$13,MAX(Parámetros!H$7:$P$7),FALSE))","v":""},{"$f":"IF(I648=\"\",\"\",VLOOKUP(I648,Parámetros!I$11:$P$13,MAX(Parámetros!I$7:$P$7),FALSE))","v":""},{"$f":"IF(J648=\"\",\"\",VLOOKUP(J648,Parámetros!J$11:$P$13,MAX(Parámetros!J$7:$P$7),FALSE))","v":""},{"$f":"IF(K648=\"\",\"\",VLOOKUP(K648,Parámetros!K$11:$P$13,MAX(Parámetros!K$7:$P$7),FALSE))","v":""},{"$f":"IF(L648=\"\",\"\",VLOOKUP(L648,Parámetros!L$11:$P$13,MAX(Parámetros!L$7:$P$7),FALSE))","v":""},{"$f":"IF(M648=\"\",\"\",VLOOKUP(M648,Parámetros!M$11:$P$13,MAX(Parámetros!M$7:$P$7),FALSE))","v":""},{"$f":"IF(N648=\"\",\"\",VLOOKUP(N648,Parámetros!N$11:$P$13,MAX(Parámetros!N$7:$P$7),FALSE))","v":""},{"$f":"IF(O648=\"\",\"\",VLOOKUP(O648,Parámetros!O$11:$P$13,MAX(Parámetros!O$7:$P$7),FALSE))","v":""},""]
[null,null,null,{"$f":"IF(E649=\"\",\"\",VLOOKUP(E649,'Buenas prácticas'!$G$8:$H$1007,2,FALSE))","v":""},null,null,null,null,null,null,null,null,null,null,null,{"$f":"IF(F649=\"\",\"\",VLOOKUP(F649,Parámetros!F$11:$P$13,MAX(Parámetros!F$7:$P$7),FALSE))","v":""},{"$f":"IF(G649=\"\",\"\",VLOOKUP(G649,Parámetros!G$11:$P$13,MAX(Parámetros!G$7:$P$7),FALSE))","v":""},{"$f":"IF(H649=\"\",\"\",VLOOKUP(H649,Parámetros!H$11:$P$13,MAX(Parámetros!H$7:$P$7),FALSE))","v":""},{"$f":"IF(I649=\"\",\"\",VLOOKUP(I649,Parámetros!I$11:$P$13,MAX(Parámetros!I$7:$P$7),FALSE))","v":""},{"$f":"IF(J649=\"\",\"\",VLOOKUP(J649,Parámetros!J$11:$P$13,MAX(Parámetros!J$7:$P$7),FALSE))","v":""},{"$f":"IF(K649=\"\",\"\",VLOOKUP(K649,Parámetros!K$11:$P$13,MAX(Parámetros!K$7:$P$7),FALSE))","v":""},{"$f":"IF(L649=\"\",\"\",VLOOKUP(L649,Parámetros!L$11:$P$13,MAX(Parámetros!L$7:$P$7),FALSE))","v":""},{"$f":"IF(M649=\"\",\"\",VLOOKUP(M649,Parámetros!M$11:$P$13,MAX(Parámetros!M$7:$P$7),FALSE))","v":""},{"$f":"IF(N649=\"\",\"\",VLOOKUP(N649,Parámetros!N$11:$P$13,MAX(Parámetros!N$7:$P$7),FALSE))","v":""},{"$f":"IF(O649=\"\",\"\",VLOOKUP(O649,Parámetros!O$11:$P$13,MAX(Parámetros!O$7:$P$7),FALSE))","v":""},{"$f":"IF(SUMPRODUCT($P649:$Y649,$P$6:$Y$6)=0,\"\",SUMPRODUCT($P649:$Y649,$P$6:$Y$6)/3)","v":""}]
[null,null,null,{"$f":"IF(E650=\"\",\"\",VLOOKUP(E650,'Buenas prácticas'!$G$8:$H$1007,2,FALSE))","v":""},null,null,null,null,null,null,null,null,null,null,null,{"$f":"IF(F650=\"\",\"\",VLOOKUP(F650,Parámetros!F$11:$P$13,MAX(Parámetros!F$7:$P$7),FALSE))","v":""},{"$f":"IF(G650=\"\",\"\",VLOOKUP(G650,Parámetros!G$11:$P$13,MAX(Parámetros!G$7:$P$7),FALSE))","v":""},{"$f":"IF(H650=\"\",\"\",VLOOKUP(H650,Parámetros!H$11:$P$13,MAX(Parámetros!H$7:$P$7),FALSE))","v":""},{"$f":"IF(I650=\"\",\"\",VLOOKUP(I650,Parámetros!I$11:$P$13,MAX(Parámetros!I$7:$P$7),FALSE))","v":""},{"$f":"IF(J650=\"\",\"\",VLOOKUP(J650,Parámetros!J$11:$P$13,MAX(Parámetros!J$7:$P$7),FALSE))","v":""},{"$f":"IF(K650=\"\",\"\",VLOOKUP(K650,Parámetros!K$11:$P$13,MAX(Parámetros!K$7:$P$7),FALSE))","v":""},{"$f":"IF(L650=\"\",\"\",VLOOKUP(L650,Parámetros!L$11:$P$13,MAX(Parámetros!L$7:$P$7),FALSE))","v":""},{"$f":"IF(M650=\"\",\"\",VLOOKUP(M650,Parámetros!M$11:$P$13,MAX(Parámetros!M$7:$P$7),FALSE))","v":""},{"$f":"IF(N650=\"\",\"\",VLOOKUP(N650,Parámetros!N$11:$P$13,MAX(Parámetros!N$7:$P$7),FALSE))","v":""},{"$f":"IF(O650=\"\",\"\",VLOOKUP(O650,Parámetros!O$11:$P$13,MAX(Parámetros!O$7:$P$7),FALSE))","v":""},""]
[null,null,null,{"$f":"IF(E651=\"\",\"\",VLOOKUP(E651,'Buenas prácticas'!$G$8:$H$1007,2,FALSE))","v":""},null,null,null,null,null,null,null,null,null,null,null,{"$f":"IF(F651=\"\",\"\",VLOOKUP(F651,Parámetros!F$11:$P$13,MAX(Parámetros!F$7:$P$7),FALSE))","v":""},{"$f":"IF(G651=\"\",\"\",VLOOKUP(G651,Parámetros!G$11:$P$13,MAX(Parámetros!G$7:$P$7),FALSE))","v":""},{"$f":"IF(H651=\"\",\"\",VLOOKUP(H651,Parámetros!H$11:$P$13,MAX(Parámetros!H$7:$P$7),FALSE))","v":""},{"$f":"IF(I651=\"\",\"\",VLOOKUP(I651,Parámetros!I$11:$P$13,MAX(Parámetros!I$7:$P$7),FALSE))","v":""},{"$f":"IF(J651=\"\",\"\",VLOOKUP(J651,Parámetros!J$11:$P$13,MAX(Parámetros!J$7:$P$7),FALSE))","v":""},{"$f":"IF(K651=\"\",\"\",VLOOKUP(K651,Parámetros!K$11:$P$13,MAX(Parámetros!K$7:$P$7),FALSE))","v":""},{"$f":"IF(L651=\"\",\"\",VLOOKUP(L651,Parámetros!L$11:$P$13,MAX(Parámetros!L$7:$P$7),FALSE))","v":""},{"$f":"IF(M651=\"\",\"\",VLOOKUP(M651,Parámetros!M$11:$P$13,MAX(Parámetros!M$7:$P$7),FALSE))","v":""},{"$f":"IF(N651=\"\",\"\",VLOOKUP(N651,Parámetros!N$11:$P$13,MAX(Parámetros!N$7:$P$7),FALSE))","v":""},{"$f":"IF(O651=\"\",\"\",VLOOKUP(O651,Parámetros!O$11:$P$13,MAX(Parámetros!O$7:$P$7),FALSE))","v":""},""]
[null,null,null,{"$f":"IF(E652=\"\",\"\",VLOOKUP(E652,'Buenas prácticas'!$G$8:$H$1007,2,FALSE))","v":""},null,null,null,null,null,null,null,null,null,null,null,{"$f":"IF(F652=\"\",\"\",VLOOKUP(F652,Parámetros!F$11:$P$13,MAX(Parámetros!F$7:$P$7),FALSE))","v":""},{"$f":"IF(G652=\"\",\"\",VLOOKUP(G652,Parámetros!G$11:$P$13,MAX(Parámetros!G$7:$P$7),FALSE))","v":""},{"$f":"IF(H652=\"\",\"\",VLOOKUP(H652,Parámetros!H$11:$P$13,MAX(Parámetros!H$7:$P$7),FALSE))","v":""},{"$f":"IF(I652=\"\",\"\",VLOOKUP(I652,Parámetros!I$11:$P$13,MAX(Parámetros!I$7:$P$7),FALSE))","v":""},{"$f":"IF(J652=\"\",\"\",VLOOKUP(J652,Parámetros!J$11:$P$13,MAX(Parámetros!J$7:$P$7),FALSE))","v":""},{"$f":"IF(K652=\"\",\"\",VLOOKUP(K652,Parámetros!K$11:$P$13,MAX(Parámetros!K$7:$P$7),FALSE))","v":""},{"$f":"IF(L652=\"\",\"\",VLOOKUP(L652,Parámetros!L$11:$P$13,MAX(Parámetros!L$7:$P$7),FALSE))","v":""},{"$f":"IF(M652=\"\",\"\",VLOOKUP(M652,Parámetros!M$11:$P$13,MAX(Parámetros!M$7:$P$7),FALSE))","v":""},{"$f":"IF(N652=\"\",\"\",VLOOKUP(N652,Parámetros!N$11:$P$13,MAX(Parámetros!N$7:$P$7),FALSE))","v":""},{"$f":"IF(O652=\"\",\"\",VLOOKUP(O652,Parámetros!O$11:$P$13,MAX(Parámetros!O$7:$P$7),FALSE))","v":""},""]
[null,null,null,{"$f":"IF(E653=\"\",\"\",VLOOKUP(E653,'Buenas prácticas'!$G$8:$H$1007,2,FALSE))","v":""},null,null,null,null,null,null,null,null,null,null,null,{"$f":"IF(F653=\"\",\"\",VLOOKUP(F653,Parámetros!F$11:$P$13,MAX(Parámetros!F$7:$P$7),FALSE))","v":""},{"$f":"IF(G653=\"\",\"\",VLOOKUP(G653,Parámetros!G$11:$P$13,MAX(Parámetros!G$7:$P$7),FALSE))","v":""},{"$f":"IF(H653=\"\",\"\",VLOOKUP(H653,Parámetros!H$11:$P$13,MAX(Parámetros!H$7:$P$7),FALSE))","v":""},{"$f":"IF(I653=\"\",\"\",VLOOKUP(I653,Parámetros!I$11:$P$13,MAX(Parámetros!I$7:$P$7),FALSE))","v":""},{"$f":"IF(J653=\"\",\"\",VLOOKUP(J653,Parámetros!J$11:$P$13,MAX(Parámetros!J$7:$P$7),FALSE))","v":""},{"$f":"IF(K653=\"\",\"\",VLOOKUP(K653,Parámetros!K$11:$P$13,MAX(Parámetros!K$7:$P$7),FALSE))","v":""},{"$f":"IF(L653=\"\",\"\",VLOOKUP(L653,Parámetros!L$11:$P$13,MAX(Parámetros!L$7:$P$7),FALSE))","v":""},{"$f":"IF(M653=\"\",\"\",VLOOKUP(M653,Parámetros!M$11:$P$13,MAX(Parámetros!M$7:$P$7),FALSE))","v":""},{"$f":"IF(N653=\"\",\"\",VLOOKUP(N653,Parámetros!N$11:$P$13,MAX(Parámetros!N$7:$P$7),FALSE))","v":""},{"$f":"IF(O653=\"\",\"\",VLOOKUP(O653,Parámetros!O$11:$P$13,MAX(Parámetros!O$7:$P$7),FALSE))","v":""},""]
[null,null,null,{"$f":"IF(E654=\"\",\"\",VLOOKUP(E654,'Buenas prácticas'!$G$8:$H$1007,2,FALSE))","v":""},null,null,null,null,null,null,null,null,null,null,null,{"$f":"IF(F654=\"\",\"\",VLOOKUP(F654,Parámetros!F$11:$P$13,MAX(Parámetros!F$7:$P$7),FALSE))","v":""},{"$f":"IF(G654=\"\",\"\",VLOOKUP(G654,Parámetros!G$11:$P$13,MAX(Parámetros!G$7:$P$7),FALSE))","v":""},{"$f":"IF(H654=\"\",\"\",VLOOKUP(H654,Parámetros!H$11:$P$13,MAX(Parámetros!H$7:$P$7),FALSE))","v":""},{"$f":"IF(I654=\"\",\"\",VLOOKUP(I654,Parámetros!I$11:$P$13,MAX(Parámetros!I$7:$P$7),FALSE))","v":""},{"$f":"IF(J654=\"\",\"\",VLOOKUP(J654,Parámetros!J$11:$P$13,MAX(Parámetros!J$7:$P$7),FALSE))","v":""},{"$f":"IF(K654=\"\",\"\",VLOOKUP(K654,Parámetros!K$11:$P$13,MAX(Parámetros!K$7:$P$7),FALSE))","v":""},{"$f":"IF(L654=\"\",\"\",VLOOKUP(L654,Parámetros!L$11:$P$13,MAX(Parámetros!L$7:$P$7),FALSE))","v":""},{"$f":"IF(M654=\"\",\"\",VLOOKUP(M654,Parámetros!M$11:$P$13,MAX(Parámetros!M$7:$P$7),FALSE))","v":""},{"$f":"IF(N654=\"\",\"\",VLOOKUP(N654,Parámetros!N$11:$P$13,MAX(Parámetros!N$7:$P$7),FALSE))","v":""},{"$f":"IF(O654=\"\",\"\",VLOOKUP(O654,Parámetros!O$11:$P$13,MAX(Parámetros!O$7:$P$7),FALSE))","v":""},""]
[null,null,null,{"$f":"IF(E655=\"\",\"\",VLOOKUP(E655,'Buenas prácticas'!$G$8:$H$1007,2,FALSE))","v":""},null,null,null,null,null,null,null,null,null,null,null,{"$f":"IF(F655=\"\",\"\",VLOOKUP(F655,Parámetros!F$11:$P$13,MAX(Parámetros!F$7:$P$7),FALSE))","v":""},{"$f":"IF(G655=\"\",\"\",VLOOKUP(G655,Parámetros!G$11:$P$13,MAX(Parámetros!G$7:$P$7),FALSE))","v":""},{"$f":"IF(H655=\"\",\"\",VLOOKUP(H655,Parámetros!H$11:$P$13,MAX(Parámetros!H$7:$P$7),FALSE))","v":""},{"$f":"IF(I655=\"\",\"\",VLOOKUP(I655,Parámetros!I$11:$P$13,MAX(Parámetros!I$7:$P$7),FALSE))","v":""},{"$f":"IF(J655=\"\",\"\",VLOOKUP(J655,Parámetros!J$11:$P$13,MAX(Parámetros!J$7:$P$7),FALSE))","v":""},{"$f":"IF(K655=\"\",\"\",VLOOKUP(K655,Parámetros!K$11:$P$13,MAX(Parámetros!K$7:$P$7),FALSE))","v":""},{"$f":"IF(L655=\"\",\"\",VLOOKUP(L655,Parámetros!L$11:$P$13,MAX(Parámetros!L$7:$P$7),FALSE))","v":""},{"$f":"IF(M655=\"\",\"\",VLOOKUP(M655,Parámetros!M$11:$P$13,MAX(Parámetros!M$7:$P$7),FALSE))","v":""},{"$f":"IF(N655=\"\",\"\",VLOOKUP(N655,Parámetros!N$11:$P$13,MAX(Parámetros!N$7:$P$7),FALSE))","v":""},{"$f":"IF(O655=\"\",\"\",VLOOKUP(O655,Parámetros!O$11:$P$13,MAX(Parámetros!O$7:$P$7),FALSE))","v":""},""]
[null,null,null,{"$f":"IF(E656=\"\",\"\",VLOOKUP(E656,'Buenas prácticas'!$G$8:$H$1007,2,FALSE))","v":""},null,null,null,null,null,null,null,null,null,null,null,{"$f":"IF(F656=\"\",\"\",VLOOKUP(F656,Parámetros!F$11:$P$13,MAX(Parámetros!F$7:$P$7),FALSE))","v":""},{"$f":"IF(G656=\"\",\"\",VLOOKUP(G656,Parámetros!G$11:$P$13,MAX(Parámetros!G$7:$P$7),FALSE))","v":""},{"$f":"IF(H656=\"\",\"\",VLOOKUP(H656,Parámetros!H$11:$P$13,MAX(Parámetros!H$7:$P$7),FALSE))","v":""},{"$f":"IF(I656=\"\",\"\",VLOOKUP(I656,Parámetros!I$11:$P$13,MAX(Parámetros!I$7:$P$7),FALSE))","v":""},{"$f":"IF(J656=\"\",\"\",VLOOKUP(J656,Parámetros!J$11:$P$13,MAX(Parámetros!J$7:$P$7),FALSE))","v":""},{"$f":"IF(K656=\"\",\"\",VLOOKUP(K656,Parámetros!K$11:$P$13,MAX(Parámetros!K$7:$P$7),FALSE))","v":""},{"$f":"IF(L656=\"\",\"\",VLOOKUP(L656,Parámetros!L$11:$P$13,MAX(Parámetros!L$7:$P$7),FALSE))","v":""},{"$f":"IF(M656=\"\",\"\",VLOOKUP(M656,Parámetros!M$11:$P$13,MAX(Parámetros!M$7:$P$7),FALSE))","v":""},{"$f":"IF(N656=\"\",\"\",VLOOKUP(N656,Parámetros!N$11:$P$13,MAX(Parámetros!N$7:$P$7),FALSE))","v":""},{"$f":"IF(O656=\"\",\"\",VLOOKUP(O656,Parámetros!O$11:$P$13,MAX(Parámetros!O$7:$P$7),FALSE))","v":""},""]
[null,null,null,{"$f":"IF(E657=\"\",\"\",VLOOKUP(E657,'Buenas prácticas'!$G$8:$H$1007,2,FALSE))","v":""},null,null,null,null,null,null,null,null,null,null,null,{"$f":"IF(F657=\"\",\"\",VLOOKUP(F657,Parámetros!F$11:$P$13,MAX(Parámetros!F$7:$P$7),FALSE))","v":""},{"$f":"IF(G657=\"\",\"\",VLOOKUP(G657,Parámetros!G$11:$P$13,MAX(Parámetros!G$7:$P$7),FALSE))","v":""},{"$f":"IF(H657=\"\",\"\",VLOOKUP(H657,Parámetros!H$11:$P$13,MAX(Parámetros!H$7:$P$7),FALSE))","v":""},{"$f":"IF(I657=\"\",\"\",VLOOKUP(I657,Parámetros!I$11:$P$13,MAX(Parámetros!I$7:$P$7),FALSE))","v":""},{"$f":"IF(J657=\"\",\"\",VLOOKUP(J657,Parámetros!J$11:$P$13,MAX(Parámetros!J$7:$P$7),FALSE))","v":""},{"$f":"IF(K657=\"\",\"\",VLOOKUP(K657,Parámetros!K$11:$P$13,MAX(Parámetros!K$7:$P$7),FALSE))","v":""},{"$f":"IF(L657=\"\",\"\",VLOOKUP(L657,Parámetros!L$11:$P$13,MAX(Parámetros!L$7:$P$7),FALSE))","v":""},{"$f":"IF(M657=\"\",\"\",VLOOKUP(M657,Parámetros!M$11:$P$13,MAX(Parámetros!M$7:$P$7),FALSE))","v":""},{"$f":"IF(N657=\"\",\"\",VLOOKUP(N657,Parámetros!N$11:$P$13,MAX(Parámetros!N$7:$P$7),FALSE))","v":""},{"$f":"IF(O657=\"\",\"\",VLOOKUP(O657,Parámetros!O$11:$P$13,MAX(Parámetros!O$7:$P$7),FALSE))","v":""},""]
[null,null,null,{"$f":"IF(E658=\"\",\"\",VLOOKUP(E658,'Buenas prácticas'!$G$8:$H$1007,2,FALSE))","v":""},null,null,null,null,null,null,null,null,null,null,null,{"$f":"IF(F658=\"\",\"\",VLOOKUP(F658,Parámetros!F$11:$P$13,MAX(Parámetros!F$7:$P$7),FALSE))","v":""},{"$f":"IF(G658=\"\",\"\",VLOOKUP(G658,Parámetros!G$11:$P$13,MAX(Parámetros!G$7:$P$7),FALSE))","v":""},{"$f":"IF(H658=\"\",\"\",VLOOKUP(H658,Parámetros!H$11:$P$13,MAX(Parámetros!H$7:$P$7),FALSE))","v":""},{"$f":"IF(I658=\"\",\"\",VLOOKUP(I658,Parámetros!I$11:$P$13,MAX(Parámetros!I$7:$P$7),FALSE))","v":""},{"$f":"IF(J658=\"\",\"\",VLOOKUP(J658,Parámetros!J$11:$P$13,MAX(Parámetros!J$7:$P$7),FALSE))","v":""},{"$f":"IF(K658=\"\",\"\",VLOOKUP(K658,Parámetros!K$11:$P$13,MAX(Parámetros!K$7:$P$7),FALSE))","v":""},{"$f":"IF(L658=\"\",\"\",VLOOKUP(L658,Parámetros!L$11:$P$13,MAX(Parámetros!L$7:$P$7),FALSE))","v":""},{"$f":"IF(M658=\"\",\"\",VLOOKUP(M658,Parámetros!M$11:$P$13,MAX(Parámetros!M$7:$P$7),FALSE))","v":""},{"$f":"IF(N658=\"\",\"\",VLOOKUP(N658,Parámetros!N$11:$P$13,MAX(Parámetros!N$7:$P$7),FALSE))","v":""},{"$f":"IF(O658=\"\",\"\",VLOOKUP(O658,Parámetros!O$11:$P$13,MAX(Parámetros!O$7:$P$7),FALSE))","v":""},""]
[null,null,null,{"$f":"IF(E659=\"\",\"\",VLOOKUP(E659,'Buenas prácticas'!$G$8:$H$1007,2,FALSE))","v":""},null,null,null,null,null,null,null,null,null,null,null,{"$f":"IF(F659=\"\",\"\",VLOOKUP(F659,Parámetros!F$11:$P$13,MAX(Parámetros!F$7:$P$7),FALSE))","v":""},{"$f":"IF(G659=\"\",\"\",VLOOKUP(G659,Parámetros!G$11:$P$13,MAX(Parámetros!G$7:$P$7),FALSE))","v":""},{"$f":"IF(H659=\"\",\"\",VLOOKUP(H659,Parámetros!H$11:$P$13,MAX(Parámetros!H$7:$P$7),FALSE))","v":""},{"$f":"IF(I659=\"\",\"\",VLOOKUP(I659,Parámetros!I$11:$P$13,MAX(Parámetros!I$7:$P$7),FALSE))","v":""},{"$f":"IF(J659=\"\",\"\",VLOOKUP(J659,Parámetros!J$11:$P$13,MAX(Parámetros!J$7:$P$7),FALSE))","v":""},{"$f":"IF(K659=\"\",\"\",VLOOKUP(K659,Parámetros!K$11:$P$13,MAX(Parámetros!K$7:$P$7),FALSE))","v":""},{"$f":"IF(L659=\"\",\"\",VLOOKUP(L659,Parámetros!L$11:$P$13,MAX(Parámetros!L$7:$P$7),FALSE))","v":""},{"$f":"IF(M659=\"\",\"\",VLOOKUP(M659,Parámetros!M$11:$P$13,MAX(Parámetros!M$7:$P$7),FALSE))","v":""},{"$f":"IF(N659=\"\",\"\",VLOOKUP(N659,Parámetros!N$11:$P$13,MAX(Parámetros!N$7:$P$7),FALSE))","v":""},{"$f":"IF(O659=\"\",\"\",VLOOKUP(O659,Parámetros!O$11:$P$13,MAX(Parámetros!O$7:$P$7),FALSE))","v":""},""]
[null,null,null,{"$f":"IF(E660=\"\",\"\",VLOOKUP(E660,'Buenas prácticas'!$G$8:$H$1007,2,FALSE))","v":""},null,null,null,null,null,null,null,null,null,null,null,{"$f":"IF(F660=\"\",\"\",VLOOKUP(F660,Parámetros!F$11:$P$13,MAX(Parámetros!F$7:$P$7),FALSE))","v":""},{"$f":"IF(G660=\"\",\"\",VLOOKUP(G660,Parámetros!G$11:$P$13,MAX(Parámetros!G$7:$P$7),FALSE))","v":""},{"$f":"IF(H660=\"\",\"\",VLOOKUP(H660,Parámetros!H$11:$P$13,MAX(Parámetros!H$7:$P$7),FALSE))","v":""},{"$f":"IF(I660=\"\",\"\",VLOOKUP(I660,Parámetros!I$11:$P$13,MAX(Parámetros!I$7:$P$7),FALSE))","v":""},{"$f":"IF(J660=\"\",\"\",VLOOKUP(J660,Parámetros!J$11:$P$13,MAX(Parámetros!J$7:$P$7),FALSE))","v":""},{"$f":"IF(K660=\"\",\"\",VLOOKUP(K660,Parámetros!K$11:$P$13,MAX(Parámetros!K$7:$P$7),FALSE))","v":""},{"$f":"IF(L660=\"\",\"\",VLOOKUP(L660,Parámetros!L$11:$P$13,MAX(Parámetros!L$7:$P$7),FALSE))","v":""},{"$f":"IF(M660=\"\",\"\",VLOOKUP(M660,Parámetros!M$11:$P$13,MAX(Parámetros!M$7:$P$7),FALSE))","v":""},{"$f":"IF(N660=\"\",\"\",VLOOKUP(N660,Parámetros!N$11:$P$13,MAX(Parámetros!N$7:$P$7),FALSE))","v":""},{"$f":"IF(O660=\"\",\"\",VLOOKUP(O660,Parámetros!O$11:$P$13,MAX(Parámetros!O$7:$P$7),FALSE))","v":""},""]
[null,null,null,{"$f":"IF(E661=\"\",\"\",VLOOKUP(E661,'Buenas prácticas'!$G$8:$H$1007,2,FALSE))","v":""},null,null,null,null,null,null,null,null,null,null,null,{"$f":"IF(F661=\"\",\"\",VLOOKUP(F661,Parámetros!F$11:$P$13,MAX(Parámetros!F$7:$P$7),FALSE))","v":""},{"$f":"IF(G661=\"\",\"\",VLOOKUP(G661,Parámetros!G$11:$P$13,MAX(Parámetros!G$7:$P$7),FALSE))","v":""},{"$f":"IF(H661=\"\",\"\",VLOOKUP(H661,Parámetros!H$11:$P$13,MAX(Parámetros!H$7:$P$7),FALSE))","v":""},{"$f":"IF(I661=\"\",\"\",VLOOKUP(I661,Parámetros!I$11:$P$13,MAX(Parámetros!I$7:$P$7),FALSE))","v":""},{"$f":"IF(J661=\"\",\"\",VLOOKUP(J661,Parámetros!J$11:$P$13,MAX(Parámetros!J$7:$P$7),FALSE))","v":""},{"$f":"IF(K661=\"\",\"\",VLOOKUP(K661,Parámetros!K$11:$P$13,MAX(Parámetros!K$7:$P$7),FALSE))","v":""},{"$f":"IF(L661=\"\",\"\",VLOOKUP(L661,Parámetros!L$11:$P$13,MAX(Parámetros!L$7:$P$7),FALSE))","v":""},{"$f":"IF(M661=\"\",\"\",VLOOKUP(M661,Parámetros!M$11:$P$13,MAX(Parámetros!M$7:$P$7),FALSE))","v":""},{"$f":"IF(N661=\"\",\"\",VLOOKUP(N661,Parámetros!N$11:$P$13,MAX(Parámetros!N$7:$P$7),FALSE))","v":""},{"$f":"IF(O661=\"\",\"\",VLOOKUP(O661,Parámetros!O$11:$P$13,MAX(Parámetros!O$7:$P$7),FALSE))","v":""},""]
[null,null,null,{"$f":"IF(E662=\"\",\"\",VLOOKUP(E662,'Buenas prácticas'!$G$8:$H$1007,2,FALSE))","v":""},null,null,null,null,null,null,null,null,null,null,null,{"$f":"IF(F662=\"\",\"\",VLOOKUP(F662,Parámetros!F$11:$P$13,MAX(Parámetros!F$7:$P$7),FALSE))","v":""},{"$f":"IF(G662=\"\",\"\",VLOOKUP(G662,Parámetros!G$11:$P$13,MAX(Parámetros!G$7:$P$7),FALSE))","v":""},{"$f":"IF(H662=\"\",\"\",VLOOKUP(H662,Parámetros!H$11:$P$13,MAX(Parámetros!H$7:$P$7),FALSE))","v":""},{"$f":"IF(I662=\"\",\"\",VLOOKUP(I662,Parámetros!I$11:$P$13,MAX(Parámetros!I$7:$P$7),FALSE))","v":""},{"$f":"IF(J662=\"\",\"\",VLOOKUP(J662,Parámetros!J$11:$P$13,MAX(Parámetros!J$7:$P$7),FALSE))","v":""},{"$f":"IF(K662=\"\",\"\",VLOOKUP(K662,Parámetros!K$11:$P$13,MAX(Parámetros!K$7:$P$7),FALSE))","v":""},{"$f":"IF(L662=\"\",\"\",VLOOKUP(L662,Parámetros!L$11:$P$13,MAX(Parámetros!L$7:$P$7),FALSE))","v":""},{"$f":"IF(M662=\"\",\"\",VLOOKUP(M662,Parámetros!M$11:$P$13,MAX(Parámetros!M$7:$P$7),FALSE))","v":""},{"$f":"IF(N662=\"\",\"\",VLOOKUP(N662,Parámetros!N$11:$P$13,MAX(Parámetros!N$7:$P$7),FALSE))","v":""},{"$f":"IF(O662=\"\",\"\",VLOOKUP(O662,Parámetros!O$11:$P$13,MAX(Parámetros!O$7:$P$7),FALSE))","v":""},""]
[null,null,null,{"$f":"IF(E663=\"\",\"\",VLOOKUP(E663,'Buenas prácticas'!$G$8:$H$1007,2,FALSE))","v":""},null,null,null,null,null,null,null,null,null,null,null,{"$f":"IF(F663=\"\",\"\",VLOOKUP(F663,Parámetros!F$11:$P$13,MAX(Parámetros!F$7:$P$7),FALSE))","v":""},{"$f":"IF(G663=\"\",\"\",VLOOKUP(G663,Parámetros!G$11:$P$13,MAX(Parámetros!G$7:$P$7),FALSE))","v":""},{"$f":"IF(H663=\"\",\"\",VLOOKUP(H663,Parámetros!H$11:$P$13,MAX(Parámetros!H$7:$P$7),FALSE))","v":""},{"$f":"IF(I663=\"\",\"\",VLOOKUP(I663,Parámetros!I$11:$P$13,MAX(Parámetros!I$7:$P$7),FALSE))","v":""},{"$f":"IF(J663=\"\",\"\",VLOOKUP(J663,Parámetros!J$11:$P$13,MAX(Parámetros!J$7:$P$7),FALSE))","v":""},{"$f":"IF(K663=\"\",\"\",VLOOKUP(K663,Parámetros!K$11:$P$13,MAX(Parámetros!K$7:$P$7),FALSE))","v":""},{"$f":"IF(L663=\"\",\"\",VLOOKUP(L663,Parámetros!L$11:$P$13,MAX(Parámetros!L$7:$P$7),FALSE))","v":""},{"$f":"IF(M663=\"\",\"\",VLOOKUP(M663,Parámetros!M$11:$P$13,MAX(Parámetros!M$7:$P$7),FALSE))","v":""},{"$f":"IF(N663=\"\",\"\",VLOOKUP(N663,Parámetros!N$11:$P$13,MAX(Parámetros!N$7:$P$7),FALSE))","v":""},{"$f":"IF(O663=\"\",\"\",VLOOKUP(O663,Parámetros!O$11:$P$13,MAX(Parámetros!O$7:$P$7),FALSE))","v":""},""]
[null,null,null,{"$f":"IF(E664=\"\",\"\",VLOOKUP(E664,'Buenas prácticas'!$G$8:$H$1007,2,FALSE))","v":""},null,null,null,null,null,null,null,null,null,null,null,{"$f":"IF(F664=\"\",\"\",VLOOKUP(F664,Parámetros!F$11:$P$13,MAX(Parámetros!F$7:$P$7),FALSE))","v":""},{"$f":"IF(G664=\"\",\"\",VLOOKUP(G664,Parámetros!G$11:$P$13,MAX(Parámetros!G$7:$P$7),FALSE))","v":""},{"$f":"IF(H664=\"\",\"\",VLOOKUP(H664,Parámetros!H$11:$P$13,MAX(Parámetros!H$7:$P$7),FALSE))","v":""},{"$f":"IF(I664=\"\",\"\",VLOOKUP(I664,Parámetros!I$11:$P$13,MAX(Parámetros!I$7:$P$7),FALSE))","v":""},{"$f":"IF(J664=\"\",\"\",VLOOKUP(J664,Parámetros!J$11:$P$13,MAX(Parámetros!J$7:$P$7),FALSE))","v":""},{"$f":"IF(K664=\"\",\"\",VLOOKUP(K664,Parámetros!K$11:$P$13,MAX(Parámetros!K$7:$P$7),FALSE))","v":""},{"$f":"IF(L664=\"\",\"\",VLOOKUP(L664,Parámetros!L$11:$P$13,MAX(Parámetros!L$7:$P$7),FALSE))","v":""},{"$f":"IF(M664=\"\",\"\",VLOOKUP(M664,Parámetros!M$11:$P$13,MAX(Parámetros!M$7:$P$7),FALSE))","v":""},{"$f":"IF(N664=\"\",\"\",VLOOKUP(N664,Parámetros!N$11:$P$13,MAX(Parámetros!N$7:$P$7),FALSE))","v":""},{"$f":"IF(O664=\"\",\"\",VLOOKUP(O664,Parámetros!O$11:$P$13,MAX(Parámetros!O$7:$P$7),FALSE))","v":""},""]
[null,null,null,{"$f":"IF(E665=\"\",\"\",VLOOKUP(E665,'Buenas prácticas'!$G$8:$H$1007,2,FALSE))","v":""},null,null,null,null,null,null,null,null,null,null,null,{"$f":"IF(F665=\"\",\"\",VLOOKUP(F665,Parámetros!F$11:$P$13,MAX(Parámetros!F$7:$P$7),FALSE))","v":""},{"$f":"IF(G665=\"\",\"\",VLOOKUP(G665,Parámetros!G$11:$P$13,MAX(Parámetros!G$7:$P$7),FALSE))","v":""},{"$f":"IF(H665=\"\",\"\",VLOOKUP(H665,Parámetros!H$11:$P$13,MAX(Parámetros!H$7:$P$7),FALSE))","v":""},{"$f":"IF(I665=\"\",\"\",VLOOKUP(I665,Parámetros!I$11:$P$13,MAX(Parámetros!I$7:$P$7),FALSE))","v":""},{"$f":"IF(J665=\"\",\"\",VLOOKUP(J665,Parámetros!J$11:$P$13,MAX(Parámetros!J$7:$P$7),FALSE))","v":""},{"$f":"IF(K665=\"\",\"\",VLOOKUP(K665,Parámetros!K$11:$P$13,MAX(Parámetros!K$7:$P$7),FALSE))","v":""},{"$f":"IF(L665=\"\",\"\",VLOOKUP(L665,Parámetros!L$11:$P$13,MAX(Parámetros!L$7:$P$7),FALSE))","v":""},{"$f":"IF(M665=\"\",\"\",VLOOKUP(M665,Parámetros!M$11:$P$13,MAX(Parámetros!M$7:$P$7),FALSE))","v":""},{"$f":"IF(N665=\"\",\"\",VLOOKUP(N665,Parámetros!N$11:$P$13,MAX(Parámetros!N$7:$P$7),FALSE))","v":""},{"$f":"IF(O665=\"\",\"\",VLOOKUP(O665,Parámetros!O$11:$P$13,MAX(Parámetros!O$7:$P$7),FALSE))","v":""},""]
[null,null,null,{"$f":"IF(E666=\"\",\"\",VLOOKUP(E666,'Buenas prácticas'!$G$8:$H$1007,2,FALSE))","v":""},null,null,null,null,null,null,null,null,null,null,null,{"$f":"IF(F666=\"\",\"\",VLOOKUP(F666,Parámetros!F$11:$P$13,MAX(Parámetros!F$7:$P$7),FALSE))","v":""},{"$f":"IF(G666=\"\",\"\",VLOOKUP(G666,Parámetros!G$11:$P$13,MAX(Parámetros!G$7:$P$7),FALSE))","v":""},{"$f":"IF(H666=\"\",\"\",VLOOKUP(H666,Parámetros!H$11:$P$13,MAX(Parámetros!H$7:$P$7),FALSE))","v":""},{"$f":"IF(I666=\"\",\"\",VLOOKUP(I666,Parámetros!I$11:$P$13,MAX(Parámetros!I$7:$P$7),FALSE))","v":""},{"$f":"IF(J666=\"\",\"\",VLOOKUP(J666,Parámetros!J$11:$P$13,MAX(Parámetros!J$7:$P$7),FALSE))","v":""},{"$f":"IF(K666=\"\",\"\",VLOOKUP(K666,Parámetros!K$11:$P$13,MAX(Parámetros!K$7:$P$7),FALSE))","v":""},{"$f":"IF(L666=\"\",\"\",VLOOKUP(L666,Parámetros!L$11:$P$13,MAX(Parámetros!L$7:$P$7),FALSE))","v":""},{"$f":"IF(M666=\"\",\"\",VLOOKUP(M666,Parámetros!M$11:$P$13,MAX(Parámetros!M$7:$P$7),FALSE))","v":""},{"$f":"IF(N666=\"\",\"\",VLOOKUP(N666,Parámetros!N$11:$P$13,MAX(Parámetros!N$7:$P$7),FALSE))","v":""},{"$f":"IF(O666=\"\",\"\",VLOOKUP(O666,Parámetros!O$11:$P$13,MAX(Parámetros!O$7:$P$7),FALSE))","v":""},""]
[null,null,null,{"$f":"IF(E667=\"\",\"\",VLOOKUP(E667,'Buenas prácticas'!$G$8:$H$1007,2,FALSE))","v":""},null,null,null,null,null,null,null,null,null,null,null,{"$f":"IF(F667=\"\",\"\",VLOOKUP(F667,Parámetros!F$11:$P$13,MAX(Parámetros!F$7:$P$7),FALSE))","v":""},{"$f":"IF(G667=\"\",\"\",VLOOKUP(G667,Parámetros!G$11:$P$13,MAX(Parámetros!G$7:$P$7),FALSE))","v":""},{"$f":"IF(H667=\"\",\"\",VLOOKUP(H667,Parámetros!H$11:$P$13,MAX(Parámetros!H$7:$P$7),FALSE))","v":""},{"$f":"IF(I667=\"\",\"\",VLOOKUP(I667,Parámetros!I$11:$P$13,MAX(Parámetros!I$7:$P$7),FALSE))","v":""},{"$f":"IF(J667=\"\",\"\",VLOOKUP(J667,Parámetros!J$11:$P$13,MAX(Parámetros!J$7:$P$7),FALSE))","v":""},{"$f":"IF(K667=\"\",\"\",VLOOKUP(K667,Parámetros!K$11:$P$13,MAX(Parámetros!K$7:$P$7),FALSE))","v":""},{"$f":"IF(L667=\"\",\"\",VLOOKUP(L667,Parámetros!L$11:$P$13,MAX(Parámetros!L$7:$P$7),FALSE))","v":""},{"$f":"IF(M667=\"\",\"\",VLOOKUP(M667,Parámetros!M$11:$P$13,MAX(Parámetros!M$7:$P$7),FALSE))","v":""},{"$f":"IF(N667=\"\",\"\",VLOOKUP(N667,Parámetros!N$11:$P$13,MAX(Parámetros!N$7:$P$7),FALSE))","v":""},{"$f":"IF(O667=\"\",\"\",VLOOKUP(O667,Parámetros!O$11:$P$13,MAX(Parámetros!O$7:$P$7),FALSE))","v":""},""]
[null,null,null,{"$f":"IF(E668=\"\",\"\",VLOOKUP(E668,'Buenas prácticas'!$G$8:$H$1007,2,FALSE))","v":""},null,null,null,null,null,null,null,null,null,null,null,{"$f":"IF(F668=\"\",\"\",VLOOKUP(F668,Parámetros!F$11:$P$13,MAX(Parámetros!F$7:$P$7),FALSE))","v":""},{"$f":"IF(G668=\"\",\"\",VLOOKUP(G668,Parámetros!G$11:$P$13,MAX(Parámetros!G$7:$P$7),FALSE))","v":""},{"$f":"IF(H668=\"\",\"\",VLOOKUP(H668,Parámetros!H$11:$P$13,MAX(Parámetros!H$7:$P$7),FALSE))","v":""},{"$f":"IF(I668=\"\",\"\",VLOOKUP(I668,Parámetros!I$11:$P$13,MAX(Parámetros!I$7:$P$7),FALSE))","v":""},{"$f":"IF(J668=\"\",\"\",VLOOKUP(J668,Parámetros!J$11:$P$13,MAX(Parámetros!J$7:$P$7),FALSE))","v":""},{"$f":"IF(K668=\"\",\"\",VLOOKUP(K668,Parámetros!K$11:$P$13,MAX(Parámetros!K$7:$P$7),FALSE))","v":""},{"$f":"IF(L668=\"\",\"\",VLOOKUP(L668,Parámetros!L$11:$P$13,MAX(Parámetros!L$7:$P$7),FALSE))","v":""},{"$f":"IF(M668=\"\",\"\",VLOOKUP(M668,Parámetros!M$11:$P$13,MAX(Parámetros!M$7:$P$7),FALSE))","v":""},{"$f":"IF(N668=\"\",\"\",VLOOKUP(N668,Parámetros!N$11:$P$13,MAX(Parámetros!N$7:$P$7),FALSE))","v":""},{"$f":"IF(O668=\"\",\"\",VLOOKUP(O668,Parámetros!O$11:$P$13,MAX(Parámetros!O$7:$P$7),FALSE))","v":""},""]
[null,null,null,{"$f":"IF(E669=\"\",\"\",VLOOKUP(E669,'Buenas prácticas'!$G$8:$H$1007,2,FALSE))","v":""},null,null,null,null,null,null,null,null,null,null,null,{"$f":"IF(F669=\"\",\"\",VLOOKUP(F669,Parámetros!F$11:$P$13,MAX(Parámetros!F$7:$P$7),FALSE))","v":""},{"$f":"IF(G669=\"\",\"\",VLOOKUP(G669,Parámetros!G$11:$P$13,MAX(Parámetros!G$7:$P$7),FALSE))","v":""},{"$f":"IF(H669=\"\",\"\",VLOOKUP(H669,Parámetros!H$11:$P$13,MAX(Parámetros!H$7:$P$7),FALSE))","v":""},{"$f":"IF(I669=\"\",\"\",VLOOKUP(I669,Parámetros!I$11:$P$13,MAX(Parámetros!I$7:$P$7),FALSE))","v":""},{"$f":"IF(J669=\"\",\"\",VLOOKUP(J669,Parámetros!J$11:$P$13,MAX(Parámetros!J$7:$P$7),FALSE))","v":""},{"$f":"IF(K669=\"\",\"\",VLOOKUP(K669,Parámetros!K$11:$P$13,MAX(Parámetros!K$7:$P$7),FALSE))","v":""},{"$f":"IF(L669=\"\",\"\",VLOOKUP(L669,Parámetros!L$11:$P$13,MAX(Parámetros!L$7:$P$7),FALSE))","v":""},{"$f":"IF(M669=\"\",\"\",VLOOKUP(M669,Parámetros!M$11:$P$13,MAX(Parámetros!M$7:$P$7),FALSE))","v":""},{"$f":"IF(N669=\"\",\"\",VLOOKUP(N669,Parámetros!N$11:$P$13,MAX(Parámetros!N$7:$P$7),FALSE))","v":""},{"$f":"IF(O669=\"\",\"\",VLOOKUP(O669,Parámetros!O$11:$P$13,MAX(Parámetros!O$7:$P$7),FALSE))","v":""},""]
[null,null,null,{"$f":"IF(E670=\"\",\"\",VLOOKUP(E670,'Buenas prácticas'!$G$8:$H$1007,2,FALSE))","v":""},null,null,null,null,null,null,null,null,null,null,null,{"$f":"IF(F670=\"\",\"\",VLOOKUP(F670,Parámetros!F$11:$P$13,MAX(Parámetros!F$7:$P$7),FALSE))","v":""},{"$f":"IF(G670=\"\",\"\",VLOOKUP(G670,Parámetros!G$11:$P$13,MAX(Parámetros!G$7:$P$7),FALSE))","v":""},{"$f":"IF(H670=\"\",\"\",VLOOKUP(H670,Parámetros!H$11:$P$13,MAX(Parámetros!H$7:$P$7),FALSE))","v":""},{"$f":"IF(I670=\"\",\"\",VLOOKUP(I670,Parámetros!I$11:$P$13,MAX(Parámetros!I$7:$P$7),FALSE))","v":""},{"$f":"IF(J670=\"\",\"\",VLOOKUP(J670,Parámetros!J$11:$P$13,MAX(Parámetros!J$7:$P$7),FALSE))","v":""},{"$f":"IF(K670=\"\",\"\",VLOOKUP(K670,Parámetros!K$11:$P$13,MAX(Parámetros!K$7:$P$7),FALSE))","v":""},{"$f":"IF(L670=\"\",\"\",VLOOKUP(L670,Parámetros!L$11:$P$13,MAX(Parámetros!L$7:$P$7),FALSE))","v":""},{"$f":"IF(M670=\"\",\"\",VLOOKUP(M670,Parámetros!M$11:$P$13,MAX(Parámetros!M$7:$P$7),FALSE))","v":""},{"$f":"IF(N670=\"\",\"\",VLOOKUP(N670,Parámetros!N$11:$P$13,MAX(Parámetros!N$7:$P$7),FALSE))","v":""},{"$f":"IF(O670=\"\",\"\",VLOOKUP(O670,Parámetros!O$11:$P$13,MAX(Parámetros!O$7:$P$7),FALSE))","v":""},""]
[null,null,null,{"$f":"IF(E671=\"\",\"\",VLOOKUP(E671,'Buenas prácticas'!$G$8:$H$1007,2,FALSE))","v":""},null,null,null,null,null,null,null,null,null,null,null,{"$f":"IF(F671=\"\",\"\",VLOOKUP(F671,Parámetros!F$11:$P$13,MAX(Parámetros!F$7:$P$7),FALSE))","v":""},{"$f":"IF(G671=\"\",\"\",VLOOKUP(G671,Parámetros!G$11:$P$13,MAX(Parámetros!G$7:$P$7),FALSE))","v":""},{"$f":"IF(H671=\"\",\"\",VLOOKUP(H671,Parámetros!H$11:$P$13,MAX(Parámetros!H$7:$P$7),FALSE))","v":""},{"$f":"IF(I671=\"\",\"\",VLOOKUP(I671,Parámetros!I$11:$P$13,MAX(Parámetros!I$7:$P$7),FALSE))","v":""},{"$f":"IF(J671=\"\",\"\",VLOOKUP(J671,Parámetros!J$11:$P$13,MAX(Parámetros!J$7:$P$7),FALSE))","v":""},{"$f":"IF(K671=\"\",\"\",VLOOKUP(K671,Parámetros!K$11:$P$13,MAX(Parámetros!K$7:$P$7),FALSE))","v":""},{"$f":"IF(L671=\"\",\"\",VLOOKUP(L671,Parámetros!L$11:$P$13,MAX(Parámetros!L$7:$P$7),FALSE))","v":""},{"$f":"IF(M671=\"\",\"\",VLOOKUP(M671,Parámetros!M$11:$P$13,MAX(Parámetros!M$7:$P$7),FALSE))","v":""},{"$f":"IF(N671=\"\",\"\",VLOOKUP(N671,Parámetros!N$11:$P$13,MAX(Parámetros!N$7:$P$7),FALSE))","v":""},{"$f":"IF(O671=\"\",\"\",VLOOKUP(O671,Parámetros!O$11:$P$13,MAX(Parámetros!O$7:$P$7),FALSE))","v":""},""]
[null,null,null,{"$f":"IF(E672=\"\",\"\",VLOOKUP(E672,'Buenas prácticas'!$G$8:$H$1007,2,FALSE))","v":""},null,null,null,null,null,null,null,null,null,null,null,{"$f":"IF(F672=\"\",\"\",VLOOKUP(F672,Parámetros!F$11:$P$13,MAX(Parámetros!F$7:$P$7),FALSE))","v":""},{"$f":"IF(G672=\"\",\"\",VLOOKUP(G672,Parámetros!G$11:$P$13,MAX(Parámetros!G$7:$P$7),FALSE))","v":""},{"$f":"IF(H672=\"\",\"\",VLOOKUP(H672,Parámetros!H$11:$P$13,MAX(Parámetros!H$7:$P$7),FALSE))","v":""},{"$f":"IF(I672=\"\",\"\",VLOOKUP(I672,Parámetros!I$11:$P$13,MAX(Parámetros!I$7:$P$7),FALSE))","v":""},{"$f":"IF(J672=\"\",\"\",VLOOKUP(J672,Parámetros!J$11:$P$13,MAX(Parámetros!J$7:$P$7),FALSE))","v":""},{"$f":"IF(K672=\"\",\"\",VLOOKUP(K672,Parámetros!K$11:$P$13,MAX(Parámetros!K$7:$P$7),FALSE))","v":""},{"$f":"IF(L672=\"\",\"\",VLOOKUP(L672,Parámetros!L$11:$P$13,MAX(Parámetros!L$7:$P$7),FALSE))","v":""},{"$f":"IF(M672=\"\",\"\",VLOOKUP(M672,Parámetros!M$11:$P$13,MAX(Parámetros!M$7:$P$7),FALSE))","v":""},{"$f":"IF(N672=\"\",\"\",VLOOKUP(N672,Parámetros!N$11:$P$13,MAX(Parámetros!N$7:$P$7),FALSE))","v":""},{"$f":"IF(O672=\"\",\"\",VLOOKUP(O672,Parámetros!O$11:$P$13,MAX(Parámetros!O$7:$P$7),FALSE))","v":""},""]
[null,null,null,{"$f":"IF(E673=\"\",\"\",VLOOKUP(E673,'Buenas prácticas'!$G$8:$H$1007,2,FALSE))","v":""},null,null,null,null,null,null,null,null,null,null,null,{"$f":"IF(F673=\"\",\"\",VLOOKUP(F673,Parámetros!F$11:$P$13,MAX(Parámetros!F$7:$P$7),FALSE))","v":""},{"$f":"IF(G673=\"\",\"\",VLOOKUP(G673,Parámetros!G$11:$P$13,MAX(Parámetros!G$7:$P$7),FALSE))","v":""},{"$f":"IF(H673=\"\",\"\",VLOOKUP(H673,Parámetros!H$11:$P$13,MAX(Parámetros!H$7:$P$7),FALSE))","v":""},{"$f":"IF(I673=\"\",\"\",VLOOKUP(I673,Parámetros!I$11:$P$13,MAX(Parámetros!I$7:$P$7),FALSE))","v":""},{"$f":"IF(J673=\"\",\"\",VLOOKUP(J673,Parámetros!J$11:$P$13,MAX(Parámetros!J$7:$P$7),FALSE))","v":""},{"$f":"IF(K673=\"\",\"\",VLOOKUP(K673,Parámetros!K$11:$P$13,MAX(Parámetros!K$7:$P$7),FALSE))","v":""},{"$f":"IF(L673=\"\",\"\",VLOOKUP(L673,Parámetros!L$11:$P$13,MAX(Parámetros!L$7:$P$7),FALSE))","v":""},{"$f":"IF(M673=\"\",\"\",VLOOKUP(M673,Parámetros!M$11:$P$13,MAX(Parámetros!M$7:$P$7),FALSE))","v":""},{"$f":"IF(N673=\"\",\"\",VLOOKUP(N673,Parámetros!N$11:$P$13,MAX(Parámetros!N$7:$P$7),FALSE))","v":""},{"$f":"IF(O673=\"\",\"\",VLOOKUP(O673,Parámetros!O$11:$P$13,MAX(Parámetros!O$7:$P$7),FALSE))","v":""},""]
[null,null,null,{"$f":"IF(E674=\"\",\"\",VLOOKUP(E674,'Buenas prácticas'!$G$8:$H$1007,2,FALSE))","v":""},null,null,null,null,null,null,null,null,null,null,null,{"$f":"IF(F674=\"\",\"\",VLOOKUP(F674,Parámetros!F$11:$P$13,MAX(Parámetros!F$7:$P$7),FALSE))","v":""},{"$f":"IF(G674=\"\",\"\",VLOOKUP(G674,Parámetros!G$11:$P$13,MAX(Parámetros!G$7:$P$7),FALSE))","v":""},{"$f":"IF(H674=\"\",\"\",VLOOKUP(H674,Parámetros!H$11:$P$13,MAX(Parámetros!H$7:$P$7),FALSE))","v":""},{"$f":"IF(I674=\"\",\"\",VLOOKUP(I674,Parámetros!I$11:$P$13,MAX(Parámetros!I$7:$P$7),FALSE))","v":""},{"$f":"IF(J674=\"\",\"\",VLOOKUP(J674,Parámetros!J$11:$P$13,MAX(Parámetros!J$7:$P$7),FALSE))","v":""},{"$f":"IF(K674=\"\",\"\",VLOOKUP(K674,Parámetros!K$11:$P$13,MAX(Parámetros!K$7:$P$7),FALSE))","v":""},{"$f":"IF(L674=\"\",\"\",VLOOKUP(L674,Parámetros!L$11:$P$13,MAX(Parámetros!L$7:$P$7),FALSE))","v":""},{"$f":"IF(M674=\"\",\"\",VLOOKUP(M674,Parámetros!M$11:$P$13,MAX(Parámetros!M$7:$P$7),FALSE))","v":""},{"$f":"IF(N674=\"\",\"\",VLOOKUP(N674,Parámetros!N$11:$P$13,MAX(Parámetros!N$7:$P$7),FALSE))","v":""},{"$f":"IF(O674=\"\",\"\",VLOOKUP(O674,Parámetros!O$11:$P$13,MAX(Parámetros!O$7:$P$7),FALSE))","v":""},""]
[null,null,null,{"$f":"IF(E675=\"\",\"\",VLOOKUP(E675,'Buenas prácticas'!$G$8:$H$1007,2,FALSE))","v":""},null,null,null,null,null,null,null,null,null,null,null,{"$f":"IF(F675=\"\",\"\",VLOOKUP(F675,Parámetros!F$11:$P$13,MAX(Parámetros!F$7:$P$7),FALSE))","v":""},{"$f":"IF(G675=\"\",\"\",VLOOKUP(G675,Parámetros!G$11:$P$13,MAX(Parámetros!G$7:$P$7),FALSE))","v":""},{"$f":"IF(H675=\"\",\"\",VLOOKUP(H675,Parámetros!H$11:$P$13,MAX(Parámetros!H$7:$P$7),FALSE))","v":""},{"$f":"IF(I675=\"\",\"\",VLOOKUP(I675,Parámetros!I$11:$P$13,MAX(Parámetros!I$7:$P$7),FALSE))","v":""},{"$f":"IF(J675=\"\",\"\",VLOOKUP(J675,Parámetros!J$11:$P$13,MAX(Parámetros!J$7:$P$7),FALSE))","v":""},{"$f":"IF(K675=\"\",\"\",VLOOKUP(K675,Parámetros!K$11:$P$13,MAX(Parámetros!K$7:$P$7),FALSE))","v":""},{"$f":"IF(L675=\"\",\"\",VLOOKUP(L675,Parámetros!L$11:$P$13,MAX(Parámetros!L$7:$P$7),FALSE))","v":""},{"$f":"IF(M675=\"\",\"\",VLOOKUP(M675,Parámetros!M$11:$P$13,MAX(Parámetros!M$7:$P$7),FALSE))","v":""},{"$f":"IF(N675=\"\",\"\",VLOOKUP(N675,Parámetros!N$11:$P$13,MAX(Parámetros!N$7:$P$7),FALSE))","v":""},{"$f":"IF(O675=\"\",\"\",VLOOKUP(O675,Parámetros!O$11:$P$13,MAX(Parámetros!O$7:$P$7),FALSE))","v":""},""]
[null,null,null,{"$f":"IF(E676=\"\",\"\",VLOOKUP(E676,'Buenas prácticas'!$G$8:$H$1007,2,FALSE))","v":""},null,null,null,null,null,null,null,null,null,null,null,{"$f":"IF(F676=\"\",\"\",VLOOKUP(F676,Parámetros!F$11:$P$13,MAX(Parámetros!F$7:$P$7),FALSE))","v":""},{"$f":"IF(G676=\"\",\"\",VLOOKUP(G676,Parámetros!G$11:$P$13,MAX(Parámetros!G$7:$P$7),FALSE))","v":""},{"$f":"IF(H676=\"\",\"\",VLOOKUP(H676,Parámetros!H$11:$P$13,MAX(Parámetros!H$7:$P$7),FALSE))","v":""},{"$f":"IF(I676=\"\",\"\",VLOOKUP(I676,Parámetros!I$11:$P$13,MAX(Parámetros!I$7:$P$7),FALSE))","v":""},{"$f":"IF(J676=\"\",\"\",VLOOKUP(J676,Parámetros!J$11:$P$13,MAX(Parámetros!J$7:$P$7),FALSE))","v":""},{"$f":"IF(K676=\"\",\"\",VLOOKUP(K676,Parámetros!K$11:$P$13,MAX(Parámetros!K$7:$P$7),FALSE))","v":""},{"$f":"IF(L676=\"\",\"\",VLOOKUP(L676,Parámetros!L$11:$P$13,MAX(Parámetros!L$7:$P$7),FALSE))","v":""},{"$f":"IF(M676=\"\",\"\",VLOOKUP(M676,Parámetros!M$11:$P$13,MAX(Parámetros!M$7:$P$7),FALSE))","v":""},{"$f":"IF(N676=\"\",\"\",VLOOKUP(N676,Parámetros!N$11:$P$13,MAX(Parámetros!N$7:$P$7),FALSE))","v":""},{"$f":"IF(O676=\"\",\"\",VLOOKUP(O676,Parámetros!O$11:$P$13,MAX(Parámetros!O$7:$P$7),FALSE))","v":""},""]
[null,null,null,{"$f":"IF(E677=\"\",\"\",VLOOKUP(E677,'Buenas prácticas'!$G$8:$H$1007,2,FALSE))","v":""},null,null,null,null,null,null,null,null,null,null,null,{"$f":"IF(F677=\"\",\"\",VLOOKUP(F677,Parámetros!F$11:$P$13,MAX(Parámetros!F$7:$P$7),FALSE))","v":""},{"$f":"IF(G677=\"\",\"\",VLOOKUP(G677,Parámetros!G$11:$P$13,MAX(Parámetros!G$7:$P$7),FALSE))","v":""},{"$f":"IF(H677=\"\",\"\",VLOOKUP(H677,Parámetros!H$11:$P$13,MAX(Parámetros!H$7:$P$7),FALSE))","v":""},{"$f":"IF(I677=\"\",\"\",VLOOKUP(I677,Parámetros!I$11:$P$13,MAX(Parámetros!I$7:$P$7),FALSE))","v":""},{"$f":"IF(J677=\"\",\"\",VLOOKUP(J677,Parámetros!J$11:$P$13,MAX(Parámetros!J$7:$P$7),FALSE))","v":""},{"$f":"IF(K677=\"\",\"\",VLOOKUP(K677,Parámetros!K$11:$P$13,MAX(Parámetros!K$7:$P$7),FALSE))","v":""},{"$f":"IF(L677=\"\",\"\",VLOOKUP(L677,Parámetros!L$11:$P$13,MAX(Parámetros!L$7:$P$7),FALSE))","v":""},{"$f":"IF(M677=\"\",\"\",VLOOKUP(M677,Parámetros!M$11:$P$13,MAX(Parámetros!M$7:$P$7),FALSE))","v":""},{"$f":"IF(N677=\"\",\"\",VLOOKUP(N677,Parámetros!N$11:$P$13,MAX(Parámetros!N$7:$P$7),FALSE))","v":""},{"$f":"IF(O677=\"\",\"\",VLOOKUP(O677,Parámetros!O$11:$P$13,MAX(Parámetros!O$7:$P$7),FALSE))","v":""},""]
[null,null,null,{"$f":"IF(E678=\"\",\"\",VLOOKUP(E678,'Buenas prácticas'!$G$8:$H$1007,2,FALSE))","v":""},null,null,null,null,null,null,null,null,null,null,null,{"$f":"IF(F678=\"\",\"\",VLOOKUP(F678,Parámetros!F$11:$P$13,MAX(Parámetros!F$7:$P$7),FALSE))","v":""},{"$f":"IF(G678=\"\",\"\",VLOOKUP(G678,Parámetros!G$11:$P$13,MAX(Parámetros!G$7:$P$7),FALSE))","v":""},{"$f":"IF(H678=\"\",\"\",VLOOKUP(H678,Parámetros!H$11:$P$13,MAX(Parámetros!H$7:$P$7),FALSE))","v":""},{"$f":"IF(I678=\"\",\"\",VLOOKUP(I678,Parámetros!I$11:$P$13,MAX(Parámetros!I$7:$P$7),FALSE))","v":""},{"$f":"IF(J678=\"\",\"\",VLOOKUP(J678,Parámetros!J$11:$P$13,MAX(Parámetros!J$7:$P$7),FALSE))","v":""},{"$f":"IF(K678=\"\",\"\",VLOOKUP(K678,Parámetros!K$11:$P$13,MAX(Parámetros!K$7:$P$7),FALSE))","v":""},{"$f":"IF(L678=\"\",\"\",VLOOKUP(L678,Parámetros!L$11:$P$13,MAX(Parámetros!L$7:$P$7),FALSE))","v":""},{"$f":"IF(M678=\"\",\"\",VLOOKUP(M678,Parámetros!M$11:$P$13,MAX(Parámetros!M$7:$P$7),FALSE))","v":""},{"$f":"IF(N678=\"\",\"\",VLOOKUP(N678,Parámetros!N$11:$P$13,MAX(Parámetros!N$7:$P$7),FALSE))","v":""},{"$f":"IF(O678=\"\",\"\",VLOOKUP(O678,Parámetros!O$11:$P$13,MAX(Parámetros!O$7:$P$7),FALSE))","v":""},""]
[null,null,null,{"$f":"IF(E679=\"\",\"\",VLOOKUP(E679,'Buenas prácticas'!$G$8:$H$1007,2,FALSE))","v":""},null,null,null,null,null,null,null,null,null,null,null,{"$f":"IF(F679=\"\",\"\",VLOOKUP(F679,Parámetros!F$11:$P$13,MAX(Parámetros!F$7:$P$7),FALSE))","v":""},{"$f":"IF(G679=\"\",\"\",VLOOKUP(G679,Parámetros!G$11:$P$13,MAX(Parámetros!G$7:$P$7),FALSE))","v":""},{"$f":"IF(H679=\"\",\"\",VLOOKUP(H679,Parámetros!H$11:$P$13,MAX(Parámetros!H$7:$P$7),FALSE))","v":""},{"$f":"IF(I679=\"\",\"\",VLOOKUP(I679,Parámetros!I$11:$P$13,MAX(Parámetros!I$7:$P$7),FALSE))","v":""},{"$f":"IF(J679=\"\",\"\",VLOOKUP(J679,Parámetros!J$11:$P$13,MAX(Parámetros!J$7:$P$7),FALSE))","v":""},{"$f":"IF(K679=\"\",\"\",VLOOKUP(K679,Parámetros!K$11:$P$13,MAX(Parámetros!K$7:$P$7),FALSE))","v":""},{"$f":"IF(L679=\"\",\"\",VLOOKUP(L679,Parámetros!L$11:$P$13,MAX(Parámetros!L$7:$P$7),FALSE))","v":""},{"$f":"IF(M679=\"\",\"\",VLOOKUP(M679,Parámetros!M$11:$P$13,MAX(Parámetros!M$7:$P$7),FALSE))","v":""},{"$f":"IF(N679=\"\",\"\",VLOOKUP(N679,Parámetros!N$11:$P$13,MAX(Parámetros!N$7:$P$7),FALSE))","v":""},{"$f":"IF(O679=\"\",\"\",VLOOKUP(O679,Parámetros!O$11:$P$13,MAX(Parámetros!O$7:$P$7),FALSE))","v":""},""]
[null,null,null,{"$f":"IF(E680=\"\",\"\",VLOOKUP(E680,'Buenas prácticas'!$G$8:$H$1007,2,FALSE))","v":""},null,null,null,null,null,null,null,null,null,null,null,{"$f":"IF(F680=\"\",\"\",VLOOKUP(F680,Parámetros!F$11:$P$13,MAX(Parámetros!F$7:$P$7),FALSE))","v":""},{"$f":"IF(G680=\"\",\"\",VLOOKUP(G680,Parámetros!G$11:$P$13,MAX(Parámetros!G$7:$P$7),FALSE))","v":""},{"$f":"IF(H680=\"\",\"\",VLOOKUP(H680,Parámetros!H$11:$P$13,MAX(Parámetros!H$7:$P$7),FALSE))","v":""},{"$f":"IF(I680=\"\",\"\",VLOOKUP(I680,Parámetros!I$11:$P$13,MAX(Parámetros!I$7:$P$7),FALSE))","v":""},{"$f":"IF(J680=\"\",\"\",VLOOKUP(J680,Parámetros!J$11:$P$13,MAX(Parámetros!J$7:$P$7),FALSE))","v":""},{"$f":"IF(K680=\"\",\"\",VLOOKUP(K680,Parámetros!K$11:$P$13,MAX(Parámetros!K$7:$P$7),FALSE))","v":""},{"$f":"IF(L680=\"\",\"\",VLOOKUP(L680,Parámetros!L$11:$P$13,MAX(Parámetros!L$7:$P$7),FALSE))","v":""},{"$f":"IF(M680=\"\",\"\",VLOOKUP(M680,Parámetros!M$11:$P$13,MAX(Parámetros!M$7:$P$7),FALSE))","v":""},{"$f":"IF(N680=\"\",\"\",VLOOKUP(N680,Parámetros!N$11:$P$13,MAX(Parámetros!N$7:$P$7),FALSE))","v":""},{"$f":"IF(O680=\"\",\"\",VLOOKUP(O680,Parámetros!O$11:$P$13,MAX(Parámetros!O$7:$P$7),FALSE))","v":""},""]
[null,null,null,{"$f":"IF(E681=\"\",\"\",VLOOKUP(E681,'Buenas prácticas'!$G$8:$H$1007,2,FALSE))","v":""},null,null,null,null,null,null,null,null,null,null,null,{"$f":"IF(F681=\"\",\"\",VLOOKUP(F681,Parámetros!F$11:$P$13,MAX(Parámetros!F$7:$P$7),FALSE))","v":""},{"$f":"IF(G681=\"\",\"\",VLOOKUP(G681,Parámetros!G$11:$P$13,MAX(Parámetros!G$7:$P$7),FALSE))","v":""},{"$f":"IF(H681=\"\",\"\",VLOOKUP(H681,Parámetros!H$11:$P$13,MAX(Parámetros!H$7:$P$7),FALSE))","v":""},{"$f":"IF(I681=\"\",\"\",VLOOKUP(I681,Parámetros!I$11:$P$13,MAX(Parámetros!I$7:$P$7),FALSE))","v":""},{"$f":"IF(J681=\"\",\"\",VLOOKUP(J681,Parámetros!J$11:$P$13,MAX(Parámetros!J$7:$P$7),FALSE))","v":""},{"$f":"IF(K681=\"\",\"\",VLOOKUP(K681,Parámetros!K$11:$P$13,MAX(Parámetros!K$7:$P$7),FALSE))","v":""},{"$f":"IF(L681=\"\",\"\",VLOOKUP(L681,Parámetros!L$11:$P$13,MAX(Parámetros!L$7:$P$7),FALSE))","v":""},{"$f":"IF(M681=\"\",\"\",VLOOKUP(M681,Parámetros!M$11:$P$13,MAX(Parámetros!M$7:$P$7),FALSE))","v":""},{"$f":"IF(N681=\"\",\"\",VLOOKUP(N681,Parámetros!N$11:$P$13,MAX(Parámetros!N$7:$P$7),FALSE))","v":""},{"$f":"IF(O681=\"\",\"\",VLOOKUP(O681,Parámetros!O$11:$P$13,MAX(Parámetros!O$7:$P$7),FALSE))","v":""},""]
[null,null,null,{"$f":"IF(E682=\"\",\"\",VLOOKUP(E682,'Buenas prácticas'!$G$8:$H$1007,2,FALSE))","v":""},null,null,null,null,null,null,null,null,null,null,null,{"$f":"IF(F682=\"\",\"\",VLOOKUP(F682,Parámetros!F$11:$P$13,MAX(Parámetros!F$7:$P$7),FALSE))","v":""},{"$f":"IF(G682=\"\",\"\",VLOOKUP(G682,Parámetros!G$11:$P$13,MAX(Parámetros!G$7:$P$7),FALSE))","v":""},{"$f":"IF(H682=\"\",\"\",VLOOKUP(H682,Parámetros!H$11:$P$13,MAX(Parámetros!H$7:$P$7),FALSE))","v":""},{"$f":"IF(I682=\"\",\"\",VLOOKUP(I682,Parámetros!I$11:$P$13,MAX(Parámetros!I$7:$P$7),FALSE))","v":""},{"$f":"IF(J682=\"\",\"\",VLOOKUP(J682,Parámetros!J$11:$P$13,MAX(Parámetros!J$7:$P$7),FALSE))","v":""},{"$f":"IF(K682=\"\",\"\",VLOOKUP(K682,Parámetros!K$11:$P$13,MAX(Parámetros!K$7:$P$7),FALSE))","v":""},{"$f":"IF(L682=\"\",\"\",VLOOKUP(L682,Parámetros!L$11:$P$13,MAX(Parámetros!L$7:$P$7),FALSE))","v":""},{"$f":"IF(M682=\"\",\"\",VLOOKUP(M682,Parámetros!M$11:$P$13,MAX(Parámetros!M$7:$P$7),FALSE))","v":""},{"$f":"IF(N682=\"\",\"\",VLOOKUP(N682,Parámetros!N$11:$P$13,MAX(Parámetros!N$7:$P$7),FALSE))","v":""},{"$f":"IF(O682=\"\",\"\",VLOOKUP(O682,Parámetros!O$11:$P$13,MAX(Parámetros!O$7:$P$7),FALSE))","v":""},""]
[null,null,null,{"$f":"IF(E683=\"\",\"\",VLOOKUP(E683,'Buenas prácticas'!$G$8:$H$1007,2,FALSE))","v":""},null,null,null,null,null,null,null,null,null,null,null,{"$f":"IF(F683=\"\",\"\",VLOOKUP(F683,Parámetros!F$11:$P$13,MAX(Parámetros!F$7:$P$7),FALSE))","v":""},{"$f":"IF(G683=\"\",\"\",VLOOKUP(G683,Parámetros!G$11:$P$13,MAX(Parámetros!G$7:$P$7),FALSE))","v":""},{"$f":"IF(H683=\"\",\"\",VLOOKUP(H683,Parámetros!H$11:$P$13,MAX(Parámetros!H$7:$P$7),FALSE))","v":""},{"$f":"IF(I683=\"\",\"\",VLOOKUP(I683,Parámetros!I$11:$P$13,MAX(Parámetros!I$7:$P$7),FALSE))","v":""},{"$f":"IF(J683=\"\",\"\",VLOOKUP(J683,Parámetros!J$11:$P$13,MAX(Parámetros!J$7:$P$7),FALSE))","v":""},{"$f":"IF(K683=\"\",\"\",VLOOKUP(K683,Parámetros!K$11:$P$13,MAX(Parámetros!K$7:$P$7),FALSE))","v":""},{"$f":"IF(L683=\"\",\"\",VLOOKUP(L683,Parámetros!L$11:$P$13,MAX(Parámetros!L$7:$P$7),FALSE))","v":""},{"$f":"IF(M683=\"\",\"\",VLOOKUP(M683,Parámetros!M$11:$P$13,MAX(Parámetros!M$7:$P$7),FALSE))","v":""},{"$f":"IF(N683=\"\",\"\",VLOOKUP(N683,Parámetros!N$11:$P$13,MAX(Parámetros!N$7:$P$7),FALSE))","v":""},{"$f":"IF(O683=\"\",\"\",VLOOKUP(O683,Parámetros!O$11:$P$13,MAX(Parámetros!O$7:$P$7),FALSE))","v":""},""]
[null,null,null,{"$f":"IF(E684=\"\",\"\",VLOOKUP(E684,'Buenas prácticas'!$G$8:$H$1007,2,FALSE))","v":""},null,null,null,null,null,null,null,null,null,null,null,{"$f":"IF(F684=\"\",\"\",VLOOKUP(F684,Parámetros!F$11:$P$13,MAX(Parámetros!F$7:$P$7),FALSE))","v":""},{"$f":"IF(G684=\"\",\"\",VLOOKUP(G684,Parámetros!G$11:$P$13,MAX(Parámetros!G$7:$P$7),FALSE))","v":""},{"$f":"IF(H684=\"\",\"\",VLOOKUP(H684,Parámetros!H$11:$P$13,MAX(Parámetros!H$7:$P$7),FALSE))","v":""},{"$f":"IF(I684=\"\",\"\",VLOOKUP(I684,Parámetros!I$11:$P$13,MAX(Parámetros!I$7:$P$7),FALSE))","v":""},{"$f":"IF(J684=\"\",\"\",VLOOKUP(J684,Parámetros!J$11:$P$13,MAX(Parámetros!J$7:$P$7),FALSE))","v":""},{"$f":"IF(K684=\"\",\"\",VLOOKUP(K684,Parámetros!K$11:$P$13,MAX(Parámetros!K$7:$P$7),FALSE))","v":""},{"$f":"IF(L684=\"\",\"\",VLOOKUP(L684,Parámetros!L$11:$P$13,MAX(Parámetros!L$7:$P$7),FALSE))","v":""},{"$f":"IF(M684=\"\",\"\",VLOOKUP(M684,Parámetros!M$11:$P$13,MAX(Parámetros!M$7:$P$7),FALSE))","v":""},{"$f":"IF(N684=\"\",\"\",VLOOKUP(N684,Parámetros!N$11:$P$13,MAX(Parámetros!N$7:$P$7),FALSE))","v":""},{"$f":"IF(O684=\"\",\"\",VLOOKUP(O684,Parámetros!O$11:$P$13,MAX(Parámetros!O$7:$P$7),FALSE))","v":""},""]
[null,null,null,{"$f":"IF(E685=\"\",\"\",VLOOKUP(E685,'Buenas prácticas'!$G$8:$H$1007,2,FALSE))","v":""},null,null,null,null,null,null,null,null,null,null,null,{"$f":"IF(F685=\"\",\"\",VLOOKUP(F685,Parámetros!F$11:$P$13,MAX(Parámetros!F$7:$P$7),FALSE))","v":""},{"$f":"IF(G685=\"\",\"\",VLOOKUP(G685,Parámetros!G$11:$P$13,MAX(Parámetros!G$7:$P$7),FALSE))","v":""},{"$f":"IF(H685=\"\",\"\",VLOOKUP(H685,Parámetros!H$11:$P$13,MAX(Parámetros!H$7:$P$7),FALSE))","v":""},{"$f":"IF(I685=\"\",\"\",VLOOKUP(I685,Parámetros!I$11:$P$13,MAX(Parámetros!I$7:$P$7),FALSE))","v":""},{"$f":"IF(J685=\"\",\"\",VLOOKUP(J685,Parámetros!J$11:$P$13,MAX(Parámetros!J$7:$P$7),FALSE))","v":""},{"$f":"IF(K685=\"\",\"\",VLOOKUP(K685,Parámetros!K$11:$P$13,MAX(Parámetros!K$7:$P$7),FALSE))","v":""},{"$f":"IF(L685=\"\",\"\",VLOOKUP(L685,Parámetros!L$11:$P$13,MAX(Parámetros!L$7:$P$7),FALSE))","v":""},{"$f":"IF(M685=\"\",\"\",VLOOKUP(M685,Parámetros!M$11:$P$13,MAX(Parámetros!M$7:$P$7),FALSE))","v":""},{"$f":"IF(N685=\"\",\"\",VLOOKUP(N685,Parámetros!N$11:$P$13,MAX(Parámetros!N$7:$P$7),FALSE))","v":""},{"$f":"IF(O685=\"\",\"\",VLOOKUP(O685,Parámetros!O$11:$P$13,MAX(Parámetros!O$7:$P$7),FALSE))","v":""},""]
[null,null,null,{"$f":"IF(E686=\"\",\"\",VLOOKUP(E686,'Buenas prácticas'!$G$8:$H$1007,2,FALSE))","v":""},null,null,null,null,null,null,null,null,null,null,null,{"$f":"IF(F686=\"\",\"\",VLOOKUP(F686,Parámetros!F$11:$P$13,MAX(Parámetros!F$7:$P$7),FALSE))","v":""},{"$f":"IF(G686=\"\",\"\",VLOOKUP(G686,Parámetros!G$11:$P$13,MAX(Parámetros!G$7:$P$7),FALSE))","v":""},{"$f":"IF(H686=\"\",\"\",VLOOKUP(H686,Parámetros!H$11:$P$13,MAX(Parámetros!H$7:$P$7),FALSE))","v":""},{"$f":"IF(I686=\"\",\"\",VLOOKUP(I686,Parámetros!I$11:$P$13,MAX(Parámetros!I$7:$P$7),FALSE))","v":""},{"$f":"IF(J686=\"\",\"\",VLOOKUP(J686,Parámetros!J$11:$P$13,MAX(Parámetros!J$7:$P$7),FALSE))","v":""},{"$f":"IF(K686=\"\",\"\",VLOOKUP(K686,Parámetros!K$11:$P$13,MAX(Parámetros!K$7:$P$7),FALSE))","v":""},{"$f":"IF(L686=\"\",\"\",VLOOKUP(L686,Parámetros!L$11:$P$13,MAX(Parámetros!L$7:$P$7),FALSE))","v":""},{"$f":"IF(M686=\"\",\"\",VLOOKUP(M686,Parámetros!M$11:$P$13,MAX(Parámetros!M$7:$P$7),FALSE))","v":""},{"$f":"IF(N686=\"\",\"\",VLOOKUP(N686,Parámetros!N$11:$P$13,MAX(Parámetros!N$7:$P$7),FALSE))","v":""},{"$f":"IF(O686=\"\",\"\",VLOOKUP(O686,Parámetros!O$11:$P$13,MAX(Parámetros!O$7:$P$7),FALSE))","v":""},""]
[null,null,null,{"$f":"IF(E687=\"\",\"\",VLOOKUP(E687,'Buenas prácticas'!$G$8:$H$1007,2,FALSE))","v":""},null,null,null,null,null,null,null,null,null,null,null,{"$f":"IF(F687=\"\",\"\",VLOOKUP(F687,Parámetros!F$11:$P$13,MAX(Parámetros!F$7:$P$7),FALSE))","v":""},{"$f":"IF(G687=\"\",\"\",VLOOKUP(G687,Parámetros!G$11:$P$13,MAX(Parámetros!G$7:$P$7),FALSE))","v":""},{"$f":"IF(H687=\"\",\"\",VLOOKUP(H687,Parámetros!H$11:$P$13,MAX(Parámetros!H$7:$P$7),FALSE))","v":""},{"$f":"IF(I687=\"\",\"\",VLOOKUP(I687,Parámetros!I$11:$P$13,MAX(Parámetros!I$7:$P$7),FALSE))","v":""},{"$f":"IF(J687=\"\",\"\",VLOOKUP(J687,Parámetros!J$11:$P$13,MAX(Parámetros!J$7:$P$7),FALSE))","v":""},{"$f":"IF(K687=\"\",\"\",VLOOKUP(K687,Parámetros!K$11:$P$13,MAX(Parámetros!K$7:$P$7),FALSE))","v":""},{"$f":"IF(L687=\"\",\"\",VLOOKUP(L687,Parámetros!L$11:$P$13,MAX(Parámetros!L$7:$P$7),FALSE))","v":""},{"$f":"IF(M687=\"\",\"\",VLOOKUP(M687,Parámetros!M$11:$P$13,MAX(Parámetros!M$7:$P$7),FALSE))","v":""},{"$f":"IF(N687=\"\",\"\",VLOOKUP(N687,Parámetros!N$11:$P$13,MAX(Parámetros!N$7:$P$7),FALSE))","v":""},{"$f":"IF(O687=\"\",\"\",VLOOKUP(O687,Parámetros!O$11:$P$13,MAX(Parámetros!O$7:$P$7),FALSE))","v":""},""]
[null,null,null,{"$f":"IF(E688=\"\",\"\",VLOOKUP(E688,'Buenas prácticas'!$G$8:$H$1007,2,FALSE))","v":""},null,null,null,null,null,null,null,null,null,null,null,{"$f":"IF(F688=\"\",\"\",VLOOKUP(F688,Parámetros!F$11:$P$13,MAX(Parámetros!F$7:$P$7),FALSE))","v":""},{"$f":"IF(G688=\"\",\"\",VLOOKUP(G688,Parámetros!G$11:$P$13,MAX(Parámetros!G$7:$P$7),FALSE))","v":""},{"$f":"IF(H688=\"\",\"\",VLOOKUP(H688,Parámetros!H$11:$P$13,MAX(Parámetros!H$7:$P$7),FALSE))","v":""},{"$f":"IF(I688=\"\",\"\",VLOOKUP(I688,Parámetros!I$11:$P$13,MAX(Parámetros!I$7:$P$7),FALSE))","v":""},{"$f":"IF(J688=\"\",\"\",VLOOKUP(J688,Parámetros!J$11:$P$13,MAX(Parámetros!J$7:$P$7),FALSE))","v":""},{"$f":"IF(K688=\"\",\"\",VLOOKUP(K688,Parámetros!K$11:$P$13,MAX(Parámetros!K$7:$P$7),FALSE))","v":""},{"$f":"IF(L688=\"\",\"\",VLOOKUP(L688,Parámetros!L$11:$P$13,MAX(Parámetros!L$7:$P$7),FALSE))","v":""},{"$f":"IF(M688=\"\",\"\",VLOOKUP(M688,Parámetros!M$11:$P$13,MAX(Parámetros!M$7:$P$7),FALSE))","v":""},{"$f":"IF(N688=\"\",\"\",VLOOKUP(N688,Parámetros!N$11:$P$13,MAX(Parámetros!N$7:$P$7),FALSE))","v":""},{"$f":"IF(O688=\"\",\"\",VLOOKUP(O688,Parámetros!O$11:$P$13,MAX(Parámetros!O$7:$P$7),FALSE))","v":""},""]
[null,null,null,{"$f":"IF(E689=\"\",\"\",VLOOKUP(E689,'Buenas prácticas'!$G$8:$H$1007,2,FALSE))","v":""},null,null,null,null,null,null,null,null,null,null,null,{"$f":"IF(F689=\"\",\"\",VLOOKUP(F689,Parámetros!F$11:$P$13,MAX(Parámetros!F$7:$P$7),FALSE))","v":""},{"$f":"IF(G689=\"\",\"\",VLOOKUP(G689,Parámetros!G$11:$P$13,MAX(Parámetros!G$7:$P$7),FALSE))","v":""},{"$f":"IF(H689=\"\",\"\",VLOOKUP(H689,Parámetros!H$11:$P$13,MAX(Parámetros!H$7:$P$7),FALSE))","v":""},{"$f":"IF(I689=\"\",\"\",VLOOKUP(I689,Parámetros!I$11:$P$13,MAX(Parámetros!I$7:$P$7),FALSE))","v":""},{"$f":"IF(J689=\"\",\"\",VLOOKUP(J689,Parámetros!J$11:$P$13,MAX(Parámetros!J$7:$P$7),FALSE))","v":""},{"$f":"IF(K689=\"\",\"\",VLOOKUP(K689,Parámetros!K$11:$P$13,MAX(Parámetros!K$7:$P$7),FALSE))","v":""},{"$f":"IF(L689=\"\",\"\",VLOOKUP(L689,Parámetros!L$11:$P$13,MAX(Parámetros!L$7:$P$7),FALSE))","v":""},{"$f":"IF(M689=\"\",\"\",VLOOKUP(M689,Parámetros!M$11:$P$13,MAX(Parámetros!M$7:$P$7),FALSE))","v":""},{"$f":"IF(N689=\"\",\"\",VLOOKUP(N689,Parámetros!N$11:$P$13,MAX(Parámetros!N$7:$P$7),FALSE))","v":""},{"$f":"IF(O689=\"\",\"\",VLOOKUP(O689,Parámetros!O$11:$P$13,MAX(Parámetros!O$7:$P$7),FALSE))","v":""},""]
[null,null,null,{"$f":"IF(E690=\"\",\"\",VLOOKUP(E690,'Buenas prácticas'!$G$8:$H$1007,2,FALSE))","v":""},null,null,null,null,null,null,null,null,null,null,null,{"$f":"IF(F690=\"\",\"\",VLOOKUP(F690,Parámetros!F$11:$P$13,MAX(Parámetros!F$7:$P$7),FALSE))","v":""},{"$f":"IF(G690=\"\",\"\",VLOOKUP(G690,Parámetros!G$11:$P$13,MAX(Parámetros!G$7:$P$7),FALSE))","v":""},{"$f":"IF(H690=\"\",\"\",VLOOKUP(H690,Parámetros!H$11:$P$13,MAX(Parámetros!H$7:$P$7),FALSE))","v":""},{"$f":"IF(I690=\"\",\"\",VLOOKUP(I690,Parámetros!I$11:$P$13,MAX(Parámetros!I$7:$P$7),FALSE))","v":""},{"$f":"IF(J690=\"\",\"\",VLOOKUP(J690,Parámetros!J$11:$P$13,MAX(Parámetros!J$7:$P$7),FALSE))","v":""},{"$f":"IF(K690=\"\",\"\",VLOOKUP(K690,Parámetros!K$11:$P$13,MAX(Parámetros!K$7:$P$7),FALSE))","v":""},{"$f":"IF(L690=\"\",\"\",VLOOKUP(L690,Parámetros!L$11:$P$13,MAX(Parámetros!L$7:$P$7),FALSE))","v":""},{"$f":"IF(M690=\"\",\"\",VLOOKUP(M690,Parámetros!M$11:$P$13,MAX(Parámetros!M$7:$P$7),FALSE))","v":""},{"$f":"IF(N690=\"\",\"\",VLOOKUP(N690,Parámetros!N$11:$P$13,MAX(Parámetros!N$7:$P$7),FALSE))","v":""},{"$f":"IF(O690=\"\",\"\",VLOOKUP(O690,Parámetros!O$11:$P$13,MAX(Parámetros!O$7:$P$7),FALSE))","v":""},""]
[null,null,null,{"$f":"IF(E691=\"\",\"\",VLOOKUP(E691,'Buenas prácticas'!$G$8:$H$1007,2,FALSE))","v":""},null,null,null,null,null,null,null,null,null,null,null,{"$f":"IF(F691=\"\",\"\",VLOOKUP(F691,Parámetros!F$11:$P$13,MAX(Parámetros!F$7:$P$7),FALSE))","v":""},{"$f":"IF(G691=\"\",\"\",VLOOKUP(G691,Parámetros!G$11:$P$13,MAX(Parámetros!G$7:$P$7),FALSE))","v":""},{"$f":"IF(H691=\"\",\"\",VLOOKUP(H691,Parámetros!H$11:$P$13,MAX(Parámetros!H$7:$P$7),FALSE))","v":""},{"$f":"IF(I691=\"\",\"\",VLOOKUP(I691,Parámetros!I$11:$P$13,MAX(Parámetros!I$7:$P$7),FALSE))","v":""},{"$f":"IF(J691=\"\",\"\",VLOOKUP(J691,Parámetros!J$11:$P$13,MAX(Parámetros!J$7:$P$7),FALSE))","v":""},{"$f":"IF(K691=\"\",\"\",VLOOKUP(K691,Parámetros!K$11:$P$13,MAX(Parámetros!K$7:$P$7),FALSE))","v":""},{"$f":"IF(L691=\"\",\"\",VLOOKUP(L691,Parámetros!L$11:$P$13,MAX(Parámetros!L$7:$P$7),FALSE))","v":""},{"$f":"IF(M691=\"\",\"\",VLOOKUP(M691,Parámetros!M$11:$P$13,MAX(Parámetros!M$7:$P$7),FALSE))","v":""},{"$f":"IF(N691=\"\",\"\",VLOOKUP(N691,Parámetros!N$11:$P$13,MAX(Parámetros!N$7:$P$7),FALSE))","v":""},{"$f":"IF(O691=\"\",\"\",VLOOKUP(O691,Parámetros!O$11:$P$13,MAX(Parámetros!O$7:$P$7),FALSE))","v":""},""]
[null,null,null,{"$f":"IF(E692=\"\",\"\",VLOOKUP(E692,'Buenas prácticas'!$G$8:$H$1007,2,FALSE))","v":""},null,null,null,null,null,null,null,null,null,null,null,{"$f":"IF(F692=\"\",\"\",VLOOKUP(F692,Parámetros!F$11:$P$13,MAX(Parámetros!F$7:$P$7),FALSE))","v":""},{"$f":"IF(G692=\"\",\"\",VLOOKUP(G692,Parámetros!G$11:$P$13,MAX(Parámetros!G$7:$P$7),FALSE))","v":""},{"$f":"IF(H692=\"\",\"\",VLOOKUP(H692,Parámetros!H$11:$P$13,MAX(Parámetros!H$7:$P$7),FALSE))","v":""},{"$f":"IF(I692=\"\",\"\",VLOOKUP(I692,Parámetros!I$11:$P$13,MAX(Parámetros!I$7:$P$7),FALSE))","v":""},{"$f":"IF(J692=\"\",\"\",VLOOKUP(J692,Parámetros!J$11:$P$13,MAX(Parámetros!J$7:$P$7),FALSE))","v":""},{"$f":"IF(K692=\"\",\"\",VLOOKUP(K692,Parámetros!K$11:$P$13,MAX(Parámetros!K$7:$P$7),FALSE))","v":""},{"$f":"IF(L692=\"\",\"\",VLOOKUP(L692,Parámetros!L$11:$P$13,MAX(Parámetros!L$7:$P$7),FALSE))","v":""},{"$f":"IF(M692=\"\",\"\",VLOOKUP(M692,Parámetros!M$11:$P$13,MAX(Parámetros!M$7:$P$7),FALSE))","v":""},{"$f":"IF(N692=\"\",\"\",VLOOKUP(N692,Parámetros!N$11:$P$13,MAX(Parámetros!N$7:$P$7),FALSE))","v":""},{"$f":"IF(O692=\"\",\"\",VLOOKUP(O692,Parámetros!O$11:$P$13,MAX(Parámetros!O$7:$P$7),FALSE))","v":""},""]
[null,null,null,{"$f":"IF(E693=\"\",\"\",VLOOKUP(E693,'Buenas prácticas'!$G$8:$H$1007,2,FALSE))","v":""},null,null,null,null,null,null,null,null,null,null,null,{"$f":"IF(F693=\"\",\"\",VLOOKUP(F693,Parámetros!F$11:$P$13,MAX(Parámetros!F$7:$P$7),FALSE))","v":""},{"$f":"IF(G693=\"\",\"\",VLOOKUP(G693,Parámetros!G$11:$P$13,MAX(Parámetros!G$7:$P$7),FALSE))","v":""},{"$f":"IF(H693=\"\",\"\",VLOOKUP(H693,Parámetros!H$11:$P$13,MAX(Parámetros!H$7:$P$7),FALSE))","v":""},{"$f":"IF(I693=\"\",\"\",VLOOKUP(I693,Parámetros!I$11:$P$13,MAX(Parámetros!I$7:$P$7),FALSE))","v":""},{"$f":"IF(J693=\"\",\"\",VLOOKUP(J693,Parámetros!J$11:$P$13,MAX(Parámetros!J$7:$P$7),FALSE))","v":""},{"$f":"IF(K693=\"\",\"\",VLOOKUP(K693,Parámetros!K$11:$P$13,MAX(Parámetros!K$7:$P$7),FALSE))","v":""},{"$f":"IF(L693=\"\",\"\",VLOOKUP(L693,Parámetros!L$11:$P$13,MAX(Parámetros!L$7:$P$7),FALSE))","v":""},{"$f":"IF(M693=\"\",\"\",VLOOKUP(M693,Parámetros!M$11:$P$13,MAX(Parámetros!M$7:$P$7),FALSE))","v":""},{"$f":"IF(N693=\"\",\"\",VLOOKUP(N693,Parámetros!N$11:$P$13,MAX(Parámetros!N$7:$P$7),FALSE))","v":""},{"$f":"IF(O693=\"\",\"\",VLOOKUP(O693,Parámetros!O$11:$P$13,MAX(Parámetros!O$7:$P$7),FALSE))","v":""},""]
[null,null,null,{"$f":"IF(E694=\"\",\"\",VLOOKUP(E694,'Buenas prácticas'!$G$8:$H$1007,2,FALSE))","v":""},null,null,null,null,null,null,null,null,null,null,null,{"$f":"IF(F694=\"\",\"\",VLOOKUP(F694,Parámetros!F$11:$P$13,MAX(Parámetros!F$7:$P$7),FALSE))","v":""},{"$f":"IF(G694=\"\",\"\",VLOOKUP(G694,Parámetros!G$11:$P$13,MAX(Parámetros!G$7:$P$7),FALSE))","v":""},{"$f":"IF(H694=\"\",\"\",VLOOKUP(H694,Parámetros!H$11:$P$13,MAX(Parámetros!H$7:$P$7),FALSE))","v":""},{"$f":"IF(I694=\"\",\"\",VLOOKUP(I694,Parámetros!I$11:$P$13,MAX(Parámetros!I$7:$P$7),FALSE))","v":""},{"$f":"IF(J694=\"\",\"\",VLOOKUP(J694,Parámetros!J$11:$P$13,MAX(Parámetros!J$7:$P$7),FALSE))","v":""},{"$f":"IF(K694=\"\",\"\",VLOOKUP(K694,Parámetros!K$11:$P$13,MAX(Parámetros!K$7:$P$7),FALSE))","v":""},{"$f":"IF(L694=\"\",\"\",VLOOKUP(L694,Parámetros!L$11:$P$13,MAX(Parámetros!L$7:$P$7),FALSE))","v":""},{"$f":"IF(M694=\"\",\"\",VLOOKUP(M694,Parámetros!M$11:$P$13,MAX(Parámetros!M$7:$P$7),FALSE))","v":""},{"$f":"IF(N694=\"\",\"\",VLOOKUP(N694,Parámetros!N$11:$P$13,MAX(Parámetros!N$7:$P$7),FALSE))","v":""},{"$f":"IF(O694=\"\",\"\",VLOOKUP(O694,Parámetros!O$11:$P$13,MAX(Parámetros!O$7:$P$7),FALSE))","v":""},""]
[null,null,null,{"$f":"IF(E695=\"\",\"\",VLOOKUP(E695,'Buenas prácticas'!$G$8:$H$1007,2,FALSE))","v":""},null,null,null,null,null,null,null,null,null,null,null,{"$f":"IF(F695=\"\",\"\",VLOOKUP(F695,Parámetros!F$11:$P$13,MAX(Parámetros!F$7:$P$7),FALSE))","v":""},{"$f":"IF(G695=\"\",\"\",VLOOKUP(G695,Parámetros!G$11:$P$13,MAX(Parámetros!G$7:$P$7),FALSE))","v":""},{"$f":"IF(H695=\"\",\"\",VLOOKUP(H695,Parámetros!H$11:$P$13,MAX(Parámetros!H$7:$P$7),FALSE))","v":""},{"$f":"IF(I695=\"\",\"\",VLOOKUP(I695,Parámetros!I$11:$P$13,MAX(Parámetros!I$7:$P$7),FALSE))","v":""},{"$f":"IF(J695=\"\",\"\",VLOOKUP(J695,Parámetros!J$11:$P$13,MAX(Parámetros!J$7:$P$7),FALSE))","v":""},{"$f":"IF(K695=\"\",\"\",VLOOKUP(K695,Parámetros!K$11:$P$13,MAX(Parámetros!K$7:$P$7),FALSE))","v":""},{"$f":"IF(L695=\"\",\"\",VLOOKUP(L695,Parámetros!L$11:$P$13,MAX(Parámetros!L$7:$P$7),FALSE))","v":""},{"$f":"IF(M695=\"\",\"\",VLOOKUP(M695,Parámetros!M$11:$P$13,MAX(Parámetros!M$7:$P$7),FALSE))","v":""},{"$f":"IF(N695=\"\",\"\",VLOOKUP(N695,Parámetros!N$11:$P$13,MAX(Parámetros!N$7:$P$7),FALSE))","v":""},{"$f":"IF(O695=\"\",\"\",VLOOKUP(O695,Parámetros!O$11:$P$13,MAX(Parámetros!O$7:$P$7),FALSE))","v":""},""]
[null,null,null,{"$f":"IF(E696=\"\",\"\",VLOOKUP(E696,'Buenas prácticas'!$G$8:$H$1007,2,FALSE))","v":""},null,null,null,null,null,null,null,null,null,null,null,{"$f":"IF(F696=\"\",\"\",VLOOKUP(F696,Parámetros!F$11:$P$13,MAX(Parámetros!F$7:$P$7),FALSE))","v":""},{"$f":"IF(G696=\"\",\"\",VLOOKUP(G696,Parámetros!G$11:$P$13,MAX(Parámetros!G$7:$P$7),FALSE))","v":""},{"$f":"IF(H696=\"\",\"\",VLOOKUP(H696,Parámetros!H$11:$P$13,MAX(Parámetros!H$7:$P$7),FALSE))","v":""},{"$f":"IF(I696=\"\",\"\",VLOOKUP(I696,Parámetros!I$11:$P$13,MAX(Parámetros!I$7:$P$7),FALSE))","v":""},{"$f":"IF(J696=\"\",\"\",VLOOKUP(J696,Parámetros!J$11:$P$13,MAX(Parámetros!J$7:$P$7),FALSE))","v":""},{"$f":"IF(K696=\"\",\"\",VLOOKUP(K696,Parámetros!K$11:$P$13,MAX(Parámetros!K$7:$P$7),FALSE))","v":""},{"$f":"IF(L696=\"\",\"\",VLOOKUP(L696,Parámetros!L$11:$P$13,MAX(Parámetros!L$7:$P$7),FALSE))","v":""},{"$f":"IF(M696=\"\",\"\",VLOOKUP(M696,Parámetros!M$11:$P$13,MAX(Parámetros!M$7:$P$7),FALSE))","v":""},{"$f":"IF(N696=\"\",\"\",VLOOKUP(N696,Parámetros!N$11:$P$13,MAX(Parámetros!N$7:$P$7),FALSE))","v":""},{"$f":"IF(O696=\"\",\"\",VLOOKUP(O696,Parámetros!O$11:$P$13,MAX(Parámetros!O$7:$P$7),FALSE))","v":""},""]
[null,null,null,{"$f":"IF(E697=\"\",\"\",VLOOKUP(E697,'Buenas prácticas'!$G$8:$H$1007,2,FALSE))","v":""},null,null,null,null,null,null,null,null,null,null,null,{"$f":"IF(F697=\"\",\"\",VLOOKUP(F697,Parámetros!F$11:$P$13,MAX(Parámetros!F$7:$P$7),FALSE))","v":""},{"$f":"IF(G697=\"\",\"\",VLOOKUP(G697,Parámetros!G$11:$P$13,MAX(Parámetros!G$7:$P$7),FALSE))","v":""},{"$f":"IF(H697=\"\",\"\",VLOOKUP(H697,Parámetros!H$11:$P$13,MAX(Parámetros!H$7:$P$7),FALSE))","v":""},{"$f":"IF(I697=\"\",\"\",VLOOKUP(I697,Parámetros!I$11:$P$13,MAX(Parámetros!I$7:$P$7),FALSE))","v":""},{"$f":"IF(J697=\"\",\"\",VLOOKUP(J697,Parámetros!J$11:$P$13,MAX(Parámetros!J$7:$P$7),FALSE))","v":""},{"$f":"IF(K697=\"\",\"\",VLOOKUP(K697,Parámetros!K$11:$P$13,MAX(Parámetros!K$7:$P$7),FALSE))","v":""},{"$f":"IF(L697=\"\",\"\",VLOOKUP(L697,Parámetros!L$11:$P$13,MAX(Parámetros!L$7:$P$7),FALSE))","v":""},{"$f":"IF(M697=\"\",\"\",VLOOKUP(M697,Parámetros!M$11:$P$13,MAX(Parámetros!M$7:$P$7),FALSE))","v":""},{"$f":"IF(N697=\"\",\"\",VLOOKUP(N697,Parámetros!N$11:$P$13,MAX(Parámetros!N$7:$P$7),FALSE))","v":""},{"$f":"IF(O697=\"\",\"\",VLOOKUP(O697,Parámetros!O$11:$P$13,MAX(Parámetros!O$7:$P$7),FALSE))","v":""},""]
[null,null,null,{"$f":"IF(E698=\"\",\"\",VLOOKUP(E698,'Buenas prácticas'!$G$8:$H$1007,2,FALSE))","v":""},null,null,null,null,null,null,null,null,null,null,null,{"$f":"IF(F698=\"\",\"\",VLOOKUP(F698,Parámetros!F$11:$P$13,MAX(Parámetros!F$7:$P$7),FALSE))","v":""},{"$f":"IF(G698=\"\",\"\",VLOOKUP(G698,Parámetros!G$11:$P$13,MAX(Parámetros!G$7:$P$7),FALSE))","v":""},{"$f":"IF(H698=\"\",\"\",VLOOKUP(H698,Parámetros!H$11:$P$13,MAX(Parámetros!H$7:$P$7),FALSE))","v":""},{"$f":"IF(I698=\"\",\"\",VLOOKUP(I698,Parámetros!I$11:$P$13,MAX(Parámetros!I$7:$P$7),FALSE))","v":""},{"$f":"IF(J698=\"\",\"\",VLOOKUP(J698,Parámetros!J$11:$P$13,MAX(Parámetros!J$7:$P$7),FALSE))","v":""},{"$f":"IF(K698=\"\",\"\",VLOOKUP(K698,Parámetros!K$11:$P$13,MAX(Parámetros!K$7:$P$7),FALSE))","v":""},{"$f":"IF(L698=\"\",\"\",VLOOKUP(L698,Parámetros!L$11:$P$13,MAX(Parámetros!L$7:$P$7),FALSE))","v":""},{"$f":"IF(M698=\"\",\"\",VLOOKUP(M698,Parámetros!M$11:$P$13,MAX(Parámetros!M$7:$P$7),FALSE))","v":""},{"$f":"IF(N698=\"\",\"\",VLOOKUP(N698,Parámetros!N$11:$P$13,MAX(Parámetros!N$7:$P$7),FALSE))","v":""},{"$f":"IF(O698=\"\",\"\",VLOOKUP(O698,Parámetros!O$11:$P$13,MAX(Parámetros!O$7:$P$7),FALSE))","v":""},""]
[null,null,null,{"$f":"IF(E699=\"\",\"\",VLOOKUP(E699,'Buenas prácticas'!$G$8:$H$1007,2,FALSE))","v":""},null,null,null,null,null,null,null,null,null,null,null,{"$f":"IF(F699=\"\",\"\",VLOOKUP(F699,Parámetros!F$11:$P$13,MAX(Parámetros!F$7:$P$7),FALSE))","v":""},{"$f":"IF(G699=\"\",\"\",VLOOKUP(G699,Parámetros!G$11:$P$13,MAX(Parámetros!G$7:$P$7),FALSE))","v":""},{"$f":"IF(H699=\"\",\"\",VLOOKUP(H699,Parámetros!H$11:$P$13,MAX(Parámetros!H$7:$P$7),FALSE))","v":""},{"$f":"IF(I699=\"\",\"\",VLOOKUP(I699,Parámetros!I$11:$P$13,MAX(Parámetros!I$7:$P$7),FALSE))","v":""},{"$f":"IF(J699=\"\",\"\",VLOOKUP(J699,Parámetros!J$11:$P$13,MAX(Parámetros!J$7:$P$7),FALSE))","v":""},{"$f":"IF(K699=\"\",\"\",VLOOKUP(K699,Parámetros!K$11:$P$13,MAX(Parámetros!K$7:$P$7),FALSE))","v":""},{"$f":"IF(L699=\"\",\"\",VLOOKUP(L699,Parámetros!L$11:$P$13,MAX(Parámetros!L$7:$P$7),FALSE))","v":""},{"$f":"IF(M699=\"\",\"\",VLOOKUP(M699,Parámetros!M$11:$P$13,MAX(Parámetros!M$7:$P$7),FALSE))","v":""},{"$f":"IF(N699=\"\",\"\",VLOOKUP(N699,Parámetros!N$11:$P$13,MAX(Parámetros!N$7:$P$7),FALSE))","v":""},{"$f":"IF(O699=\"\",\"\",VLOOKUP(O699,Parámetros!O$11:$P$13,MAX(Parámetros!O$7:$P$7),FALSE))","v":""},""]
[null,null,null,{"$f":"IF(E700=\"\",\"\",VLOOKUP(E700,'Buenas prácticas'!$G$8:$H$1007,2,FALSE))","v":""},null,null,null,null,null,null,null,null,null,null,null,{"$f":"IF(F700=\"\",\"\",VLOOKUP(F700,Parámetros!F$11:$P$13,MAX(Parámetros!F$7:$P$7),FALSE))","v":""},{"$f":"IF(G700=\"\",\"\",VLOOKUP(G700,Parámetros!G$11:$P$13,MAX(Parámetros!G$7:$P$7),FALSE))","v":""},{"$f":"IF(H700=\"\",\"\",VLOOKUP(H700,Parámetros!H$11:$P$13,MAX(Parámetros!H$7:$P$7),FALSE))","v":""},{"$f":"IF(I700=\"\",\"\",VLOOKUP(I700,Parámetros!I$11:$P$13,MAX(Parámetros!I$7:$P$7),FALSE))","v":""},{"$f":"IF(J700=\"\",\"\",VLOOKUP(J700,Parámetros!J$11:$P$13,MAX(Parámetros!J$7:$P$7),FALSE))","v":""},{"$f":"IF(K700=\"\",\"\",VLOOKUP(K700,Parámetros!K$11:$P$13,MAX(Parámetros!K$7:$P$7),FALSE))","v":""},{"$f":"IF(L700=\"\",\"\",VLOOKUP(L700,Parámetros!L$11:$P$13,MAX(Parámetros!L$7:$P$7),FALSE))","v":""},{"$f":"IF(M700=\"\",\"\",VLOOKUP(M700,Parámetros!M$11:$P$13,MAX(Parámetros!M$7:$P$7),FALSE))","v":""},{"$f":"IF(N700=\"\",\"\",VLOOKUP(N700,Parámetros!N$11:$P$13,MAX(Parámetros!N$7:$P$7),FALSE))","v":""},{"$f":"IF(O700=\"\",\"\",VLOOKUP(O700,Parámetros!O$11:$P$13,MAX(Parámetros!O$7:$P$7),FALSE))","v":""},""]
[null,null,null,{"$f":"IF(E701=\"\",\"\",VLOOKUP(E701,'Buenas prácticas'!$G$8:$H$1007,2,FALSE))","v":""},null,null,null,null,null,null,null,null,null,null,null,{"$f":"IF(F701=\"\",\"\",VLOOKUP(F701,Parámetros!F$11:$P$13,MAX(Parámetros!F$7:$P$7),FALSE))","v":""},{"$f":"IF(G701=\"\",\"\",VLOOKUP(G701,Parámetros!G$11:$P$13,MAX(Parámetros!G$7:$P$7),FALSE))","v":""},{"$f":"IF(H701=\"\",\"\",VLOOKUP(H701,Parámetros!H$11:$P$13,MAX(Parámetros!H$7:$P$7),FALSE))","v":""},{"$f":"IF(I701=\"\",\"\",VLOOKUP(I701,Parámetros!I$11:$P$13,MAX(Parámetros!I$7:$P$7),FALSE))","v":""},{"$f":"IF(J701=\"\",\"\",VLOOKUP(J701,Parámetros!J$11:$P$13,MAX(Parámetros!J$7:$P$7),FALSE))","v":""},{"$f":"IF(K701=\"\",\"\",VLOOKUP(K701,Parámetros!K$11:$P$13,MAX(Parámetros!K$7:$P$7),FALSE))","v":""},{"$f":"IF(L701=\"\",\"\",VLOOKUP(L701,Parámetros!L$11:$P$13,MAX(Parámetros!L$7:$P$7),FALSE))","v":""},{"$f":"IF(M701=\"\",\"\",VLOOKUP(M701,Parámetros!M$11:$P$13,MAX(Parámetros!M$7:$P$7),FALSE))","v":""},{"$f":"IF(N701=\"\",\"\",VLOOKUP(N701,Parámetros!N$11:$P$13,MAX(Parámetros!N$7:$P$7),FALSE))","v":""},{"$f":"IF(O701=\"\",\"\",VLOOKUP(O701,Parámetros!O$11:$P$13,MAX(Parámetros!O$7:$P$7),FALSE))","v":""},""]
[null,null,null,{"$f":"IF(E702=\"\",\"\",VLOOKUP(E702,'Buenas prácticas'!$G$8:$H$1007,2,FALSE))","v":""},null,null,null,null,null,null,null,null,null,null,null,{"$f":"IF(F702=\"\",\"\",VLOOKUP(F702,Parámetros!F$11:$P$13,MAX(Parámetros!F$7:$P$7),FALSE))","v":""},{"$f":"IF(G702=\"\",\"\",VLOOKUP(G702,Parámetros!G$11:$P$13,MAX(Parámetros!G$7:$P$7),FALSE))","v":""},{"$f":"IF(H702=\"\",\"\",VLOOKUP(H702,Parámetros!H$11:$P$13,MAX(Parámetros!H$7:$P$7),FALSE))","v":""},{"$f":"IF(I702=\"\",\"\",VLOOKUP(I702,Parámetros!I$11:$P$13,MAX(Parámetros!I$7:$P$7),FALSE))","v":""},{"$f":"IF(J702=\"\",\"\",VLOOKUP(J702,Parámetros!J$11:$P$13,MAX(Parámetros!J$7:$P$7),FALSE))","v":""},{"$f":"IF(K702=\"\",\"\",VLOOKUP(K702,Parámetros!K$11:$P$13,MAX(Parámetros!K$7:$P$7),FALSE))","v":""},{"$f":"IF(L702=\"\",\"\",VLOOKUP(L702,Parámetros!L$11:$P$13,MAX(Parámetros!L$7:$P$7),FALSE))","v":""},{"$f":"IF(M702=\"\",\"\",VLOOKUP(M702,Parámetros!M$11:$P$13,MAX(Parámetros!M$7:$P$7),FALSE))","v":""},{"$f":"IF(N702=\"\",\"\",VLOOKUP(N702,Parámetros!N$11:$P$13,MAX(Parámetros!N$7:$P$7),FALSE))","v":""},{"$f":"IF(O702=\"\",\"\",VLOOKUP(O702,Parámetros!O$11:$P$13,MAX(Parámetros!O$7:$P$7),FALSE))","v":""},""]
[null,null,null,{"$f":"IF(E703=\"\",\"\",VLOOKUP(E703,'Buenas prácticas'!$G$8:$H$1007,2,FALSE))","v":""},null,null,null,null,null,null,null,null,null,null,null,{"$f":"IF(F703=\"\",\"\",VLOOKUP(F703,Parámetros!F$11:$P$13,MAX(Parámetros!F$7:$P$7),FALSE))","v":""},{"$f":"IF(G703=\"\",\"\",VLOOKUP(G703,Parámetros!G$11:$P$13,MAX(Parámetros!G$7:$P$7),FALSE))","v":""},{"$f":"IF(H703=\"\",\"\",VLOOKUP(H703,Parámetros!H$11:$P$13,MAX(Parámetros!H$7:$P$7),FALSE))","v":""},{"$f":"IF(I703=\"\",\"\",VLOOKUP(I703,Parámetros!I$11:$P$13,MAX(Parámetros!I$7:$P$7),FALSE))","v":""},{"$f":"IF(J703=\"\",\"\",VLOOKUP(J703,Parámetros!J$11:$P$13,MAX(Parámetros!J$7:$P$7),FALSE))","v":""},{"$f":"IF(K703=\"\",\"\",VLOOKUP(K703,Parámetros!K$11:$P$13,MAX(Parámetros!K$7:$P$7),FALSE))","v":""},{"$f":"IF(L703=\"\",\"\",VLOOKUP(L703,Parámetros!L$11:$P$13,MAX(Parámetros!L$7:$P$7),FALSE))","v":""},{"$f":"IF(M703=\"\",\"\",VLOOKUP(M703,Parámetros!M$11:$P$13,MAX(Parámetros!M$7:$P$7),FALSE))","v":""},{"$f":"IF(N703=\"\",\"\",VLOOKUP(N703,Parámetros!N$11:$P$13,MAX(Parámetros!N$7:$P$7),FALSE))","v":""},{"$f":"IF(O703=\"\",\"\",VLOOKUP(O703,Parámetros!O$11:$P$13,MAX(Parámetros!O$7:$P$7),FALSE))","v":""},""]
[null,null,null,{"$f":"IF(E704=\"\",\"\",VLOOKUP(E704,'Buenas prácticas'!$G$8:$H$1007,2,FALSE))","v":""},null,null,null,null,null,null,null,null,null,null,null,{"$f":"IF(F704=\"\",\"\",VLOOKUP(F704,Parámetros!F$11:$P$13,MAX(Parámetros!F$7:$P$7),FALSE))","v":""},{"$f":"IF(G704=\"\",\"\",VLOOKUP(G704,Parámetros!G$11:$P$13,MAX(Parámetros!G$7:$P$7),FALSE))","v":""},{"$f":"IF(H704=\"\",\"\",VLOOKUP(H704,Parámetros!H$11:$P$13,MAX(Parámetros!H$7:$P$7),FALSE))","v":""},{"$f":"IF(I704=\"\",\"\",VLOOKUP(I704,Parámetros!I$11:$P$13,MAX(Parámetros!I$7:$P$7),FALSE))","v":""},{"$f":"IF(J704=\"\",\"\",VLOOKUP(J704,Parámetros!J$11:$P$13,MAX(Parámetros!J$7:$P$7),FALSE))","v":""},{"$f":"IF(K704=\"\",\"\",VLOOKUP(K704,Parámetros!K$11:$P$13,MAX(Parámetros!K$7:$P$7),FALSE))","v":""},{"$f":"IF(L704=\"\",\"\",VLOOKUP(L704,Parámetros!L$11:$P$13,MAX(Parámetros!L$7:$P$7),FALSE))","v":""},{"$f":"IF(M704=\"\",\"\",VLOOKUP(M704,Parámetros!M$11:$P$13,MAX(Parámetros!M$7:$P$7),FALSE))","v":""},{"$f":"IF(N704=\"\",\"\",VLOOKUP(N704,Parámetros!N$11:$P$13,MAX(Parámetros!N$7:$P$7),FALSE))","v":""},{"$f":"IF(O704=\"\",\"\",VLOOKUP(O704,Parámetros!O$11:$P$13,MAX(Parámetros!O$7:$P$7),FALSE))","v":""},""]
[null,null,null,{"$f":"IF(E705=\"\",\"\",VLOOKUP(E705,'Buenas prácticas'!$G$8:$H$1007,2,FALSE))","v":""},null,null,null,null,null,null,null,null,null,null,null,{"$f":"IF(F705=\"\",\"\",VLOOKUP(F705,Parámetros!F$11:$P$13,MAX(Parámetros!F$7:$P$7),FALSE))","v":""},{"$f":"IF(G705=\"\",\"\",VLOOKUP(G705,Parámetros!G$11:$P$13,MAX(Parámetros!G$7:$P$7),FALSE))","v":""},{"$f":"IF(H705=\"\",\"\",VLOOKUP(H705,Parámetros!H$11:$P$13,MAX(Parámetros!H$7:$P$7),FALSE))","v":""},{"$f":"IF(I705=\"\",\"\",VLOOKUP(I705,Parámetros!I$11:$P$13,MAX(Parámetros!I$7:$P$7),FALSE))","v":""},{"$f":"IF(J705=\"\",\"\",VLOOKUP(J705,Parámetros!J$11:$P$13,MAX(Parámetros!J$7:$P$7),FALSE))","v":""},{"$f":"IF(K705=\"\",\"\",VLOOKUP(K705,Parámetros!K$11:$P$13,MAX(Parámetros!K$7:$P$7),FALSE))","v":""},{"$f":"IF(L705=\"\",\"\",VLOOKUP(L705,Parámetros!L$11:$P$13,MAX(Parámetros!L$7:$P$7),FALSE))","v":""},{"$f":"IF(M705=\"\",\"\",VLOOKUP(M705,Parámetros!M$11:$P$13,MAX(Parámetros!M$7:$P$7),FALSE))","v":""},{"$f":"IF(N705=\"\",\"\",VLOOKUP(N705,Parámetros!N$11:$P$13,MAX(Parámetros!N$7:$P$7),FALSE))","v":""},{"$f":"IF(O705=\"\",\"\",VLOOKUP(O705,Parámetros!O$11:$P$13,MAX(Parámetros!O$7:$P$7),FALSE))","v":""},""]
[null,null,null,{"$f":"IF(E706=\"\",\"\",VLOOKUP(E706,'Buenas prácticas'!$G$8:$H$1007,2,FALSE))","v":""},null,null,null,null,null,null,null,null,null,null,null,{"$f":"IF(F706=\"\",\"\",VLOOKUP(F706,Parámetros!F$11:$P$13,MAX(Parámetros!F$7:$P$7),FALSE))","v":""},{"$f":"IF(G706=\"\",\"\",VLOOKUP(G706,Parámetros!G$11:$P$13,MAX(Parámetros!G$7:$P$7),FALSE))","v":""},{"$f":"IF(H706=\"\",\"\",VLOOKUP(H706,Parámetros!H$11:$P$13,MAX(Parámetros!H$7:$P$7),FALSE))","v":""},{"$f":"IF(I706=\"\",\"\",VLOOKUP(I706,Parámetros!I$11:$P$13,MAX(Parámetros!I$7:$P$7),FALSE))","v":""},{"$f":"IF(J706=\"\",\"\",VLOOKUP(J706,Parámetros!J$11:$P$13,MAX(Parámetros!J$7:$P$7),FALSE))","v":""},{"$f":"IF(K706=\"\",\"\",VLOOKUP(K706,Parámetros!K$11:$P$13,MAX(Parámetros!K$7:$P$7),FALSE))","v":""},{"$f":"IF(L706=\"\",\"\",VLOOKUP(L706,Parámetros!L$11:$P$13,MAX(Parámetros!L$7:$P$7),FALSE))","v":""},{"$f":"IF(M706=\"\",\"\",VLOOKUP(M706,Parámetros!M$11:$P$13,MAX(Parámetros!M$7:$P$7),FALSE))","v":""},{"$f":"IF(N706=\"\",\"\",VLOOKUP(N706,Parámetros!N$11:$P$13,MAX(Parámetros!N$7:$P$7),FALSE))","v":""},{"$f":"IF(O706=\"\",\"\",VLOOKUP(O706,Parámetros!O$11:$P$13,MAX(Parámetros!O$7:$P$7),FALSE))","v":""},""]
[null,null,null,{"$f":"IF(E707=\"\",\"\",VLOOKUP(E707,'Buenas prácticas'!$G$8:$H$1007,2,FALSE))","v":""},null,null,null,null,null,null,null,null,null,null,null,{"$f":"IF(F707=\"\",\"\",VLOOKUP(F707,Parámetros!F$11:$P$13,MAX(Parámetros!F$7:$P$7),FALSE))","v":""},{"$f":"IF(G707=\"\",\"\",VLOOKUP(G707,Parámetros!G$11:$P$13,MAX(Parámetros!G$7:$P$7),FALSE))","v":""},{"$f":"IF(H707=\"\",\"\",VLOOKUP(H707,Parámetros!H$11:$P$13,MAX(Parámetros!H$7:$P$7),FALSE))","v":""},{"$f":"IF(I707=\"\",\"\",VLOOKUP(I707,Parámetros!I$11:$P$13,MAX(Parámetros!I$7:$P$7),FALSE))","v":""},{"$f":"IF(J707=\"\",\"\",VLOOKUP(J707,Parámetros!J$11:$P$13,MAX(Parámetros!J$7:$P$7),FALSE))","v":""},{"$f":"IF(K707=\"\",\"\",VLOOKUP(K707,Parámetros!K$11:$P$13,MAX(Parámetros!K$7:$P$7),FALSE))","v":""},{"$f":"IF(L707=\"\",\"\",VLOOKUP(L707,Parámetros!L$11:$P$13,MAX(Parámetros!L$7:$P$7),FALSE))","v":""},{"$f":"IF(M707=\"\",\"\",VLOOKUP(M707,Parámetros!M$11:$P$13,MAX(Parámetros!M$7:$P$7),FALSE))","v":""},{"$f":"IF(N707=\"\",\"\",VLOOKUP(N707,Parámetros!N$11:$P$13,MAX(Parámetros!N$7:$P$7),FALSE))","v":""},{"$f":"IF(O707=\"\",\"\",VLOOKUP(O707,Parámetros!O$11:$P$13,MAX(Parámetros!O$7:$P$7),FALSE))","v":""},""]
[null,null,null,{"$f":"IF(E708=\"\",\"\",VLOOKUP(E708,'Buenas prácticas'!$G$8:$H$1007,2,FALSE))","v":""},null,null,null,null,null,null,null,null,null,null,null,{"$f":"IF(F708=\"\",\"\",VLOOKUP(F708,Parámetros!F$11:$P$13,MAX(Parámetros!F$7:$P$7),FALSE))","v":""},{"$f":"IF(G708=\"\",\"\",VLOOKUP(G708,Parámetros!G$11:$P$13,MAX(Parámetros!G$7:$P$7),FALSE))","v":""},{"$f":"IF(H708=\"\",\"\",VLOOKUP(H708,Parámetros!H$11:$P$13,MAX(Parámetros!H$7:$P$7),FALSE))","v":""},{"$f":"IF(I708=\"\",\"\",VLOOKUP(I708,Parámetros!I$11:$P$13,MAX(Parámetros!I$7:$P$7),FALSE))","v":""},{"$f":"IF(J708=\"\",\"\",VLOOKUP(J708,Parámetros!J$11:$P$13,MAX(Parámetros!J$7:$P$7),FALSE))","v":""},{"$f":"IF(K708=\"\",\"\",VLOOKUP(K708,Parámetros!K$11:$P$13,MAX(Parámetros!K$7:$P$7),FALSE))","v":""},{"$f":"IF(L708=\"\",\"\",VLOOKUP(L708,Parámetros!L$11:$P$13,MAX(Parámetros!L$7:$P$7),FALSE))","v":""},{"$f":"IF(M708=\"\",\"\",VLOOKUP(M708,Parámetros!M$11:$P$13,MAX(Parámetros!M$7:$P$7),FALSE))","v":""},{"$f":"IF(N708=\"\",\"\",VLOOKUP(N708,Parámetros!N$11:$P$13,MAX(Parámetros!N$7:$P$7),FALSE))","v":""},{"$f":"IF(O708=\"\",\"\",VLOOKUP(O708,Parámetros!O$11:$P$13,MAX(Parámetros!O$7:$P$7),FALSE))","v":""},""]
[null,null,null,{"$f":"IF(E709=\"\",\"\",VLOOKUP(E709,'Buenas prácticas'!$G$8:$H$1007,2,FALSE))","v":""},null,null,null,null,null,null,null,null,null,null,null,{"$f":"IF(F709=\"\",\"\",VLOOKUP(F709,Parámetros!F$11:$P$13,MAX(Parámetros!F$7:$P$7),FALSE))","v":""},{"$f":"IF(G709=\"\",\"\",VLOOKUP(G709,Parámetros!G$11:$P$13,MAX(Parámetros!G$7:$P$7),FALSE))","v":""},{"$f":"IF(H709=\"\",\"\",VLOOKUP(H709,Parámetros!H$11:$P$13,MAX(Parámetros!H$7:$P$7),FALSE))","v":""},{"$f":"IF(I709=\"\",\"\",VLOOKUP(I709,Parámetros!I$11:$P$13,MAX(Parámetros!I$7:$P$7),FALSE))","v":""},{"$f":"IF(J709=\"\",\"\",VLOOKUP(J709,Parámetros!J$11:$P$13,MAX(Parámetros!J$7:$P$7),FALSE))","v":""},{"$f":"IF(K709=\"\",\"\",VLOOKUP(K709,Parámetros!K$11:$P$13,MAX(Parámetros!K$7:$P$7),FALSE))","v":""},{"$f":"IF(L709=\"\",\"\",VLOOKUP(L709,Parámetros!L$11:$P$13,MAX(Parámetros!L$7:$P$7),FALSE))","v":""},{"$f":"IF(M709=\"\",\"\",VLOOKUP(M709,Parámetros!M$11:$P$13,MAX(Parámetros!M$7:$P$7),FALSE))","v":""},{"$f":"IF(N709=\"\",\"\",VLOOKUP(N709,Parámetros!N$11:$P$13,MAX(Parámetros!N$7:$P$7),FALSE))","v":""},{"$f":"IF(O709=\"\",\"\",VLOOKUP(O709,Parámetros!O$11:$P$13,MAX(Parámetros!O$7:$P$7),FALSE))","v":""},""]
[null,null,null,{"$f":"IF(E710=\"\",\"\",VLOOKUP(E710,'Buenas prácticas'!$G$8:$H$1007,2,FALSE))","v":""},null,null,null,null,null,null,null,null,null,null,null,{"$f":"IF(F710=\"\",\"\",VLOOKUP(F710,Parámetros!F$11:$P$13,MAX(Parámetros!F$7:$P$7),FALSE))","v":""},{"$f":"IF(G710=\"\",\"\",VLOOKUP(G710,Parámetros!G$11:$P$13,MAX(Parámetros!G$7:$P$7),FALSE))","v":""},{"$f":"IF(H710=\"\",\"\",VLOOKUP(H710,Parámetros!H$11:$P$13,MAX(Parámetros!H$7:$P$7),FALSE))","v":""},{"$f":"IF(I710=\"\",\"\",VLOOKUP(I710,Parámetros!I$11:$P$13,MAX(Parámetros!I$7:$P$7),FALSE))","v":""},{"$f":"IF(J710=\"\",\"\",VLOOKUP(J710,Parámetros!J$11:$P$13,MAX(Parámetros!J$7:$P$7),FALSE))","v":""},{"$f":"IF(K710=\"\",\"\",VLOOKUP(K710,Parámetros!K$11:$P$13,MAX(Parámetros!K$7:$P$7),FALSE))","v":""},{"$f":"IF(L710=\"\",\"\",VLOOKUP(L710,Parámetros!L$11:$P$13,MAX(Parámetros!L$7:$P$7),FALSE))","v":""},{"$f":"IF(M710=\"\",\"\",VLOOKUP(M710,Parámetros!M$11:$P$13,MAX(Parámetros!M$7:$P$7),FALSE))","v":""},{"$f":"IF(N710=\"\",\"\",VLOOKUP(N710,Parámetros!N$11:$P$13,MAX(Parámetros!N$7:$P$7),FALSE))","v":""},{"$f":"IF(O710=\"\",\"\",VLOOKUP(O710,Parámetros!O$11:$P$13,MAX(Parámetros!O$7:$P$7),FALSE))","v":""},""]
[null,null,null,{"$f":"IF(E711=\"\",\"\",VLOOKUP(E711,'Buenas prácticas'!$G$8:$H$1007,2,FALSE))","v":""},null,null,null,null,null,null,null,null,null,null,null,{"$f":"IF(F711=\"\",\"\",VLOOKUP(F711,Parámetros!F$11:$P$13,MAX(Parámetros!F$7:$P$7),FALSE))","v":""},{"$f":"IF(G711=\"\",\"\",VLOOKUP(G711,Parámetros!G$11:$P$13,MAX(Parámetros!G$7:$P$7),FALSE))","v":""},{"$f":"IF(H711=\"\",\"\",VLOOKUP(H711,Parámetros!H$11:$P$13,MAX(Parámetros!H$7:$P$7),FALSE))","v":""},{"$f":"IF(I711=\"\",\"\",VLOOKUP(I711,Parámetros!I$11:$P$13,MAX(Parámetros!I$7:$P$7),FALSE))","v":""},{"$f":"IF(J711=\"\",\"\",VLOOKUP(J711,Parámetros!J$11:$P$13,MAX(Parámetros!J$7:$P$7),FALSE))","v":""},{"$f":"IF(K711=\"\",\"\",VLOOKUP(K711,Parámetros!K$11:$P$13,MAX(Parámetros!K$7:$P$7),FALSE))","v":""},{"$f":"IF(L711=\"\",\"\",VLOOKUP(L711,Parámetros!L$11:$P$13,MAX(Parámetros!L$7:$P$7),FALSE))","v":""},{"$f":"IF(M711=\"\",\"\",VLOOKUP(M711,Parámetros!M$11:$P$13,MAX(Parámetros!M$7:$P$7),FALSE))","v":""},{"$f":"IF(N711=\"\",\"\",VLOOKUP(N711,Parámetros!N$11:$P$13,MAX(Parámetros!N$7:$P$7),FALSE))","v":""},{"$f":"IF(O711=\"\",\"\",VLOOKUP(O711,Parámetros!O$11:$P$13,MAX(Parámetros!O$7:$P$7),FALSE))","v":""},""]
[null,null,null,{"$f":"IF(E712=\"\",\"\",VLOOKUP(E712,'Buenas prácticas'!$G$8:$H$1007,2,FALSE))","v":""},null,null,null,null,null,null,null,null,null,null,null,{"$f":"IF(F712=\"\",\"\",VLOOKUP(F712,Parámetros!F$11:$P$13,MAX(Parámetros!F$7:$P$7),FALSE))","v":""},{"$f":"IF(G712=\"\",\"\",VLOOKUP(G712,Parámetros!G$11:$P$13,MAX(Parámetros!G$7:$P$7),FALSE))","v":""},{"$f":"IF(H712=\"\",\"\",VLOOKUP(H712,Parámetros!H$11:$P$13,MAX(Parámetros!H$7:$P$7),FALSE))","v":""},{"$f":"IF(I712=\"\",\"\",VLOOKUP(I712,Parámetros!I$11:$P$13,MAX(Parámetros!I$7:$P$7),FALSE))","v":""},{"$f":"IF(J712=\"\",\"\",VLOOKUP(J712,Parámetros!J$11:$P$13,MAX(Parámetros!J$7:$P$7),FALSE))","v":""},{"$f":"IF(K712=\"\",\"\",VLOOKUP(K712,Parámetros!K$11:$P$13,MAX(Parámetros!K$7:$P$7),FALSE))","v":""},{"$f":"IF(L712=\"\",\"\",VLOOKUP(L712,Parámetros!L$11:$P$13,MAX(Parámetros!L$7:$P$7),FALSE))","v":""},{"$f":"IF(M712=\"\",\"\",VLOOKUP(M712,Parámetros!M$11:$P$13,MAX(Parámetros!M$7:$P$7),FALSE))","v":""},{"$f":"IF(N712=\"\",\"\",VLOOKUP(N712,Parámetros!N$11:$P$13,MAX(Parámetros!N$7:$P$7),FALSE))","v":""},{"$f":"IF(O712=\"\",\"\",VLOOKUP(O712,Parámetros!O$11:$P$13,MAX(Parámetros!O$7:$P$7),FALSE))","v":""},""]
[null,null,null,{"$f":"IF(E713=\"\",\"\",VLOOKUP(E713,'Buenas prácticas'!$G$8:$H$1007,2,FALSE))","v":""},null,null,null,null,null,null,null,null,null,null,null,{"$f":"IF(F713=\"\",\"\",VLOOKUP(F713,Parámetros!F$11:$P$13,MAX(Parámetros!F$7:$P$7),FALSE))","v":""},{"$f":"IF(G713=\"\",\"\",VLOOKUP(G713,Parámetros!G$11:$P$13,MAX(Parámetros!G$7:$P$7),FALSE))","v":""},{"$f":"IF(H713=\"\",\"\",VLOOKUP(H713,Parámetros!H$11:$P$13,MAX(Parámetros!H$7:$P$7),FALSE))","v":""},{"$f":"IF(I713=\"\",\"\",VLOOKUP(I713,Parámetros!I$11:$P$13,MAX(Parámetros!I$7:$P$7),FALSE))","v":""},{"$f":"IF(J713=\"\",\"\",VLOOKUP(J713,Parámetros!J$11:$P$13,MAX(Parámetros!J$7:$P$7),FALSE))","v":""},{"$f":"IF(K713=\"\",\"\",VLOOKUP(K713,Parámetros!K$11:$P$13,MAX(Parámetros!K$7:$P$7),FALSE))","v":""},{"$f":"IF(L713=\"\",\"\",VLOOKUP(L713,Parámetros!L$11:$P$13,MAX(Parámetros!L$7:$P$7),FALSE))","v":""},{"$f":"IF(M713=\"\",\"\",VLOOKUP(M713,Parámetros!M$11:$P$13,MAX(Parámetros!M$7:$P$7),FALSE))","v":""},{"$f":"IF(N713=\"\",\"\",VLOOKUP(N713,Parámetros!N$11:$P$13,MAX(Parámetros!N$7:$P$7),FALSE))","v":""},{"$f":"IF(O713=\"\",\"\",VLOOKUP(O713,Parámetros!O$11:$P$13,MAX(Parámetros!O$7:$P$7),FALSE))","v":""},{"$f":"IF(SUMPRODUCT($P713:$Y713,$P$6:$Y$6)=0,\"\",SUMPRODUCT($P713:$Y713,$P$6:$Y$6)/3)","v":""}]
[null,null,null,{"$f":"IF(E714=\"\",\"\",VLOOKUP(E714,'Buenas prácticas'!$G$8:$H$1007,2,FALSE))","v":""},null,null,null,null,null,null,null,null,null,null,null,{"$f":"IF(F714=\"\",\"\",VLOOKUP(F714,Parámetros!F$11:$P$13,MAX(Parámetros!F$7:$P$7),FALSE))","v":""},{"$f":"IF(G714=\"\",\"\",VLOOKUP(G714,Parámetros!G$11:$P$13,MAX(Parámetros!G$7:$P$7),FALSE))","v":""},{"$f":"IF(H714=\"\",\"\",VLOOKUP(H714,Parámetros!H$11:$P$13,MAX(Parámetros!H$7:$P$7),FALSE))","v":""},{"$f":"IF(I714=\"\",\"\",VLOOKUP(I714,Parámetros!I$11:$P$13,MAX(Parámetros!I$7:$P$7),FALSE))","v":""},{"$f":"IF(J714=\"\",\"\",VLOOKUP(J714,Parámetros!J$11:$P$13,MAX(Parámetros!J$7:$P$7),FALSE))","v":""},{"$f":"IF(K714=\"\",\"\",VLOOKUP(K714,Parámetros!K$11:$P$13,MAX(Parámetros!K$7:$P$7),FALSE))","v":""},{"$f":"IF(L714=\"\",\"\",VLOOKUP(L714,Parámetros!L$11:$P$13,MAX(Parámetros!L$7:$P$7),FALSE))","v":""},{"$f":"IF(M714=\"\",\"\",VLOOKUP(M714,Parámetros!M$11:$P$13,MAX(Parámetros!M$7:$P$7),FALSE))","v":""},{"$f":"IF(N714=\"\",\"\",VLOOKUP(N714,Parámetros!N$11:$P$13,MAX(Parámetros!N$7:$P$7),FALSE))","v":""},{"$f":"IF(O714=\"\",\"\",VLOOKUP(O714,Parámetros!O$11:$P$13,MAX(Parámetros!O$7:$P$7),FALSE))","v":""},""]
[null,null,null,{"$f":"IF(E715=\"\",\"\",VLOOKUP(E715,'Buenas prácticas'!$G$8:$H$1007,2,FALSE))","v":""},null,null,null,null,null,null,null,null,null,null,null,{"$f":"IF(F715=\"\",\"\",VLOOKUP(F715,Parámetros!F$11:$P$13,MAX(Parámetros!F$7:$P$7),FALSE))","v":""},{"$f":"IF(G715=\"\",\"\",VLOOKUP(G715,Parámetros!G$11:$P$13,MAX(Parámetros!G$7:$P$7),FALSE))","v":""},{"$f":"IF(H715=\"\",\"\",VLOOKUP(H715,Parámetros!H$11:$P$13,MAX(Parámetros!H$7:$P$7),FALSE))","v":""},{"$f":"IF(I715=\"\",\"\",VLOOKUP(I715,Parámetros!I$11:$P$13,MAX(Parámetros!I$7:$P$7),FALSE))","v":""},{"$f":"IF(J715=\"\",\"\",VLOOKUP(J715,Parámetros!J$11:$P$13,MAX(Parámetros!J$7:$P$7),FALSE))","v":""},{"$f":"IF(K715=\"\",\"\",VLOOKUP(K715,Parámetros!K$11:$P$13,MAX(Parámetros!K$7:$P$7),FALSE))","v":""},{"$f":"IF(L715=\"\",\"\",VLOOKUP(L715,Parámetros!L$11:$P$13,MAX(Parámetros!L$7:$P$7),FALSE))","v":""},{"$f":"IF(M715=\"\",\"\",VLOOKUP(M715,Parámetros!M$11:$P$13,MAX(Parámetros!M$7:$P$7),FALSE))","v":""},{"$f":"IF(N715=\"\",\"\",VLOOKUP(N715,Parámetros!N$11:$P$13,MAX(Parámetros!N$7:$P$7),FALSE))","v":""},{"$f":"IF(O715=\"\",\"\",VLOOKUP(O715,Parámetros!O$11:$P$13,MAX(Parámetros!O$7:$P$7),FALSE))","v":""},""]
[null,null,null,{"$f":"IF(E716=\"\",\"\",VLOOKUP(E716,'Buenas prácticas'!$G$8:$H$1007,2,FALSE))","v":""},null,null,null,null,null,null,null,null,null,null,null,{"$f":"IF(F716=\"\",\"\",VLOOKUP(F716,Parámetros!F$11:$P$13,MAX(Parámetros!F$7:$P$7),FALSE))","v":""},{"$f":"IF(G716=\"\",\"\",VLOOKUP(G716,Parámetros!G$11:$P$13,MAX(Parámetros!G$7:$P$7),FALSE))","v":""},{"$f":"IF(H716=\"\",\"\",VLOOKUP(H716,Parámetros!H$11:$P$13,MAX(Parámetros!H$7:$P$7),FALSE))","v":""},{"$f":"IF(I716=\"\",\"\",VLOOKUP(I716,Parámetros!I$11:$P$13,MAX(Parámetros!I$7:$P$7),FALSE))","v":""},{"$f":"IF(J716=\"\",\"\",VLOOKUP(J716,Parámetros!J$11:$P$13,MAX(Parámetros!J$7:$P$7),FALSE))","v":""},{"$f":"IF(K716=\"\",\"\",VLOOKUP(K716,Parámetros!K$11:$P$13,MAX(Parámetros!K$7:$P$7),FALSE))","v":""},{"$f":"IF(L716=\"\",\"\",VLOOKUP(L716,Parámetros!L$11:$P$13,MAX(Parámetros!L$7:$P$7),FALSE))","v":""},{"$f":"IF(M716=\"\",\"\",VLOOKUP(M716,Parámetros!M$11:$P$13,MAX(Parámetros!M$7:$P$7),FALSE))","v":""},{"$f":"IF(N716=\"\",\"\",VLOOKUP(N716,Parámetros!N$11:$P$13,MAX(Parámetros!N$7:$P$7),FALSE))","v":""},{"$f":"IF(O716=\"\",\"\",VLOOKUP(O716,Parámetros!O$11:$P$13,MAX(Parámetros!O$7:$P$7),FALSE))","v":""},""]
[null,null,null,{"$f":"IF(E717=\"\",\"\",VLOOKUP(E717,'Buenas prácticas'!$G$8:$H$1007,2,FALSE))","v":""},null,null,null,null,null,null,null,null,null,null,null,{"$f":"IF(F717=\"\",\"\",VLOOKUP(F717,Parámetros!F$11:$P$13,MAX(Parámetros!F$7:$P$7),FALSE))","v":""},{"$f":"IF(G717=\"\",\"\",VLOOKUP(G717,Parámetros!G$11:$P$13,MAX(Parámetros!G$7:$P$7),FALSE))","v":""},{"$f":"IF(H717=\"\",\"\",VLOOKUP(H717,Parámetros!H$11:$P$13,MAX(Parámetros!H$7:$P$7),FALSE))","v":""},{"$f":"IF(I717=\"\",\"\",VLOOKUP(I717,Parámetros!I$11:$P$13,MAX(Parámetros!I$7:$P$7),FALSE))","v":""},{"$f":"IF(J717=\"\",\"\",VLOOKUP(J717,Parámetros!J$11:$P$13,MAX(Parámetros!J$7:$P$7),FALSE))","v":""},{"$f":"IF(K717=\"\",\"\",VLOOKUP(K717,Parámetros!K$11:$P$13,MAX(Parámetros!K$7:$P$7),FALSE))","v":""},{"$f":"IF(L717=\"\",\"\",VLOOKUP(L717,Parámetros!L$11:$P$13,MAX(Parámetros!L$7:$P$7),FALSE))","v":""},{"$f":"IF(M717=\"\",\"\",VLOOKUP(M717,Parámetros!M$11:$P$13,MAX(Parámetros!M$7:$P$7),FALSE))","v":""},{"$f":"IF(N717=\"\",\"\",VLOOKUP(N717,Parámetros!N$11:$P$13,MAX(Parámetros!N$7:$P$7),FALSE))","v":""},{"$f":"IF(O717=\"\",\"\",VLOOKUP(O717,Parámetros!O$11:$P$13,MAX(Parámetros!O$7:$P$7),FALSE))","v":""},""]
[null,null,null,{"$f":"IF(E718=\"\",\"\",VLOOKUP(E718,'Buenas prácticas'!$G$8:$H$1007,2,FALSE))","v":""},null,null,null,null,null,null,null,null,null,null,null,{"$f":"IF(F718=\"\",\"\",VLOOKUP(F718,Parámetros!F$11:$P$13,MAX(Parámetros!F$7:$P$7),FALSE))","v":""},{"$f":"IF(G718=\"\",\"\",VLOOKUP(G718,Parámetros!G$11:$P$13,MAX(Parámetros!G$7:$P$7),FALSE))","v":""},{"$f":"IF(H718=\"\",\"\",VLOOKUP(H718,Parámetros!H$11:$P$13,MAX(Parámetros!H$7:$P$7),FALSE))","v":""},{"$f":"IF(I718=\"\",\"\",VLOOKUP(I718,Parámetros!I$11:$P$13,MAX(Parámetros!I$7:$P$7),FALSE))","v":""},{"$f":"IF(J718=\"\",\"\",VLOOKUP(J718,Parámetros!J$11:$P$13,MAX(Parámetros!J$7:$P$7),FALSE))","v":""},{"$f":"IF(K718=\"\",\"\",VLOOKUP(K718,Parámetros!K$11:$P$13,MAX(Parámetros!K$7:$P$7),FALSE))","v":""},{"$f":"IF(L718=\"\",\"\",VLOOKUP(L718,Parámetros!L$11:$P$13,MAX(Parámetros!L$7:$P$7),FALSE))","v":""},{"$f":"IF(M718=\"\",\"\",VLOOKUP(M718,Parámetros!M$11:$P$13,MAX(Parámetros!M$7:$P$7),FALSE))","v":""},{"$f":"IF(N718=\"\",\"\",VLOOKUP(N718,Parámetros!N$11:$P$13,MAX(Parámetros!N$7:$P$7),FALSE))","v":""},{"$f":"IF(O718=\"\",\"\",VLOOKUP(O718,Parámetros!O$11:$P$13,MAX(Parámetros!O$7:$P$7),FALSE))","v":""},""]
[null,null,null,{"$f":"IF(E719=\"\",\"\",VLOOKUP(E719,'Buenas prácticas'!$G$8:$H$1007,2,FALSE))","v":""},null,null,null,null,null,null,null,null,null,null,null,{"$f":"IF(F719=\"\",\"\",VLOOKUP(F719,Parámetros!F$11:$P$13,MAX(Parámetros!F$7:$P$7),FALSE))","v":""},{"$f":"IF(G719=\"\",\"\",VLOOKUP(G719,Parámetros!G$11:$P$13,MAX(Parámetros!G$7:$P$7),FALSE))","v":""},{"$f":"IF(H719=\"\",\"\",VLOOKUP(H719,Parámetros!H$11:$P$13,MAX(Parámetros!H$7:$P$7),FALSE))","v":""},{"$f":"IF(I719=\"\",\"\",VLOOKUP(I719,Parámetros!I$11:$P$13,MAX(Parámetros!I$7:$P$7),FALSE))","v":""},{"$f":"IF(J719=\"\",\"\",VLOOKUP(J719,Parámetros!J$11:$P$13,MAX(Parámetros!J$7:$P$7),FALSE))","v":""},{"$f":"IF(K719=\"\",\"\",VLOOKUP(K719,Parámetros!K$11:$P$13,MAX(Parámetros!K$7:$P$7),FALSE))","v":""},{"$f":"IF(L719=\"\",\"\",VLOOKUP(L719,Parámetros!L$11:$P$13,MAX(Parámetros!L$7:$P$7),FALSE))","v":""},{"$f":"IF(M719=\"\",\"\",VLOOKUP(M719,Parámetros!M$11:$P$13,MAX(Parámetros!M$7:$P$7),FALSE))","v":""},{"$f":"IF(N719=\"\",\"\",VLOOKUP(N719,Parámetros!N$11:$P$13,MAX(Parámetros!N$7:$P$7),FALSE))","v":""},{"$f":"IF(O719=\"\",\"\",VLOOKUP(O719,Parámetros!O$11:$P$13,MAX(Parámetros!O$7:$P$7),FALSE))","v":""},""]
[null,null,null,{"$f":"IF(E720=\"\",\"\",VLOOKUP(E720,'Buenas prácticas'!$G$8:$H$1007,2,FALSE))","v":""},null,null,null,null,null,null,null,null,null,null,null,{"$f":"IF(F720=\"\",\"\",VLOOKUP(F720,Parámetros!F$11:$P$13,MAX(Parámetros!F$7:$P$7),FALSE))","v":""},{"$f":"IF(G720=\"\",\"\",VLOOKUP(G720,Parámetros!G$11:$P$13,MAX(Parámetros!G$7:$P$7),FALSE))","v":""},{"$f":"IF(H720=\"\",\"\",VLOOKUP(H720,Parámetros!H$11:$P$13,MAX(Parámetros!H$7:$P$7),FALSE))","v":""},{"$f":"IF(I720=\"\",\"\",VLOOKUP(I720,Parámetros!I$11:$P$13,MAX(Parámetros!I$7:$P$7),FALSE))","v":""},{"$f":"IF(J720=\"\",\"\",VLOOKUP(J720,Parámetros!J$11:$P$13,MAX(Parámetros!J$7:$P$7),FALSE))","v":""},{"$f":"IF(K720=\"\",\"\",VLOOKUP(K720,Parámetros!K$11:$P$13,MAX(Parámetros!K$7:$P$7),FALSE))","v":""},{"$f":"IF(L720=\"\",\"\",VLOOKUP(L720,Parámetros!L$11:$P$13,MAX(Parámetros!L$7:$P$7),FALSE))","v":""},{"$f":"IF(M720=\"\",\"\",VLOOKUP(M720,Parámetros!M$11:$P$13,MAX(Parámetros!M$7:$P$7),FALSE))","v":""},{"$f":"IF(N720=\"\",\"\",VLOOKUP(N720,Parámetros!N$11:$P$13,MAX(Parámetros!N$7:$P$7),FALSE))","v":""},{"$f":"IF(O720=\"\",\"\",VLOOKUP(O720,Parámetros!O$11:$P$13,MAX(Parámetros!O$7:$P$7),FALSE))","v":""},""]
[null,null,null,{"$f":"IF(E721=\"\",\"\",VLOOKUP(E721,'Buenas prácticas'!$G$8:$H$1007,2,FALSE))","v":""},null,null,null,null,null,null,null,null,null,null,null,{"$f":"IF(F721=\"\",\"\",VLOOKUP(F721,Parámetros!F$11:$P$13,MAX(Parámetros!F$7:$P$7),FALSE))","v":""},{"$f":"IF(G721=\"\",\"\",VLOOKUP(G721,Parámetros!G$11:$P$13,MAX(Parámetros!G$7:$P$7),FALSE))","v":""},{"$f":"IF(H721=\"\",\"\",VLOOKUP(H721,Parámetros!H$11:$P$13,MAX(Parámetros!H$7:$P$7),FALSE))","v":""},{"$f":"IF(I721=\"\",\"\",VLOOKUP(I721,Parámetros!I$11:$P$13,MAX(Parámetros!I$7:$P$7),FALSE))","v":""},{"$f":"IF(J721=\"\",\"\",VLOOKUP(J721,Parámetros!J$11:$P$13,MAX(Parámetros!J$7:$P$7),FALSE))","v":""},{"$f":"IF(K721=\"\",\"\",VLOOKUP(K721,Parámetros!K$11:$P$13,MAX(Parámetros!K$7:$P$7),FALSE))","v":""},{"$f":"IF(L721=\"\",\"\",VLOOKUP(L721,Parámetros!L$11:$P$13,MAX(Parámetros!L$7:$P$7),FALSE))","v":""},{"$f":"IF(M721=\"\",\"\",VLOOKUP(M721,Parámetros!M$11:$P$13,MAX(Parámetros!M$7:$P$7),FALSE))","v":""},{"$f":"IF(N721=\"\",\"\",VLOOKUP(N721,Parámetros!N$11:$P$13,MAX(Parámetros!N$7:$P$7),FALSE))","v":""},{"$f":"IF(O721=\"\",\"\",VLOOKUP(O721,Parámetros!O$11:$P$13,MAX(Parámetros!O$7:$P$7),FALSE))","v":""},""]
[null,null,null,{"$f":"IF(E722=\"\",\"\",VLOOKUP(E722,'Buenas prácticas'!$G$8:$H$1007,2,FALSE))","v":""},null,null,null,null,null,null,null,null,null,null,null,{"$f":"IF(F722=\"\",\"\",VLOOKUP(F722,Parámetros!F$11:$P$13,MAX(Parámetros!F$7:$P$7),FALSE))","v":""},{"$f":"IF(G722=\"\",\"\",VLOOKUP(G722,Parámetros!G$11:$P$13,MAX(Parámetros!G$7:$P$7),FALSE))","v":""},{"$f":"IF(H722=\"\",\"\",VLOOKUP(H722,Parámetros!H$11:$P$13,MAX(Parámetros!H$7:$P$7),FALSE))","v":""},{"$f":"IF(I722=\"\",\"\",VLOOKUP(I722,Parámetros!I$11:$P$13,MAX(Parámetros!I$7:$P$7),FALSE))","v":""},{"$f":"IF(J722=\"\",\"\",VLOOKUP(J722,Parámetros!J$11:$P$13,MAX(Parámetros!J$7:$P$7),FALSE))","v":""},{"$f":"IF(K722=\"\",\"\",VLOOKUP(K722,Parámetros!K$11:$P$13,MAX(Parámetros!K$7:$P$7),FALSE))","v":""},{"$f":"IF(L722=\"\",\"\",VLOOKUP(L722,Parámetros!L$11:$P$13,MAX(Parámetros!L$7:$P$7),FALSE))","v":""},{"$f":"IF(M722=\"\",\"\",VLOOKUP(M722,Parámetros!M$11:$P$13,MAX(Parámetros!M$7:$P$7),FALSE))","v":""},{"$f":"IF(N722=\"\",\"\",VLOOKUP(N722,Parámetros!N$11:$P$13,MAX(Parámetros!N$7:$P$7),FALSE))","v":""},{"$f":"IF(O722=\"\",\"\",VLOOKUP(O722,Parámetros!O$11:$P$13,MAX(Parámetros!O$7:$P$7),FALSE))","v":""},""]
[null,null,null,{"$f":"IF(E723=\"\",\"\",VLOOKUP(E723,'Buenas prácticas'!$G$8:$H$1007,2,FALSE))","v":""},null,null,null,null,null,null,null,null,null,null,null,{"$f":"IF(F723=\"\",\"\",VLOOKUP(F723,Parámetros!F$11:$P$13,MAX(Parámetros!F$7:$P$7),FALSE))","v":""},{"$f":"IF(G723=\"\",\"\",VLOOKUP(G723,Parámetros!G$11:$P$13,MAX(Parámetros!G$7:$P$7),FALSE))","v":""},{"$f":"IF(H723=\"\",\"\",VLOOKUP(H723,Parámetros!H$11:$P$13,MAX(Parámetros!H$7:$P$7),FALSE))","v":""},{"$f":"IF(I723=\"\",\"\",VLOOKUP(I723,Parámetros!I$11:$P$13,MAX(Parámetros!I$7:$P$7),FALSE))","v":""},{"$f":"IF(J723=\"\",\"\",VLOOKUP(J723,Parámetros!J$11:$P$13,MAX(Parámetros!J$7:$P$7),FALSE))","v":""},{"$f":"IF(K723=\"\",\"\",VLOOKUP(K723,Parámetros!K$11:$P$13,MAX(Parámetros!K$7:$P$7),FALSE))","v":""},{"$f":"IF(L723=\"\",\"\",VLOOKUP(L723,Parámetros!L$11:$P$13,MAX(Parámetros!L$7:$P$7),FALSE))","v":""},{"$f":"IF(M723=\"\",\"\",VLOOKUP(M723,Parámetros!M$11:$P$13,MAX(Parámetros!M$7:$P$7),FALSE))","v":""},{"$f":"IF(N723=\"\",\"\",VLOOKUP(N723,Parámetros!N$11:$P$13,MAX(Parámetros!N$7:$P$7),FALSE))","v":""},{"$f":"IF(O723=\"\",\"\",VLOOKUP(O723,Parámetros!O$11:$P$13,MAX(Parámetros!O$7:$P$7),FALSE))","v":""},""]
[null,null,null,{"$f":"IF(E724=\"\",\"\",VLOOKUP(E724,'Buenas prácticas'!$G$8:$H$1007,2,FALSE))","v":""},null,null,null,null,null,null,null,null,null,null,null,{"$f":"IF(F724=\"\",\"\",VLOOKUP(F724,Parámetros!F$11:$P$13,MAX(Parámetros!F$7:$P$7),FALSE))","v":""},{"$f":"IF(G724=\"\",\"\",VLOOKUP(G724,Parámetros!G$11:$P$13,MAX(Parámetros!G$7:$P$7),FALSE))","v":""},{"$f":"IF(H724=\"\",\"\",VLOOKUP(H724,Parámetros!H$11:$P$13,MAX(Parámetros!H$7:$P$7),FALSE))","v":""},{"$f":"IF(I724=\"\",\"\",VLOOKUP(I724,Parámetros!I$11:$P$13,MAX(Parámetros!I$7:$P$7),FALSE))","v":""},{"$f":"IF(J724=\"\",\"\",VLOOKUP(J724,Parámetros!J$11:$P$13,MAX(Parámetros!J$7:$P$7),FALSE))","v":""},{"$f":"IF(K724=\"\",\"\",VLOOKUP(K724,Parámetros!K$11:$P$13,MAX(Parámetros!K$7:$P$7),FALSE))","v":""},{"$f":"IF(L724=\"\",\"\",VLOOKUP(L724,Parámetros!L$11:$P$13,MAX(Parámetros!L$7:$P$7),FALSE))","v":""},{"$f":"IF(M724=\"\",\"\",VLOOKUP(M724,Parámetros!M$11:$P$13,MAX(Parámetros!M$7:$P$7),FALSE))","v":""},{"$f":"IF(N724=\"\",\"\",VLOOKUP(N724,Parámetros!N$11:$P$13,MAX(Parámetros!N$7:$P$7),FALSE))","v":""},{"$f":"IF(O724=\"\",\"\",VLOOKUP(O724,Parámetros!O$11:$P$13,MAX(Parámetros!O$7:$P$7),FALSE))","v":""},""]
[null,null,null,{"$f":"IF(E725=\"\",\"\",VLOOKUP(E725,'Buenas prácticas'!$G$8:$H$1007,2,FALSE))","v":""},null,null,null,null,null,null,null,null,null,null,null,{"$f":"IF(F725=\"\",\"\",VLOOKUP(F725,Parámetros!F$11:$P$13,MAX(Parámetros!F$7:$P$7),FALSE))","v":""},{"$f":"IF(G725=\"\",\"\",VLOOKUP(G725,Parámetros!G$11:$P$13,MAX(Parámetros!G$7:$P$7),FALSE))","v":""},{"$f":"IF(H725=\"\",\"\",VLOOKUP(H725,Parámetros!H$11:$P$13,MAX(Parámetros!H$7:$P$7),FALSE))","v":""},{"$f":"IF(I725=\"\",\"\",VLOOKUP(I725,Parámetros!I$11:$P$13,MAX(Parámetros!I$7:$P$7),FALSE))","v":""},{"$f":"IF(J725=\"\",\"\",VLOOKUP(J725,Parámetros!J$11:$P$13,MAX(Parámetros!J$7:$P$7),FALSE))","v":""},{"$f":"IF(K725=\"\",\"\",VLOOKUP(K725,Parámetros!K$11:$P$13,MAX(Parámetros!K$7:$P$7),FALSE))","v":""},{"$f":"IF(L725=\"\",\"\",VLOOKUP(L725,Parámetros!L$11:$P$13,MAX(Parámetros!L$7:$P$7),FALSE))","v":""},{"$f":"IF(M725=\"\",\"\",VLOOKUP(M725,Parámetros!M$11:$P$13,MAX(Parámetros!M$7:$P$7),FALSE))","v":""},{"$f":"IF(N725=\"\",\"\",VLOOKUP(N725,Parámetros!N$11:$P$13,MAX(Parámetros!N$7:$P$7),FALSE))","v":""},{"$f":"IF(O725=\"\",\"\",VLOOKUP(O725,Parámetros!O$11:$P$13,MAX(Parámetros!O$7:$P$7),FALSE))","v":""},""]
[null,null,null,{"$f":"IF(E726=\"\",\"\",VLOOKUP(E726,'Buenas prácticas'!$G$8:$H$1007,2,FALSE))","v":""},null,null,null,null,null,null,null,null,null,null,null,{"$f":"IF(F726=\"\",\"\",VLOOKUP(F726,Parámetros!F$11:$P$13,MAX(Parámetros!F$7:$P$7),FALSE))","v":""},{"$f":"IF(G726=\"\",\"\",VLOOKUP(G726,Parámetros!G$11:$P$13,MAX(Parámetros!G$7:$P$7),FALSE))","v":""},{"$f":"IF(H726=\"\",\"\",VLOOKUP(H726,Parámetros!H$11:$P$13,MAX(Parámetros!H$7:$P$7),FALSE))","v":""},{"$f":"IF(I726=\"\",\"\",VLOOKUP(I726,Parámetros!I$11:$P$13,MAX(Parámetros!I$7:$P$7),FALSE))","v":""},{"$f":"IF(J726=\"\",\"\",VLOOKUP(J726,Parámetros!J$11:$P$13,MAX(Parámetros!J$7:$P$7),FALSE))","v":""},{"$f":"IF(K726=\"\",\"\",VLOOKUP(K726,Parámetros!K$11:$P$13,MAX(Parámetros!K$7:$P$7),FALSE))","v":""},{"$f":"IF(L726=\"\",\"\",VLOOKUP(L726,Parámetros!L$11:$P$13,MAX(Parámetros!L$7:$P$7),FALSE))","v":""},{"$f":"IF(M726=\"\",\"\",VLOOKUP(M726,Parámetros!M$11:$P$13,MAX(Parámetros!M$7:$P$7),FALSE))","v":""},{"$f":"IF(N726=\"\",\"\",VLOOKUP(N726,Parámetros!N$11:$P$13,MAX(Parámetros!N$7:$P$7),FALSE))","v":""},{"$f":"IF(O726=\"\",\"\",VLOOKUP(O726,Parámetros!O$11:$P$13,MAX(Parámetros!O$7:$P$7),FALSE))","v":""},""]
[null,null,null,{"$f":"IF(E727=\"\",\"\",VLOOKUP(E727,'Buenas prácticas'!$G$8:$H$1007,2,FALSE))","v":""},null,null,null,null,null,null,null,null,null,null,null,{"$f":"IF(F727=\"\",\"\",VLOOKUP(F727,Parámetros!F$11:$P$13,MAX(Parámetros!F$7:$P$7),FALSE))","v":""},{"$f":"IF(G727=\"\",\"\",VLOOKUP(G727,Parámetros!G$11:$P$13,MAX(Parámetros!G$7:$P$7),FALSE))","v":""},{"$f":"IF(H727=\"\",\"\",VLOOKUP(H727,Parámetros!H$11:$P$13,MAX(Parámetros!H$7:$P$7),FALSE))","v":""},{"$f":"IF(I727=\"\",\"\",VLOOKUP(I727,Parámetros!I$11:$P$13,MAX(Parámetros!I$7:$P$7),FALSE))","v":""},{"$f":"IF(J727=\"\",\"\",VLOOKUP(J727,Parámetros!J$11:$P$13,MAX(Parámetros!J$7:$P$7),FALSE))","v":""},{"$f":"IF(K727=\"\",\"\",VLOOKUP(K727,Parámetros!K$11:$P$13,MAX(Parámetros!K$7:$P$7),FALSE))","v":""},{"$f":"IF(L727=\"\",\"\",VLOOKUP(L727,Parámetros!L$11:$P$13,MAX(Parámetros!L$7:$P$7),FALSE))","v":""},{"$f":"IF(M727=\"\",\"\",VLOOKUP(M727,Parámetros!M$11:$P$13,MAX(Parámetros!M$7:$P$7),FALSE))","v":""},{"$f":"IF(N727=\"\",\"\",VLOOKUP(N727,Parámetros!N$11:$P$13,MAX(Parámetros!N$7:$P$7),FALSE))","v":""},{"$f":"IF(O727=\"\",\"\",VLOOKUP(O727,Parámetros!O$11:$P$13,MAX(Parámetros!O$7:$P$7),FALSE))","v":""},""]
[null,null,null,{"$f":"IF(E728=\"\",\"\",VLOOKUP(E728,'Buenas prácticas'!$G$8:$H$1007,2,FALSE))","v":""},null,null,null,null,null,null,null,null,null,null,null,{"$f":"IF(F728=\"\",\"\",VLOOKUP(F728,Parámetros!F$11:$P$13,MAX(Parámetros!F$7:$P$7),FALSE))","v":""},{"$f":"IF(G728=\"\",\"\",VLOOKUP(G728,Parámetros!G$11:$P$13,MAX(Parámetros!G$7:$P$7),FALSE))","v":""},{"$f":"IF(H728=\"\",\"\",VLOOKUP(H728,Parámetros!H$11:$P$13,MAX(Parámetros!H$7:$P$7),FALSE))","v":""},{"$f":"IF(I728=\"\",\"\",VLOOKUP(I728,Parámetros!I$11:$P$13,MAX(Parámetros!I$7:$P$7),FALSE))","v":""},{"$f":"IF(J728=\"\",\"\",VLOOKUP(J728,Parámetros!J$11:$P$13,MAX(Parámetros!J$7:$P$7),FALSE))","v":""},{"$f":"IF(K728=\"\",\"\",VLOOKUP(K728,Parámetros!K$11:$P$13,MAX(Parámetros!K$7:$P$7),FALSE))","v":""},{"$f":"IF(L728=\"\",\"\",VLOOKUP(L728,Parámetros!L$11:$P$13,MAX(Parámetros!L$7:$P$7),FALSE))","v":""},{"$f":"IF(M728=\"\",\"\",VLOOKUP(M728,Parámetros!M$11:$P$13,MAX(Parámetros!M$7:$P$7),FALSE))","v":""},{"$f":"IF(N728=\"\",\"\",VLOOKUP(N728,Parámetros!N$11:$P$13,MAX(Parámetros!N$7:$P$7),FALSE))","v":""},{"$f":"IF(O728=\"\",\"\",VLOOKUP(O728,Parámetros!O$11:$P$13,MAX(Parámetros!O$7:$P$7),FALSE))","v":""},""]
[null,null,null,{"$f":"IF(E729=\"\",\"\",VLOOKUP(E729,'Buenas prácticas'!$G$8:$H$1007,2,FALSE))","v":""},null,null,null,null,null,null,null,null,null,null,null,{"$f":"IF(F729=\"\",\"\",VLOOKUP(F729,Parámetros!F$11:$P$13,MAX(Parámetros!F$7:$P$7),FALSE))","v":""},{"$f":"IF(G729=\"\",\"\",VLOOKUP(G729,Parámetros!G$11:$P$13,MAX(Parámetros!G$7:$P$7),FALSE))","v":""},{"$f":"IF(H729=\"\",\"\",VLOOKUP(H729,Parámetros!H$11:$P$13,MAX(Parámetros!H$7:$P$7),FALSE))","v":""},{"$f":"IF(I729=\"\",\"\",VLOOKUP(I729,Parámetros!I$11:$P$13,MAX(Parámetros!I$7:$P$7),FALSE))","v":""},{"$f":"IF(J729=\"\",\"\",VLOOKUP(J729,Parámetros!J$11:$P$13,MAX(Parámetros!J$7:$P$7),FALSE))","v":""},{"$f":"IF(K729=\"\",\"\",VLOOKUP(K729,Parámetros!K$11:$P$13,MAX(Parámetros!K$7:$P$7),FALSE))","v":""},{"$f":"IF(L729=\"\",\"\",VLOOKUP(L729,Parámetros!L$11:$P$13,MAX(Parámetros!L$7:$P$7),FALSE))","v":""},{"$f":"IF(M729=\"\",\"\",VLOOKUP(M729,Parámetros!M$11:$P$13,MAX(Parámetros!M$7:$P$7),FALSE))","v":""},{"$f":"IF(N729=\"\",\"\",VLOOKUP(N729,Parámetros!N$11:$P$13,MAX(Parámetros!N$7:$P$7),FALSE))","v":""},{"$f":"IF(O729=\"\",\"\",VLOOKUP(O729,Parámetros!O$11:$P$13,MAX(Parámetros!O$7:$P$7),FALSE))","v":""},""]
[null,null,null,{"$f":"IF(E730=\"\",\"\",VLOOKUP(E730,'Buenas prácticas'!$G$8:$H$1007,2,FALSE))","v":""},null,null,null,null,null,null,null,null,null,null,null,{"$f":"IF(F730=\"\",\"\",VLOOKUP(F730,Parámetros!F$11:$P$13,MAX(Parámetros!F$7:$P$7),FALSE))","v":""},{"$f":"IF(G730=\"\",\"\",VLOOKUP(G730,Parámetros!G$11:$P$13,MAX(Parámetros!G$7:$P$7),FALSE))","v":""},{"$f":"IF(H730=\"\",\"\",VLOOKUP(H730,Parámetros!H$11:$P$13,MAX(Parámetros!H$7:$P$7),FALSE))","v":""},{"$f":"IF(I730=\"\",\"\",VLOOKUP(I730,Parámetros!I$11:$P$13,MAX(Parámetros!I$7:$P$7),FALSE))","v":""},{"$f":"IF(J730=\"\",\"\",VLOOKUP(J730,Parámetros!J$11:$P$13,MAX(Parámetros!J$7:$P$7),FALSE))","v":""},{"$f":"IF(K730=\"\",\"\",VLOOKUP(K730,Parámetros!K$11:$P$13,MAX(Parámetros!K$7:$P$7),FALSE))","v":""},{"$f":"IF(L730=\"\",\"\",VLOOKUP(L730,Parámetros!L$11:$P$13,MAX(Parámetros!L$7:$P$7),FALSE))","v":""},{"$f":"IF(M730=\"\",\"\",VLOOKUP(M730,Parámetros!M$11:$P$13,MAX(Parámetros!M$7:$P$7),FALSE))","v":""},{"$f":"IF(N730=\"\",\"\",VLOOKUP(N730,Parámetros!N$11:$P$13,MAX(Parámetros!N$7:$P$7),FALSE))","v":""},{"$f":"IF(O730=\"\",\"\",VLOOKUP(O730,Parámetros!O$11:$P$13,MAX(Parámetros!O$7:$P$7),FALSE))","v":""},""]
[null,null,null,{"$f":"IF(E731=\"\",\"\",VLOOKUP(E731,'Buenas prácticas'!$G$8:$H$1007,2,FALSE))","v":""},null,null,null,null,null,null,null,null,null,null,null,{"$f":"IF(F731=\"\",\"\",VLOOKUP(F731,Parámetros!F$11:$P$13,MAX(Parámetros!F$7:$P$7),FALSE))","v":""},{"$f":"IF(G731=\"\",\"\",VLOOKUP(G731,Parámetros!G$11:$P$13,MAX(Parámetros!G$7:$P$7),FALSE))","v":""},{"$f":"IF(H731=\"\",\"\",VLOOKUP(H731,Parámetros!H$11:$P$13,MAX(Parámetros!H$7:$P$7),FALSE))","v":""},{"$f":"IF(I731=\"\",\"\",VLOOKUP(I731,Parámetros!I$11:$P$13,MAX(Parámetros!I$7:$P$7),FALSE))","v":""},{"$f":"IF(J731=\"\",\"\",VLOOKUP(J731,Parámetros!J$11:$P$13,MAX(Parámetros!J$7:$P$7),FALSE))","v":""},{"$f":"IF(K731=\"\",\"\",VLOOKUP(K731,Parámetros!K$11:$P$13,MAX(Parámetros!K$7:$P$7),FALSE))","v":""},{"$f":"IF(L731=\"\",\"\",VLOOKUP(L731,Parámetros!L$11:$P$13,MAX(Parámetros!L$7:$P$7),FALSE))","v":""},{"$f":"IF(M731=\"\",\"\",VLOOKUP(M731,Parámetros!M$11:$P$13,MAX(Parámetros!M$7:$P$7),FALSE))","v":""},{"$f":"IF(N731=\"\",\"\",VLOOKUP(N731,Parámetros!N$11:$P$13,MAX(Parámetros!N$7:$P$7),FALSE))","v":""},{"$f":"IF(O731=\"\",\"\",VLOOKUP(O731,Parámetros!O$11:$P$13,MAX(Parámetros!O$7:$P$7),FALSE))","v":""},""]
[null,null,null,{"$f":"IF(E732=\"\",\"\",VLOOKUP(E732,'Buenas prácticas'!$G$8:$H$1007,2,FALSE))","v":""},null,null,null,null,null,null,null,null,null,null,null,{"$f":"IF(F732=\"\",\"\",VLOOKUP(F732,Parámetros!F$11:$P$13,MAX(Parámetros!F$7:$P$7),FALSE))","v":""},{"$f":"IF(G732=\"\",\"\",VLOOKUP(G732,Parámetros!G$11:$P$13,MAX(Parámetros!G$7:$P$7),FALSE))","v":""},{"$f":"IF(H732=\"\",\"\",VLOOKUP(H732,Parámetros!H$11:$P$13,MAX(Parámetros!H$7:$P$7),FALSE))","v":""},{"$f":"IF(I732=\"\",\"\",VLOOKUP(I732,Parámetros!I$11:$P$13,MAX(Parámetros!I$7:$P$7),FALSE))","v":""},{"$f":"IF(J732=\"\",\"\",VLOOKUP(J732,Parámetros!J$11:$P$13,MAX(Parámetros!J$7:$P$7),FALSE))","v":""},{"$f":"IF(K732=\"\",\"\",VLOOKUP(K732,Parámetros!K$11:$P$13,MAX(Parámetros!K$7:$P$7),FALSE))","v":""},{"$f":"IF(L732=\"\",\"\",VLOOKUP(L732,Parámetros!L$11:$P$13,MAX(Parámetros!L$7:$P$7),FALSE))","v":""},{"$f":"IF(M732=\"\",\"\",VLOOKUP(M732,Parámetros!M$11:$P$13,MAX(Parámetros!M$7:$P$7),FALSE))","v":""},{"$f":"IF(N732=\"\",\"\",VLOOKUP(N732,Parámetros!N$11:$P$13,MAX(Parámetros!N$7:$P$7),FALSE))","v":""},{"$f":"IF(O732=\"\",\"\",VLOOKUP(O732,Parámetros!O$11:$P$13,MAX(Parámetros!O$7:$P$7),FALSE))","v":""},""]
[null,null,null,{"$f":"IF(E733=\"\",\"\",VLOOKUP(E733,'Buenas prácticas'!$G$8:$H$1007,2,FALSE))","v":""},null,null,null,null,null,null,null,null,null,null,null,{"$f":"IF(F733=\"\",\"\",VLOOKUP(F733,Parámetros!F$11:$P$13,MAX(Parámetros!F$7:$P$7),FALSE))","v":""},{"$f":"IF(G733=\"\",\"\",VLOOKUP(G733,Parámetros!G$11:$P$13,MAX(Parámetros!G$7:$P$7),FALSE))","v":""},{"$f":"IF(H733=\"\",\"\",VLOOKUP(H733,Parámetros!H$11:$P$13,MAX(Parámetros!H$7:$P$7),FALSE))","v":""},{"$f":"IF(I733=\"\",\"\",VLOOKUP(I733,Parámetros!I$11:$P$13,MAX(Parámetros!I$7:$P$7),FALSE))","v":""},{"$f":"IF(J733=\"\",\"\",VLOOKUP(J733,Parámetros!J$11:$P$13,MAX(Parámetros!J$7:$P$7),FALSE))","v":""},{"$f":"IF(K733=\"\",\"\",VLOOKUP(K733,Parámetros!K$11:$P$13,MAX(Parámetros!K$7:$P$7),FALSE))","v":""},{"$f":"IF(L733=\"\",\"\",VLOOKUP(L733,Parámetros!L$11:$P$13,MAX(Parámetros!L$7:$P$7),FALSE))","v":""},{"$f":"IF(M733=\"\",\"\",VLOOKUP(M733,Parámetros!M$11:$P$13,MAX(Parámetros!M$7:$P$7),FALSE))","v":""},{"$f":"IF(N733=\"\",\"\",VLOOKUP(N733,Parámetros!N$11:$P$13,MAX(Parámetros!N$7:$P$7),FALSE))","v":""},{"$f":"IF(O733=\"\",\"\",VLOOKUP(O733,Parámetros!O$11:$P$13,MAX(Parámetros!O$7:$P$7),FALSE))","v":""},""]
[null,null,null,{"$f":"IF(E734=\"\",\"\",VLOOKUP(E734,'Buenas prácticas'!$G$8:$H$1007,2,FALSE))","v":""},null,null,null,null,null,null,null,null,null,null,null,{"$f":"IF(F734=\"\",\"\",VLOOKUP(F734,Parámetros!F$11:$P$13,MAX(Parámetros!F$7:$P$7),FALSE))","v":""},{"$f":"IF(G734=\"\",\"\",VLOOKUP(G734,Parámetros!G$11:$P$13,MAX(Parámetros!G$7:$P$7),FALSE))","v":""},{"$f":"IF(H734=\"\",\"\",VLOOKUP(H734,Parámetros!H$11:$P$13,MAX(Parámetros!H$7:$P$7),FALSE))","v":""},{"$f":"IF(I734=\"\",\"\",VLOOKUP(I734,Parámetros!I$11:$P$13,MAX(Parámetros!I$7:$P$7),FALSE))","v":""},{"$f":"IF(J734=\"\",\"\",VLOOKUP(J734,Parámetros!J$11:$P$13,MAX(Parámetros!J$7:$P$7),FALSE))","v":""},{"$f":"IF(K734=\"\",\"\",VLOOKUP(K734,Parámetros!K$11:$P$13,MAX(Parámetros!K$7:$P$7),FALSE))","v":""},{"$f":"IF(L734=\"\",\"\",VLOOKUP(L734,Parámetros!L$11:$P$13,MAX(Parámetros!L$7:$P$7),FALSE))","v":""},{"$f":"IF(M734=\"\",\"\",VLOOKUP(M734,Parámetros!M$11:$P$13,MAX(Parámetros!M$7:$P$7),FALSE))","v":""},{"$f":"IF(N734=\"\",\"\",VLOOKUP(N734,Parámetros!N$11:$P$13,MAX(Parámetros!N$7:$P$7),FALSE))","v":""},{"$f":"IF(O734=\"\",\"\",VLOOKUP(O734,Parámetros!O$11:$P$13,MAX(Parámetros!O$7:$P$7),FALSE))","v":""},""]
[null,null,null,{"$f":"IF(E735=\"\",\"\",VLOOKUP(E735,'Buenas prácticas'!$G$8:$H$1007,2,FALSE))","v":""},null,null,null,null,null,null,null,null,null,null,null,{"$f":"IF(F735=\"\",\"\",VLOOKUP(F735,Parámetros!F$11:$P$13,MAX(Parámetros!F$7:$P$7),FALSE))","v":""},{"$f":"IF(G735=\"\",\"\",VLOOKUP(G735,Parámetros!G$11:$P$13,MAX(Parámetros!G$7:$P$7),FALSE))","v":""},{"$f":"IF(H735=\"\",\"\",VLOOKUP(H735,Parámetros!H$11:$P$13,MAX(Parámetros!H$7:$P$7),FALSE))","v":""},{"$f":"IF(I735=\"\",\"\",VLOOKUP(I735,Parámetros!I$11:$P$13,MAX(Parámetros!I$7:$P$7),FALSE))","v":""},{"$f":"IF(J735=\"\",\"\",VLOOKUP(J735,Parámetros!J$11:$P$13,MAX(Parámetros!J$7:$P$7),FALSE))","v":""},{"$f":"IF(K735=\"\",\"\",VLOOKUP(K735,Parámetros!K$11:$P$13,MAX(Parámetros!K$7:$P$7),FALSE))","v":""},{"$f":"IF(L735=\"\",\"\",VLOOKUP(L735,Parámetros!L$11:$P$13,MAX(Parámetros!L$7:$P$7),FALSE))","v":""},{"$f":"IF(M735=\"\",\"\",VLOOKUP(M735,Parámetros!M$11:$P$13,MAX(Parámetros!M$7:$P$7),FALSE))","v":""},{"$f":"IF(N735=\"\",\"\",VLOOKUP(N735,Parámetros!N$11:$P$13,MAX(Parámetros!N$7:$P$7),FALSE))","v":""},{"$f":"IF(O735=\"\",\"\",VLOOKUP(O735,Parámetros!O$11:$P$13,MAX(Parámetros!O$7:$P$7),FALSE))","v":""},""]
[null,null,null,{"$f":"IF(E736=\"\",\"\",VLOOKUP(E736,'Buenas prácticas'!$G$8:$H$1007,2,FALSE))","v":""},null,null,null,null,null,null,null,null,null,null,null,{"$f":"IF(F736=\"\",\"\",VLOOKUP(F736,Parámetros!F$11:$P$13,MAX(Parámetros!F$7:$P$7),FALSE))","v":""},{"$f":"IF(G736=\"\",\"\",VLOOKUP(G736,Parámetros!G$11:$P$13,MAX(Parámetros!G$7:$P$7),FALSE))","v":""},{"$f":"IF(H736=\"\",\"\",VLOOKUP(H736,Parámetros!H$11:$P$13,MAX(Parámetros!H$7:$P$7),FALSE))","v":""},{"$f":"IF(I736=\"\",\"\",VLOOKUP(I736,Parámetros!I$11:$P$13,MAX(Parámetros!I$7:$P$7),FALSE))","v":""},{"$f":"IF(J736=\"\",\"\",VLOOKUP(J736,Parámetros!J$11:$P$13,MAX(Parámetros!J$7:$P$7),FALSE))","v":""},{"$f":"IF(K736=\"\",\"\",VLOOKUP(K736,Parámetros!K$11:$P$13,MAX(Parámetros!K$7:$P$7),FALSE))","v":""},{"$f":"IF(L736=\"\",\"\",VLOOKUP(L736,Parámetros!L$11:$P$13,MAX(Parámetros!L$7:$P$7),FALSE))","v":""},{"$f":"IF(M736=\"\",\"\",VLOOKUP(M736,Parámetros!M$11:$P$13,MAX(Parámetros!M$7:$P$7),FALSE))","v":""},{"$f":"IF(N736=\"\",\"\",VLOOKUP(N736,Parámetros!N$11:$P$13,MAX(Parámetros!N$7:$P$7),FALSE))","v":""},{"$f":"IF(O736=\"\",\"\",VLOOKUP(O736,Parámetros!O$11:$P$13,MAX(Parámetros!O$7:$P$7),FALSE))","v":""},""]
[null,null,null,{"$f":"IF(E737=\"\",\"\",VLOOKUP(E737,'Buenas prácticas'!$G$8:$H$1007,2,FALSE))","v":""},null,null,null,null,null,null,null,null,null,null,null,{"$f":"IF(F737=\"\",\"\",VLOOKUP(F737,Parámetros!F$11:$P$13,MAX(Parámetros!F$7:$P$7),FALSE))","v":""},{"$f":"IF(G737=\"\",\"\",VLOOKUP(G737,Parámetros!G$11:$P$13,MAX(Parámetros!G$7:$P$7),FALSE))","v":""},{"$f":"IF(H737=\"\",\"\",VLOOKUP(H737,Parámetros!H$11:$P$13,MAX(Parámetros!H$7:$P$7),FALSE))","v":""},{"$f":"IF(I737=\"\",\"\",VLOOKUP(I737,Parámetros!I$11:$P$13,MAX(Parámetros!I$7:$P$7),FALSE))","v":""},{"$f":"IF(J737=\"\",\"\",VLOOKUP(J737,Parámetros!J$11:$P$13,MAX(Parámetros!J$7:$P$7),FALSE))","v":""},{"$f":"IF(K737=\"\",\"\",VLOOKUP(K737,Parámetros!K$11:$P$13,MAX(Parámetros!K$7:$P$7),FALSE))","v":""},{"$f":"IF(L737=\"\",\"\",VLOOKUP(L737,Parámetros!L$11:$P$13,MAX(Parámetros!L$7:$P$7),FALSE))","v":""},{"$f":"IF(M737=\"\",\"\",VLOOKUP(M737,Parámetros!M$11:$P$13,MAX(Parámetros!M$7:$P$7),FALSE))","v":""},{"$f":"IF(N737=\"\",\"\",VLOOKUP(N737,Parámetros!N$11:$P$13,MAX(Parámetros!N$7:$P$7),FALSE))","v":""},{"$f":"IF(O737=\"\",\"\",VLOOKUP(O737,Parámetros!O$11:$P$13,MAX(Parámetros!O$7:$P$7),FALSE))","v":""},""]
[null,null,null,{"$f":"IF(E738=\"\",\"\",VLOOKUP(E738,'Buenas prácticas'!$G$8:$H$1007,2,FALSE))","v":""},null,null,null,null,null,null,null,null,null,null,null,{"$f":"IF(F738=\"\",\"\",VLOOKUP(F738,Parámetros!F$11:$P$13,MAX(Parámetros!F$7:$P$7),FALSE))","v":""},{"$f":"IF(G738=\"\",\"\",VLOOKUP(G738,Parámetros!G$11:$P$13,MAX(Parámetros!G$7:$P$7),FALSE))","v":""},{"$f":"IF(H738=\"\",\"\",VLOOKUP(H738,Parámetros!H$11:$P$13,MAX(Parámetros!H$7:$P$7),FALSE))","v":""},{"$f":"IF(I738=\"\",\"\",VLOOKUP(I738,Parámetros!I$11:$P$13,MAX(Parámetros!I$7:$P$7),FALSE))","v":""},{"$f":"IF(J738=\"\",\"\",VLOOKUP(J738,Parámetros!J$11:$P$13,MAX(Parámetros!J$7:$P$7),FALSE))","v":""},{"$f":"IF(K738=\"\",\"\",VLOOKUP(K738,Parámetros!K$11:$P$13,MAX(Parámetros!K$7:$P$7),FALSE))","v":""},{"$f":"IF(L738=\"\",\"\",VLOOKUP(L738,Parámetros!L$11:$P$13,MAX(Parámetros!L$7:$P$7),FALSE))","v":""},{"$f":"IF(M738=\"\",\"\",VLOOKUP(M738,Parámetros!M$11:$P$13,MAX(Parámetros!M$7:$P$7),FALSE))","v":""},{"$f":"IF(N738=\"\",\"\",VLOOKUP(N738,Parámetros!N$11:$P$13,MAX(Parámetros!N$7:$P$7),FALSE))","v":""},{"$f":"IF(O738=\"\",\"\",VLOOKUP(O738,Parámetros!O$11:$P$13,MAX(Parámetros!O$7:$P$7),FALSE))","v":""},""]
[null,null,null,{"$f":"IF(E739=\"\",\"\",VLOOKUP(E739,'Buenas prácticas'!$G$8:$H$1007,2,FALSE))","v":""},null,null,null,null,null,null,null,null,null,null,null,{"$f":"IF(F739=\"\",\"\",VLOOKUP(F739,Parámetros!F$11:$P$13,MAX(Parámetros!F$7:$P$7),FALSE))","v":""},{"$f":"IF(G739=\"\",\"\",VLOOKUP(G739,Parámetros!G$11:$P$13,MAX(Parámetros!G$7:$P$7),FALSE))","v":""},{"$f":"IF(H739=\"\",\"\",VLOOKUP(H739,Parámetros!H$11:$P$13,MAX(Parámetros!H$7:$P$7),FALSE))","v":""},{"$f":"IF(I739=\"\",\"\",VLOOKUP(I739,Parámetros!I$11:$P$13,MAX(Parámetros!I$7:$P$7),FALSE))","v":""},{"$f":"IF(J739=\"\",\"\",VLOOKUP(J739,Parámetros!J$11:$P$13,MAX(Parámetros!J$7:$P$7),FALSE))","v":""},{"$f":"IF(K739=\"\",\"\",VLOOKUP(K739,Parámetros!K$11:$P$13,MAX(Parámetros!K$7:$P$7),FALSE))","v":""},{"$f":"IF(L739=\"\",\"\",VLOOKUP(L739,Parámetros!L$11:$P$13,MAX(Parámetros!L$7:$P$7),FALSE))","v":""},{"$f":"IF(M739=\"\",\"\",VLOOKUP(M739,Parámetros!M$11:$P$13,MAX(Parámetros!M$7:$P$7),FALSE))","v":""},{"$f":"IF(N739=\"\",\"\",VLOOKUP(N739,Parámetros!N$11:$P$13,MAX(Parámetros!N$7:$P$7),FALSE))","v":""},{"$f":"IF(O739=\"\",\"\",VLOOKUP(O739,Parámetros!O$11:$P$13,MAX(Parámetros!O$7:$P$7),FALSE))","v":""},""]
[null,null,null,{"$f":"IF(E740=\"\",\"\",VLOOKUP(E740,'Buenas prácticas'!$G$8:$H$1007,2,FALSE))","v":""},null,null,null,null,null,null,null,null,null,null,null,{"$f":"IF(F740=\"\",\"\",VLOOKUP(F740,Parámetros!F$11:$P$13,MAX(Parámetros!F$7:$P$7),FALSE))","v":""},{"$f":"IF(G740=\"\",\"\",VLOOKUP(G740,Parámetros!G$11:$P$13,MAX(Parámetros!G$7:$P$7),FALSE))","v":""},{"$f":"IF(H740=\"\",\"\",VLOOKUP(H740,Parámetros!H$11:$P$13,MAX(Parámetros!H$7:$P$7),FALSE))","v":""},{"$f":"IF(I740=\"\",\"\",VLOOKUP(I740,Parámetros!I$11:$P$13,MAX(Parámetros!I$7:$P$7),FALSE))","v":""},{"$f":"IF(J740=\"\",\"\",VLOOKUP(J740,Parámetros!J$11:$P$13,MAX(Parámetros!J$7:$P$7),FALSE))","v":""},{"$f":"IF(K740=\"\",\"\",VLOOKUP(K740,Parámetros!K$11:$P$13,MAX(Parámetros!K$7:$P$7),FALSE))","v":""},{"$f":"IF(L740=\"\",\"\",VLOOKUP(L740,Parámetros!L$11:$P$13,MAX(Parámetros!L$7:$P$7),FALSE))","v":""},{"$f":"IF(M740=\"\",\"\",VLOOKUP(M740,Parámetros!M$11:$P$13,MAX(Parámetros!M$7:$P$7),FALSE))","v":""},{"$f":"IF(N740=\"\",\"\",VLOOKUP(N740,Parámetros!N$11:$P$13,MAX(Parámetros!N$7:$P$7),FALSE))","v":""},{"$f":"IF(O740=\"\",\"\",VLOOKUP(O740,Parámetros!O$11:$P$13,MAX(Parámetros!O$7:$P$7),FALSE))","v":""},""]
[null,null,null,{"$f":"IF(E741=\"\",\"\",VLOOKUP(E741,'Buenas prácticas'!$G$8:$H$1007,2,FALSE))","v":""},null,null,null,null,null,null,null,null,null,null,null,{"$f":"IF(F741=\"\",\"\",VLOOKUP(F741,Parámetros!F$11:$P$13,MAX(Parámetros!F$7:$P$7),FALSE))","v":""},{"$f":"IF(G741=\"\",\"\",VLOOKUP(G741,Parámetros!G$11:$P$13,MAX(Parámetros!G$7:$P$7),FALSE))","v":""},{"$f":"IF(H741=\"\",\"\",VLOOKUP(H741,Parámetros!H$11:$P$13,MAX(Parámetros!H$7:$P$7),FALSE))","v":""},{"$f":"IF(I741=\"\",\"\",VLOOKUP(I741,Parámetros!I$11:$P$13,MAX(Parámetros!I$7:$P$7),FALSE))","v":""},{"$f":"IF(J741=\"\",\"\",VLOOKUP(J741,Parámetros!J$11:$P$13,MAX(Parámetros!J$7:$P$7),FALSE))","v":""},{"$f":"IF(K741=\"\",\"\",VLOOKUP(K741,Parámetros!K$11:$P$13,MAX(Parámetros!K$7:$P$7),FALSE))","v":""},{"$f":"IF(L741=\"\",\"\",VLOOKUP(L741,Parámetros!L$11:$P$13,MAX(Parámetros!L$7:$P$7),FALSE))","v":""},{"$f":"IF(M741=\"\",\"\",VLOOKUP(M741,Parámetros!M$11:$P$13,MAX(Parámetros!M$7:$P$7),FALSE))","v":""},{"$f":"IF(N741=\"\",\"\",VLOOKUP(N741,Parámetros!N$11:$P$13,MAX(Parámetros!N$7:$P$7),FALSE))","v":""},{"$f":"IF(O741=\"\",\"\",VLOOKUP(O741,Parámetros!O$11:$P$13,MAX(Parámetros!O$7:$P$7),FALSE))","v":""},""]
[null,null,null,{"$f":"IF(E742=\"\",\"\",VLOOKUP(E742,'Buenas prácticas'!$G$8:$H$1007,2,FALSE))","v":""},null,null,null,null,null,null,null,null,null,null,null,{"$f":"IF(F742=\"\",\"\",VLOOKUP(F742,Parámetros!F$11:$P$13,MAX(Parámetros!F$7:$P$7),FALSE))","v":""},{"$f":"IF(G742=\"\",\"\",VLOOKUP(G742,Parámetros!G$11:$P$13,MAX(Parámetros!G$7:$P$7),FALSE))","v":""},{"$f":"IF(H742=\"\",\"\",VLOOKUP(H742,Parámetros!H$11:$P$13,MAX(Parámetros!H$7:$P$7),FALSE))","v":""},{"$f":"IF(I742=\"\",\"\",VLOOKUP(I742,Parámetros!I$11:$P$13,MAX(Parámetros!I$7:$P$7),FALSE))","v":""},{"$f":"IF(J742=\"\",\"\",VLOOKUP(J742,Parámetros!J$11:$P$13,MAX(Parámetros!J$7:$P$7),FALSE))","v":""},{"$f":"IF(K742=\"\",\"\",VLOOKUP(K742,Parámetros!K$11:$P$13,MAX(Parámetros!K$7:$P$7),FALSE))","v":""},{"$f":"IF(L742=\"\",\"\",VLOOKUP(L742,Parámetros!L$11:$P$13,MAX(Parámetros!L$7:$P$7),FALSE))","v":""},{"$f":"IF(M742=\"\",\"\",VLOOKUP(M742,Parámetros!M$11:$P$13,MAX(Parámetros!M$7:$P$7),FALSE))","v":""},{"$f":"IF(N742=\"\",\"\",VLOOKUP(N742,Parámetros!N$11:$P$13,MAX(Parámetros!N$7:$P$7),FALSE))","v":""},{"$f":"IF(O742=\"\",\"\",VLOOKUP(O742,Parámetros!O$11:$P$13,MAX(Parámetros!O$7:$P$7),FALSE))","v":""},""]
[null,null,null,{"$f":"IF(E743=\"\",\"\",VLOOKUP(E743,'Buenas prácticas'!$G$8:$H$1007,2,FALSE))","v":""},null,null,null,null,null,null,null,null,null,null,null,{"$f":"IF(F743=\"\",\"\",VLOOKUP(F743,Parámetros!F$11:$P$13,MAX(Parámetros!F$7:$P$7),FALSE))","v":""},{"$f":"IF(G743=\"\",\"\",VLOOKUP(G743,Parámetros!G$11:$P$13,MAX(Parámetros!G$7:$P$7),FALSE))","v":""},{"$f":"IF(H743=\"\",\"\",VLOOKUP(H743,Parámetros!H$11:$P$13,MAX(Parámetros!H$7:$P$7),FALSE))","v":""},{"$f":"IF(I743=\"\",\"\",VLOOKUP(I743,Parámetros!I$11:$P$13,MAX(Parámetros!I$7:$P$7),FALSE))","v":""},{"$f":"IF(J743=\"\",\"\",VLOOKUP(J743,Parámetros!J$11:$P$13,MAX(Parámetros!J$7:$P$7),FALSE))","v":""},{"$f":"IF(K743=\"\",\"\",VLOOKUP(K743,Parámetros!K$11:$P$13,MAX(Parámetros!K$7:$P$7),FALSE))","v":""},{"$f":"IF(L743=\"\",\"\",VLOOKUP(L743,Parámetros!L$11:$P$13,MAX(Parámetros!L$7:$P$7),FALSE))","v":""},{"$f":"IF(M743=\"\",\"\",VLOOKUP(M743,Parámetros!M$11:$P$13,MAX(Parámetros!M$7:$P$7),FALSE))","v":""},{"$f":"IF(N743=\"\",\"\",VLOOKUP(N743,Parámetros!N$11:$P$13,MAX(Parámetros!N$7:$P$7),FALSE))","v":""},{"$f":"IF(O743=\"\",\"\",VLOOKUP(O743,Parámetros!O$11:$P$13,MAX(Parámetros!O$7:$P$7),FALSE))","v":""},""]
[null,null,null,{"$f":"IF(E744=\"\",\"\",VLOOKUP(E744,'Buenas prácticas'!$G$8:$H$1007,2,FALSE))","v":""},null,null,null,null,null,null,null,null,null,null,null,{"$f":"IF(F744=\"\",\"\",VLOOKUP(F744,Parámetros!F$11:$P$13,MAX(Parámetros!F$7:$P$7),FALSE))","v":""},{"$f":"IF(G744=\"\",\"\",VLOOKUP(G744,Parámetros!G$11:$P$13,MAX(Parámetros!G$7:$P$7),FALSE))","v":""},{"$f":"IF(H744=\"\",\"\",VLOOKUP(H744,Parámetros!H$11:$P$13,MAX(Parámetros!H$7:$P$7),FALSE))","v":""},{"$f":"IF(I744=\"\",\"\",VLOOKUP(I744,Parámetros!I$11:$P$13,MAX(Parámetros!I$7:$P$7),FALSE))","v":""},{"$f":"IF(J744=\"\",\"\",VLOOKUP(J744,Parámetros!J$11:$P$13,MAX(Parámetros!J$7:$P$7),FALSE))","v":""},{"$f":"IF(K744=\"\",\"\",VLOOKUP(K744,Parámetros!K$11:$P$13,MAX(Parámetros!K$7:$P$7),FALSE))","v":""},{"$f":"IF(L744=\"\",\"\",VLOOKUP(L744,Parámetros!L$11:$P$13,MAX(Parámetros!L$7:$P$7),FALSE))","v":""},{"$f":"IF(M744=\"\",\"\",VLOOKUP(M744,Parámetros!M$11:$P$13,MAX(Parámetros!M$7:$P$7),FALSE))","v":""},{"$f":"IF(N744=\"\",\"\",VLOOKUP(N744,Parámetros!N$11:$P$13,MAX(Parámetros!N$7:$P$7),FALSE))","v":""},{"$f":"IF(O744=\"\",\"\",VLOOKUP(O744,Parámetros!O$11:$P$13,MAX(Parámetros!O$7:$P$7),FALSE))","v":""},""]
[null,null,null,{"$f":"IF(E745=\"\",\"\",VLOOKUP(E745,'Buenas prácticas'!$G$8:$H$1007,2,FALSE))","v":""},null,null,null,null,null,null,null,null,null,null,null,{"$f":"IF(F745=\"\",\"\",VLOOKUP(F745,Parámetros!F$11:$P$13,MAX(Parámetros!F$7:$P$7),FALSE))","v":""},{"$f":"IF(G745=\"\",\"\",VLOOKUP(G745,Parámetros!G$11:$P$13,MAX(Parámetros!G$7:$P$7),FALSE))","v":""},{"$f":"IF(H745=\"\",\"\",VLOOKUP(H745,Parámetros!H$11:$P$13,MAX(Parámetros!H$7:$P$7),FALSE))","v":""},{"$f":"IF(I745=\"\",\"\",VLOOKUP(I745,Parámetros!I$11:$P$13,MAX(Parámetros!I$7:$P$7),FALSE))","v":""},{"$f":"IF(J745=\"\",\"\",VLOOKUP(J745,Parámetros!J$11:$P$13,MAX(Parámetros!J$7:$P$7),FALSE))","v":""},{"$f":"IF(K745=\"\",\"\",VLOOKUP(K745,Parámetros!K$11:$P$13,MAX(Parámetros!K$7:$P$7),FALSE))","v":""},{"$f":"IF(L745=\"\",\"\",VLOOKUP(L745,Parámetros!L$11:$P$13,MAX(Parámetros!L$7:$P$7),FALSE))","v":""},{"$f":"IF(M745=\"\",\"\",VLOOKUP(M745,Parámetros!M$11:$P$13,MAX(Parámetros!M$7:$P$7),FALSE))","v":""},{"$f":"IF(N745=\"\",\"\",VLOOKUP(N745,Parámetros!N$11:$P$13,MAX(Parámetros!N$7:$P$7),FALSE))","v":""},{"$f":"IF(O745=\"\",\"\",VLOOKUP(O745,Parámetros!O$11:$P$13,MAX(Parámetros!O$7:$P$7),FALSE))","v":""},""]
[null,null,null,{"$f":"IF(E746=\"\",\"\",VLOOKUP(E746,'Buenas prácticas'!$G$8:$H$1007,2,FALSE))","v":""},null,null,null,null,null,null,null,null,null,null,null,{"$f":"IF(F746=\"\",\"\",VLOOKUP(F746,Parámetros!F$11:$P$13,MAX(Parámetros!F$7:$P$7),FALSE))","v":""},{"$f":"IF(G746=\"\",\"\",VLOOKUP(G746,Parámetros!G$11:$P$13,MAX(Parámetros!G$7:$P$7),FALSE))","v":""},{"$f":"IF(H746=\"\",\"\",VLOOKUP(H746,Parámetros!H$11:$P$13,MAX(Parámetros!H$7:$P$7),FALSE))","v":""},{"$f":"IF(I746=\"\",\"\",VLOOKUP(I746,Parámetros!I$11:$P$13,MAX(Parámetros!I$7:$P$7),FALSE))","v":""},{"$f":"IF(J746=\"\",\"\",VLOOKUP(J746,Parámetros!J$11:$P$13,MAX(Parámetros!J$7:$P$7),FALSE))","v":""},{"$f":"IF(K746=\"\",\"\",VLOOKUP(K746,Parámetros!K$11:$P$13,MAX(Parámetros!K$7:$P$7),FALSE))","v":""},{"$f":"IF(L746=\"\",\"\",VLOOKUP(L746,Parámetros!L$11:$P$13,MAX(Parámetros!L$7:$P$7),FALSE))","v":""},{"$f":"IF(M746=\"\",\"\",VLOOKUP(M746,Parámetros!M$11:$P$13,MAX(Parámetros!M$7:$P$7),FALSE))","v":""},{"$f":"IF(N746=\"\",\"\",VLOOKUP(N746,Parámetros!N$11:$P$13,MAX(Parámetros!N$7:$P$7),FALSE))","v":""},{"$f":"IF(O746=\"\",\"\",VLOOKUP(O746,Parámetros!O$11:$P$13,MAX(Parámetros!O$7:$P$7),FALSE))","v":""},""]
[null,null,null,{"$f":"IF(E747=\"\",\"\",VLOOKUP(E747,'Buenas prácticas'!$G$8:$H$1007,2,FALSE))","v":""},null,null,null,null,null,null,null,null,null,null,null,{"$f":"IF(F747=\"\",\"\",VLOOKUP(F747,Parámetros!F$11:$P$13,MAX(Parámetros!F$7:$P$7),FALSE))","v":""},{"$f":"IF(G747=\"\",\"\",VLOOKUP(G747,Parámetros!G$11:$P$13,MAX(Parámetros!G$7:$P$7),FALSE))","v":""},{"$f":"IF(H747=\"\",\"\",VLOOKUP(H747,Parámetros!H$11:$P$13,MAX(Parámetros!H$7:$P$7),FALSE))","v":""},{"$f":"IF(I747=\"\",\"\",VLOOKUP(I747,Parámetros!I$11:$P$13,MAX(Parámetros!I$7:$P$7),FALSE))","v":""},{"$f":"IF(J747=\"\",\"\",VLOOKUP(J747,Parámetros!J$11:$P$13,MAX(Parámetros!J$7:$P$7),FALSE))","v":""},{"$f":"IF(K747=\"\",\"\",VLOOKUP(K747,Parámetros!K$11:$P$13,MAX(Parámetros!K$7:$P$7),FALSE))","v":""},{"$f":"IF(L747=\"\",\"\",VLOOKUP(L747,Parámetros!L$11:$P$13,MAX(Parámetros!L$7:$P$7),FALSE))","v":""},{"$f":"IF(M747=\"\",\"\",VLOOKUP(M747,Parámetros!M$11:$P$13,MAX(Parámetros!M$7:$P$7),FALSE))","v":""},{"$f":"IF(N747=\"\",\"\",VLOOKUP(N747,Parámetros!N$11:$P$13,MAX(Parámetros!N$7:$P$7),FALSE))","v":""},{"$f":"IF(O747=\"\",\"\",VLOOKUP(O747,Parámetros!O$11:$P$13,MAX(Parámetros!O$7:$P$7),FALSE))","v":""},""]
[null,null,null,{"$f":"IF(E748=\"\",\"\",VLOOKUP(E748,'Buenas prácticas'!$G$8:$H$1007,2,FALSE))","v":""},null,null,null,null,null,null,null,null,null,null,null,{"$f":"IF(F748=\"\",\"\",VLOOKUP(F748,Parámetros!F$11:$P$13,MAX(Parámetros!F$7:$P$7),FALSE))","v":""},{"$f":"IF(G748=\"\",\"\",VLOOKUP(G748,Parámetros!G$11:$P$13,MAX(Parámetros!G$7:$P$7),FALSE))","v":""},{"$f":"IF(H748=\"\",\"\",VLOOKUP(H748,Parámetros!H$11:$P$13,MAX(Parámetros!H$7:$P$7),FALSE))","v":""},{"$f":"IF(I748=\"\",\"\",VLOOKUP(I748,Parámetros!I$11:$P$13,MAX(Parámetros!I$7:$P$7),FALSE))","v":""},{"$f":"IF(J748=\"\",\"\",VLOOKUP(J748,Parámetros!J$11:$P$13,MAX(Parámetros!J$7:$P$7),FALSE))","v":""},{"$f":"IF(K748=\"\",\"\",VLOOKUP(K748,Parámetros!K$11:$P$13,MAX(Parámetros!K$7:$P$7),FALSE))","v":""},{"$f":"IF(L748=\"\",\"\",VLOOKUP(L748,Parámetros!L$11:$P$13,MAX(Parámetros!L$7:$P$7),FALSE))","v":""},{"$f":"IF(M748=\"\",\"\",VLOOKUP(M748,Parámetros!M$11:$P$13,MAX(Parámetros!M$7:$P$7),FALSE))","v":""},{"$f":"IF(N748=\"\",\"\",VLOOKUP(N748,Parámetros!N$11:$P$13,MAX(Parámetros!N$7:$P$7),FALSE))","v":""},{"$f":"IF(O748=\"\",\"\",VLOOKUP(O748,Parámetros!O$11:$P$13,MAX(Parámetros!O$7:$P$7),FALSE))","v":""},""]
[null,null,null,{"$f":"IF(E749=\"\",\"\",VLOOKUP(E749,'Buenas prácticas'!$G$8:$H$1007,2,FALSE))","v":""},null,null,null,null,null,null,null,null,null,null,null,{"$f":"IF(F749=\"\",\"\",VLOOKUP(F749,Parámetros!F$11:$P$13,MAX(Parámetros!F$7:$P$7),FALSE))","v":""},{"$f":"IF(G749=\"\",\"\",VLOOKUP(G749,Parámetros!G$11:$P$13,MAX(Parámetros!G$7:$P$7),FALSE))","v":""},{"$f":"IF(H749=\"\",\"\",VLOOKUP(H749,Parámetros!H$11:$P$13,MAX(Parámetros!H$7:$P$7),FALSE))","v":""},{"$f":"IF(I749=\"\",\"\",VLOOKUP(I749,Parámetros!I$11:$P$13,MAX(Parámetros!I$7:$P$7),FALSE))","v":""},{"$f":"IF(J749=\"\",\"\",VLOOKUP(J749,Parámetros!J$11:$P$13,MAX(Parámetros!J$7:$P$7),FALSE))","v":""},{"$f":"IF(K749=\"\",\"\",VLOOKUP(K749,Parámetros!K$11:$P$13,MAX(Parámetros!K$7:$P$7),FALSE))","v":""},{"$f":"IF(L749=\"\",\"\",VLOOKUP(L749,Parámetros!L$11:$P$13,MAX(Parámetros!L$7:$P$7),FALSE))","v":""},{"$f":"IF(M749=\"\",\"\",VLOOKUP(M749,Parámetros!M$11:$P$13,MAX(Parámetros!M$7:$P$7),FALSE))","v":""},{"$f":"IF(N749=\"\",\"\",VLOOKUP(N749,Parámetros!N$11:$P$13,MAX(Parámetros!N$7:$P$7),FALSE))","v":""},{"$f":"IF(O749=\"\",\"\",VLOOKUP(O749,Parámetros!O$11:$P$13,MAX(Parámetros!O$7:$P$7),FALSE))","v":""},""]
[null,null,null,{"$f":"IF(E750=\"\",\"\",VLOOKUP(E750,'Buenas prácticas'!$G$8:$H$1007,2,FALSE))","v":""},null,null,null,null,null,null,null,null,null,null,null,{"$f":"IF(F750=\"\",\"\",VLOOKUP(F750,Parámetros!F$11:$P$13,MAX(Parámetros!F$7:$P$7),FALSE))","v":""},{"$f":"IF(G750=\"\",\"\",VLOOKUP(G750,Parámetros!G$11:$P$13,MAX(Parámetros!G$7:$P$7),FALSE))","v":""},{"$f":"IF(H750=\"\",\"\",VLOOKUP(H750,Parámetros!H$11:$P$13,MAX(Parámetros!H$7:$P$7),FALSE))","v":""},{"$f":"IF(I750=\"\",\"\",VLOOKUP(I750,Parámetros!I$11:$P$13,MAX(Parámetros!I$7:$P$7),FALSE))","v":""},{"$f":"IF(J750=\"\",\"\",VLOOKUP(J750,Parámetros!J$11:$P$13,MAX(Parámetros!J$7:$P$7),FALSE))","v":""},{"$f":"IF(K750=\"\",\"\",VLOOKUP(K750,Parámetros!K$11:$P$13,MAX(Parámetros!K$7:$P$7),FALSE))","v":""},{"$f":"IF(L750=\"\",\"\",VLOOKUP(L750,Parámetros!L$11:$P$13,MAX(Parámetros!L$7:$P$7),FALSE))","v":""},{"$f":"IF(M750=\"\",\"\",VLOOKUP(M750,Parámetros!M$11:$P$13,MAX(Parámetros!M$7:$P$7),FALSE))","v":""},{"$f":"IF(N750=\"\",\"\",VLOOKUP(N750,Parámetros!N$11:$P$13,MAX(Parámetros!N$7:$P$7),FALSE))","v":""},{"$f":"IF(O750=\"\",\"\",VLOOKUP(O750,Parámetros!O$11:$P$13,MAX(Parámetros!O$7:$P$7),FALSE))","v":""},""]
[null,null,null,{"$f":"IF(E751=\"\",\"\",VLOOKUP(E751,'Buenas prácticas'!$G$8:$H$1007,2,FALSE))","v":""},null,null,null,null,null,null,null,null,null,null,null,{"$f":"IF(F751=\"\",\"\",VLOOKUP(F751,Parámetros!F$11:$P$13,MAX(Parámetros!F$7:$P$7),FALSE))","v":""},{"$f":"IF(G751=\"\",\"\",VLOOKUP(G751,Parámetros!G$11:$P$13,MAX(Parámetros!G$7:$P$7),FALSE))","v":""},{"$f":"IF(H751=\"\",\"\",VLOOKUP(H751,Parámetros!H$11:$P$13,MAX(Parámetros!H$7:$P$7),FALSE))","v":""},{"$f":"IF(I751=\"\",\"\",VLOOKUP(I751,Parámetros!I$11:$P$13,MAX(Parámetros!I$7:$P$7),FALSE))","v":""},{"$f":"IF(J751=\"\",\"\",VLOOKUP(J751,Parámetros!J$11:$P$13,MAX(Parámetros!J$7:$P$7),FALSE))","v":""},{"$f":"IF(K751=\"\",\"\",VLOOKUP(K751,Parámetros!K$11:$P$13,MAX(Parámetros!K$7:$P$7),FALSE))","v":""},{"$f":"IF(L751=\"\",\"\",VLOOKUP(L751,Parámetros!L$11:$P$13,MAX(Parámetros!L$7:$P$7),FALSE))","v":""},{"$f":"IF(M751=\"\",\"\",VLOOKUP(M751,Parámetros!M$11:$P$13,MAX(Parámetros!M$7:$P$7),FALSE))","v":""},{"$f":"IF(N751=\"\",\"\",VLOOKUP(N751,Parámetros!N$11:$P$13,MAX(Parámetros!N$7:$P$7),FALSE))","v":""},{"$f":"IF(O751=\"\",\"\",VLOOKUP(O751,Parámetros!O$11:$P$13,MAX(Parámetros!O$7:$P$7),FALSE))","v":""},""]
[null,null,null,{"$f":"IF(E752=\"\",\"\",VLOOKUP(E752,'Buenas prácticas'!$G$8:$H$1007,2,FALSE))","v":""},null,null,null,null,null,null,null,null,null,null,null,{"$f":"IF(F752=\"\",\"\",VLOOKUP(F752,Parámetros!F$11:$P$13,MAX(Parámetros!F$7:$P$7),FALSE))","v":""},{"$f":"IF(G752=\"\",\"\",VLOOKUP(G752,Parámetros!G$11:$P$13,MAX(Parámetros!G$7:$P$7),FALSE))","v":""},{"$f":"IF(H752=\"\",\"\",VLOOKUP(H752,Parámetros!H$11:$P$13,MAX(Parámetros!H$7:$P$7),FALSE))","v":""},{"$f":"IF(I752=\"\",\"\",VLOOKUP(I752,Parámetros!I$11:$P$13,MAX(Parámetros!I$7:$P$7),FALSE))","v":""},{"$f":"IF(J752=\"\",\"\",VLOOKUP(J752,Parámetros!J$11:$P$13,MAX(Parámetros!J$7:$P$7),FALSE))","v":""},{"$f":"IF(K752=\"\",\"\",VLOOKUP(K752,Parámetros!K$11:$P$13,MAX(Parámetros!K$7:$P$7),FALSE))","v":""},{"$f":"IF(L752=\"\",\"\",VLOOKUP(L752,Parámetros!L$11:$P$13,MAX(Parámetros!L$7:$P$7),FALSE))","v":""},{"$f":"IF(M752=\"\",\"\",VLOOKUP(M752,Parámetros!M$11:$P$13,MAX(Parámetros!M$7:$P$7),FALSE))","v":""},{"$f":"IF(N752=\"\",\"\",VLOOKUP(N752,Parámetros!N$11:$P$13,MAX(Parámetros!N$7:$P$7),FALSE))","v":""},{"$f":"IF(O752=\"\",\"\",VLOOKUP(O752,Parámetros!O$11:$P$13,MAX(Parámetros!O$7:$P$7),FALSE))","v":""},""]
[null,null,null,{"$f":"IF(E753=\"\",\"\",VLOOKUP(E753,'Buenas prácticas'!$G$8:$H$1007,2,FALSE))","v":""},null,null,null,null,null,null,null,null,null,null,null,{"$f":"IF(F753=\"\",\"\",VLOOKUP(F753,Parámetros!F$11:$P$13,MAX(Parámetros!F$7:$P$7),FALSE))","v":""},{"$f":"IF(G753=\"\",\"\",VLOOKUP(G753,Parámetros!G$11:$P$13,MAX(Parámetros!G$7:$P$7),FALSE))","v":""},{"$f":"IF(H753=\"\",\"\",VLOOKUP(H753,Parámetros!H$11:$P$13,MAX(Parámetros!H$7:$P$7),FALSE))","v":""},{"$f":"IF(I753=\"\",\"\",VLOOKUP(I753,Parámetros!I$11:$P$13,MAX(Parámetros!I$7:$P$7),FALSE))","v":""},{"$f":"IF(J753=\"\",\"\",VLOOKUP(J753,Parámetros!J$11:$P$13,MAX(Parámetros!J$7:$P$7),FALSE))","v":""},{"$f":"IF(K753=\"\",\"\",VLOOKUP(K753,Parámetros!K$11:$P$13,MAX(Parámetros!K$7:$P$7),FALSE))","v":""},{"$f":"IF(L753=\"\",\"\",VLOOKUP(L753,Parámetros!L$11:$P$13,MAX(Parámetros!L$7:$P$7),FALSE))","v":""},{"$f":"IF(M753=\"\",\"\",VLOOKUP(M753,Parámetros!M$11:$P$13,MAX(Parámetros!M$7:$P$7),FALSE))","v":""},{"$f":"IF(N753=\"\",\"\",VLOOKUP(N753,Parámetros!N$11:$P$13,MAX(Parámetros!N$7:$P$7),FALSE))","v":""},{"$f":"IF(O753=\"\",\"\",VLOOKUP(O753,Parámetros!O$11:$P$13,MAX(Parámetros!O$7:$P$7),FALSE))","v":""},""]
[null,null,null,{"$f":"IF(E754=\"\",\"\",VLOOKUP(E754,'Buenas prácticas'!$G$8:$H$1007,2,FALSE))","v":""},null,null,null,null,null,null,null,null,null,null,null,{"$f":"IF(F754=\"\",\"\",VLOOKUP(F754,Parámetros!F$11:$P$13,MAX(Parámetros!F$7:$P$7),FALSE))","v":""},{"$f":"IF(G754=\"\",\"\",VLOOKUP(G754,Parámetros!G$11:$P$13,MAX(Parámetros!G$7:$P$7),FALSE))","v":""},{"$f":"IF(H754=\"\",\"\",VLOOKUP(H754,Parámetros!H$11:$P$13,MAX(Parámetros!H$7:$P$7),FALSE))","v":""},{"$f":"IF(I754=\"\",\"\",VLOOKUP(I754,Parámetros!I$11:$P$13,MAX(Parámetros!I$7:$P$7),FALSE))","v":""},{"$f":"IF(J754=\"\",\"\",VLOOKUP(J754,Parámetros!J$11:$P$13,MAX(Parámetros!J$7:$P$7),FALSE))","v":""},{"$f":"IF(K754=\"\",\"\",VLOOKUP(K754,Parámetros!K$11:$P$13,MAX(Parámetros!K$7:$P$7),FALSE))","v":""},{"$f":"IF(L754=\"\",\"\",VLOOKUP(L754,Parámetros!L$11:$P$13,MAX(Parámetros!L$7:$P$7),FALSE))","v":""},{"$f":"IF(M754=\"\",\"\",VLOOKUP(M754,Parámetros!M$11:$P$13,MAX(Parámetros!M$7:$P$7),FALSE))","v":""},{"$f":"IF(N754=\"\",\"\",VLOOKUP(N754,Parámetros!N$11:$P$13,MAX(Parámetros!N$7:$P$7),FALSE))","v":""},{"$f":"IF(O754=\"\",\"\",VLOOKUP(O754,Parámetros!O$11:$P$13,MAX(Parámetros!O$7:$P$7),FALSE))","v":""},""]
[null,null,null,{"$f":"IF(E755=\"\",\"\",VLOOKUP(E755,'Buenas prácticas'!$G$8:$H$1007,2,FALSE))","v":""},null,null,null,null,null,null,null,null,null,null,null,{"$f":"IF(F755=\"\",\"\",VLOOKUP(F755,Parámetros!F$11:$P$13,MAX(Parámetros!F$7:$P$7),FALSE))","v":""},{"$f":"IF(G755=\"\",\"\",VLOOKUP(G755,Parámetros!G$11:$P$13,MAX(Parámetros!G$7:$P$7),FALSE))","v":""},{"$f":"IF(H755=\"\",\"\",VLOOKUP(H755,Parámetros!H$11:$P$13,MAX(Parámetros!H$7:$P$7),FALSE))","v":""},{"$f":"IF(I755=\"\",\"\",VLOOKUP(I755,Parámetros!I$11:$P$13,MAX(Parámetros!I$7:$P$7),FALSE))","v":""},{"$f":"IF(J755=\"\",\"\",VLOOKUP(J755,Parámetros!J$11:$P$13,MAX(Parámetros!J$7:$P$7),FALSE))","v":""},{"$f":"IF(K755=\"\",\"\",VLOOKUP(K755,Parámetros!K$11:$P$13,MAX(Parámetros!K$7:$P$7),FALSE))","v":""},{"$f":"IF(L755=\"\",\"\",VLOOKUP(L755,Parámetros!L$11:$P$13,MAX(Parámetros!L$7:$P$7),FALSE))","v":""},{"$f":"IF(M755=\"\",\"\",VLOOKUP(M755,Parámetros!M$11:$P$13,MAX(Parámetros!M$7:$P$7),FALSE))","v":""},{"$f":"IF(N755=\"\",\"\",VLOOKUP(N755,Parámetros!N$11:$P$13,MAX(Parámetros!N$7:$P$7),FALSE))","v":""},{"$f":"IF(O755=\"\",\"\",VLOOKUP(O755,Parámetros!O$11:$P$13,MAX(Parámetros!O$7:$P$7),FALSE))","v":""},""]
[null,null,null,{"$f":"IF(E756=\"\",\"\",VLOOKUP(E756,'Buenas prácticas'!$G$8:$H$1007,2,FALSE))","v":""},null,null,null,null,null,null,null,null,null,null,null,{"$f":"IF(F756=\"\",\"\",VLOOKUP(F756,Parámetros!F$11:$P$13,MAX(Parámetros!F$7:$P$7),FALSE))","v":""},{"$f":"IF(G756=\"\",\"\",VLOOKUP(G756,Parámetros!G$11:$P$13,MAX(Parámetros!G$7:$P$7),FALSE))","v":""},{"$f":"IF(H756=\"\",\"\",VLOOKUP(H756,Parámetros!H$11:$P$13,MAX(Parámetros!H$7:$P$7),FALSE))","v":""},{"$f":"IF(I756=\"\",\"\",VLOOKUP(I756,Parámetros!I$11:$P$13,MAX(Parámetros!I$7:$P$7),FALSE))","v":""},{"$f":"IF(J756=\"\",\"\",VLOOKUP(J756,Parámetros!J$11:$P$13,MAX(Parámetros!J$7:$P$7),FALSE))","v":""},{"$f":"IF(K756=\"\",\"\",VLOOKUP(K756,Parámetros!K$11:$P$13,MAX(Parámetros!K$7:$P$7),FALSE))","v":""},{"$f":"IF(L756=\"\",\"\",VLOOKUP(L756,Parámetros!L$11:$P$13,MAX(Parámetros!L$7:$P$7),FALSE))","v":""},{"$f":"IF(M756=\"\",\"\",VLOOKUP(M756,Parámetros!M$11:$P$13,MAX(Parámetros!M$7:$P$7),FALSE))","v":""},{"$f":"IF(N756=\"\",\"\",VLOOKUP(N756,Parámetros!N$11:$P$13,MAX(Parámetros!N$7:$P$7),FALSE))","v":""},{"$f":"IF(O756=\"\",\"\",VLOOKUP(O756,Parámetros!O$11:$P$13,MAX(Parámetros!O$7:$P$7),FALSE))","v":""},""]
[null,null,null,{"$f":"IF(E757=\"\",\"\",VLOOKUP(E757,'Buenas prácticas'!$G$8:$H$1007,2,FALSE))","v":""},null,null,null,null,null,null,null,null,null,null,null,{"$f":"IF(F757=\"\",\"\",VLOOKUP(F757,Parámetros!F$11:$P$13,MAX(Parámetros!F$7:$P$7),FALSE))","v":""},{"$f":"IF(G757=\"\",\"\",VLOOKUP(G757,Parámetros!G$11:$P$13,MAX(Parámetros!G$7:$P$7),FALSE))","v":""},{"$f":"IF(H757=\"\",\"\",VLOOKUP(H757,Parámetros!H$11:$P$13,MAX(Parámetros!H$7:$P$7),FALSE))","v":""},{"$f":"IF(I757=\"\",\"\",VLOOKUP(I757,Parámetros!I$11:$P$13,MAX(Parámetros!I$7:$P$7),FALSE))","v":""},{"$f":"IF(J757=\"\",\"\",VLOOKUP(J757,Parámetros!J$11:$P$13,MAX(Parámetros!J$7:$P$7),FALSE))","v":""},{"$f":"IF(K757=\"\",\"\",VLOOKUP(K757,Parámetros!K$11:$P$13,MAX(Parámetros!K$7:$P$7),FALSE))","v":""},{"$f":"IF(L757=\"\",\"\",VLOOKUP(L757,Parámetros!L$11:$P$13,MAX(Parámetros!L$7:$P$7),FALSE))","v":""},{"$f":"IF(M757=\"\",\"\",VLOOKUP(M757,Parámetros!M$11:$P$13,MAX(Parámetros!M$7:$P$7),FALSE))","v":""},{"$f":"IF(N757=\"\",\"\",VLOOKUP(N757,Parámetros!N$11:$P$13,MAX(Parámetros!N$7:$P$7),FALSE))","v":""},{"$f":"IF(O757=\"\",\"\",VLOOKUP(O757,Parámetros!O$11:$P$13,MAX(Parámetros!O$7:$P$7),FALSE))","v":""},""]
[null,null,null,{"$f":"IF(E758=\"\",\"\",VLOOKUP(E758,'Buenas prácticas'!$G$8:$H$1007,2,FALSE))","v":""},null,null,null,null,null,null,null,null,null,null,null,{"$f":"IF(F758=\"\",\"\",VLOOKUP(F758,Parámetros!F$11:$P$13,MAX(Parámetros!F$7:$P$7),FALSE))","v":""},{"$f":"IF(G758=\"\",\"\",VLOOKUP(G758,Parámetros!G$11:$P$13,MAX(Parámetros!G$7:$P$7),FALSE))","v":""},{"$f":"IF(H758=\"\",\"\",VLOOKUP(H758,Parámetros!H$11:$P$13,MAX(Parámetros!H$7:$P$7),FALSE))","v":""},{"$f":"IF(I758=\"\",\"\",VLOOKUP(I758,Parámetros!I$11:$P$13,MAX(Parámetros!I$7:$P$7),FALSE))","v":""},{"$f":"IF(J758=\"\",\"\",VLOOKUP(J758,Parámetros!J$11:$P$13,MAX(Parámetros!J$7:$P$7),FALSE))","v":""},{"$f":"IF(K758=\"\",\"\",VLOOKUP(K758,Parámetros!K$11:$P$13,MAX(Parámetros!K$7:$P$7),FALSE))","v":""},{"$f":"IF(L758=\"\",\"\",VLOOKUP(L758,Parámetros!L$11:$P$13,MAX(Parámetros!L$7:$P$7),FALSE))","v":""},{"$f":"IF(M758=\"\",\"\",VLOOKUP(M758,Parámetros!M$11:$P$13,MAX(Parámetros!M$7:$P$7),FALSE))","v":""},{"$f":"IF(N758=\"\",\"\",VLOOKUP(N758,Parámetros!N$11:$P$13,MAX(Parámetros!N$7:$P$7),FALSE))","v":""},{"$f":"IF(O758=\"\",\"\",VLOOKUP(O758,Parámetros!O$11:$P$13,MAX(Parámetros!O$7:$P$7),FALSE))","v":""},""]
[null,null,null,{"$f":"IF(E759=\"\",\"\",VLOOKUP(E759,'Buenas prácticas'!$G$8:$H$1007,2,FALSE))","v":""},null,null,null,null,null,null,null,null,null,null,null,{"$f":"IF(F759=\"\",\"\",VLOOKUP(F759,Parámetros!F$11:$P$13,MAX(Parámetros!F$7:$P$7),FALSE))","v":""},{"$f":"IF(G759=\"\",\"\",VLOOKUP(G759,Parámetros!G$11:$P$13,MAX(Parámetros!G$7:$P$7),FALSE))","v":""},{"$f":"IF(H759=\"\",\"\",VLOOKUP(H759,Parámetros!H$11:$P$13,MAX(Parámetros!H$7:$P$7),FALSE))","v":""},{"$f":"IF(I759=\"\",\"\",VLOOKUP(I759,Parámetros!I$11:$P$13,MAX(Parámetros!I$7:$P$7),FALSE))","v":""},{"$f":"IF(J759=\"\",\"\",VLOOKUP(J759,Parámetros!J$11:$P$13,MAX(Parámetros!J$7:$P$7),FALSE))","v":""},{"$f":"IF(K759=\"\",\"\",VLOOKUP(K759,Parámetros!K$11:$P$13,MAX(Parámetros!K$7:$P$7),FALSE))","v":""},{"$f":"IF(L759=\"\",\"\",VLOOKUP(L759,Parámetros!L$11:$P$13,MAX(Parámetros!L$7:$P$7),FALSE))","v":""},{"$f":"IF(M759=\"\",\"\",VLOOKUP(M759,Parámetros!M$11:$P$13,MAX(Parámetros!M$7:$P$7),FALSE))","v":""},{"$f":"IF(N759=\"\",\"\",VLOOKUP(N759,Parámetros!N$11:$P$13,MAX(Parámetros!N$7:$P$7),FALSE))","v":""},{"$f":"IF(O759=\"\",\"\",VLOOKUP(O759,Parámetros!O$11:$P$13,MAX(Parámetros!O$7:$P$7),FALSE))","v":""},""]
[null,null,null,{"$f":"IF(E760=\"\",\"\",VLOOKUP(E760,'Buenas prácticas'!$G$8:$H$1007,2,FALSE))","v":""},null,null,null,null,null,null,null,null,null,null,null,{"$f":"IF(F760=\"\",\"\",VLOOKUP(F760,Parámetros!F$11:$P$13,MAX(Parámetros!F$7:$P$7),FALSE))","v":""},{"$f":"IF(G760=\"\",\"\",VLOOKUP(G760,Parámetros!G$11:$P$13,MAX(Parámetros!G$7:$P$7),FALSE))","v":""},{"$f":"IF(H760=\"\",\"\",VLOOKUP(H760,Parámetros!H$11:$P$13,MAX(Parámetros!H$7:$P$7),FALSE))","v":""},{"$f":"IF(I760=\"\",\"\",VLOOKUP(I760,Parámetros!I$11:$P$13,MAX(Parámetros!I$7:$P$7),FALSE))","v":""},{"$f":"IF(J760=\"\",\"\",VLOOKUP(J760,Parámetros!J$11:$P$13,MAX(Parámetros!J$7:$P$7),FALSE))","v":""},{"$f":"IF(K760=\"\",\"\",VLOOKUP(K760,Parámetros!K$11:$P$13,MAX(Parámetros!K$7:$P$7),FALSE))","v":""},{"$f":"IF(L760=\"\",\"\",VLOOKUP(L760,Parámetros!L$11:$P$13,MAX(Parámetros!L$7:$P$7),FALSE))","v":""},{"$f":"IF(M760=\"\",\"\",VLOOKUP(M760,Parámetros!M$11:$P$13,MAX(Parámetros!M$7:$P$7),FALSE))","v":""},{"$f":"IF(N760=\"\",\"\",VLOOKUP(N760,Parámetros!N$11:$P$13,MAX(Parámetros!N$7:$P$7),FALSE))","v":""},{"$f":"IF(O760=\"\",\"\",VLOOKUP(O760,Parámetros!O$11:$P$13,MAX(Parámetros!O$7:$P$7),FALSE))","v":""},""]
[null,null,null,{"$f":"IF(E761=\"\",\"\",VLOOKUP(E761,'Buenas prácticas'!$G$8:$H$1007,2,FALSE))","v":""},null,null,null,null,null,null,null,null,null,null,null,{"$f":"IF(F761=\"\",\"\",VLOOKUP(F761,Parámetros!F$11:$P$13,MAX(Parámetros!F$7:$P$7),FALSE))","v":""},{"$f":"IF(G761=\"\",\"\",VLOOKUP(G761,Parámetros!G$11:$P$13,MAX(Parámetros!G$7:$P$7),FALSE))","v":""},{"$f":"IF(H761=\"\",\"\",VLOOKUP(H761,Parámetros!H$11:$P$13,MAX(Parámetros!H$7:$P$7),FALSE))","v":""},{"$f":"IF(I761=\"\",\"\",VLOOKUP(I761,Parámetros!I$11:$P$13,MAX(Parámetros!I$7:$P$7),FALSE))","v":""},{"$f":"IF(J761=\"\",\"\",VLOOKUP(J761,Parámetros!J$11:$P$13,MAX(Parámetros!J$7:$P$7),FALSE))","v":""},{"$f":"IF(K761=\"\",\"\",VLOOKUP(K761,Parámetros!K$11:$P$13,MAX(Parámetros!K$7:$P$7),FALSE))","v":""},{"$f":"IF(L761=\"\",\"\",VLOOKUP(L761,Parámetros!L$11:$P$13,MAX(Parámetros!L$7:$P$7),FALSE))","v":""},{"$f":"IF(M761=\"\",\"\",VLOOKUP(M761,Parámetros!M$11:$P$13,MAX(Parámetros!M$7:$P$7),FALSE))","v":""},{"$f":"IF(N761=\"\",\"\",VLOOKUP(N761,Parámetros!N$11:$P$13,MAX(Parámetros!N$7:$P$7),FALSE))","v":""},{"$f":"IF(O761=\"\",\"\",VLOOKUP(O761,Parámetros!O$11:$P$13,MAX(Parámetros!O$7:$P$7),FALSE))","v":""},""]
[null,null,null,{"$f":"IF(E762=\"\",\"\",VLOOKUP(E762,'Buenas prácticas'!$G$8:$H$1007,2,FALSE))","v":""},null,null,null,null,null,null,null,null,null,null,null,{"$f":"IF(F762=\"\",\"\",VLOOKUP(F762,Parámetros!F$11:$P$13,MAX(Parámetros!F$7:$P$7),FALSE))","v":""},{"$f":"IF(G762=\"\",\"\",VLOOKUP(G762,Parámetros!G$11:$P$13,MAX(Parámetros!G$7:$P$7),FALSE))","v":""},{"$f":"IF(H762=\"\",\"\",VLOOKUP(H762,Parámetros!H$11:$P$13,MAX(Parámetros!H$7:$P$7),FALSE))","v":""},{"$f":"IF(I762=\"\",\"\",VLOOKUP(I762,Parámetros!I$11:$P$13,MAX(Parámetros!I$7:$P$7),FALSE))","v":""},{"$f":"IF(J762=\"\",\"\",VLOOKUP(J762,Parámetros!J$11:$P$13,MAX(Parámetros!J$7:$P$7),FALSE))","v":""},{"$f":"IF(K762=\"\",\"\",VLOOKUP(K762,Parámetros!K$11:$P$13,MAX(Parámetros!K$7:$P$7),FALSE))","v":""},{"$f":"IF(L762=\"\",\"\",VLOOKUP(L762,Parámetros!L$11:$P$13,MAX(Parámetros!L$7:$P$7),FALSE))","v":""},{"$f":"IF(M762=\"\",\"\",VLOOKUP(M762,Parámetros!M$11:$P$13,MAX(Parámetros!M$7:$P$7),FALSE))","v":""},{"$f":"IF(N762=\"\",\"\",VLOOKUP(N762,Parámetros!N$11:$P$13,MAX(Parámetros!N$7:$P$7),FALSE))","v":""},{"$f":"IF(O762=\"\",\"\",VLOOKUP(O762,Parámetros!O$11:$P$13,MAX(Parámetros!O$7:$P$7),FALSE))","v":""},""]
[null,null,null,{"$f":"IF(E763=\"\",\"\",VLOOKUP(E763,'Buenas prácticas'!$G$8:$H$1007,2,FALSE))","v":""},null,null,null,null,null,null,null,null,null,null,null,{"$f":"IF(F763=\"\",\"\",VLOOKUP(F763,Parámetros!F$11:$P$13,MAX(Parámetros!F$7:$P$7),FALSE))","v":""},{"$f":"IF(G763=\"\",\"\",VLOOKUP(G763,Parámetros!G$11:$P$13,MAX(Parámetros!G$7:$P$7),FALSE))","v":""},{"$f":"IF(H763=\"\",\"\",VLOOKUP(H763,Parámetros!H$11:$P$13,MAX(Parámetros!H$7:$P$7),FALSE))","v":""},{"$f":"IF(I763=\"\",\"\",VLOOKUP(I763,Parámetros!I$11:$P$13,MAX(Parámetros!I$7:$P$7),FALSE))","v":""},{"$f":"IF(J763=\"\",\"\",VLOOKUP(J763,Parámetros!J$11:$P$13,MAX(Parámetros!J$7:$P$7),FALSE))","v":""},{"$f":"IF(K763=\"\",\"\",VLOOKUP(K763,Parámetros!K$11:$P$13,MAX(Parámetros!K$7:$P$7),FALSE))","v":""},{"$f":"IF(L763=\"\",\"\",VLOOKUP(L763,Parámetros!L$11:$P$13,MAX(Parámetros!L$7:$P$7),FALSE))","v":""},{"$f":"IF(M763=\"\",\"\",VLOOKUP(M763,Parámetros!M$11:$P$13,MAX(Parámetros!M$7:$P$7),FALSE))","v":""},{"$f":"IF(N763=\"\",\"\",VLOOKUP(N763,Parámetros!N$11:$P$13,MAX(Parámetros!N$7:$P$7),FALSE))","v":""},{"$f":"IF(O763=\"\",\"\",VLOOKUP(O763,Parámetros!O$11:$P$13,MAX(Parámetros!O$7:$P$7),FALSE))","v":""},""]
[null,null,null,{"$f":"IF(E764=\"\",\"\",VLOOKUP(E764,'Buenas prácticas'!$G$8:$H$1007,2,FALSE))","v":""},null,null,null,null,null,null,null,null,null,null,null,{"$f":"IF(F764=\"\",\"\",VLOOKUP(F764,Parámetros!F$11:$P$13,MAX(Parámetros!F$7:$P$7),FALSE))","v":""},{"$f":"IF(G764=\"\",\"\",VLOOKUP(G764,Parámetros!G$11:$P$13,MAX(Parámetros!G$7:$P$7),FALSE))","v":""},{"$f":"IF(H764=\"\",\"\",VLOOKUP(H764,Parámetros!H$11:$P$13,MAX(Parámetros!H$7:$P$7),FALSE))","v":""},{"$f":"IF(I764=\"\",\"\",VLOOKUP(I764,Parámetros!I$11:$P$13,MAX(Parámetros!I$7:$P$7),FALSE))","v":""},{"$f":"IF(J764=\"\",\"\",VLOOKUP(J764,Parámetros!J$11:$P$13,MAX(Parámetros!J$7:$P$7),FALSE))","v":""},{"$f":"IF(K764=\"\",\"\",VLOOKUP(K764,Parámetros!K$11:$P$13,MAX(Parámetros!K$7:$P$7),FALSE))","v":""},{"$f":"IF(L764=\"\",\"\",VLOOKUP(L764,Parámetros!L$11:$P$13,MAX(Parámetros!L$7:$P$7),FALSE))","v":""},{"$f":"IF(M764=\"\",\"\",VLOOKUP(M764,Parámetros!M$11:$P$13,MAX(Parámetros!M$7:$P$7),FALSE))","v":""},{"$f":"IF(N764=\"\",\"\",VLOOKUP(N764,Parámetros!N$11:$P$13,MAX(Parámetros!N$7:$P$7),FALSE))","v":""},{"$f":"IF(O764=\"\",\"\",VLOOKUP(O764,Parámetros!O$11:$P$13,MAX(Parámetros!O$7:$P$7),FALSE))","v":""},""]
[null,null,null,{"$f":"IF(E765=\"\",\"\",VLOOKUP(E765,'Buenas prácticas'!$G$8:$H$1007,2,FALSE))","v":""},null,null,null,null,null,null,null,null,null,null,null,{"$f":"IF(F765=\"\",\"\",VLOOKUP(F765,Parámetros!F$11:$P$13,MAX(Parámetros!F$7:$P$7),FALSE))","v":""},{"$f":"IF(G765=\"\",\"\",VLOOKUP(G765,Parámetros!G$11:$P$13,MAX(Parámetros!G$7:$P$7),FALSE))","v":""},{"$f":"IF(H765=\"\",\"\",VLOOKUP(H765,Parámetros!H$11:$P$13,MAX(Parámetros!H$7:$P$7),FALSE))","v":""},{"$f":"IF(I765=\"\",\"\",VLOOKUP(I765,Parámetros!I$11:$P$13,MAX(Parámetros!I$7:$P$7),FALSE))","v":""},{"$f":"IF(J765=\"\",\"\",VLOOKUP(J765,Parámetros!J$11:$P$13,MAX(Parámetros!J$7:$P$7),FALSE))","v":""},{"$f":"IF(K765=\"\",\"\",VLOOKUP(K765,Parámetros!K$11:$P$13,MAX(Parámetros!K$7:$P$7),FALSE))","v":""},{"$f":"IF(L765=\"\",\"\",VLOOKUP(L765,Parámetros!L$11:$P$13,MAX(Parámetros!L$7:$P$7),FALSE))","v":""},{"$f":"IF(M765=\"\",\"\",VLOOKUP(M765,Parámetros!M$11:$P$13,MAX(Parámetros!M$7:$P$7),FALSE))","v":""},{"$f":"IF(N765=\"\",\"\",VLOOKUP(N765,Parámetros!N$11:$P$13,MAX(Parámetros!N$7:$P$7),FALSE))","v":""},{"$f":"IF(O765=\"\",\"\",VLOOKUP(O765,Parámetros!O$11:$P$13,MAX(Parámetros!O$7:$P$7),FALSE))","v":""},""]
[null,null,null,{"$f":"IF(E766=\"\",\"\",VLOOKUP(E766,'Buenas prácticas'!$G$8:$H$1007,2,FALSE))","v":""},null,null,null,null,null,null,null,null,null,null,null,{"$f":"IF(F766=\"\",\"\",VLOOKUP(F766,Parámetros!F$11:$P$13,MAX(Parámetros!F$7:$P$7),FALSE))","v":""},{"$f":"IF(G766=\"\",\"\",VLOOKUP(G766,Parámetros!G$11:$P$13,MAX(Parámetros!G$7:$P$7),FALSE))","v":""},{"$f":"IF(H766=\"\",\"\",VLOOKUP(H766,Parámetros!H$11:$P$13,MAX(Parámetros!H$7:$P$7),FALSE))","v":""},{"$f":"IF(I766=\"\",\"\",VLOOKUP(I766,Parámetros!I$11:$P$13,MAX(Parámetros!I$7:$P$7),FALSE))","v":""},{"$f":"IF(J766=\"\",\"\",VLOOKUP(J766,Parámetros!J$11:$P$13,MAX(Parámetros!J$7:$P$7),FALSE))","v":""},{"$f":"IF(K766=\"\",\"\",VLOOKUP(K766,Parámetros!K$11:$P$13,MAX(Parámetros!K$7:$P$7),FALSE))","v":""},{"$f":"IF(L766=\"\",\"\",VLOOKUP(L766,Parámetros!L$11:$P$13,MAX(Parámetros!L$7:$P$7),FALSE))","v":""},{"$f":"IF(M766=\"\",\"\",VLOOKUP(M766,Parámetros!M$11:$P$13,MAX(Parámetros!M$7:$P$7),FALSE))","v":""},{"$f":"IF(N766=\"\",\"\",VLOOKUP(N766,Parámetros!N$11:$P$13,MAX(Parámetros!N$7:$P$7),FALSE))","v":""},{"$f":"IF(O766=\"\",\"\",VLOOKUP(O766,Parámetros!O$11:$P$13,MAX(Parámetros!O$7:$P$7),FALSE))","v":""},""]
[null,null,null,{"$f":"IF(E767=\"\",\"\",VLOOKUP(E767,'Buenas prácticas'!$G$8:$H$1007,2,FALSE))","v":""},null,null,null,null,null,null,null,null,null,null,null,{"$f":"IF(F767=\"\",\"\",VLOOKUP(F767,Parámetros!F$11:$P$13,MAX(Parámetros!F$7:$P$7),FALSE))","v":""},{"$f":"IF(G767=\"\",\"\",VLOOKUP(G767,Parámetros!G$11:$P$13,MAX(Parámetros!G$7:$P$7),FALSE))","v":""},{"$f":"IF(H767=\"\",\"\",VLOOKUP(H767,Parámetros!H$11:$P$13,MAX(Parámetros!H$7:$P$7),FALSE))","v":""},{"$f":"IF(I767=\"\",\"\",VLOOKUP(I767,Parámetros!I$11:$P$13,MAX(Parámetros!I$7:$P$7),FALSE))","v":""},{"$f":"IF(J767=\"\",\"\",VLOOKUP(J767,Parámetros!J$11:$P$13,MAX(Parámetros!J$7:$P$7),FALSE))","v":""},{"$f":"IF(K767=\"\",\"\",VLOOKUP(K767,Parámetros!K$11:$P$13,MAX(Parámetros!K$7:$P$7),FALSE))","v":""},{"$f":"IF(L767=\"\",\"\",VLOOKUP(L767,Parámetros!L$11:$P$13,MAX(Parámetros!L$7:$P$7),FALSE))","v":""},{"$f":"IF(M767=\"\",\"\",VLOOKUP(M767,Parámetros!M$11:$P$13,MAX(Parámetros!M$7:$P$7),FALSE))","v":""},{"$f":"IF(N767=\"\",\"\",VLOOKUP(N767,Parámetros!N$11:$P$13,MAX(Parámetros!N$7:$P$7),FALSE))","v":""},{"$f":"IF(O767=\"\",\"\",VLOOKUP(O767,Parámetros!O$11:$P$13,MAX(Parámetros!O$7:$P$7),FALSE))","v":""},""]
[null,null,null,{"$f":"IF(E768=\"\",\"\",VLOOKUP(E768,'Buenas prácticas'!$G$8:$H$1007,2,FALSE))","v":""},null,null,null,null,null,null,null,null,null,null,null,{"$f":"IF(F768=\"\",\"\",VLOOKUP(F768,Parámetros!F$11:$P$13,MAX(Parámetros!F$7:$P$7),FALSE))","v":""},{"$f":"IF(G768=\"\",\"\",VLOOKUP(G768,Parámetros!G$11:$P$13,MAX(Parámetros!G$7:$P$7),FALSE))","v":""},{"$f":"IF(H768=\"\",\"\",VLOOKUP(H768,Parámetros!H$11:$P$13,MAX(Parámetros!H$7:$P$7),FALSE))","v":""},{"$f":"IF(I768=\"\",\"\",VLOOKUP(I768,Parámetros!I$11:$P$13,MAX(Parámetros!I$7:$P$7),FALSE))","v":""},{"$f":"IF(J768=\"\",\"\",VLOOKUP(J768,Parámetros!J$11:$P$13,MAX(Parámetros!J$7:$P$7),FALSE))","v":""},{"$f":"IF(K768=\"\",\"\",VLOOKUP(K768,Parámetros!K$11:$P$13,MAX(Parámetros!K$7:$P$7),FALSE))","v":""},{"$f":"IF(L768=\"\",\"\",VLOOKUP(L768,Parámetros!L$11:$P$13,MAX(Parámetros!L$7:$P$7),FALSE))","v":""},{"$f":"IF(M768=\"\",\"\",VLOOKUP(M768,Parámetros!M$11:$P$13,MAX(Parámetros!M$7:$P$7),FALSE))","v":""},{"$f":"IF(N768=\"\",\"\",VLOOKUP(N768,Parámetros!N$11:$P$13,MAX(Parámetros!N$7:$P$7),FALSE))","v":""},{"$f":"IF(O768=\"\",\"\",VLOOKUP(O768,Parámetros!O$11:$P$13,MAX(Parámetros!O$7:$P$7),FALSE))","v":""},""]
[null,null,null,{"$f":"IF(E769=\"\",\"\",VLOOKUP(E769,'Buenas prácticas'!$G$8:$H$1007,2,FALSE))","v":""},null,null,null,null,null,null,null,null,null,null,null,{"$f":"IF(F769=\"\",\"\",VLOOKUP(F769,Parámetros!F$11:$P$13,MAX(Parámetros!F$7:$P$7),FALSE))","v":""},{"$f":"IF(G769=\"\",\"\",VLOOKUP(G769,Parámetros!G$11:$P$13,MAX(Parámetros!G$7:$P$7),FALSE))","v":""},{"$f":"IF(H769=\"\",\"\",VLOOKUP(H769,Parámetros!H$11:$P$13,MAX(Parámetros!H$7:$P$7),FALSE))","v":""},{"$f":"IF(I769=\"\",\"\",VLOOKUP(I769,Parámetros!I$11:$P$13,MAX(Parámetros!I$7:$P$7),FALSE))","v":""},{"$f":"IF(J769=\"\",\"\",VLOOKUP(J769,Parámetros!J$11:$P$13,MAX(Parámetros!J$7:$P$7),FALSE))","v":""},{"$f":"IF(K769=\"\",\"\",VLOOKUP(K769,Parámetros!K$11:$P$13,MAX(Parámetros!K$7:$P$7),FALSE))","v":""},{"$f":"IF(L769=\"\",\"\",VLOOKUP(L769,Parámetros!L$11:$P$13,MAX(Parámetros!L$7:$P$7),FALSE))","v":""},{"$f":"IF(M769=\"\",\"\",VLOOKUP(M769,Parámetros!M$11:$P$13,MAX(Parámetros!M$7:$P$7),FALSE))","v":""},{"$f":"IF(N769=\"\",\"\",VLOOKUP(N769,Parámetros!N$11:$P$13,MAX(Parámetros!N$7:$P$7),FALSE))","v":""},{"$f":"IF(O769=\"\",\"\",VLOOKUP(O769,Parámetros!O$11:$P$13,MAX(Parámetros!O$7:$P$7),FALSE))","v":""},""]
[null,null,null,{"$f":"IF(E770=\"\",\"\",VLOOKUP(E770,'Buenas prácticas'!$G$8:$H$1007,2,FALSE))","v":""},null,null,null,null,null,null,null,null,null,null,null,{"$f":"IF(F770=\"\",\"\",VLOOKUP(F770,Parámetros!F$11:$P$13,MAX(Parámetros!F$7:$P$7),FALSE))","v":""},{"$f":"IF(G770=\"\",\"\",VLOOKUP(G770,Parámetros!G$11:$P$13,MAX(Parámetros!G$7:$P$7),FALSE))","v":""},{"$f":"IF(H770=\"\",\"\",VLOOKUP(H770,Parámetros!H$11:$P$13,MAX(Parámetros!H$7:$P$7),FALSE))","v":""},{"$f":"IF(I770=\"\",\"\",VLOOKUP(I770,Parámetros!I$11:$P$13,MAX(Parámetros!I$7:$P$7),FALSE))","v":""},{"$f":"IF(J770=\"\",\"\",VLOOKUP(J770,Parámetros!J$11:$P$13,MAX(Parámetros!J$7:$P$7),FALSE))","v":""},{"$f":"IF(K770=\"\",\"\",VLOOKUP(K770,Parámetros!K$11:$P$13,MAX(Parámetros!K$7:$P$7),FALSE))","v":""},{"$f":"IF(L770=\"\",\"\",VLOOKUP(L770,Parámetros!L$11:$P$13,MAX(Parámetros!L$7:$P$7),FALSE))","v":""},{"$f":"IF(M770=\"\",\"\",VLOOKUP(M770,Parámetros!M$11:$P$13,MAX(Parámetros!M$7:$P$7),FALSE))","v":""},{"$f":"IF(N770=\"\",\"\",VLOOKUP(N770,Parámetros!N$11:$P$13,MAX(Parámetros!N$7:$P$7),FALSE))","v":""},{"$f":"IF(O770=\"\",\"\",VLOOKUP(O770,Parámetros!O$11:$P$13,MAX(Parámetros!O$7:$P$7),FALSE))","v":""},""]
[null,null,null,{"$f":"IF(E771=\"\",\"\",VLOOKUP(E771,'Buenas prácticas'!$G$8:$H$1007,2,FALSE))","v":""},null,null,null,null,null,null,null,null,null,null,null,{"$f":"IF(F771=\"\",\"\",VLOOKUP(F771,Parámetros!F$11:$P$13,MAX(Parámetros!F$7:$P$7),FALSE))","v":""},{"$f":"IF(G771=\"\",\"\",VLOOKUP(G771,Parámetros!G$11:$P$13,MAX(Parámetros!G$7:$P$7),FALSE))","v":""},{"$f":"IF(H771=\"\",\"\",VLOOKUP(H771,Parámetros!H$11:$P$13,MAX(Parámetros!H$7:$P$7),FALSE))","v":""},{"$f":"IF(I771=\"\",\"\",VLOOKUP(I771,Parámetros!I$11:$P$13,MAX(Parámetros!I$7:$P$7),FALSE))","v":""},{"$f":"IF(J771=\"\",\"\",VLOOKUP(J771,Parámetros!J$11:$P$13,MAX(Parámetros!J$7:$P$7),FALSE))","v":""},{"$f":"IF(K771=\"\",\"\",VLOOKUP(K771,Parámetros!K$11:$P$13,MAX(Parámetros!K$7:$P$7),FALSE))","v":""},{"$f":"IF(L771=\"\",\"\",VLOOKUP(L771,Parámetros!L$11:$P$13,MAX(Parámetros!L$7:$P$7),FALSE))","v":""},{"$f":"IF(M771=\"\",\"\",VLOOKUP(M771,Parámetros!M$11:$P$13,MAX(Parámetros!M$7:$P$7),FALSE))","v":""},{"$f":"IF(N771=\"\",\"\",VLOOKUP(N771,Parámetros!N$11:$P$13,MAX(Parámetros!N$7:$P$7),FALSE))","v":""},{"$f":"IF(O771=\"\",\"\",VLOOKUP(O771,Parámetros!O$11:$P$13,MAX(Parámetros!O$7:$P$7),FALSE))","v":""},""]
[null,null,null,{"$f":"IF(E772=\"\",\"\",VLOOKUP(E772,'Buenas prácticas'!$G$8:$H$1007,2,FALSE))","v":""},null,null,null,null,null,null,null,null,null,null,null,{"$f":"IF(F772=\"\",\"\",VLOOKUP(F772,Parámetros!F$11:$P$13,MAX(Parámetros!F$7:$P$7),FALSE))","v":""},{"$f":"IF(G772=\"\",\"\",VLOOKUP(G772,Parámetros!G$11:$P$13,MAX(Parámetros!G$7:$P$7),FALSE))","v":""},{"$f":"IF(H772=\"\",\"\",VLOOKUP(H772,Parámetros!H$11:$P$13,MAX(Parámetros!H$7:$P$7),FALSE))","v":""},{"$f":"IF(I772=\"\",\"\",VLOOKUP(I772,Parámetros!I$11:$P$13,MAX(Parámetros!I$7:$P$7),FALSE))","v":""},{"$f":"IF(J772=\"\",\"\",VLOOKUP(J772,Parámetros!J$11:$P$13,MAX(Parámetros!J$7:$P$7),FALSE))","v":""},{"$f":"IF(K772=\"\",\"\",VLOOKUP(K772,Parámetros!K$11:$P$13,MAX(Parámetros!K$7:$P$7),FALSE))","v":""},{"$f":"IF(L772=\"\",\"\",VLOOKUP(L772,Parámetros!L$11:$P$13,MAX(Parámetros!L$7:$P$7),FALSE))","v":""},{"$f":"IF(M772=\"\",\"\",VLOOKUP(M772,Parámetros!M$11:$P$13,MAX(Parámetros!M$7:$P$7),FALSE))","v":""},{"$f":"IF(N772=\"\",\"\",VLOOKUP(N772,Parámetros!N$11:$P$13,MAX(Parámetros!N$7:$P$7),FALSE))","v":""},{"$f":"IF(O772=\"\",\"\",VLOOKUP(O772,Parámetros!O$11:$P$13,MAX(Parámetros!O$7:$P$7),FALSE))","v":""},""]
[null,null,null,{"$f":"IF(E773=\"\",\"\",VLOOKUP(E773,'Buenas prácticas'!$G$8:$H$1007,2,FALSE))","v":""},null,null,null,null,null,null,null,null,null,null,null,{"$f":"IF(F773=\"\",\"\",VLOOKUP(F773,Parámetros!F$11:$P$13,MAX(Parámetros!F$7:$P$7),FALSE))","v":""},{"$f":"IF(G773=\"\",\"\",VLOOKUP(G773,Parámetros!G$11:$P$13,MAX(Parámetros!G$7:$P$7),FALSE))","v":""},{"$f":"IF(H773=\"\",\"\",VLOOKUP(H773,Parámetros!H$11:$P$13,MAX(Parámetros!H$7:$P$7),FALSE))","v":""},{"$f":"IF(I773=\"\",\"\",VLOOKUP(I773,Parámetros!I$11:$P$13,MAX(Parámetros!I$7:$P$7),FALSE))","v":""},{"$f":"IF(J773=\"\",\"\",VLOOKUP(J773,Parámetros!J$11:$P$13,MAX(Parámetros!J$7:$P$7),FALSE))","v":""},{"$f":"IF(K773=\"\",\"\",VLOOKUP(K773,Parámetros!K$11:$P$13,MAX(Parámetros!K$7:$P$7),FALSE))","v":""},{"$f":"IF(L773=\"\",\"\",VLOOKUP(L773,Parámetros!L$11:$P$13,MAX(Parámetros!L$7:$P$7),FALSE))","v":""},{"$f":"IF(M773=\"\",\"\",VLOOKUP(M773,Parámetros!M$11:$P$13,MAX(Parámetros!M$7:$P$7),FALSE))","v":""},{"$f":"IF(N773=\"\",\"\",VLOOKUP(N773,Parámetros!N$11:$P$13,MAX(Parámetros!N$7:$P$7),FALSE))","v":""},{"$f":"IF(O773=\"\",\"\",VLOOKUP(O773,Parámetros!O$11:$P$13,MAX(Parámetros!O$7:$P$7),FALSE))","v":""},""]
[null,null,null,{"$f":"IF(E774=\"\",\"\",VLOOKUP(E774,'Buenas prácticas'!$G$8:$H$1007,2,FALSE))","v":""},null,null,null,null,null,null,null,null,null,null,null,{"$f":"IF(F774=\"\",\"\",VLOOKUP(F774,Parámetros!F$11:$P$13,MAX(Parámetros!F$7:$P$7),FALSE))","v":""},{"$f":"IF(G774=\"\",\"\",VLOOKUP(G774,Parámetros!G$11:$P$13,MAX(Parámetros!G$7:$P$7),FALSE))","v":""},{"$f":"IF(H774=\"\",\"\",VLOOKUP(H774,Parámetros!H$11:$P$13,MAX(Parámetros!H$7:$P$7),FALSE))","v":""},{"$f":"IF(I774=\"\",\"\",VLOOKUP(I774,Parámetros!I$11:$P$13,MAX(Parámetros!I$7:$P$7),FALSE))","v":""},{"$f":"IF(J774=\"\",\"\",VLOOKUP(J774,Parámetros!J$11:$P$13,MAX(Parámetros!J$7:$P$7),FALSE))","v":""},{"$f":"IF(K774=\"\",\"\",VLOOKUP(K774,Parámetros!K$11:$P$13,MAX(Parámetros!K$7:$P$7),FALSE))","v":""},{"$f":"IF(L774=\"\",\"\",VLOOKUP(L774,Parámetros!L$11:$P$13,MAX(Parámetros!L$7:$P$7),FALSE))","v":""},{"$f":"IF(M774=\"\",\"\",VLOOKUP(M774,Parámetros!M$11:$P$13,MAX(Parámetros!M$7:$P$7),FALSE))","v":""},{"$f":"IF(N774=\"\",\"\",VLOOKUP(N774,Parámetros!N$11:$P$13,MAX(Parámetros!N$7:$P$7),FALSE))","v":""},{"$f":"IF(O774=\"\",\"\",VLOOKUP(O774,Parámetros!O$11:$P$13,MAX(Parámetros!O$7:$P$7),FALSE))","v":""},""]
[null,null,null,{"$f":"IF(E775=\"\",\"\",VLOOKUP(E775,'Buenas prácticas'!$G$8:$H$1007,2,FALSE))","v":""},null,null,null,null,null,null,null,null,null,null,null,{"$f":"IF(F775=\"\",\"\",VLOOKUP(F775,Parámetros!F$11:$P$13,MAX(Parámetros!F$7:$P$7),FALSE))","v":""},{"$f":"IF(G775=\"\",\"\",VLOOKUP(G775,Parámetros!G$11:$P$13,MAX(Parámetros!G$7:$P$7),FALSE))","v":""},{"$f":"IF(H775=\"\",\"\",VLOOKUP(H775,Parámetros!H$11:$P$13,MAX(Parámetros!H$7:$P$7),FALSE))","v":""},{"$f":"IF(I775=\"\",\"\",VLOOKUP(I775,Parámetros!I$11:$P$13,MAX(Parámetros!I$7:$P$7),FALSE))","v":""},{"$f":"IF(J775=\"\",\"\",VLOOKUP(J775,Parámetros!J$11:$P$13,MAX(Parámetros!J$7:$P$7),FALSE))","v":""},{"$f":"IF(K775=\"\",\"\",VLOOKUP(K775,Parámetros!K$11:$P$13,MAX(Parámetros!K$7:$P$7),FALSE))","v":""},{"$f":"IF(L775=\"\",\"\",VLOOKUP(L775,Parámetros!L$11:$P$13,MAX(Parámetros!L$7:$P$7),FALSE))","v":""},{"$f":"IF(M775=\"\",\"\",VLOOKUP(M775,Parámetros!M$11:$P$13,MAX(Parámetros!M$7:$P$7),FALSE))","v":""},{"$f":"IF(N775=\"\",\"\",VLOOKUP(N775,Parámetros!N$11:$P$13,MAX(Parámetros!N$7:$P$7),FALSE))","v":""},{"$f":"IF(O775=\"\",\"\",VLOOKUP(O775,Parámetros!O$11:$P$13,MAX(Parámetros!O$7:$P$7),FALSE))","v":""},""]
[null,null,null,{"$f":"IF(E776=\"\",\"\",VLOOKUP(E776,'Buenas prácticas'!$G$8:$H$1007,2,FALSE))","v":""},null,null,null,null,null,null,null,null,null,null,null,{"$f":"IF(F776=\"\",\"\",VLOOKUP(F776,Parámetros!F$11:$P$13,MAX(Parámetros!F$7:$P$7),FALSE))","v":""},{"$f":"IF(G776=\"\",\"\",VLOOKUP(G776,Parámetros!G$11:$P$13,MAX(Parámetros!G$7:$P$7),FALSE))","v":""},{"$f":"IF(H776=\"\",\"\",VLOOKUP(H776,Parámetros!H$11:$P$13,MAX(Parámetros!H$7:$P$7),FALSE))","v":""},{"$f":"IF(I776=\"\",\"\",VLOOKUP(I776,Parámetros!I$11:$P$13,MAX(Parámetros!I$7:$P$7),FALSE))","v":""},{"$f":"IF(J776=\"\",\"\",VLOOKUP(J776,Parámetros!J$11:$P$13,MAX(Parámetros!J$7:$P$7),FALSE))","v":""},{"$f":"IF(K776=\"\",\"\",VLOOKUP(K776,Parámetros!K$11:$P$13,MAX(Parámetros!K$7:$P$7),FALSE))","v":""},{"$f":"IF(L776=\"\",\"\",VLOOKUP(L776,Parámetros!L$11:$P$13,MAX(Parámetros!L$7:$P$7),FALSE))","v":""},{"$f":"IF(M776=\"\",\"\",VLOOKUP(M776,Parámetros!M$11:$P$13,MAX(Parámetros!M$7:$P$7),FALSE))","v":""},{"$f":"IF(N776=\"\",\"\",VLOOKUP(N776,Parámetros!N$11:$P$13,MAX(Parámetros!N$7:$P$7),FALSE))","v":""},{"$f":"IF(O776=\"\",\"\",VLOOKUP(O776,Parámetros!O$11:$P$13,MAX(Parámetros!O$7:$P$7),FALSE))","v":""},""]
[null,null,null,{"$f":"IF(E777=\"\",\"\",VLOOKUP(E777,'Buenas prácticas'!$G$8:$H$1007,2,FALSE))","v":""},null,null,null,null,null,null,null,null,null,null,null,{"$f":"IF(F777=\"\",\"\",VLOOKUP(F777,Parámetros!F$11:$P$13,MAX(Parámetros!F$7:$P$7),FALSE))","v":""},{"$f":"IF(G777=\"\",\"\",VLOOKUP(G777,Parámetros!G$11:$P$13,MAX(Parámetros!G$7:$P$7),FALSE))","v":""},{"$f":"IF(H777=\"\",\"\",VLOOKUP(H777,Parámetros!H$11:$P$13,MAX(Parámetros!H$7:$P$7),FALSE))","v":""},{"$f":"IF(I777=\"\",\"\",VLOOKUP(I777,Parámetros!I$11:$P$13,MAX(Parámetros!I$7:$P$7),FALSE))","v":""},{"$f":"IF(J777=\"\",\"\",VLOOKUP(J777,Parámetros!J$11:$P$13,MAX(Parámetros!J$7:$P$7),FALSE))","v":""},{"$f":"IF(K777=\"\",\"\",VLOOKUP(K777,Parámetros!K$11:$P$13,MAX(Parámetros!K$7:$P$7),FALSE))","v":""},{"$f":"IF(L777=\"\",\"\",VLOOKUP(L777,Parámetros!L$11:$P$13,MAX(Parámetros!L$7:$P$7),FALSE))","v":""},{"$f":"IF(M777=\"\",\"\",VLOOKUP(M777,Parámetros!M$11:$P$13,MAX(Parámetros!M$7:$P$7),FALSE))","v":""},{"$f":"IF(N777=\"\",\"\",VLOOKUP(N777,Parámetros!N$11:$P$13,MAX(Parámetros!N$7:$P$7),FALSE))","v":""},{"$f":"IF(O777=\"\",\"\",VLOOKUP(O777,Parámetros!O$11:$P$13,MAX(Parámetros!O$7:$P$7),FALSE))","v":""},{"$f":"IF(SUMPRODUCT($P777:$Y777,$P$6:$Y$6)=0,\"\",SUMPRODUCT($P777:$Y777,$P$6:$Y$6)/3)","v":""}]
[null,null,null,{"$f":"IF(E778=\"\",\"\",VLOOKUP(E778,'Buenas prácticas'!$G$8:$H$1007,2,FALSE))","v":""},null,null,null,null,null,null,null,null,null,null,null,{"$f":"IF(F778=\"\",\"\",VLOOKUP(F778,Parámetros!F$11:$P$13,MAX(Parámetros!F$7:$P$7),FALSE))","v":""},{"$f":"IF(G778=\"\",\"\",VLOOKUP(G778,Parámetros!G$11:$P$13,MAX(Parámetros!G$7:$P$7),FALSE))","v":""},{"$f":"IF(H778=\"\",\"\",VLOOKUP(H778,Parámetros!H$11:$P$13,MAX(Parámetros!H$7:$P$7),FALSE))","v":""},{"$f":"IF(I778=\"\",\"\",VLOOKUP(I778,Parámetros!I$11:$P$13,MAX(Parámetros!I$7:$P$7),FALSE))","v":""},{"$f":"IF(J778=\"\",\"\",VLOOKUP(J778,Parámetros!J$11:$P$13,MAX(Parámetros!J$7:$P$7),FALSE))","v":""},{"$f":"IF(K778=\"\",\"\",VLOOKUP(K778,Parámetros!K$11:$P$13,MAX(Parámetros!K$7:$P$7),FALSE))","v":""},{"$f":"IF(L778=\"\",\"\",VLOOKUP(L778,Parámetros!L$11:$P$13,MAX(Parámetros!L$7:$P$7),FALSE))","v":""},{"$f":"IF(M778=\"\",\"\",VLOOKUP(M778,Parámetros!M$11:$P$13,MAX(Parámetros!M$7:$P$7),FALSE))","v":""},{"$f":"IF(N778=\"\",\"\",VLOOKUP(N778,Parámetros!N$11:$P$13,MAX(Parámetros!N$7:$P$7),FALSE))","v":""},{"$f":"IF(O778=\"\",\"\",VLOOKUP(O778,Parámetros!O$11:$P$13,MAX(Parámetros!O$7:$P$7),FALSE))","v":""},""]
[null,null,null,{"$f":"IF(E779=\"\",\"\",VLOOKUP(E779,'Buenas prácticas'!$G$8:$H$1007,2,FALSE))","v":""},null,null,null,null,null,null,null,null,null,null,null,{"$f":"IF(F779=\"\",\"\",VLOOKUP(F779,Parámetros!F$11:$P$13,MAX(Parámetros!F$7:$P$7),FALSE))","v":""},{"$f":"IF(G779=\"\",\"\",VLOOKUP(G779,Parámetros!G$11:$P$13,MAX(Parámetros!G$7:$P$7),FALSE))","v":""},{"$f":"IF(H779=\"\",\"\",VLOOKUP(H779,Parámetros!H$11:$P$13,MAX(Parámetros!H$7:$P$7),FALSE))","v":""},{"$f":"IF(I779=\"\",\"\",VLOOKUP(I779,Parámetros!I$11:$P$13,MAX(Parámetros!I$7:$P$7),FALSE))","v":""},{"$f":"IF(J779=\"\",\"\",VLOOKUP(J779,Parámetros!J$11:$P$13,MAX(Parámetros!J$7:$P$7),FALSE))","v":""},{"$f":"IF(K779=\"\",\"\",VLOOKUP(K779,Parámetros!K$11:$P$13,MAX(Parámetros!K$7:$P$7),FALSE))","v":""},{"$f":"IF(L779=\"\",\"\",VLOOKUP(L779,Parámetros!L$11:$P$13,MAX(Parámetros!L$7:$P$7),FALSE))","v":""},{"$f":"IF(M779=\"\",\"\",VLOOKUP(M779,Parámetros!M$11:$P$13,MAX(Parámetros!M$7:$P$7),FALSE))","v":""},{"$f":"IF(N779=\"\",\"\",VLOOKUP(N779,Parámetros!N$11:$P$13,MAX(Parámetros!N$7:$P$7),FALSE))","v":""},{"$f":"IF(O779=\"\",\"\",VLOOKUP(O779,Parámetros!O$11:$P$13,MAX(Parámetros!O$7:$P$7),FALSE))","v":""},""]
[null,null,null,{"$f":"IF(E780=\"\",\"\",VLOOKUP(E780,'Buenas prácticas'!$G$8:$H$1007,2,FALSE))","v":""},null,null,null,null,null,null,null,null,null,null,null,{"$f":"IF(F780=\"\",\"\",VLOOKUP(F780,Parámetros!F$11:$P$13,MAX(Parámetros!F$7:$P$7),FALSE))","v":""},{"$f":"IF(G780=\"\",\"\",VLOOKUP(G780,Parámetros!G$11:$P$13,MAX(Parámetros!G$7:$P$7),FALSE))","v":""},{"$f":"IF(H780=\"\",\"\",VLOOKUP(H780,Parámetros!H$11:$P$13,MAX(Parámetros!H$7:$P$7),FALSE))","v":""},{"$f":"IF(I780=\"\",\"\",VLOOKUP(I780,Parámetros!I$11:$P$13,MAX(Parámetros!I$7:$P$7),FALSE))","v":""},{"$f":"IF(J780=\"\",\"\",VLOOKUP(J780,Parámetros!J$11:$P$13,MAX(Parámetros!J$7:$P$7),FALSE))","v":""},{"$f":"IF(K780=\"\",\"\",VLOOKUP(K780,Parámetros!K$11:$P$13,MAX(Parámetros!K$7:$P$7),FALSE))","v":""},{"$f":"IF(L780=\"\",\"\",VLOOKUP(L780,Parámetros!L$11:$P$13,MAX(Parámetros!L$7:$P$7),FALSE))","v":""},{"$f":"IF(M780=\"\",\"\",VLOOKUP(M780,Parámetros!M$11:$P$13,MAX(Parámetros!M$7:$P$7),FALSE))","v":""},{"$f":"IF(N780=\"\",\"\",VLOOKUP(N780,Parámetros!N$11:$P$13,MAX(Parámetros!N$7:$P$7),FALSE))","v":""},{"$f":"IF(O780=\"\",\"\",VLOOKUP(O780,Parámetros!O$11:$P$13,MAX(Parámetros!O$7:$P$7),FALSE))","v":""},""]
[null,null,null,{"$f":"IF(E781=\"\",\"\",VLOOKUP(E781,'Buenas prácticas'!$G$8:$H$1007,2,FALSE))","v":""},null,null,null,null,null,null,null,null,null,null,null,{"$f":"IF(F781=\"\",\"\",VLOOKUP(F781,Parámetros!F$11:$P$13,MAX(Parámetros!F$7:$P$7),FALSE))","v":""},{"$f":"IF(G781=\"\",\"\",VLOOKUP(G781,Parámetros!G$11:$P$13,MAX(Parámetros!G$7:$P$7),FALSE))","v":""},{"$f":"IF(H781=\"\",\"\",VLOOKUP(H781,Parámetros!H$11:$P$13,MAX(Parámetros!H$7:$P$7),FALSE))","v":""},{"$f":"IF(I781=\"\",\"\",VLOOKUP(I781,Parámetros!I$11:$P$13,MAX(Parámetros!I$7:$P$7),FALSE))","v":""},{"$f":"IF(J781=\"\",\"\",VLOOKUP(J781,Parámetros!J$11:$P$13,MAX(Parámetros!J$7:$P$7),FALSE))","v":""},{"$f":"IF(K781=\"\",\"\",VLOOKUP(K781,Parámetros!K$11:$P$13,MAX(Parámetros!K$7:$P$7),FALSE))","v":""},{"$f":"IF(L781=\"\",\"\",VLOOKUP(L781,Parámetros!L$11:$P$13,MAX(Parámetros!L$7:$P$7),FALSE))","v":""},{"$f":"IF(M781=\"\",\"\",VLOOKUP(M781,Parámetros!M$11:$P$13,MAX(Parámetros!M$7:$P$7),FALSE))","v":""},{"$f":"IF(N781=\"\",\"\",VLOOKUP(N781,Parámetros!N$11:$P$13,MAX(Parámetros!N$7:$P$7),FALSE))","v":""},{"$f":"IF(O781=\"\",\"\",VLOOKUP(O781,Parámetros!O$11:$P$13,MAX(Parámetros!O$7:$P$7),FALSE))","v":""},""]
[null,null,null,{"$f":"IF(E782=\"\",\"\",VLOOKUP(E782,'Buenas prácticas'!$G$8:$H$1007,2,FALSE))","v":""},null,null,null,null,null,null,null,null,null,null,null,{"$f":"IF(F782=\"\",\"\",VLOOKUP(F782,Parámetros!F$11:$P$13,MAX(Parámetros!F$7:$P$7),FALSE))","v":""},{"$f":"IF(G782=\"\",\"\",VLOOKUP(G782,Parámetros!G$11:$P$13,MAX(Parámetros!G$7:$P$7),FALSE))","v":""},{"$f":"IF(H782=\"\",\"\",VLOOKUP(H782,Parámetros!H$11:$P$13,MAX(Parámetros!H$7:$P$7),FALSE))","v":""},{"$f":"IF(I782=\"\",\"\",VLOOKUP(I782,Parámetros!I$11:$P$13,MAX(Parámetros!I$7:$P$7),FALSE))","v":""},{"$f":"IF(J782=\"\",\"\",VLOOKUP(J782,Parámetros!J$11:$P$13,MAX(Parámetros!J$7:$P$7),FALSE))","v":""},{"$f":"IF(K782=\"\",\"\",VLOOKUP(K782,Parámetros!K$11:$P$13,MAX(Parámetros!K$7:$P$7),FALSE))","v":""},{"$f":"IF(L782=\"\",\"\",VLOOKUP(L782,Parámetros!L$11:$P$13,MAX(Parámetros!L$7:$P$7),FALSE))","v":""},{"$f":"IF(M782=\"\",\"\",VLOOKUP(M782,Parámetros!M$11:$P$13,MAX(Parámetros!M$7:$P$7),FALSE))","v":""},{"$f":"IF(N782=\"\",\"\",VLOOKUP(N782,Parámetros!N$11:$P$13,MAX(Parámetros!N$7:$P$7),FALSE))","v":""},{"$f":"IF(O782=\"\",\"\",VLOOKUP(O782,Parámetros!O$11:$P$13,MAX(Parámetros!O$7:$P$7),FALSE))","v":""},""]
[null,null,null,{"$f":"IF(E783=\"\",\"\",VLOOKUP(E783,'Buenas prácticas'!$G$8:$H$1007,2,FALSE))","v":""},null,null,null,null,null,null,null,null,null,null,null,{"$f":"IF(F783=\"\",\"\",VLOOKUP(F783,Parámetros!F$11:$P$13,MAX(Parámetros!F$7:$P$7),FALSE))","v":""},{"$f":"IF(G783=\"\",\"\",VLOOKUP(G783,Parámetros!G$11:$P$13,MAX(Parámetros!G$7:$P$7),FALSE))","v":""},{"$f":"IF(H783=\"\",\"\",VLOOKUP(H783,Parámetros!H$11:$P$13,MAX(Parámetros!H$7:$P$7),FALSE))","v":""},{"$f":"IF(I783=\"\",\"\",VLOOKUP(I783,Parámetros!I$11:$P$13,MAX(Parámetros!I$7:$P$7),FALSE))","v":""},{"$f":"IF(J783=\"\",\"\",VLOOKUP(J783,Parámetros!J$11:$P$13,MAX(Parámetros!J$7:$P$7),FALSE))","v":""},{"$f":"IF(K783=\"\",\"\",VLOOKUP(K783,Parámetros!K$11:$P$13,MAX(Parámetros!K$7:$P$7),FALSE))","v":""},{"$f":"IF(L783=\"\",\"\",VLOOKUP(L783,Parámetros!L$11:$P$13,MAX(Parámetros!L$7:$P$7),FALSE))","v":""},{"$f":"IF(M783=\"\",\"\",VLOOKUP(M783,Parámetros!M$11:$P$13,MAX(Parámetros!M$7:$P$7),FALSE))","v":""},{"$f":"IF(N783=\"\",\"\",VLOOKUP(N783,Parámetros!N$11:$P$13,MAX(Parámetros!N$7:$P$7),FALSE))","v":""},{"$f":"IF(O783=\"\",\"\",VLOOKUP(O783,Parámetros!O$11:$P$13,MAX(Parámetros!O$7:$P$7),FALSE))","v":""},""]
[null,null,null,{"$f":"IF(E784=\"\",\"\",VLOOKUP(E784,'Buenas prácticas'!$G$8:$H$1007,2,FALSE))","v":""},null,null,null,null,null,null,null,null,null,null,null,{"$f":"IF(F784=\"\",\"\",VLOOKUP(F784,Parámetros!F$11:$P$13,MAX(Parámetros!F$7:$P$7),FALSE))","v":""},{"$f":"IF(G784=\"\",\"\",VLOOKUP(G784,Parámetros!G$11:$P$13,MAX(Parámetros!G$7:$P$7),FALSE))","v":""},{"$f":"IF(H784=\"\",\"\",VLOOKUP(H784,Parámetros!H$11:$P$13,MAX(Parámetros!H$7:$P$7),FALSE))","v":""},{"$f":"IF(I784=\"\",\"\",VLOOKUP(I784,Parámetros!I$11:$P$13,MAX(Parámetros!I$7:$P$7),FALSE))","v":""},{"$f":"IF(J784=\"\",\"\",VLOOKUP(J784,Parámetros!J$11:$P$13,MAX(Parámetros!J$7:$P$7),FALSE))","v":""},{"$f":"IF(K784=\"\",\"\",VLOOKUP(K784,Parámetros!K$11:$P$13,MAX(Parámetros!K$7:$P$7),FALSE))","v":""},{"$f":"IF(L784=\"\",\"\",VLOOKUP(L784,Parámetros!L$11:$P$13,MAX(Parámetros!L$7:$P$7),FALSE))","v":""},{"$f":"IF(M784=\"\",\"\",VLOOKUP(M784,Parámetros!M$11:$P$13,MAX(Parámetros!M$7:$P$7),FALSE))","v":""},{"$f":"IF(N784=\"\",\"\",VLOOKUP(N784,Parámetros!N$11:$P$13,MAX(Parámetros!N$7:$P$7),FALSE))","v":""},{"$f":"IF(O784=\"\",\"\",VLOOKUP(O784,Parámetros!O$11:$P$13,MAX(Parámetros!O$7:$P$7),FALSE))","v":""},""]
[null,null,null,{"$f":"IF(E785=\"\",\"\",VLOOKUP(E785,'Buenas prácticas'!$G$8:$H$1007,2,FALSE))","v":""},null,null,null,null,null,null,null,null,null,null,null,{"$f":"IF(F785=\"\",\"\",VLOOKUP(F785,Parámetros!F$11:$P$13,MAX(Parámetros!F$7:$P$7),FALSE))","v":""},{"$f":"IF(G785=\"\",\"\",VLOOKUP(G785,Parámetros!G$11:$P$13,MAX(Parámetros!G$7:$P$7),FALSE))","v":""},{"$f":"IF(H785=\"\",\"\",VLOOKUP(H785,Parámetros!H$11:$P$13,MAX(Parámetros!H$7:$P$7),FALSE))","v":""},{"$f":"IF(I785=\"\",\"\",VLOOKUP(I785,Parámetros!I$11:$P$13,MAX(Parámetros!I$7:$P$7),FALSE))","v":""},{"$f":"IF(J785=\"\",\"\",VLOOKUP(J785,Parámetros!J$11:$P$13,MAX(Parámetros!J$7:$P$7),FALSE))","v":""},{"$f":"IF(K785=\"\",\"\",VLOOKUP(K785,Parámetros!K$11:$P$13,MAX(Parámetros!K$7:$P$7),FALSE))","v":""},{"$f":"IF(L785=\"\",\"\",VLOOKUP(L785,Parámetros!L$11:$P$13,MAX(Parámetros!L$7:$P$7),FALSE))","v":""},{"$f":"IF(M785=\"\",\"\",VLOOKUP(M785,Parámetros!M$11:$P$13,MAX(Parámetros!M$7:$P$7),FALSE))","v":""},{"$f":"IF(N785=\"\",\"\",VLOOKUP(N785,Parámetros!N$11:$P$13,MAX(Parámetros!N$7:$P$7),FALSE))","v":""},{"$f":"IF(O785=\"\",\"\",VLOOKUP(O785,Parámetros!O$11:$P$13,MAX(Parámetros!O$7:$P$7),FALSE))","v":""},""]
[null,null,null,{"$f":"IF(E786=\"\",\"\",VLOOKUP(E786,'Buenas prácticas'!$G$8:$H$1007,2,FALSE))","v":""},null,null,null,null,null,null,null,null,null,null,null,{"$f":"IF(F786=\"\",\"\",VLOOKUP(F786,Parámetros!F$11:$P$13,MAX(Parámetros!F$7:$P$7),FALSE))","v":""},{"$f":"IF(G786=\"\",\"\",VLOOKUP(G786,Parámetros!G$11:$P$13,MAX(Parámetros!G$7:$P$7),FALSE))","v":""},{"$f":"IF(H786=\"\",\"\",VLOOKUP(H786,Parámetros!H$11:$P$13,MAX(Parámetros!H$7:$P$7),FALSE))","v":""},{"$f":"IF(I786=\"\",\"\",VLOOKUP(I786,Parámetros!I$11:$P$13,MAX(Parámetros!I$7:$P$7),FALSE))","v":""},{"$f":"IF(J786=\"\",\"\",VLOOKUP(J786,Parámetros!J$11:$P$13,MAX(Parámetros!J$7:$P$7),FALSE))","v":""},{"$f":"IF(K786=\"\",\"\",VLOOKUP(K786,Parámetros!K$11:$P$13,MAX(Parámetros!K$7:$P$7),FALSE))","v":""},{"$f":"IF(L786=\"\",\"\",VLOOKUP(L786,Parámetros!L$11:$P$13,MAX(Parámetros!L$7:$P$7),FALSE))","v":""},{"$f":"IF(M786=\"\",\"\",VLOOKUP(M786,Parámetros!M$11:$P$13,MAX(Parámetros!M$7:$P$7),FALSE))","v":""},{"$f":"IF(N786=\"\",\"\",VLOOKUP(N786,Parámetros!N$11:$P$13,MAX(Parámetros!N$7:$P$7),FALSE))","v":""},{"$f":"IF(O786=\"\",\"\",VLOOKUP(O786,Parámetros!O$11:$P$13,MAX(Parámetros!O$7:$P$7),FALSE))","v":""},""]
[null,null,null,{"$f":"IF(E787=\"\",\"\",VLOOKUP(E787,'Buenas prácticas'!$G$8:$H$1007,2,FALSE))","v":""},null,null,null,null,null,null,null,null,null,null,null,{"$f":"IF(F787=\"\",\"\",VLOOKUP(F787,Parámetros!F$11:$P$13,MAX(Parámetros!F$7:$P$7),FALSE))","v":""},{"$f":"IF(G787=\"\",\"\",VLOOKUP(G787,Parámetros!G$11:$P$13,MAX(Parámetros!G$7:$P$7),FALSE))","v":""},{"$f":"IF(H787=\"\",\"\",VLOOKUP(H787,Parámetros!H$11:$P$13,MAX(Parámetros!H$7:$P$7),FALSE))","v":""},{"$f":"IF(I787=\"\",\"\",VLOOKUP(I787,Parámetros!I$11:$P$13,MAX(Parámetros!I$7:$P$7),FALSE))","v":""},{"$f":"IF(J787=\"\",\"\",VLOOKUP(J787,Parámetros!J$11:$P$13,MAX(Parámetros!J$7:$P$7),FALSE))","v":""},{"$f":"IF(K787=\"\",\"\",VLOOKUP(K787,Parámetros!K$11:$P$13,MAX(Parámetros!K$7:$P$7),FALSE))","v":""},{"$f":"IF(L787=\"\",\"\",VLOOKUP(L787,Parámetros!L$11:$P$13,MAX(Parámetros!L$7:$P$7),FALSE))","v":""},{"$f":"IF(M787=\"\",\"\",VLOOKUP(M787,Parámetros!M$11:$P$13,MAX(Parámetros!M$7:$P$7),FALSE))","v":""},{"$f":"IF(N787=\"\",\"\",VLOOKUP(N787,Parámetros!N$11:$P$13,MAX(Parámetros!N$7:$P$7),FALSE))","v":""},{"$f":"IF(O787=\"\",\"\",VLOOKUP(O787,Parámetros!O$11:$P$13,MAX(Parámetros!O$7:$P$7),FALSE))","v":""},""]
[null,null,null,{"$f":"IF(E788=\"\",\"\",VLOOKUP(E788,'Buenas prácticas'!$G$8:$H$1007,2,FALSE))","v":""},null,null,null,null,null,null,null,null,null,null,null,{"$f":"IF(F788=\"\",\"\",VLOOKUP(F788,Parámetros!F$11:$P$13,MAX(Parámetros!F$7:$P$7),FALSE))","v":""},{"$f":"IF(G788=\"\",\"\",VLOOKUP(G788,Parámetros!G$11:$P$13,MAX(Parámetros!G$7:$P$7),FALSE))","v":""},{"$f":"IF(H788=\"\",\"\",VLOOKUP(H788,Parámetros!H$11:$P$13,MAX(Parámetros!H$7:$P$7),FALSE))","v":""},{"$f":"IF(I788=\"\",\"\",VLOOKUP(I788,Parámetros!I$11:$P$13,MAX(Parámetros!I$7:$P$7),FALSE))","v":""},{"$f":"IF(J788=\"\",\"\",VLOOKUP(J788,Parámetros!J$11:$P$13,MAX(Parámetros!J$7:$P$7),FALSE))","v":""},{"$f":"IF(K788=\"\",\"\",VLOOKUP(K788,Parámetros!K$11:$P$13,MAX(Parámetros!K$7:$P$7),FALSE))","v":""},{"$f":"IF(L788=\"\",\"\",VLOOKUP(L788,Parámetros!L$11:$P$13,MAX(Parámetros!L$7:$P$7),FALSE))","v":""},{"$f":"IF(M788=\"\",\"\",VLOOKUP(M788,Parámetros!M$11:$P$13,MAX(Parámetros!M$7:$P$7),FALSE))","v":""},{"$f":"IF(N788=\"\",\"\",VLOOKUP(N788,Parámetros!N$11:$P$13,MAX(Parámetros!N$7:$P$7),FALSE))","v":""},{"$f":"IF(O788=\"\",\"\",VLOOKUP(O788,Parámetros!O$11:$P$13,MAX(Parámetros!O$7:$P$7),FALSE))","v":""},""]
[null,null,null,{"$f":"IF(E789=\"\",\"\",VLOOKUP(E789,'Buenas prácticas'!$G$8:$H$1007,2,FALSE))","v":""},null,null,null,null,null,null,null,null,null,null,null,{"$f":"IF(F789=\"\",\"\",VLOOKUP(F789,Parámetros!F$11:$P$13,MAX(Parámetros!F$7:$P$7),FALSE))","v":""},{"$f":"IF(G789=\"\",\"\",VLOOKUP(G789,Parámetros!G$11:$P$13,MAX(Parámetros!G$7:$P$7),FALSE))","v":""},{"$f":"IF(H789=\"\",\"\",VLOOKUP(H789,Parámetros!H$11:$P$13,MAX(Parámetros!H$7:$P$7),FALSE))","v":""},{"$f":"IF(I789=\"\",\"\",VLOOKUP(I789,Parámetros!I$11:$P$13,MAX(Parámetros!I$7:$P$7),FALSE))","v":""},{"$f":"IF(J789=\"\",\"\",VLOOKUP(J789,Parámetros!J$11:$P$13,MAX(Parámetros!J$7:$P$7),FALSE))","v":""},{"$f":"IF(K789=\"\",\"\",VLOOKUP(K789,Parámetros!K$11:$P$13,MAX(Parámetros!K$7:$P$7),FALSE))","v":""},{"$f":"IF(L789=\"\",\"\",VLOOKUP(L789,Parámetros!L$11:$P$13,MAX(Parámetros!L$7:$P$7),FALSE))","v":""},{"$f":"IF(M789=\"\",\"\",VLOOKUP(M789,Parámetros!M$11:$P$13,MAX(Parámetros!M$7:$P$7),FALSE))","v":""},{"$f":"IF(N789=\"\",\"\",VLOOKUP(N789,Parámetros!N$11:$P$13,MAX(Parámetros!N$7:$P$7),FALSE))","v":""},{"$f":"IF(O789=\"\",\"\",VLOOKUP(O789,Parámetros!O$11:$P$13,MAX(Parámetros!O$7:$P$7),FALSE))","v":""},""]
[null,null,null,{"$f":"IF(E790=\"\",\"\",VLOOKUP(E790,'Buenas prácticas'!$G$8:$H$1007,2,FALSE))","v":""},null,null,null,null,null,null,null,null,null,null,null,{"$f":"IF(F790=\"\",\"\",VLOOKUP(F790,Parámetros!F$11:$P$13,MAX(Parámetros!F$7:$P$7),FALSE))","v":""},{"$f":"IF(G790=\"\",\"\",VLOOKUP(G790,Parámetros!G$11:$P$13,MAX(Parámetros!G$7:$P$7),FALSE))","v":""},{"$f":"IF(H790=\"\",\"\",VLOOKUP(H790,Parámetros!H$11:$P$13,MAX(Parámetros!H$7:$P$7),FALSE))","v":""},{"$f":"IF(I790=\"\",\"\",VLOOKUP(I790,Parámetros!I$11:$P$13,MAX(Parámetros!I$7:$P$7),FALSE))","v":""},{"$f":"IF(J790=\"\",\"\",VLOOKUP(J790,Parámetros!J$11:$P$13,MAX(Parámetros!J$7:$P$7),FALSE))","v":""},{"$f":"IF(K790=\"\",\"\",VLOOKUP(K790,Parámetros!K$11:$P$13,MAX(Parámetros!K$7:$P$7),FALSE))","v":""},{"$f":"IF(L790=\"\",\"\",VLOOKUP(L790,Parámetros!L$11:$P$13,MAX(Parámetros!L$7:$P$7),FALSE))","v":""},{"$f":"IF(M790=\"\",\"\",VLOOKUP(M790,Parámetros!M$11:$P$13,MAX(Parámetros!M$7:$P$7),FALSE))","v":""},{"$f":"IF(N790=\"\",\"\",VLOOKUP(N790,Parámetros!N$11:$P$13,MAX(Parámetros!N$7:$P$7),FALSE))","v":""},{"$f":"IF(O790=\"\",\"\",VLOOKUP(O790,Parámetros!O$11:$P$13,MAX(Parámetros!O$7:$P$7),FALSE))","v":""},""]
[null,null,null,{"$f":"IF(E791=\"\",\"\",VLOOKUP(E791,'Buenas prácticas'!$G$8:$H$1007,2,FALSE))","v":""},null,null,null,null,null,null,null,null,null,null,null,{"$f":"IF(F791=\"\",\"\",VLOOKUP(F791,Parámetros!F$11:$P$13,MAX(Parámetros!F$7:$P$7),FALSE))","v":""},{"$f":"IF(G791=\"\",\"\",VLOOKUP(G791,Parámetros!G$11:$P$13,MAX(Parámetros!G$7:$P$7),FALSE))","v":""},{"$f":"IF(H791=\"\",\"\",VLOOKUP(H791,Parámetros!H$11:$P$13,MAX(Parámetros!H$7:$P$7),FALSE))","v":""},{"$f":"IF(I791=\"\",\"\",VLOOKUP(I791,Parámetros!I$11:$P$13,MAX(Parámetros!I$7:$P$7),FALSE))","v":""},{"$f":"IF(J791=\"\",\"\",VLOOKUP(J791,Parámetros!J$11:$P$13,MAX(Parámetros!J$7:$P$7),FALSE))","v":""},{"$f":"IF(K791=\"\",\"\",VLOOKUP(K791,Parámetros!K$11:$P$13,MAX(Parámetros!K$7:$P$7),FALSE))","v":""},{"$f":"IF(L791=\"\",\"\",VLOOKUP(L791,Parámetros!L$11:$P$13,MAX(Parámetros!L$7:$P$7),FALSE))","v":""},{"$f":"IF(M791=\"\",\"\",VLOOKUP(M791,Parámetros!M$11:$P$13,MAX(Parámetros!M$7:$P$7),FALSE))","v":""},{"$f":"IF(N791=\"\",\"\",VLOOKUP(N791,Parámetros!N$11:$P$13,MAX(Parámetros!N$7:$P$7),FALSE))","v":""},{"$f":"IF(O791=\"\",\"\",VLOOKUP(O791,Parámetros!O$11:$P$13,MAX(Parámetros!O$7:$P$7),FALSE))","v":""},""]
[null,null,null,{"$f":"IF(E792=\"\",\"\",VLOOKUP(E792,'Buenas prácticas'!$G$8:$H$1007,2,FALSE))","v":""},null,null,null,null,null,null,null,null,null,null,null,{"$f":"IF(F792=\"\",\"\",VLOOKUP(F792,Parámetros!F$11:$P$13,MAX(Parámetros!F$7:$P$7),FALSE))","v":""},{"$f":"IF(G792=\"\",\"\",VLOOKUP(G792,Parámetros!G$11:$P$13,MAX(Parámetros!G$7:$P$7),FALSE))","v":""},{"$f":"IF(H792=\"\",\"\",VLOOKUP(H792,Parámetros!H$11:$P$13,MAX(Parámetros!H$7:$P$7),FALSE))","v":""},{"$f":"IF(I792=\"\",\"\",VLOOKUP(I792,Parámetros!I$11:$P$13,MAX(Parámetros!I$7:$P$7),FALSE))","v":""},{"$f":"IF(J792=\"\",\"\",VLOOKUP(J792,Parámetros!J$11:$P$13,MAX(Parámetros!J$7:$P$7),FALSE))","v":""},{"$f":"IF(K792=\"\",\"\",VLOOKUP(K792,Parámetros!K$11:$P$13,MAX(Parámetros!K$7:$P$7),FALSE))","v":""},{"$f":"IF(L792=\"\",\"\",VLOOKUP(L792,Parámetros!L$11:$P$13,MAX(Parámetros!L$7:$P$7),FALSE))","v":""},{"$f":"IF(M792=\"\",\"\",VLOOKUP(M792,Parámetros!M$11:$P$13,MAX(Parámetros!M$7:$P$7),FALSE))","v":""},{"$f":"IF(N792=\"\",\"\",VLOOKUP(N792,Parámetros!N$11:$P$13,MAX(Parámetros!N$7:$P$7),FALSE))","v":""},{"$f":"IF(O792=\"\",\"\",VLOOKUP(O792,Parámetros!O$11:$P$13,MAX(Parámetros!O$7:$P$7),FALSE))","v":""},""]
[null,null,null,{"$f":"IF(E793=\"\",\"\",VLOOKUP(E793,'Buenas prácticas'!$G$8:$H$1007,2,FALSE))","v":""},null,null,null,null,null,null,null,null,null,null,null,{"$f":"IF(F793=\"\",\"\",VLOOKUP(F793,Parámetros!F$11:$P$13,MAX(Parámetros!F$7:$P$7),FALSE))","v":""},{"$f":"IF(G793=\"\",\"\",VLOOKUP(G793,Parámetros!G$11:$P$13,MAX(Parámetros!G$7:$P$7),FALSE))","v":""},{"$f":"IF(H793=\"\",\"\",VLOOKUP(H793,Parámetros!H$11:$P$13,MAX(Parámetros!H$7:$P$7),FALSE))","v":""},{"$f":"IF(I793=\"\",\"\",VLOOKUP(I793,Parámetros!I$11:$P$13,MAX(Parámetros!I$7:$P$7),FALSE))","v":""},{"$f":"IF(J793=\"\",\"\",VLOOKUP(J793,Parámetros!J$11:$P$13,MAX(Parámetros!J$7:$P$7),FALSE))","v":""},{"$f":"IF(K793=\"\",\"\",VLOOKUP(K793,Parámetros!K$11:$P$13,MAX(Parámetros!K$7:$P$7),FALSE))","v":""},{"$f":"IF(L793=\"\",\"\",VLOOKUP(L793,Parámetros!L$11:$P$13,MAX(Parámetros!L$7:$P$7),FALSE))","v":""},{"$f":"IF(M793=\"\",\"\",VLOOKUP(M793,Parámetros!M$11:$P$13,MAX(Parámetros!M$7:$P$7),FALSE))","v":""},{"$f":"IF(N793=\"\",\"\",VLOOKUP(N793,Parámetros!N$11:$P$13,MAX(Parámetros!N$7:$P$7),FALSE))","v":""},{"$f":"IF(O793=\"\",\"\",VLOOKUP(O793,Parámetros!O$11:$P$13,MAX(Parámetros!O$7:$P$7),FALSE))","v":""},""]
[null,null,null,{"$f":"IF(E794=\"\",\"\",VLOOKUP(E794,'Buenas prácticas'!$G$8:$H$1007,2,FALSE))","v":""},null,null,null,null,null,null,null,null,null,null,null,{"$f":"IF(F794=\"\",\"\",VLOOKUP(F794,Parámetros!F$11:$P$13,MAX(Parámetros!F$7:$P$7),FALSE))","v":""},{"$f":"IF(G794=\"\",\"\",VLOOKUP(G794,Parámetros!G$11:$P$13,MAX(Parámetros!G$7:$P$7),FALSE))","v":""},{"$f":"IF(H794=\"\",\"\",VLOOKUP(H794,Parámetros!H$11:$P$13,MAX(Parámetros!H$7:$P$7),FALSE))","v":""},{"$f":"IF(I794=\"\",\"\",VLOOKUP(I794,Parámetros!I$11:$P$13,MAX(Parámetros!I$7:$P$7),FALSE))","v":""},{"$f":"IF(J794=\"\",\"\",VLOOKUP(J794,Parámetros!J$11:$P$13,MAX(Parámetros!J$7:$P$7),FALSE))","v":""},{"$f":"IF(K794=\"\",\"\",VLOOKUP(K794,Parámetros!K$11:$P$13,MAX(Parámetros!K$7:$P$7),FALSE))","v":""},{"$f":"IF(L794=\"\",\"\",VLOOKUP(L794,Parámetros!L$11:$P$13,MAX(Parámetros!L$7:$P$7),FALSE))","v":""},{"$f":"IF(M794=\"\",\"\",VLOOKUP(M794,Parámetros!M$11:$P$13,MAX(Parámetros!M$7:$P$7),FALSE))","v":""},{"$f":"IF(N794=\"\",\"\",VLOOKUP(N794,Parámetros!N$11:$P$13,MAX(Parámetros!N$7:$P$7),FALSE))","v":""},{"$f":"IF(O794=\"\",\"\",VLOOKUP(O794,Parámetros!O$11:$P$13,MAX(Parámetros!O$7:$P$7),FALSE))","v":""},""]
[null,null,null,{"$f":"IF(E795=\"\",\"\",VLOOKUP(E795,'Buenas prácticas'!$G$8:$H$1007,2,FALSE))","v":""},null,null,null,null,null,null,null,null,null,null,null,{"$f":"IF(F795=\"\",\"\",VLOOKUP(F795,Parámetros!F$11:$P$13,MAX(Parámetros!F$7:$P$7),FALSE))","v":""},{"$f":"IF(G795=\"\",\"\",VLOOKUP(G795,Parámetros!G$11:$P$13,MAX(Parámetros!G$7:$P$7),FALSE))","v":""},{"$f":"IF(H795=\"\",\"\",VLOOKUP(H795,Parámetros!H$11:$P$13,MAX(Parámetros!H$7:$P$7),FALSE))","v":""},{"$f":"IF(I795=\"\",\"\",VLOOKUP(I795,Parámetros!I$11:$P$13,MAX(Parámetros!I$7:$P$7),FALSE))","v":""},{"$f":"IF(J795=\"\",\"\",VLOOKUP(J795,Parámetros!J$11:$P$13,MAX(Parámetros!J$7:$P$7),FALSE))","v":""},{"$f":"IF(K795=\"\",\"\",VLOOKUP(K795,Parámetros!K$11:$P$13,MAX(Parámetros!K$7:$P$7),FALSE))","v":""},{"$f":"IF(L795=\"\",\"\",VLOOKUP(L795,Parámetros!L$11:$P$13,MAX(Parámetros!L$7:$P$7),FALSE))","v":""},{"$f":"IF(M795=\"\",\"\",VLOOKUP(M795,Parámetros!M$11:$P$13,MAX(Parámetros!M$7:$P$7),FALSE))","v":""},{"$f":"IF(N795=\"\",\"\",VLOOKUP(N795,Parámetros!N$11:$P$13,MAX(Parámetros!N$7:$P$7),FALSE))","v":""},{"$f":"IF(O795=\"\",\"\",VLOOKUP(O795,Parámetros!O$11:$P$13,MAX(Parámetros!O$7:$P$7),FALSE))","v":""},""]
[null,null,null,{"$f":"IF(E796=\"\",\"\",VLOOKUP(E796,'Buenas prácticas'!$G$8:$H$1007,2,FALSE))","v":""},null,null,null,null,null,null,null,null,null,null,null,{"$f":"IF(F796=\"\",\"\",VLOOKUP(F796,Parámetros!F$11:$P$13,MAX(Parámetros!F$7:$P$7),FALSE))","v":""},{"$f":"IF(G796=\"\",\"\",VLOOKUP(G796,Parámetros!G$11:$P$13,MAX(Parámetros!G$7:$P$7),FALSE))","v":""},{"$f":"IF(H796=\"\",\"\",VLOOKUP(H796,Parámetros!H$11:$P$13,MAX(Parámetros!H$7:$P$7),FALSE))","v":""},{"$f":"IF(I796=\"\",\"\",VLOOKUP(I796,Parámetros!I$11:$P$13,MAX(Parámetros!I$7:$P$7),FALSE))","v":""},{"$f":"IF(J796=\"\",\"\",VLOOKUP(J796,Parámetros!J$11:$P$13,MAX(Parámetros!J$7:$P$7),FALSE))","v":""},{"$f":"IF(K796=\"\",\"\",VLOOKUP(K796,Parámetros!K$11:$P$13,MAX(Parámetros!K$7:$P$7),FALSE))","v":""},{"$f":"IF(L796=\"\",\"\",VLOOKUP(L796,Parámetros!L$11:$P$13,MAX(Parámetros!L$7:$P$7),FALSE))","v":""},{"$f":"IF(M796=\"\",\"\",VLOOKUP(M796,Parámetros!M$11:$P$13,MAX(Parámetros!M$7:$P$7),FALSE))","v":""},{"$f":"IF(N796=\"\",\"\",VLOOKUP(N796,Parámetros!N$11:$P$13,MAX(Parámetros!N$7:$P$7),FALSE))","v":""},{"$f":"IF(O796=\"\",\"\",VLOOKUP(O796,Parámetros!O$11:$P$13,MAX(Parámetros!O$7:$P$7),FALSE))","v":""},""]
[null,null,null,{"$f":"IF(E797=\"\",\"\",VLOOKUP(E797,'Buenas prácticas'!$G$8:$H$1007,2,FALSE))","v":""},null,null,null,null,null,null,null,null,null,null,null,{"$f":"IF(F797=\"\",\"\",VLOOKUP(F797,Parámetros!F$11:$P$13,MAX(Parámetros!F$7:$P$7),FALSE))","v":""},{"$f":"IF(G797=\"\",\"\",VLOOKUP(G797,Parámetros!G$11:$P$13,MAX(Parámetros!G$7:$P$7),FALSE))","v":""},{"$f":"IF(H797=\"\",\"\",VLOOKUP(H797,Parámetros!H$11:$P$13,MAX(Parámetros!H$7:$P$7),FALSE))","v":""},{"$f":"IF(I797=\"\",\"\",VLOOKUP(I797,Parámetros!I$11:$P$13,MAX(Parámetros!I$7:$P$7),FALSE))","v":""},{"$f":"IF(J797=\"\",\"\",VLOOKUP(J797,Parámetros!J$11:$P$13,MAX(Parámetros!J$7:$P$7),FALSE))","v":""},{"$f":"IF(K797=\"\",\"\",VLOOKUP(K797,Parámetros!K$11:$P$13,MAX(Parámetros!K$7:$P$7),FALSE))","v":""},{"$f":"IF(L797=\"\",\"\",VLOOKUP(L797,Parámetros!L$11:$P$13,MAX(Parámetros!L$7:$P$7),FALSE))","v":""},{"$f":"IF(M797=\"\",\"\",VLOOKUP(M797,Parámetros!M$11:$P$13,MAX(Parámetros!M$7:$P$7),FALSE))","v":""},{"$f":"IF(N797=\"\",\"\",VLOOKUP(N797,Parámetros!N$11:$P$13,MAX(Parámetros!N$7:$P$7),FALSE))","v":""},{"$f":"IF(O797=\"\",\"\",VLOOKUP(O797,Parámetros!O$11:$P$13,MAX(Parámetros!O$7:$P$7),FALSE))","v":""},""]
[null,null,null,{"$f":"IF(E798=\"\",\"\",VLOOKUP(E798,'Buenas prácticas'!$G$8:$H$1007,2,FALSE))","v":""},null,null,null,null,null,null,null,null,null,null,null,{"$f":"IF(F798=\"\",\"\",VLOOKUP(F798,Parámetros!F$11:$P$13,MAX(Parámetros!F$7:$P$7),FALSE))","v":""},{"$f":"IF(G798=\"\",\"\",VLOOKUP(G798,Parámetros!G$11:$P$13,MAX(Parámetros!G$7:$P$7),FALSE))","v":""},{"$f":"IF(H798=\"\",\"\",VLOOKUP(H798,Parámetros!H$11:$P$13,MAX(Parámetros!H$7:$P$7),FALSE))","v":""},{"$f":"IF(I798=\"\",\"\",VLOOKUP(I798,Parámetros!I$11:$P$13,MAX(Parámetros!I$7:$P$7),FALSE))","v":""},{"$f":"IF(J798=\"\",\"\",VLOOKUP(J798,Parámetros!J$11:$P$13,MAX(Parámetros!J$7:$P$7),FALSE))","v":""},{"$f":"IF(K798=\"\",\"\",VLOOKUP(K798,Parámetros!K$11:$P$13,MAX(Parámetros!K$7:$P$7),FALSE))","v":""},{"$f":"IF(L798=\"\",\"\",VLOOKUP(L798,Parámetros!L$11:$P$13,MAX(Parámetros!L$7:$P$7),FALSE))","v":""},{"$f":"IF(M798=\"\",\"\",VLOOKUP(M798,Parámetros!M$11:$P$13,MAX(Parámetros!M$7:$P$7),FALSE))","v":""},{"$f":"IF(N798=\"\",\"\",VLOOKUP(N798,Parámetros!N$11:$P$13,MAX(Parámetros!N$7:$P$7),FALSE))","v":""},{"$f":"IF(O798=\"\",\"\",VLOOKUP(O798,Parámetros!O$11:$P$13,MAX(Parámetros!O$7:$P$7),FALSE))","v":""},""]
[null,null,null,{"$f":"IF(E799=\"\",\"\",VLOOKUP(E799,'Buenas prácticas'!$G$8:$H$1007,2,FALSE))","v":""},null,null,null,null,null,null,null,null,null,null,null,{"$f":"IF(F799=\"\",\"\",VLOOKUP(F799,Parámetros!F$11:$P$13,MAX(Parámetros!F$7:$P$7),FALSE))","v":""},{"$f":"IF(G799=\"\",\"\",VLOOKUP(G799,Parámetros!G$11:$P$13,MAX(Parámetros!G$7:$P$7),FALSE))","v":""},{"$f":"IF(H799=\"\",\"\",VLOOKUP(H799,Parámetros!H$11:$P$13,MAX(Parámetros!H$7:$P$7),FALSE))","v":""},{"$f":"IF(I799=\"\",\"\",VLOOKUP(I799,Parámetros!I$11:$P$13,MAX(Parámetros!I$7:$P$7),FALSE))","v":""},{"$f":"IF(J799=\"\",\"\",VLOOKUP(J799,Parámetros!J$11:$P$13,MAX(Parámetros!J$7:$P$7),FALSE))","v":""},{"$f":"IF(K799=\"\",\"\",VLOOKUP(K799,Parámetros!K$11:$P$13,MAX(Parámetros!K$7:$P$7),FALSE))","v":""},{"$f":"IF(L799=\"\",\"\",VLOOKUP(L799,Parámetros!L$11:$P$13,MAX(Parámetros!L$7:$P$7),FALSE))","v":""},{"$f":"IF(M799=\"\",\"\",VLOOKUP(M799,Parámetros!M$11:$P$13,MAX(Parámetros!M$7:$P$7),FALSE))","v":""},{"$f":"IF(N799=\"\",\"\",VLOOKUP(N799,Parámetros!N$11:$P$13,MAX(Parámetros!N$7:$P$7),FALSE))","v":""},{"$f":"IF(O799=\"\",\"\",VLOOKUP(O799,Parámetros!O$11:$P$13,MAX(Parámetros!O$7:$P$7),FALSE))","v":""},""]
[null,null,null,{"$f":"IF(E800=\"\",\"\",VLOOKUP(E800,'Buenas prácticas'!$G$8:$H$1007,2,FALSE))","v":""},null,null,null,null,null,null,null,null,null,null,null,{"$f":"IF(F800=\"\",\"\",VLOOKUP(F800,Parámetros!F$11:$P$13,MAX(Parámetros!F$7:$P$7),FALSE))","v":""},{"$f":"IF(G800=\"\",\"\",VLOOKUP(G800,Parámetros!G$11:$P$13,MAX(Parámetros!G$7:$P$7),FALSE))","v":""},{"$f":"IF(H800=\"\",\"\",VLOOKUP(H800,Parámetros!H$11:$P$13,MAX(Parámetros!H$7:$P$7),FALSE))","v":""},{"$f":"IF(I800=\"\",\"\",VLOOKUP(I800,Parámetros!I$11:$P$13,MAX(Parámetros!I$7:$P$7),FALSE))","v":""},{"$f":"IF(J800=\"\",\"\",VLOOKUP(J800,Parámetros!J$11:$P$13,MAX(Parámetros!J$7:$P$7),FALSE))","v":""},{"$f":"IF(K800=\"\",\"\",VLOOKUP(K800,Parámetros!K$11:$P$13,MAX(Parámetros!K$7:$P$7),FALSE))","v":""},{"$f":"IF(L800=\"\",\"\",VLOOKUP(L800,Parámetros!L$11:$P$13,MAX(Parámetros!L$7:$P$7),FALSE))","v":""},{"$f":"IF(M800=\"\",\"\",VLOOKUP(M800,Parámetros!M$11:$P$13,MAX(Parámetros!M$7:$P$7),FALSE))","v":""},{"$f":"IF(N800=\"\",\"\",VLOOKUP(N800,Parámetros!N$11:$P$13,MAX(Parámetros!N$7:$P$7),FALSE))","v":""},{"$f":"IF(O800=\"\",\"\",VLOOKUP(O800,Parámetros!O$11:$P$13,MAX(Parámetros!O$7:$P$7),FALSE))","v":""},""]
[null,null,null,{"$f":"IF(E801=\"\",\"\",VLOOKUP(E801,'Buenas prácticas'!$G$8:$H$1007,2,FALSE))","v":""},null,null,null,null,null,null,null,null,null,null,null,{"$f":"IF(F801=\"\",\"\",VLOOKUP(F801,Parámetros!F$11:$P$13,MAX(Parámetros!F$7:$P$7),FALSE))","v":""},{"$f":"IF(G801=\"\",\"\",VLOOKUP(G801,Parámetros!G$11:$P$13,MAX(Parámetros!G$7:$P$7),FALSE))","v":""},{"$f":"IF(H801=\"\",\"\",VLOOKUP(H801,Parámetros!H$11:$P$13,MAX(Parámetros!H$7:$P$7),FALSE))","v":""},{"$f":"IF(I801=\"\",\"\",VLOOKUP(I801,Parámetros!I$11:$P$13,MAX(Parámetros!I$7:$P$7),FALSE))","v":""},{"$f":"IF(J801=\"\",\"\",VLOOKUP(J801,Parámetros!J$11:$P$13,MAX(Parámetros!J$7:$P$7),FALSE))","v":""},{"$f":"IF(K801=\"\",\"\",VLOOKUP(K801,Parámetros!K$11:$P$13,MAX(Parámetros!K$7:$P$7),FALSE))","v":""},{"$f":"IF(L801=\"\",\"\",VLOOKUP(L801,Parámetros!L$11:$P$13,MAX(Parámetros!L$7:$P$7),FALSE))","v":""},{"$f":"IF(M801=\"\",\"\",VLOOKUP(M801,Parámetros!M$11:$P$13,MAX(Parámetros!M$7:$P$7),FALSE))","v":""},{"$f":"IF(N801=\"\",\"\",VLOOKUP(N801,Parámetros!N$11:$P$13,MAX(Parámetros!N$7:$P$7),FALSE))","v":""},{"$f":"IF(O801=\"\",\"\",VLOOKUP(O801,Parámetros!O$11:$P$13,MAX(Parámetros!O$7:$P$7),FALSE))","v":""},""]
[null,null,null,{"$f":"IF(E802=\"\",\"\",VLOOKUP(E802,'Buenas prácticas'!$G$8:$H$1007,2,FALSE))","v":""},null,null,null,null,null,null,null,null,null,null,null,{"$f":"IF(F802=\"\",\"\",VLOOKUP(F802,Parámetros!F$11:$P$13,MAX(Parámetros!F$7:$P$7),FALSE))","v":""},{"$f":"IF(G802=\"\",\"\",VLOOKUP(G802,Parámetros!G$11:$P$13,MAX(Parámetros!G$7:$P$7),FALSE))","v":""},{"$f":"IF(H802=\"\",\"\",VLOOKUP(H802,Parámetros!H$11:$P$13,MAX(Parámetros!H$7:$P$7),FALSE))","v":""},{"$f":"IF(I802=\"\",\"\",VLOOKUP(I802,Parámetros!I$11:$P$13,MAX(Parámetros!I$7:$P$7),FALSE))","v":""},{"$f":"IF(J802=\"\",\"\",VLOOKUP(J802,Parámetros!J$11:$P$13,MAX(Parámetros!J$7:$P$7),FALSE))","v":""},{"$f":"IF(K802=\"\",\"\",VLOOKUP(K802,Parámetros!K$11:$P$13,MAX(Parámetros!K$7:$P$7),FALSE))","v":""},{"$f":"IF(L802=\"\",\"\",VLOOKUP(L802,Parámetros!L$11:$P$13,MAX(Parámetros!L$7:$P$7),FALSE))","v":""},{"$f":"IF(M802=\"\",\"\",VLOOKUP(M802,Parámetros!M$11:$P$13,MAX(Parámetros!M$7:$P$7),FALSE))","v":""},{"$f":"IF(N802=\"\",\"\",VLOOKUP(N802,Parámetros!N$11:$P$13,MAX(Parámetros!N$7:$P$7),FALSE))","v":""},{"$f":"IF(O802=\"\",\"\",VLOOKUP(O802,Parámetros!O$11:$P$13,MAX(Parámetros!O$7:$P$7),FALSE))","v":""},""]
[null,null,null,{"$f":"IF(E803=\"\",\"\",VLOOKUP(E803,'Buenas prácticas'!$G$8:$H$1007,2,FALSE))","v":""},null,null,null,null,null,null,null,null,null,null,null,{"$f":"IF(F803=\"\",\"\",VLOOKUP(F803,Parámetros!F$11:$P$13,MAX(Parámetros!F$7:$P$7),FALSE))","v":""},{"$f":"IF(G803=\"\",\"\",VLOOKUP(G803,Parámetros!G$11:$P$13,MAX(Parámetros!G$7:$P$7),FALSE))","v":""},{"$f":"IF(H803=\"\",\"\",VLOOKUP(H803,Parámetros!H$11:$P$13,MAX(Parámetros!H$7:$P$7),FALSE))","v":""},{"$f":"IF(I803=\"\",\"\",VLOOKUP(I803,Parámetros!I$11:$P$13,MAX(Parámetros!I$7:$P$7),FALSE))","v":""},{"$f":"IF(J803=\"\",\"\",VLOOKUP(J803,Parámetros!J$11:$P$13,MAX(Parámetros!J$7:$P$7),FALSE))","v":""},{"$f":"IF(K803=\"\",\"\",VLOOKUP(K803,Parámetros!K$11:$P$13,MAX(Parámetros!K$7:$P$7),FALSE))","v":""},{"$f":"IF(L803=\"\",\"\",VLOOKUP(L803,Parámetros!L$11:$P$13,MAX(Parámetros!L$7:$P$7),FALSE))","v":""},{"$f":"IF(M803=\"\",\"\",VLOOKUP(M803,Parámetros!M$11:$P$13,MAX(Parámetros!M$7:$P$7),FALSE))","v":""},{"$f":"IF(N803=\"\",\"\",VLOOKUP(N803,Parámetros!N$11:$P$13,MAX(Parámetros!N$7:$P$7),FALSE))","v":""},{"$f":"IF(O803=\"\",\"\",VLOOKUP(O803,Parámetros!O$11:$P$13,MAX(Parámetros!O$7:$P$7),FALSE))","v":""},""]
[null,null,null,{"$f":"IF(E804=\"\",\"\",VLOOKUP(E804,'Buenas prácticas'!$G$8:$H$1007,2,FALSE))","v":""},null,null,null,null,null,null,null,null,null,null,null,{"$f":"IF(F804=\"\",\"\",VLOOKUP(F804,Parámetros!F$11:$P$13,MAX(Parámetros!F$7:$P$7),FALSE))","v":""},{"$f":"IF(G804=\"\",\"\",VLOOKUP(G804,Parámetros!G$11:$P$13,MAX(Parámetros!G$7:$P$7),FALSE))","v":""},{"$f":"IF(H804=\"\",\"\",VLOOKUP(H804,Parámetros!H$11:$P$13,MAX(Parámetros!H$7:$P$7),FALSE))","v":""},{"$f":"IF(I804=\"\",\"\",VLOOKUP(I804,Parámetros!I$11:$P$13,MAX(Parámetros!I$7:$P$7),FALSE))","v":""},{"$f":"IF(J804=\"\",\"\",VLOOKUP(J804,Parámetros!J$11:$P$13,MAX(Parámetros!J$7:$P$7),FALSE))","v":""},{"$f":"IF(K804=\"\",\"\",VLOOKUP(K804,Parámetros!K$11:$P$13,MAX(Parámetros!K$7:$P$7),FALSE))","v":""},{"$f":"IF(L804=\"\",\"\",VLOOKUP(L804,Parámetros!L$11:$P$13,MAX(Parámetros!L$7:$P$7),FALSE))","v":""},{"$f":"IF(M804=\"\",\"\",VLOOKUP(M804,Parámetros!M$11:$P$13,MAX(Parámetros!M$7:$P$7),FALSE))","v":""},{"$f":"IF(N804=\"\",\"\",VLOOKUP(N804,Parámetros!N$11:$P$13,MAX(Parámetros!N$7:$P$7),FALSE))","v":""},{"$f":"IF(O804=\"\",\"\",VLOOKUP(O804,Parámetros!O$11:$P$13,MAX(Parámetros!O$7:$P$7),FALSE))","v":""},""]
[null,null,null,{"$f":"IF(E805=\"\",\"\",VLOOKUP(E805,'Buenas prácticas'!$G$8:$H$1007,2,FALSE))","v":""},null,null,null,null,null,null,null,null,null,null,null,{"$f":"IF(F805=\"\",\"\",VLOOKUP(F805,Parámetros!F$11:$P$13,MAX(Parámetros!F$7:$P$7),FALSE))","v":""},{"$f":"IF(G805=\"\",\"\",VLOOKUP(G805,Parámetros!G$11:$P$13,MAX(Parámetros!G$7:$P$7),FALSE))","v":""},{"$f":"IF(H805=\"\",\"\",VLOOKUP(H805,Parámetros!H$11:$P$13,MAX(Parámetros!H$7:$P$7),FALSE))","v":""},{"$f":"IF(I805=\"\",\"\",VLOOKUP(I805,Parámetros!I$11:$P$13,MAX(Parámetros!I$7:$P$7),FALSE))","v":""},{"$f":"IF(J805=\"\",\"\",VLOOKUP(J805,Parámetros!J$11:$P$13,MAX(Parámetros!J$7:$P$7),FALSE))","v":""},{"$f":"IF(K805=\"\",\"\",VLOOKUP(K805,Parámetros!K$11:$P$13,MAX(Parámetros!K$7:$P$7),FALSE))","v":""},{"$f":"IF(L805=\"\",\"\",VLOOKUP(L805,Parámetros!L$11:$P$13,MAX(Parámetros!L$7:$P$7),FALSE))","v":""},{"$f":"IF(M805=\"\",\"\",VLOOKUP(M805,Parámetros!M$11:$P$13,MAX(Parámetros!M$7:$P$7),FALSE))","v":""},{"$f":"IF(N805=\"\",\"\",VLOOKUP(N805,Parámetros!N$11:$P$13,MAX(Parámetros!N$7:$P$7),FALSE))","v":""},{"$f":"IF(O805=\"\",\"\",VLOOKUP(O805,Parámetros!O$11:$P$13,MAX(Parámetros!O$7:$P$7),FALSE))","v":""},""]
[null,null,null,{"$f":"IF(E806=\"\",\"\",VLOOKUP(E806,'Buenas prácticas'!$G$8:$H$1007,2,FALSE))","v":""},null,null,null,null,null,null,null,null,null,null,null,{"$f":"IF(F806=\"\",\"\",VLOOKUP(F806,Parámetros!F$11:$P$13,MAX(Parámetros!F$7:$P$7),FALSE))","v":""},{"$f":"IF(G806=\"\",\"\",VLOOKUP(G806,Parámetros!G$11:$P$13,MAX(Parámetros!G$7:$P$7),FALSE))","v":""},{"$f":"IF(H806=\"\",\"\",VLOOKUP(H806,Parámetros!H$11:$P$13,MAX(Parámetros!H$7:$P$7),FALSE))","v":""},{"$f":"IF(I806=\"\",\"\",VLOOKUP(I806,Parámetros!I$11:$P$13,MAX(Parámetros!I$7:$P$7),FALSE))","v":""},{"$f":"IF(J806=\"\",\"\",VLOOKUP(J806,Parámetros!J$11:$P$13,MAX(Parámetros!J$7:$P$7),FALSE))","v":""},{"$f":"IF(K806=\"\",\"\",VLOOKUP(K806,Parámetros!K$11:$P$13,MAX(Parámetros!K$7:$P$7),FALSE))","v":""},{"$f":"IF(L806=\"\",\"\",VLOOKUP(L806,Parámetros!L$11:$P$13,MAX(Parámetros!L$7:$P$7),FALSE))","v":""},{"$f":"IF(M806=\"\",\"\",VLOOKUP(M806,Parámetros!M$11:$P$13,MAX(Parámetros!M$7:$P$7),FALSE))","v":""},{"$f":"IF(N806=\"\",\"\",VLOOKUP(N806,Parámetros!N$11:$P$13,MAX(Parámetros!N$7:$P$7),FALSE))","v":""},{"$f":"IF(O806=\"\",\"\",VLOOKUP(O806,Parámetros!O$11:$P$13,MAX(Parámetros!O$7:$P$7),FALSE))","v":""},""]
[null,null,null,{"$f":"IF(E807=\"\",\"\",VLOOKUP(E807,'Buenas prácticas'!$G$8:$H$1007,2,FALSE))","v":""},null,null,null,null,null,null,null,null,null,null,null,{"$f":"IF(F807=\"\",\"\",VLOOKUP(F807,Parámetros!F$11:$P$13,MAX(Parámetros!F$7:$P$7),FALSE))","v":""},{"$f":"IF(G807=\"\",\"\",VLOOKUP(G807,Parámetros!G$11:$P$13,MAX(Parámetros!G$7:$P$7),FALSE))","v":""},{"$f":"IF(H807=\"\",\"\",VLOOKUP(H807,Parámetros!H$11:$P$13,MAX(Parámetros!H$7:$P$7),FALSE))","v":""},{"$f":"IF(I807=\"\",\"\",VLOOKUP(I807,Parámetros!I$11:$P$13,MAX(Parámetros!I$7:$P$7),FALSE))","v":""},{"$f":"IF(J807=\"\",\"\",VLOOKUP(J807,Parámetros!J$11:$P$13,MAX(Parámetros!J$7:$P$7),FALSE))","v":""},{"$f":"IF(K807=\"\",\"\",VLOOKUP(K807,Parámetros!K$11:$P$13,MAX(Parámetros!K$7:$P$7),FALSE))","v":""},{"$f":"IF(L807=\"\",\"\",VLOOKUP(L807,Parámetros!L$11:$P$13,MAX(Parámetros!L$7:$P$7),FALSE))","v":""},{"$f":"IF(M807=\"\",\"\",VLOOKUP(M807,Parámetros!M$11:$P$13,MAX(Parámetros!M$7:$P$7),FALSE))","v":""},{"$f":"IF(N807=\"\",\"\",VLOOKUP(N807,Parámetros!N$11:$P$13,MAX(Parámetros!N$7:$P$7),FALSE))","v":""},{"$f":"IF(O807=\"\",\"\",VLOOKUP(O807,Parámetros!O$11:$P$13,MAX(Parámetros!O$7:$P$7),FALSE))","v":""},""]
[null,null,null,{"$f":"IF(E808=\"\",\"\",VLOOKUP(E808,'Buenas prácticas'!$G$8:$H$1007,2,FALSE))","v":""},null,null,null,null,null,null,null,null,null,null,null,{"$f":"IF(F808=\"\",\"\",VLOOKUP(F808,Parámetros!F$11:$P$13,MAX(Parámetros!F$7:$P$7),FALSE))","v":""},{"$f":"IF(G808=\"\",\"\",VLOOKUP(G808,Parámetros!G$11:$P$13,MAX(Parámetros!G$7:$P$7),FALSE))","v":""},{"$f":"IF(H808=\"\",\"\",VLOOKUP(H808,Parámetros!H$11:$P$13,MAX(Parámetros!H$7:$P$7),FALSE))","v":""},{"$f":"IF(I808=\"\",\"\",VLOOKUP(I808,Parámetros!I$11:$P$13,MAX(Parámetros!I$7:$P$7),FALSE))","v":""},{"$f":"IF(J808=\"\",\"\",VLOOKUP(J808,Parámetros!J$11:$P$13,MAX(Parámetros!J$7:$P$7),FALSE))","v":""},{"$f":"IF(K808=\"\",\"\",VLOOKUP(K808,Parámetros!K$11:$P$13,MAX(Parámetros!K$7:$P$7),FALSE))","v":""},{"$f":"IF(L808=\"\",\"\",VLOOKUP(L808,Parámetros!L$11:$P$13,MAX(Parámetros!L$7:$P$7),FALSE))","v":""},{"$f":"IF(M808=\"\",\"\",VLOOKUP(M808,Parámetros!M$11:$P$13,MAX(Parámetros!M$7:$P$7),FALSE))","v":""},{"$f":"IF(N808=\"\",\"\",VLOOKUP(N808,Parámetros!N$11:$P$13,MAX(Parámetros!N$7:$P$7),FALSE))","v":""},{"$f":"IF(O808=\"\",\"\",VLOOKUP(O808,Parámetros!O$11:$P$13,MAX(Parámetros!O$7:$P$7),FALSE))","v":""},""]
[null,null,null,{"$f":"IF(E809=\"\",\"\",VLOOKUP(E809,'Buenas prácticas'!$G$8:$H$1007,2,FALSE))","v":""},null,null,null,null,null,null,null,null,null,null,null,{"$f":"IF(F809=\"\",\"\",VLOOKUP(F809,Parámetros!F$11:$P$13,MAX(Parámetros!F$7:$P$7),FALSE))","v":""},{"$f":"IF(G809=\"\",\"\",VLOOKUP(G809,Parámetros!G$11:$P$13,MAX(Parámetros!G$7:$P$7),FALSE))","v":""},{"$f":"IF(H809=\"\",\"\",VLOOKUP(H809,Parámetros!H$11:$P$13,MAX(Parámetros!H$7:$P$7),FALSE))","v":""},{"$f":"IF(I809=\"\",\"\",VLOOKUP(I809,Parámetros!I$11:$P$13,MAX(Parámetros!I$7:$P$7),FALSE))","v":""},{"$f":"IF(J809=\"\",\"\",VLOOKUP(J809,Parámetros!J$11:$P$13,MAX(Parámetros!J$7:$P$7),FALSE))","v":""},{"$f":"IF(K809=\"\",\"\",VLOOKUP(K809,Parámetros!K$11:$P$13,MAX(Parámetros!K$7:$P$7),FALSE))","v":""},{"$f":"IF(L809=\"\",\"\",VLOOKUP(L809,Parámetros!L$11:$P$13,MAX(Parámetros!L$7:$P$7),FALSE))","v":""},{"$f":"IF(M809=\"\",\"\",VLOOKUP(M809,Parámetros!M$11:$P$13,MAX(Parámetros!M$7:$P$7),FALSE))","v":""},{"$f":"IF(N809=\"\",\"\",VLOOKUP(N809,Parámetros!N$11:$P$13,MAX(Parámetros!N$7:$P$7),FALSE))","v":""},{"$f":"IF(O809=\"\",\"\",VLOOKUP(O809,Parámetros!O$11:$P$13,MAX(Parámetros!O$7:$P$7),FALSE))","v":""},""]
[null,null,null,{"$f":"IF(E810=\"\",\"\",VLOOKUP(E810,'Buenas prácticas'!$G$8:$H$1007,2,FALSE))","v":""},null,null,null,null,null,null,null,null,null,null,null,{"$f":"IF(F810=\"\",\"\",VLOOKUP(F810,Parámetros!F$11:$P$13,MAX(Parámetros!F$7:$P$7),FALSE))","v":""},{"$f":"IF(G810=\"\",\"\",VLOOKUP(G810,Parámetros!G$11:$P$13,MAX(Parámetros!G$7:$P$7),FALSE))","v":""},{"$f":"IF(H810=\"\",\"\",VLOOKUP(H810,Parámetros!H$11:$P$13,MAX(Parámetros!H$7:$P$7),FALSE))","v":""},{"$f":"IF(I810=\"\",\"\",VLOOKUP(I810,Parámetros!I$11:$P$13,MAX(Parámetros!I$7:$P$7),FALSE))","v":""},{"$f":"IF(J810=\"\",\"\",VLOOKUP(J810,Parámetros!J$11:$P$13,MAX(Parámetros!J$7:$P$7),FALSE))","v":""},{"$f":"IF(K810=\"\",\"\",VLOOKUP(K810,Parámetros!K$11:$P$13,MAX(Parámetros!K$7:$P$7),FALSE))","v":""},{"$f":"IF(L810=\"\",\"\",VLOOKUP(L810,Parámetros!L$11:$P$13,MAX(Parámetros!L$7:$P$7),FALSE))","v":""},{"$f":"IF(M810=\"\",\"\",VLOOKUP(M810,Parámetros!M$11:$P$13,MAX(Parámetros!M$7:$P$7),FALSE))","v":""},{"$f":"IF(N810=\"\",\"\",VLOOKUP(N810,Parámetros!N$11:$P$13,MAX(Parámetros!N$7:$P$7),FALSE))","v":""},{"$f":"IF(O810=\"\",\"\",VLOOKUP(O810,Parámetros!O$11:$P$13,MAX(Parámetros!O$7:$P$7),FALSE))","v":""},""]
[null,null,null,{"$f":"IF(E811=\"\",\"\",VLOOKUP(E811,'Buenas prácticas'!$G$8:$H$1007,2,FALSE))","v":""},null,null,null,null,null,null,null,null,null,null,null,{"$f":"IF(F811=\"\",\"\",VLOOKUP(F811,Parámetros!F$11:$P$13,MAX(Parámetros!F$7:$P$7),FALSE))","v":""},{"$f":"IF(G811=\"\",\"\",VLOOKUP(G811,Parámetros!G$11:$P$13,MAX(Parámetros!G$7:$P$7),FALSE))","v":""},{"$f":"IF(H811=\"\",\"\",VLOOKUP(H811,Parámetros!H$11:$P$13,MAX(Parámetros!H$7:$P$7),FALSE))","v":""},{"$f":"IF(I811=\"\",\"\",VLOOKUP(I811,Parámetros!I$11:$P$13,MAX(Parámetros!I$7:$P$7),FALSE))","v":""},{"$f":"IF(J811=\"\",\"\",VLOOKUP(J811,Parámetros!J$11:$P$13,MAX(Parámetros!J$7:$P$7),FALSE))","v":""},{"$f":"IF(K811=\"\",\"\",VLOOKUP(K811,Parámetros!K$11:$P$13,MAX(Parámetros!K$7:$P$7),FALSE))","v":""},{"$f":"IF(L811=\"\",\"\",VLOOKUP(L811,Parámetros!L$11:$P$13,MAX(Parámetros!L$7:$P$7),FALSE))","v":""},{"$f":"IF(M811=\"\",\"\",VLOOKUP(M811,Parámetros!M$11:$P$13,MAX(Parámetros!M$7:$P$7),FALSE))","v":""},{"$f":"IF(N811=\"\",\"\",VLOOKUP(N811,Parámetros!N$11:$P$13,MAX(Parámetros!N$7:$P$7),FALSE))","v":""},{"$f":"IF(O811=\"\",\"\",VLOOKUP(O811,Parámetros!O$11:$P$13,MAX(Parámetros!O$7:$P$7),FALSE))","v":""},""]
[null,null,null,{"$f":"IF(E812=\"\",\"\",VLOOKUP(E812,'Buenas prácticas'!$G$8:$H$1007,2,FALSE))","v":""},null,null,null,null,null,null,null,null,null,null,null,{"$f":"IF(F812=\"\",\"\",VLOOKUP(F812,Parámetros!F$11:$P$13,MAX(Parámetros!F$7:$P$7),FALSE))","v":""},{"$f":"IF(G812=\"\",\"\",VLOOKUP(G812,Parámetros!G$11:$P$13,MAX(Parámetros!G$7:$P$7),FALSE))","v":""},{"$f":"IF(H812=\"\",\"\",VLOOKUP(H812,Parámetros!H$11:$P$13,MAX(Parámetros!H$7:$P$7),FALSE))","v":""},{"$f":"IF(I812=\"\",\"\",VLOOKUP(I812,Parámetros!I$11:$P$13,MAX(Parámetros!I$7:$P$7),FALSE))","v":""},{"$f":"IF(J812=\"\",\"\",VLOOKUP(J812,Parámetros!J$11:$P$13,MAX(Parámetros!J$7:$P$7),FALSE))","v":""},{"$f":"IF(K812=\"\",\"\",VLOOKUP(K812,Parámetros!K$11:$P$13,MAX(Parámetros!K$7:$P$7),FALSE))","v":""},{"$f":"IF(L812=\"\",\"\",VLOOKUP(L812,Parámetros!L$11:$P$13,MAX(Parámetros!L$7:$P$7),FALSE))","v":""},{"$f":"IF(M812=\"\",\"\",VLOOKUP(M812,Parámetros!M$11:$P$13,MAX(Parámetros!M$7:$P$7),FALSE))","v":""},{"$f":"IF(N812=\"\",\"\",VLOOKUP(N812,Parámetros!N$11:$P$13,MAX(Parámetros!N$7:$P$7),FALSE))","v":""},{"$f":"IF(O812=\"\",\"\",VLOOKUP(O812,Parámetros!O$11:$P$13,MAX(Parámetros!O$7:$P$7),FALSE))","v":""},""]
[null,null,null,{"$f":"IF(E813=\"\",\"\",VLOOKUP(E813,'Buenas prácticas'!$G$8:$H$1007,2,FALSE))","v":""},null,null,null,null,null,null,null,null,null,null,null,{"$f":"IF(F813=\"\",\"\",VLOOKUP(F813,Parámetros!F$11:$P$13,MAX(Parámetros!F$7:$P$7),FALSE))","v":""},{"$f":"IF(G813=\"\",\"\",VLOOKUP(G813,Parámetros!G$11:$P$13,MAX(Parámetros!G$7:$P$7),FALSE))","v":""},{"$f":"IF(H813=\"\",\"\",VLOOKUP(H813,Parámetros!H$11:$P$13,MAX(Parámetros!H$7:$P$7),FALSE))","v":""},{"$f":"IF(I813=\"\",\"\",VLOOKUP(I813,Parámetros!I$11:$P$13,MAX(Parámetros!I$7:$P$7),FALSE))","v":""},{"$f":"IF(J813=\"\",\"\",VLOOKUP(J813,Parámetros!J$11:$P$13,MAX(Parámetros!J$7:$P$7),FALSE))","v":""},{"$f":"IF(K813=\"\",\"\",VLOOKUP(K813,Parámetros!K$11:$P$13,MAX(Parámetros!K$7:$P$7),FALSE))","v":""},{"$f":"IF(L813=\"\",\"\",VLOOKUP(L813,Parámetros!L$11:$P$13,MAX(Parámetros!L$7:$P$7),FALSE))","v":""},{"$f":"IF(M813=\"\",\"\",VLOOKUP(M813,Parámetros!M$11:$P$13,MAX(Parámetros!M$7:$P$7),FALSE))","v":""},{"$f":"IF(N813=\"\",\"\",VLOOKUP(N813,Parámetros!N$11:$P$13,MAX(Parámetros!N$7:$P$7),FALSE))","v":""},{"$f":"IF(O813=\"\",\"\",VLOOKUP(O813,Parámetros!O$11:$P$13,MAX(Parámetros!O$7:$P$7),FALSE))","v":""},""]
[null,null,null,{"$f":"IF(E814=\"\",\"\",VLOOKUP(E814,'Buenas prácticas'!$G$8:$H$1007,2,FALSE))","v":""},null,null,null,null,null,null,null,null,null,null,null,{"$f":"IF(F814=\"\",\"\",VLOOKUP(F814,Parámetros!F$11:$P$13,MAX(Parámetros!F$7:$P$7),FALSE))","v":""},{"$f":"IF(G814=\"\",\"\",VLOOKUP(G814,Parámetros!G$11:$P$13,MAX(Parámetros!G$7:$P$7),FALSE))","v":""},{"$f":"IF(H814=\"\",\"\",VLOOKUP(H814,Parámetros!H$11:$P$13,MAX(Parámetros!H$7:$P$7),FALSE))","v":""},{"$f":"IF(I814=\"\",\"\",VLOOKUP(I814,Parámetros!I$11:$P$13,MAX(Parámetros!I$7:$P$7),FALSE))","v":""},{"$f":"IF(J814=\"\",\"\",VLOOKUP(J814,Parámetros!J$11:$P$13,MAX(Parámetros!J$7:$P$7),FALSE))","v":""},{"$f":"IF(K814=\"\",\"\",VLOOKUP(K814,Parámetros!K$11:$P$13,MAX(Parámetros!K$7:$P$7),FALSE))","v":""},{"$f":"IF(L814=\"\",\"\",VLOOKUP(L814,Parámetros!L$11:$P$13,MAX(Parámetros!L$7:$P$7),FALSE))","v":""},{"$f":"IF(M814=\"\",\"\",VLOOKUP(M814,Parámetros!M$11:$P$13,MAX(Parámetros!M$7:$P$7),FALSE))","v":""},{"$f":"IF(N814=\"\",\"\",VLOOKUP(N814,Parámetros!N$11:$P$13,MAX(Parámetros!N$7:$P$7),FALSE))","v":""},{"$f":"IF(O814=\"\",\"\",VLOOKUP(O814,Parámetros!O$11:$P$13,MAX(Parámetros!O$7:$P$7),FALSE))","v":""},""]
[null,null,null,{"$f":"IF(E815=\"\",\"\",VLOOKUP(E815,'Buenas prácticas'!$G$8:$H$1007,2,FALSE))","v":""},null,null,null,null,null,null,null,null,null,null,null,{"$f":"IF(F815=\"\",\"\",VLOOKUP(F815,Parámetros!F$11:$P$13,MAX(Parámetros!F$7:$P$7),FALSE))","v":""},{"$f":"IF(G815=\"\",\"\",VLOOKUP(G815,Parámetros!G$11:$P$13,MAX(Parámetros!G$7:$P$7),FALSE))","v":""},{"$f":"IF(H815=\"\",\"\",VLOOKUP(H815,Parámetros!H$11:$P$13,MAX(Parámetros!H$7:$P$7),FALSE))","v":""},{"$f":"IF(I815=\"\",\"\",VLOOKUP(I815,Parámetros!I$11:$P$13,MAX(Parámetros!I$7:$P$7),FALSE))","v":""},{"$f":"IF(J815=\"\",\"\",VLOOKUP(J815,Parámetros!J$11:$P$13,MAX(Parámetros!J$7:$P$7),FALSE))","v":""},{"$f":"IF(K815=\"\",\"\",VLOOKUP(K815,Parámetros!K$11:$P$13,MAX(Parámetros!K$7:$P$7),FALSE))","v":""},{"$f":"IF(L815=\"\",\"\",VLOOKUP(L815,Parámetros!L$11:$P$13,MAX(Parámetros!L$7:$P$7),FALSE))","v":""},{"$f":"IF(M815=\"\",\"\",VLOOKUP(M815,Parámetros!M$11:$P$13,MAX(Parámetros!M$7:$P$7),FALSE))","v":""},{"$f":"IF(N815=\"\",\"\",VLOOKUP(N815,Parámetros!N$11:$P$13,MAX(Parámetros!N$7:$P$7),FALSE))","v":""},{"$f":"IF(O815=\"\",\"\",VLOOKUP(O815,Parámetros!O$11:$P$13,MAX(Parámetros!O$7:$P$7),FALSE))","v":""},""]
[null,null,null,{"$f":"IF(E816=\"\",\"\",VLOOKUP(E816,'Buenas prácticas'!$G$8:$H$1007,2,FALSE))","v":""},null,null,null,null,null,null,null,null,null,null,null,{"$f":"IF(F816=\"\",\"\",VLOOKUP(F816,Parámetros!F$11:$P$13,MAX(Parámetros!F$7:$P$7),FALSE))","v":""},{"$f":"IF(G816=\"\",\"\",VLOOKUP(G816,Parámetros!G$11:$P$13,MAX(Parámetros!G$7:$P$7),FALSE))","v":""},{"$f":"IF(H816=\"\",\"\",VLOOKUP(H816,Parámetros!H$11:$P$13,MAX(Parámetros!H$7:$P$7),FALSE))","v":""},{"$f":"IF(I816=\"\",\"\",VLOOKUP(I816,Parámetros!I$11:$P$13,MAX(Parámetros!I$7:$P$7),FALSE))","v":""},{"$f":"IF(J816=\"\",\"\",VLOOKUP(J816,Parámetros!J$11:$P$13,MAX(Parámetros!J$7:$P$7),FALSE))","v":""},{"$f":"IF(K816=\"\",\"\",VLOOKUP(K816,Parámetros!K$11:$P$13,MAX(Parámetros!K$7:$P$7),FALSE))","v":""},{"$f":"IF(L816=\"\",\"\",VLOOKUP(L816,Parámetros!L$11:$P$13,MAX(Parámetros!L$7:$P$7),FALSE))","v":""},{"$f":"IF(M816=\"\",\"\",VLOOKUP(M816,Parámetros!M$11:$P$13,MAX(Parámetros!M$7:$P$7),FALSE))","v":""},{"$f":"IF(N816=\"\",\"\",VLOOKUP(N816,Parámetros!N$11:$P$13,MAX(Parámetros!N$7:$P$7),FALSE))","v":""},{"$f":"IF(O816=\"\",\"\",VLOOKUP(O816,Parámetros!O$11:$P$13,MAX(Parámetros!O$7:$P$7),FALSE))","v":""},""]
[null,null,null,{"$f":"IF(E817=\"\",\"\",VLOOKUP(E817,'Buenas prácticas'!$G$8:$H$1007,2,FALSE))","v":""},null,null,null,null,null,null,null,null,null,null,null,{"$f":"IF(F817=\"\",\"\",VLOOKUP(F817,Parámetros!F$11:$P$13,MAX(Parámetros!F$7:$P$7),FALSE))","v":""},{"$f":"IF(G817=\"\",\"\",VLOOKUP(G817,Parámetros!G$11:$P$13,MAX(Parámetros!G$7:$P$7),FALSE))","v":""},{"$f":"IF(H817=\"\",\"\",VLOOKUP(H817,Parámetros!H$11:$P$13,MAX(Parámetros!H$7:$P$7),FALSE))","v":""},{"$f":"IF(I817=\"\",\"\",VLOOKUP(I817,Parámetros!I$11:$P$13,MAX(Parámetros!I$7:$P$7),FALSE))","v":""},{"$f":"IF(J817=\"\",\"\",VLOOKUP(J817,Parámetros!J$11:$P$13,MAX(Parámetros!J$7:$P$7),FALSE))","v":""},{"$f":"IF(K817=\"\",\"\",VLOOKUP(K817,Parámetros!K$11:$P$13,MAX(Parámetros!K$7:$P$7),FALSE))","v":""},{"$f":"IF(L817=\"\",\"\",VLOOKUP(L817,Parámetros!L$11:$P$13,MAX(Parámetros!L$7:$P$7),FALSE))","v":""},{"$f":"IF(M817=\"\",\"\",VLOOKUP(M817,Parámetros!M$11:$P$13,MAX(Parámetros!M$7:$P$7),FALSE))","v":""},{"$f":"IF(N817=\"\",\"\",VLOOKUP(N817,Parámetros!N$11:$P$13,MAX(Parámetros!N$7:$P$7),FALSE))","v":""},{"$f":"IF(O817=\"\",\"\",VLOOKUP(O817,Parámetros!O$11:$P$13,MAX(Parámetros!O$7:$P$7),FALSE))","v":""},""]
[null,null,null,{"$f":"IF(E818=\"\",\"\",VLOOKUP(E818,'Buenas prácticas'!$G$8:$H$1007,2,FALSE))","v":""},null,null,null,null,null,null,null,null,null,null,null,{"$f":"IF(F818=\"\",\"\",VLOOKUP(F818,Parámetros!F$11:$P$13,MAX(Parámetros!F$7:$P$7),FALSE))","v":""},{"$f":"IF(G818=\"\",\"\",VLOOKUP(G818,Parámetros!G$11:$P$13,MAX(Parámetros!G$7:$P$7),FALSE))","v":""},{"$f":"IF(H818=\"\",\"\",VLOOKUP(H818,Parámetros!H$11:$P$13,MAX(Parámetros!H$7:$P$7),FALSE))","v":""},{"$f":"IF(I818=\"\",\"\",VLOOKUP(I818,Parámetros!I$11:$P$13,MAX(Parámetros!I$7:$P$7),FALSE))","v":""},{"$f":"IF(J818=\"\",\"\",VLOOKUP(J818,Parámetros!J$11:$P$13,MAX(Parámetros!J$7:$P$7),FALSE))","v":""},{"$f":"IF(K818=\"\",\"\",VLOOKUP(K818,Parámetros!K$11:$P$13,MAX(Parámetros!K$7:$P$7),FALSE))","v":""},{"$f":"IF(L818=\"\",\"\",VLOOKUP(L818,Parámetros!L$11:$P$13,MAX(Parámetros!L$7:$P$7),FALSE))","v":""},{"$f":"IF(M818=\"\",\"\",VLOOKUP(M818,Parámetros!M$11:$P$13,MAX(Parámetros!M$7:$P$7),FALSE))","v":""},{"$f":"IF(N818=\"\",\"\",VLOOKUP(N818,Parámetros!N$11:$P$13,MAX(Parámetros!N$7:$P$7),FALSE))","v":""},{"$f":"IF(O818=\"\",\"\",VLOOKUP(O818,Parámetros!O$11:$P$13,MAX(Parámetros!O$7:$P$7),FALSE))","v":""},""]
[null,null,null,{"$f":"IF(E819=\"\",\"\",VLOOKUP(E819,'Buenas prácticas'!$G$8:$H$1007,2,FALSE))","v":""},null,null,null,null,null,null,null,null,null,null,null,{"$f":"IF(F819=\"\",\"\",VLOOKUP(F819,Parámetros!F$11:$P$13,MAX(Parámetros!F$7:$P$7),FALSE))","v":""},{"$f":"IF(G819=\"\",\"\",VLOOKUP(G819,Parámetros!G$11:$P$13,MAX(Parámetros!G$7:$P$7),FALSE))","v":""},{"$f":"IF(H819=\"\",\"\",VLOOKUP(H819,Parámetros!H$11:$P$13,MAX(Parámetros!H$7:$P$7),FALSE))","v":""},{"$f":"IF(I819=\"\",\"\",VLOOKUP(I819,Parámetros!I$11:$P$13,MAX(Parámetros!I$7:$P$7),FALSE))","v":""},{"$f":"IF(J819=\"\",\"\",VLOOKUP(J819,Parámetros!J$11:$P$13,MAX(Parámetros!J$7:$P$7),FALSE))","v":""},{"$f":"IF(K819=\"\",\"\",VLOOKUP(K819,Parámetros!K$11:$P$13,MAX(Parámetros!K$7:$P$7),FALSE))","v":""},{"$f":"IF(L819=\"\",\"\",VLOOKUP(L819,Parámetros!L$11:$P$13,MAX(Parámetros!L$7:$P$7),FALSE))","v":""},{"$f":"IF(M819=\"\",\"\",VLOOKUP(M819,Parámetros!M$11:$P$13,MAX(Parámetros!M$7:$P$7),FALSE))","v":""},{"$f":"IF(N819=\"\",\"\",VLOOKUP(N819,Parámetros!N$11:$P$13,MAX(Parámetros!N$7:$P$7),FALSE))","v":""},{"$f":"IF(O819=\"\",\"\",VLOOKUP(O819,Parámetros!O$11:$P$13,MAX(Parámetros!O$7:$P$7),FALSE))","v":""},""]
[null,null,null,{"$f":"IF(E820=\"\",\"\",VLOOKUP(E820,'Buenas prácticas'!$G$8:$H$1007,2,FALSE))","v":""},null,null,null,null,null,null,null,null,null,null,null,{"$f":"IF(F820=\"\",\"\",VLOOKUP(F820,Parámetros!F$11:$P$13,MAX(Parámetros!F$7:$P$7),FALSE))","v":""},{"$f":"IF(G820=\"\",\"\",VLOOKUP(G820,Parámetros!G$11:$P$13,MAX(Parámetros!G$7:$P$7),FALSE))","v":""},{"$f":"IF(H820=\"\",\"\",VLOOKUP(H820,Parámetros!H$11:$P$13,MAX(Parámetros!H$7:$P$7),FALSE))","v":""},{"$f":"IF(I820=\"\",\"\",VLOOKUP(I820,Parámetros!I$11:$P$13,MAX(Parámetros!I$7:$P$7),FALSE))","v":""},{"$f":"IF(J820=\"\",\"\",VLOOKUP(J820,Parámetros!J$11:$P$13,MAX(Parámetros!J$7:$P$7),FALSE))","v":""},{"$f":"IF(K820=\"\",\"\",VLOOKUP(K820,Parámetros!K$11:$P$13,MAX(Parámetros!K$7:$P$7),FALSE))","v":""},{"$f":"IF(L820=\"\",\"\",VLOOKUP(L820,Parámetros!L$11:$P$13,MAX(Parámetros!L$7:$P$7),FALSE))","v":""},{"$f":"IF(M820=\"\",\"\",VLOOKUP(M820,Parámetros!M$11:$P$13,MAX(Parámetros!M$7:$P$7),FALSE))","v":""},{"$f":"IF(N820=\"\",\"\",VLOOKUP(N820,Parámetros!N$11:$P$13,MAX(Parámetros!N$7:$P$7),FALSE))","v":""},{"$f":"IF(O820=\"\",\"\",VLOOKUP(O820,Parámetros!O$11:$P$13,MAX(Parámetros!O$7:$P$7),FALSE))","v":""},""]
[null,null,null,{"$f":"IF(E821=\"\",\"\",VLOOKUP(E821,'Buenas prácticas'!$G$8:$H$1007,2,FALSE))","v":""},null,null,null,null,null,null,null,null,null,null,null,{"$f":"IF(F821=\"\",\"\",VLOOKUP(F821,Parámetros!F$11:$P$13,MAX(Parámetros!F$7:$P$7),FALSE))","v":""},{"$f":"IF(G821=\"\",\"\",VLOOKUP(G821,Parámetros!G$11:$P$13,MAX(Parámetros!G$7:$P$7),FALSE))","v":""},{"$f":"IF(H821=\"\",\"\",VLOOKUP(H821,Parámetros!H$11:$P$13,MAX(Parámetros!H$7:$P$7),FALSE))","v":""},{"$f":"IF(I821=\"\",\"\",VLOOKUP(I821,Parámetros!I$11:$P$13,MAX(Parámetros!I$7:$P$7),FALSE))","v":""},{"$f":"IF(J821=\"\",\"\",VLOOKUP(J821,Parámetros!J$11:$P$13,MAX(Parámetros!J$7:$P$7),FALSE))","v":""},{"$f":"IF(K821=\"\",\"\",VLOOKUP(K821,Parámetros!K$11:$P$13,MAX(Parámetros!K$7:$P$7),FALSE))","v":""},{"$f":"IF(L821=\"\",\"\",VLOOKUP(L821,Parámetros!L$11:$P$13,MAX(Parámetros!L$7:$P$7),FALSE))","v":""},{"$f":"IF(M821=\"\",\"\",VLOOKUP(M821,Parámetros!M$11:$P$13,MAX(Parámetros!M$7:$P$7),FALSE))","v":""},{"$f":"IF(N821=\"\",\"\",VLOOKUP(N821,Parámetros!N$11:$P$13,MAX(Parámetros!N$7:$P$7),FALSE))","v":""},{"$f":"IF(O821=\"\",\"\",VLOOKUP(O821,Parámetros!O$11:$P$13,MAX(Parámetros!O$7:$P$7),FALSE))","v":""},""]
[null,null,null,{"$f":"IF(E822=\"\",\"\",VLOOKUP(E822,'Buenas prácticas'!$G$8:$H$1007,2,FALSE))","v":""},null,null,null,null,null,null,null,null,null,null,null,{"$f":"IF(F822=\"\",\"\",VLOOKUP(F822,Parámetros!F$11:$P$13,MAX(Parámetros!F$7:$P$7),FALSE))","v":""},{"$f":"IF(G822=\"\",\"\",VLOOKUP(G822,Parámetros!G$11:$P$13,MAX(Parámetros!G$7:$P$7),FALSE))","v":""},{"$f":"IF(H822=\"\",\"\",VLOOKUP(H822,Parámetros!H$11:$P$13,MAX(Parámetros!H$7:$P$7),FALSE))","v":""},{"$f":"IF(I822=\"\",\"\",VLOOKUP(I822,Parámetros!I$11:$P$13,MAX(Parámetros!I$7:$P$7),FALSE))","v":""},{"$f":"IF(J822=\"\",\"\",VLOOKUP(J822,Parámetros!J$11:$P$13,MAX(Parámetros!J$7:$P$7),FALSE))","v":""},{"$f":"IF(K822=\"\",\"\",VLOOKUP(K822,Parámetros!K$11:$P$13,MAX(Parámetros!K$7:$P$7),FALSE))","v":""},{"$f":"IF(L822=\"\",\"\",VLOOKUP(L822,Parámetros!L$11:$P$13,MAX(Parámetros!L$7:$P$7),FALSE))","v":""},{"$f":"IF(M822=\"\",\"\",VLOOKUP(M822,Parámetros!M$11:$P$13,MAX(Parámetros!M$7:$P$7),FALSE))","v":""},{"$f":"IF(N822=\"\",\"\",VLOOKUP(N822,Parámetros!N$11:$P$13,MAX(Parámetros!N$7:$P$7),FALSE))","v":""},{"$f":"IF(O822=\"\",\"\",VLOOKUP(O822,Parámetros!O$11:$P$13,MAX(Parámetros!O$7:$P$7),FALSE))","v":""},""]
[null,null,null,{"$f":"IF(E823=\"\",\"\",VLOOKUP(E823,'Buenas prácticas'!$G$8:$H$1007,2,FALSE))","v":""},null,null,null,null,null,null,null,null,null,null,null,{"$f":"IF(F823=\"\",\"\",VLOOKUP(F823,Parámetros!F$11:$P$13,MAX(Parámetros!F$7:$P$7),FALSE))","v":""},{"$f":"IF(G823=\"\",\"\",VLOOKUP(G823,Parámetros!G$11:$P$13,MAX(Parámetros!G$7:$P$7),FALSE))","v":""},{"$f":"IF(H823=\"\",\"\",VLOOKUP(H823,Parámetros!H$11:$P$13,MAX(Parámetros!H$7:$P$7),FALSE))","v":""},{"$f":"IF(I823=\"\",\"\",VLOOKUP(I823,Parámetros!I$11:$P$13,MAX(Parámetros!I$7:$P$7),FALSE))","v":""},{"$f":"IF(J823=\"\",\"\",VLOOKUP(J823,Parámetros!J$11:$P$13,MAX(Parámetros!J$7:$P$7),FALSE))","v":""},{"$f":"IF(K823=\"\",\"\",VLOOKUP(K823,Parámetros!K$11:$P$13,MAX(Parámetros!K$7:$P$7),FALSE))","v":""},{"$f":"IF(L823=\"\",\"\",VLOOKUP(L823,Parámetros!L$11:$P$13,MAX(Parámetros!L$7:$P$7),FALSE))","v":""},{"$f":"IF(M823=\"\",\"\",VLOOKUP(M823,Parámetros!M$11:$P$13,MAX(Parámetros!M$7:$P$7),FALSE))","v":""},{"$f":"IF(N823=\"\",\"\",VLOOKUP(N823,Parámetros!N$11:$P$13,MAX(Parámetros!N$7:$P$7),FALSE))","v":""},{"$f":"IF(O823=\"\",\"\",VLOOKUP(O823,Parámetros!O$11:$P$13,MAX(Parámetros!O$7:$P$7),FALSE))","v":""},""]
[null,null,null,{"$f":"IF(E824=\"\",\"\",VLOOKUP(E824,'Buenas prácticas'!$G$8:$H$1007,2,FALSE))","v":""},null,null,null,null,null,null,null,null,null,null,null,{"$f":"IF(F824=\"\",\"\",VLOOKUP(F824,Parámetros!F$11:$P$13,MAX(Parámetros!F$7:$P$7),FALSE))","v":""},{"$f":"IF(G824=\"\",\"\",VLOOKUP(G824,Parámetros!G$11:$P$13,MAX(Parámetros!G$7:$P$7),FALSE))","v":""},{"$f":"IF(H824=\"\",\"\",VLOOKUP(H824,Parámetros!H$11:$P$13,MAX(Parámetros!H$7:$P$7),FALSE))","v":""},{"$f":"IF(I824=\"\",\"\",VLOOKUP(I824,Parámetros!I$11:$P$13,MAX(Parámetros!I$7:$P$7),FALSE))","v":""},{"$f":"IF(J824=\"\",\"\",VLOOKUP(J824,Parámetros!J$11:$P$13,MAX(Parámetros!J$7:$P$7),FALSE))","v":""},{"$f":"IF(K824=\"\",\"\",VLOOKUP(K824,Parámetros!K$11:$P$13,MAX(Parámetros!K$7:$P$7),FALSE))","v":""},{"$f":"IF(L824=\"\",\"\",VLOOKUP(L824,Parámetros!L$11:$P$13,MAX(Parámetros!L$7:$P$7),FALSE))","v":""},{"$f":"IF(M824=\"\",\"\",VLOOKUP(M824,Parámetros!M$11:$P$13,MAX(Parámetros!M$7:$P$7),FALSE))","v":""},{"$f":"IF(N824=\"\",\"\",VLOOKUP(N824,Parámetros!N$11:$P$13,MAX(Parámetros!N$7:$P$7),FALSE))","v":""},{"$f":"IF(O824=\"\",\"\",VLOOKUP(O824,Parámetros!O$11:$P$13,MAX(Parámetros!O$7:$P$7),FALSE))","v":""},""]
[null,null,null,{"$f":"IF(E825=\"\",\"\",VLOOKUP(E825,'Buenas prácticas'!$G$8:$H$1007,2,FALSE))","v":""},null,null,null,null,null,null,null,null,null,null,null,{"$f":"IF(F825=\"\",\"\",VLOOKUP(F825,Parámetros!F$11:$P$13,MAX(Parámetros!F$7:$P$7),FALSE))","v":""},{"$f":"IF(G825=\"\",\"\",VLOOKUP(G825,Parámetros!G$11:$P$13,MAX(Parámetros!G$7:$P$7),FALSE))","v":""},{"$f":"IF(H825=\"\",\"\",VLOOKUP(H825,Parámetros!H$11:$P$13,MAX(Parámetros!H$7:$P$7),FALSE))","v":""},{"$f":"IF(I825=\"\",\"\",VLOOKUP(I825,Parámetros!I$11:$P$13,MAX(Parámetros!I$7:$P$7),FALSE))","v":""},{"$f":"IF(J825=\"\",\"\",VLOOKUP(J825,Parámetros!J$11:$P$13,MAX(Parámetros!J$7:$P$7),FALSE))","v":""},{"$f":"IF(K825=\"\",\"\",VLOOKUP(K825,Parámetros!K$11:$P$13,MAX(Parámetros!K$7:$P$7),FALSE))","v":""},{"$f":"IF(L825=\"\",\"\",VLOOKUP(L825,Parámetros!L$11:$P$13,MAX(Parámetros!L$7:$P$7),FALSE))","v":""},{"$f":"IF(M825=\"\",\"\",VLOOKUP(M825,Parámetros!M$11:$P$13,MAX(Parámetros!M$7:$P$7),FALSE))","v":""},{"$f":"IF(N825=\"\",\"\",VLOOKUP(N825,Parámetros!N$11:$P$13,MAX(Parámetros!N$7:$P$7),FALSE))","v":""},{"$f":"IF(O825=\"\",\"\",VLOOKUP(O825,Parámetros!O$11:$P$13,MAX(Parámetros!O$7:$P$7),FALSE))","v":""},""]
[null,null,null,{"$f":"IF(E826=\"\",\"\",VLOOKUP(E826,'Buenas prácticas'!$G$8:$H$1007,2,FALSE))","v":""},null,null,null,null,null,null,null,null,null,null,null,{"$f":"IF(F826=\"\",\"\",VLOOKUP(F826,Parámetros!F$11:$P$13,MAX(Parámetros!F$7:$P$7),FALSE))","v":""},{"$f":"IF(G826=\"\",\"\",VLOOKUP(G826,Parámetros!G$11:$P$13,MAX(Parámetros!G$7:$P$7),FALSE))","v":""},{"$f":"IF(H826=\"\",\"\",VLOOKUP(H826,Parámetros!H$11:$P$13,MAX(Parámetros!H$7:$P$7),FALSE))","v":""},{"$f":"IF(I826=\"\",\"\",VLOOKUP(I826,Parámetros!I$11:$P$13,MAX(Parámetros!I$7:$P$7),FALSE))","v":""},{"$f":"IF(J826=\"\",\"\",VLOOKUP(J826,Parámetros!J$11:$P$13,MAX(Parámetros!J$7:$P$7),FALSE))","v":""},{"$f":"IF(K826=\"\",\"\",VLOOKUP(K826,Parámetros!K$11:$P$13,MAX(Parámetros!K$7:$P$7),FALSE))","v":""},{"$f":"IF(L826=\"\",\"\",VLOOKUP(L826,Parámetros!L$11:$P$13,MAX(Parámetros!L$7:$P$7),FALSE))","v":""},{"$f":"IF(M826=\"\",\"\",VLOOKUP(M826,Parámetros!M$11:$P$13,MAX(Parámetros!M$7:$P$7),FALSE))","v":""},{"$f":"IF(N826=\"\",\"\",VLOOKUP(N826,Parámetros!N$11:$P$13,MAX(Parámetros!N$7:$P$7),FALSE))","v":""},{"$f":"IF(O826=\"\",\"\",VLOOKUP(O826,Parámetros!O$11:$P$13,MAX(Parámetros!O$7:$P$7),FALSE))","v":""},""]
[null,null,null,{"$f":"IF(E827=\"\",\"\",VLOOKUP(E827,'Buenas prácticas'!$G$8:$H$1007,2,FALSE))","v":""},null,null,null,null,null,null,null,null,null,null,null,{"$f":"IF(F827=\"\",\"\",VLOOKUP(F827,Parámetros!F$11:$P$13,MAX(Parámetros!F$7:$P$7),FALSE))","v":""},{"$f":"IF(G827=\"\",\"\",VLOOKUP(G827,Parámetros!G$11:$P$13,MAX(Parámetros!G$7:$P$7),FALSE))","v":""},{"$f":"IF(H827=\"\",\"\",VLOOKUP(H827,Parámetros!H$11:$P$13,MAX(Parámetros!H$7:$P$7),FALSE))","v":""},{"$f":"IF(I827=\"\",\"\",VLOOKUP(I827,Parámetros!I$11:$P$13,MAX(Parámetros!I$7:$P$7),FALSE))","v":""},{"$f":"IF(J827=\"\",\"\",VLOOKUP(J827,Parámetros!J$11:$P$13,MAX(Parámetros!J$7:$P$7),FALSE))","v":""},{"$f":"IF(K827=\"\",\"\",VLOOKUP(K827,Parámetros!K$11:$P$13,MAX(Parámetros!K$7:$P$7),FALSE))","v":""},{"$f":"IF(L827=\"\",\"\",VLOOKUP(L827,Parámetros!L$11:$P$13,MAX(Parámetros!L$7:$P$7),FALSE))","v":""},{"$f":"IF(M827=\"\",\"\",VLOOKUP(M827,Parámetros!M$11:$P$13,MAX(Parámetros!M$7:$P$7),FALSE))","v":""},{"$f":"IF(N827=\"\",\"\",VLOOKUP(N827,Parámetros!N$11:$P$13,MAX(Parámetros!N$7:$P$7),FALSE))","v":""},{"$f":"IF(O827=\"\",\"\",VLOOKUP(O827,Parámetros!O$11:$P$13,MAX(Parámetros!O$7:$P$7),FALSE))","v":""},""]
[null,null,null,{"$f":"IF(E828=\"\",\"\",VLOOKUP(E828,'Buenas prácticas'!$G$8:$H$1007,2,FALSE))","v":""},null,null,null,null,null,null,null,null,null,null,null,{"$f":"IF(F828=\"\",\"\",VLOOKUP(F828,Parámetros!F$11:$P$13,MAX(Parámetros!F$7:$P$7),FALSE))","v":""},{"$f":"IF(G828=\"\",\"\",VLOOKUP(G828,Parámetros!G$11:$P$13,MAX(Parámetros!G$7:$P$7),FALSE))","v":""},{"$f":"IF(H828=\"\",\"\",VLOOKUP(H828,Parámetros!H$11:$P$13,MAX(Parámetros!H$7:$P$7),FALSE))","v":""},{"$f":"IF(I828=\"\",\"\",VLOOKUP(I828,Parámetros!I$11:$P$13,MAX(Parámetros!I$7:$P$7),FALSE))","v":""},{"$f":"IF(J828=\"\",\"\",VLOOKUP(J828,Parámetros!J$11:$P$13,MAX(Parámetros!J$7:$P$7),FALSE))","v":""},{"$f":"IF(K828=\"\",\"\",VLOOKUP(K828,Parámetros!K$11:$P$13,MAX(Parámetros!K$7:$P$7),FALSE))","v":""},{"$f":"IF(L828=\"\",\"\",VLOOKUP(L828,Parámetros!L$11:$P$13,MAX(Parámetros!L$7:$P$7),FALSE))","v":""},{"$f":"IF(M828=\"\",\"\",VLOOKUP(M828,Parámetros!M$11:$P$13,MAX(Parámetros!M$7:$P$7),FALSE))","v":""},{"$f":"IF(N828=\"\",\"\",VLOOKUP(N828,Parámetros!N$11:$P$13,MAX(Parámetros!N$7:$P$7),FALSE))","v":""},{"$f":"IF(O828=\"\",\"\",VLOOKUP(O828,Parámetros!O$11:$P$13,MAX(Parámetros!O$7:$P$7),FALSE))","v":""},""]
[null,null,null,{"$f":"IF(E829=\"\",\"\",VLOOKUP(E829,'Buenas prácticas'!$G$8:$H$1007,2,FALSE))","v":""},null,null,null,null,null,null,null,null,null,null,null,{"$f":"IF(F829=\"\",\"\",VLOOKUP(F829,Parámetros!F$11:$P$13,MAX(Parámetros!F$7:$P$7),FALSE))","v":""},{"$f":"IF(G829=\"\",\"\",VLOOKUP(G829,Parámetros!G$11:$P$13,MAX(Parámetros!G$7:$P$7),FALSE))","v":""},{"$f":"IF(H829=\"\",\"\",VLOOKUP(H829,Parámetros!H$11:$P$13,MAX(Parámetros!H$7:$P$7),FALSE))","v":""},{"$f":"IF(I829=\"\",\"\",VLOOKUP(I829,Parámetros!I$11:$P$13,MAX(Parámetros!I$7:$P$7),FALSE))","v":""},{"$f":"IF(J829=\"\",\"\",VLOOKUP(J829,Parámetros!J$11:$P$13,MAX(Parámetros!J$7:$P$7),FALSE))","v":""},{"$f":"IF(K829=\"\",\"\",VLOOKUP(K829,Parámetros!K$11:$P$13,MAX(Parámetros!K$7:$P$7),FALSE))","v":""},{"$f":"IF(L829=\"\",\"\",VLOOKUP(L829,Parámetros!L$11:$P$13,MAX(Parámetros!L$7:$P$7),FALSE))","v":""},{"$f":"IF(M829=\"\",\"\",VLOOKUP(M829,Parámetros!M$11:$P$13,MAX(Parámetros!M$7:$P$7),FALSE))","v":""},{"$f":"IF(N829=\"\",\"\",VLOOKUP(N829,Parámetros!N$11:$P$13,MAX(Parámetros!N$7:$P$7),FALSE))","v":""},{"$f":"IF(O829=\"\",\"\",VLOOKUP(O829,Parámetros!O$11:$P$13,MAX(Parámetros!O$7:$P$7),FALSE))","v":""},""]
[null,null,null,{"$f":"IF(E830=\"\",\"\",VLOOKUP(E830,'Buenas prácticas'!$G$8:$H$1007,2,FALSE))","v":""},null,null,null,null,null,null,null,null,null,null,null,{"$f":"IF(F830=\"\",\"\",VLOOKUP(F830,Parámetros!F$11:$P$13,MAX(Parámetros!F$7:$P$7),FALSE))","v":""},{"$f":"IF(G830=\"\",\"\",VLOOKUP(G830,Parámetros!G$11:$P$13,MAX(Parámetros!G$7:$P$7),FALSE))","v":""},{"$f":"IF(H830=\"\",\"\",VLOOKUP(H830,Parámetros!H$11:$P$13,MAX(Parámetros!H$7:$P$7),FALSE))","v":""},{"$f":"IF(I830=\"\",\"\",VLOOKUP(I830,Parámetros!I$11:$P$13,MAX(Parámetros!I$7:$P$7),FALSE))","v":""},{"$f":"IF(J830=\"\",\"\",VLOOKUP(J830,Parámetros!J$11:$P$13,MAX(Parámetros!J$7:$P$7),FALSE))","v":""},{"$f":"IF(K830=\"\",\"\",VLOOKUP(K830,Parámetros!K$11:$P$13,MAX(Parámetros!K$7:$P$7),FALSE))","v":""},{"$f":"IF(L830=\"\",\"\",VLOOKUP(L830,Parámetros!L$11:$P$13,MAX(Parámetros!L$7:$P$7),FALSE))","v":""},{"$f":"IF(M830=\"\",\"\",VLOOKUP(M830,Parámetros!M$11:$P$13,MAX(Parámetros!M$7:$P$7),FALSE))","v":""},{"$f":"IF(N830=\"\",\"\",VLOOKUP(N830,Parámetros!N$11:$P$13,MAX(Parámetros!N$7:$P$7),FALSE))","v":""},{"$f":"IF(O830=\"\",\"\",VLOOKUP(O830,Parámetros!O$11:$P$13,MAX(Parámetros!O$7:$P$7),FALSE))","v":""},""]
[null,null,null,{"$f":"IF(E831=\"\",\"\",VLOOKUP(E831,'Buenas prácticas'!$G$8:$H$1007,2,FALSE))","v":""},null,null,null,null,null,null,null,null,null,null,null,{"$f":"IF(F831=\"\",\"\",VLOOKUP(F831,Parámetros!F$11:$P$13,MAX(Parámetros!F$7:$P$7),FALSE))","v":""},{"$f":"IF(G831=\"\",\"\",VLOOKUP(G831,Parámetros!G$11:$P$13,MAX(Parámetros!G$7:$P$7),FALSE))","v":""},{"$f":"IF(H831=\"\",\"\",VLOOKUP(H831,Parámetros!H$11:$P$13,MAX(Parámetros!H$7:$P$7),FALSE))","v":""},{"$f":"IF(I831=\"\",\"\",VLOOKUP(I831,Parámetros!I$11:$P$13,MAX(Parámetros!I$7:$P$7),FALSE))","v":""},{"$f":"IF(J831=\"\",\"\",VLOOKUP(J831,Parámetros!J$11:$P$13,MAX(Parámetros!J$7:$P$7),FALSE))","v":""},{"$f":"IF(K831=\"\",\"\",VLOOKUP(K831,Parámetros!K$11:$P$13,MAX(Parámetros!K$7:$P$7),FALSE))","v":""},{"$f":"IF(L831=\"\",\"\",VLOOKUP(L831,Parámetros!L$11:$P$13,MAX(Parámetros!L$7:$P$7),FALSE))","v":""},{"$f":"IF(M831=\"\",\"\",VLOOKUP(M831,Parámetros!M$11:$P$13,MAX(Parámetros!M$7:$P$7),FALSE))","v":""},{"$f":"IF(N831=\"\",\"\",VLOOKUP(N831,Parámetros!N$11:$P$13,MAX(Parámetros!N$7:$P$7),FALSE))","v":""},{"$f":"IF(O831=\"\",\"\",VLOOKUP(O831,Parámetros!O$11:$P$13,MAX(Parámetros!O$7:$P$7),FALSE))","v":""},""]
[null,null,null,{"$f":"IF(E832=\"\",\"\",VLOOKUP(E832,'Buenas prácticas'!$G$8:$H$1007,2,FALSE))","v":""},null,null,null,null,null,null,null,null,null,null,null,{"$f":"IF(F832=\"\",\"\",VLOOKUP(F832,Parámetros!F$11:$P$13,MAX(Parámetros!F$7:$P$7),FALSE))","v":""},{"$f":"IF(G832=\"\",\"\",VLOOKUP(G832,Parámetros!G$11:$P$13,MAX(Parámetros!G$7:$P$7),FALSE))","v":""},{"$f":"IF(H832=\"\",\"\",VLOOKUP(H832,Parámetros!H$11:$P$13,MAX(Parámetros!H$7:$P$7),FALSE))","v":""},{"$f":"IF(I832=\"\",\"\",VLOOKUP(I832,Parámetros!I$11:$P$13,MAX(Parámetros!I$7:$P$7),FALSE))","v":""},{"$f":"IF(J832=\"\",\"\",VLOOKUP(J832,Parámetros!J$11:$P$13,MAX(Parámetros!J$7:$P$7),FALSE))","v":""},{"$f":"IF(K832=\"\",\"\",VLOOKUP(K832,Parámetros!K$11:$P$13,MAX(Parámetros!K$7:$P$7),FALSE))","v":""},{"$f":"IF(L832=\"\",\"\",VLOOKUP(L832,Parámetros!L$11:$P$13,MAX(Parámetros!L$7:$P$7),FALSE))","v":""},{"$f":"IF(M832=\"\",\"\",VLOOKUP(M832,Parámetros!M$11:$P$13,MAX(Parámetros!M$7:$P$7),FALSE))","v":""},{"$f":"IF(N832=\"\",\"\",VLOOKUP(N832,Parámetros!N$11:$P$13,MAX(Parámetros!N$7:$P$7),FALSE))","v":""},{"$f":"IF(O832=\"\",\"\",VLOOKUP(O832,Parámetros!O$11:$P$13,MAX(Parámetros!O$7:$P$7),FALSE))","v":""},""]
[null,null,null,{"$f":"IF(E833=\"\",\"\",VLOOKUP(E833,'Buenas prácticas'!$G$8:$H$1007,2,FALSE))","v":""},null,null,null,null,null,null,null,null,null,null,null,{"$f":"IF(F833=\"\",\"\",VLOOKUP(F833,Parámetros!F$11:$P$13,MAX(Parámetros!F$7:$P$7),FALSE))","v":""},{"$f":"IF(G833=\"\",\"\",VLOOKUP(G833,Parámetros!G$11:$P$13,MAX(Parámetros!G$7:$P$7),FALSE))","v":""},{"$f":"IF(H833=\"\",\"\",VLOOKUP(H833,Parámetros!H$11:$P$13,MAX(Parámetros!H$7:$P$7),FALSE))","v":""},{"$f":"IF(I833=\"\",\"\",VLOOKUP(I833,Parámetros!I$11:$P$13,MAX(Parámetros!I$7:$P$7),FALSE))","v":""},{"$f":"IF(J833=\"\",\"\",VLOOKUP(J833,Parámetros!J$11:$P$13,MAX(Parámetros!J$7:$P$7),FALSE))","v":""},{"$f":"IF(K833=\"\",\"\",VLOOKUP(K833,Parámetros!K$11:$P$13,MAX(Parámetros!K$7:$P$7),FALSE))","v":""},{"$f":"IF(L833=\"\",\"\",VLOOKUP(L833,Parámetros!L$11:$P$13,MAX(Parámetros!L$7:$P$7),FALSE))","v":""},{"$f":"IF(M833=\"\",\"\",VLOOKUP(M833,Parámetros!M$11:$P$13,MAX(Parámetros!M$7:$P$7),FALSE))","v":""},{"$f":"IF(N833=\"\",\"\",VLOOKUP(N833,Parámetros!N$11:$P$13,MAX(Parámetros!N$7:$P$7),FALSE))","v":""},{"$f":"IF(O833=\"\",\"\",VLOOKUP(O833,Parámetros!O$11:$P$13,MAX(Parámetros!O$7:$P$7),FALSE))","v":""},""]
[null,null,null,{"$f":"IF(E834=\"\",\"\",VLOOKUP(E834,'Buenas prácticas'!$G$8:$H$1007,2,FALSE))","v":""},null,null,null,null,null,null,null,null,null,null,null,{"$f":"IF(F834=\"\",\"\",VLOOKUP(F834,Parámetros!F$11:$P$13,MAX(Parámetros!F$7:$P$7),FALSE))","v":""},{"$f":"IF(G834=\"\",\"\",VLOOKUP(G834,Parámetros!G$11:$P$13,MAX(Parámetros!G$7:$P$7),FALSE))","v":""},{"$f":"IF(H834=\"\",\"\",VLOOKUP(H834,Parámetros!H$11:$P$13,MAX(Parámetros!H$7:$P$7),FALSE))","v":""},{"$f":"IF(I834=\"\",\"\",VLOOKUP(I834,Parámetros!I$11:$P$13,MAX(Parámetros!I$7:$P$7),FALSE))","v":""},{"$f":"IF(J834=\"\",\"\",VLOOKUP(J834,Parámetros!J$11:$P$13,MAX(Parámetros!J$7:$P$7),FALSE))","v":""},{"$f":"IF(K834=\"\",\"\",VLOOKUP(K834,Parámetros!K$11:$P$13,MAX(Parámetros!K$7:$P$7),FALSE))","v":""},{"$f":"IF(L834=\"\",\"\",VLOOKUP(L834,Parámetros!L$11:$P$13,MAX(Parámetros!L$7:$P$7),FALSE))","v":""},{"$f":"IF(M834=\"\",\"\",VLOOKUP(M834,Parámetros!M$11:$P$13,MAX(Parámetros!M$7:$P$7),FALSE))","v":""},{"$f":"IF(N834=\"\",\"\",VLOOKUP(N834,Parámetros!N$11:$P$13,MAX(Parámetros!N$7:$P$7),FALSE))","v":""},{"$f":"IF(O834=\"\",\"\",VLOOKUP(O834,Parámetros!O$11:$P$13,MAX(Parámetros!O$7:$P$7),FALSE))","v":""},""]
[null,null,null,{"$f":"IF(E835=\"\",\"\",VLOOKUP(E835,'Buenas prácticas'!$G$8:$H$1007,2,FALSE))","v":""},null,null,null,null,null,null,null,null,null,null,null,{"$f":"IF(F835=\"\",\"\",VLOOKUP(F835,Parámetros!F$11:$P$13,MAX(Parámetros!F$7:$P$7),FALSE))","v":""},{"$f":"IF(G835=\"\",\"\",VLOOKUP(G835,Parámetros!G$11:$P$13,MAX(Parámetros!G$7:$P$7),FALSE))","v":""},{"$f":"IF(H835=\"\",\"\",VLOOKUP(H835,Parámetros!H$11:$P$13,MAX(Parámetros!H$7:$P$7),FALSE))","v":""},{"$f":"IF(I835=\"\",\"\",VLOOKUP(I835,Parámetros!I$11:$P$13,MAX(Parámetros!I$7:$P$7),FALSE))","v":""},{"$f":"IF(J835=\"\",\"\",VLOOKUP(J835,Parámetros!J$11:$P$13,MAX(Parámetros!J$7:$P$7),FALSE))","v":""},{"$f":"IF(K835=\"\",\"\",VLOOKUP(K835,Parámetros!K$11:$P$13,MAX(Parámetros!K$7:$P$7),FALSE))","v":""},{"$f":"IF(L835=\"\",\"\",VLOOKUP(L835,Parámetros!L$11:$P$13,MAX(Parámetros!L$7:$P$7),FALSE))","v":""},{"$f":"IF(M835=\"\",\"\",VLOOKUP(M835,Parámetros!M$11:$P$13,MAX(Parámetros!M$7:$P$7),FALSE))","v":""},{"$f":"IF(N835=\"\",\"\",VLOOKUP(N835,Parámetros!N$11:$P$13,MAX(Parámetros!N$7:$P$7),FALSE))","v":""},{"$f":"IF(O835=\"\",\"\",VLOOKUP(O835,Parámetros!O$11:$P$13,MAX(Parámetros!O$7:$P$7),FALSE))","v":""},""]
[null,null,null,{"$f":"IF(E836=\"\",\"\",VLOOKUP(E836,'Buenas prácticas'!$G$8:$H$1007,2,FALSE))","v":""},null,null,null,null,null,null,null,null,null,null,null,{"$f":"IF(F836=\"\",\"\",VLOOKUP(F836,Parámetros!F$11:$P$13,MAX(Parámetros!F$7:$P$7),FALSE))","v":""},{"$f":"IF(G836=\"\",\"\",VLOOKUP(G836,Parámetros!G$11:$P$13,MAX(Parámetros!G$7:$P$7),FALSE))","v":""},{"$f":"IF(H836=\"\",\"\",VLOOKUP(H836,Parámetros!H$11:$P$13,MAX(Parámetros!H$7:$P$7),FALSE))","v":""},{"$f":"IF(I836=\"\",\"\",VLOOKUP(I836,Parámetros!I$11:$P$13,MAX(Parámetros!I$7:$P$7),FALSE))","v":""},{"$f":"IF(J836=\"\",\"\",VLOOKUP(J836,Parámetros!J$11:$P$13,MAX(Parámetros!J$7:$P$7),FALSE))","v":""},{"$f":"IF(K836=\"\",\"\",VLOOKUP(K836,Parámetros!K$11:$P$13,MAX(Parámetros!K$7:$P$7),FALSE))","v":""},{"$f":"IF(L836=\"\",\"\",VLOOKUP(L836,Parámetros!L$11:$P$13,MAX(Parámetros!L$7:$P$7),FALSE))","v":""},{"$f":"IF(M836=\"\",\"\",VLOOKUP(M836,Parámetros!M$11:$P$13,MAX(Parámetros!M$7:$P$7),FALSE))","v":""},{"$f":"IF(N836=\"\",\"\",VLOOKUP(N836,Parámetros!N$11:$P$13,MAX(Parámetros!N$7:$P$7),FALSE))","v":""},{"$f":"IF(O836=\"\",\"\",VLOOKUP(O836,Parámetros!O$11:$P$13,MAX(Parámetros!O$7:$P$7),FALSE))","v":""},""]
[null,null,null,{"$f":"IF(E837=\"\",\"\",VLOOKUP(E837,'Buenas prácticas'!$G$8:$H$1007,2,FALSE))","v":""},null,null,null,null,null,null,null,null,null,null,null,{"$f":"IF(F837=\"\",\"\",VLOOKUP(F837,Parámetros!F$11:$P$13,MAX(Parámetros!F$7:$P$7),FALSE))","v":""},{"$f":"IF(G837=\"\",\"\",VLOOKUP(G837,Parámetros!G$11:$P$13,MAX(Parámetros!G$7:$P$7),FALSE))","v":""},{"$f":"IF(H837=\"\",\"\",VLOOKUP(H837,Parámetros!H$11:$P$13,MAX(Parámetros!H$7:$P$7),FALSE))","v":""},{"$f":"IF(I837=\"\",\"\",VLOOKUP(I837,Parámetros!I$11:$P$13,MAX(Parámetros!I$7:$P$7),FALSE))","v":""},{"$f":"IF(J837=\"\",\"\",VLOOKUP(J837,Parámetros!J$11:$P$13,MAX(Parámetros!J$7:$P$7),FALSE))","v":""},{"$f":"IF(K837=\"\",\"\",VLOOKUP(K837,Parámetros!K$11:$P$13,MAX(Parámetros!K$7:$P$7),FALSE))","v":""},{"$f":"IF(L837=\"\",\"\",VLOOKUP(L837,Parámetros!L$11:$P$13,MAX(Parámetros!L$7:$P$7),FALSE))","v":""},{"$f":"IF(M837=\"\",\"\",VLOOKUP(M837,Parámetros!M$11:$P$13,MAX(Parámetros!M$7:$P$7),FALSE))","v":""},{"$f":"IF(N837=\"\",\"\",VLOOKUP(N837,Parámetros!N$11:$P$13,MAX(Parámetros!N$7:$P$7),FALSE))","v":""},{"$f":"IF(O837=\"\",\"\",VLOOKUP(O837,Parámetros!O$11:$P$13,MAX(Parámetros!O$7:$P$7),FALSE))","v":""},""]
[null,null,null,{"$f":"IF(E838=\"\",\"\",VLOOKUP(E838,'Buenas prácticas'!$G$8:$H$1007,2,FALSE))","v":""},null,null,null,null,null,null,null,null,null,null,null,{"$f":"IF(F838=\"\",\"\",VLOOKUP(F838,Parámetros!F$11:$P$13,MAX(Parámetros!F$7:$P$7),FALSE))","v":""},{"$f":"IF(G838=\"\",\"\",VLOOKUP(G838,Parámetros!G$11:$P$13,MAX(Parámetros!G$7:$P$7),FALSE))","v":""},{"$f":"IF(H838=\"\",\"\",VLOOKUP(H838,Parámetros!H$11:$P$13,MAX(Parámetros!H$7:$P$7),FALSE))","v":""},{"$f":"IF(I838=\"\",\"\",VLOOKUP(I838,Parámetros!I$11:$P$13,MAX(Parámetros!I$7:$P$7),FALSE))","v":""},{"$f":"IF(J838=\"\",\"\",VLOOKUP(J838,Parámetros!J$11:$P$13,MAX(Parámetros!J$7:$P$7),FALSE))","v":""},{"$f":"IF(K838=\"\",\"\",VLOOKUP(K838,Parámetros!K$11:$P$13,MAX(Parámetros!K$7:$P$7),FALSE))","v":""},{"$f":"IF(L838=\"\",\"\",VLOOKUP(L838,Parámetros!L$11:$P$13,MAX(Parámetros!L$7:$P$7),FALSE))","v":""},{"$f":"IF(M838=\"\",\"\",VLOOKUP(M838,Parámetros!M$11:$P$13,MAX(Parámetros!M$7:$P$7),FALSE))","v":""},{"$f":"IF(N838=\"\",\"\",VLOOKUP(N838,Parámetros!N$11:$P$13,MAX(Parámetros!N$7:$P$7),FALSE))","v":""},{"$f":"IF(O838=\"\",\"\",VLOOKUP(O838,Parámetros!O$11:$P$13,MAX(Parámetros!O$7:$P$7),FALSE))","v":""},""]
[null,null,null,{"$f":"IF(E839=\"\",\"\",VLOOKUP(E839,'Buenas prácticas'!$G$8:$H$1007,2,FALSE))","v":""},null,null,null,null,null,null,null,null,null,null,null,{"$f":"IF(F839=\"\",\"\",VLOOKUP(F839,Parámetros!F$11:$P$13,MAX(Parámetros!F$7:$P$7),FALSE))","v":""},{"$f":"IF(G839=\"\",\"\",VLOOKUP(G839,Parámetros!G$11:$P$13,MAX(Parámetros!G$7:$P$7),FALSE))","v":""},{"$f":"IF(H839=\"\",\"\",VLOOKUP(H839,Parámetros!H$11:$P$13,MAX(Parámetros!H$7:$P$7),FALSE))","v":""},{"$f":"IF(I839=\"\",\"\",VLOOKUP(I839,Parámetros!I$11:$P$13,MAX(Parámetros!I$7:$P$7),FALSE))","v":""},{"$f":"IF(J839=\"\",\"\",VLOOKUP(J839,Parámetros!J$11:$P$13,MAX(Parámetros!J$7:$P$7),FALSE))","v":""},{"$f":"IF(K839=\"\",\"\",VLOOKUP(K839,Parámetros!K$11:$P$13,MAX(Parámetros!K$7:$P$7),FALSE))","v":""},{"$f":"IF(L839=\"\",\"\",VLOOKUP(L839,Parámetros!L$11:$P$13,MAX(Parámetros!L$7:$P$7),FALSE))","v":""},{"$f":"IF(M839=\"\",\"\",VLOOKUP(M839,Parámetros!M$11:$P$13,MAX(Parámetros!M$7:$P$7),FALSE))","v":""},{"$f":"IF(N839=\"\",\"\",VLOOKUP(N839,Parámetros!N$11:$P$13,MAX(Parámetros!N$7:$P$7),FALSE))","v":""},{"$f":"IF(O839=\"\",\"\",VLOOKUP(O839,Parámetros!O$11:$P$13,MAX(Parámetros!O$7:$P$7),FALSE))","v":""},""]
[null,null,null,{"$f":"IF(E840=\"\",\"\",VLOOKUP(E840,'Buenas prácticas'!$G$8:$H$1007,2,FALSE))","v":""},null,null,null,null,null,null,null,null,null,null,null,{"$f":"IF(F840=\"\",\"\",VLOOKUP(F840,Parámetros!F$11:$P$13,MAX(Parámetros!F$7:$P$7),FALSE))","v":""},{"$f":"IF(G840=\"\",\"\",VLOOKUP(G840,Parámetros!G$11:$P$13,MAX(Parámetros!G$7:$P$7),FALSE))","v":""},{"$f":"IF(H840=\"\",\"\",VLOOKUP(H840,Parámetros!H$11:$P$13,MAX(Parámetros!H$7:$P$7),FALSE))","v":""},{"$f":"IF(I840=\"\",\"\",VLOOKUP(I840,Parámetros!I$11:$P$13,MAX(Parámetros!I$7:$P$7),FALSE))","v":""},{"$f":"IF(J840=\"\",\"\",VLOOKUP(J840,Parámetros!J$11:$P$13,MAX(Parámetros!J$7:$P$7),FALSE))","v":""},{"$f":"IF(K840=\"\",\"\",VLOOKUP(K840,Parámetros!K$11:$P$13,MAX(Parámetros!K$7:$P$7),FALSE))","v":""},{"$f":"IF(L840=\"\",\"\",VLOOKUP(L840,Parámetros!L$11:$P$13,MAX(Parámetros!L$7:$P$7),FALSE))","v":""},{"$f":"IF(M840=\"\",\"\",VLOOKUP(M840,Parámetros!M$11:$P$13,MAX(Parámetros!M$7:$P$7),FALSE))","v":""},{"$f":"IF(N840=\"\",\"\",VLOOKUP(N840,Parámetros!N$11:$P$13,MAX(Parámetros!N$7:$P$7),FALSE))","v":""},{"$f":"IF(O840=\"\",\"\",VLOOKUP(O840,Parámetros!O$11:$P$13,MAX(Parámetros!O$7:$P$7),FALSE))","v":""},""]
[null,null,null,{"$f":"IF(E841=\"\",\"\",VLOOKUP(E841,'Buenas prácticas'!$G$8:$H$1007,2,FALSE))","v":""},null,null,null,null,null,null,null,null,null,null,null,{"$f":"IF(F841=\"\",\"\",VLOOKUP(F841,Parámetros!F$11:$P$13,MAX(Parámetros!F$7:$P$7),FALSE))","v":""},{"$f":"IF(G841=\"\",\"\",VLOOKUP(G841,Parámetros!G$11:$P$13,MAX(Parámetros!G$7:$P$7),FALSE))","v":""},{"$f":"IF(H841=\"\",\"\",VLOOKUP(H841,Parámetros!H$11:$P$13,MAX(Parámetros!H$7:$P$7),FALSE))","v":""},{"$f":"IF(I841=\"\",\"\",VLOOKUP(I841,Parámetros!I$11:$P$13,MAX(Parámetros!I$7:$P$7),FALSE))","v":""},{"$f":"IF(J841=\"\",\"\",VLOOKUP(J841,Parámetros!J$11:$P$13,MAX(Parámetros!J$7:$P$7),FALSE))","v":""},{"$f":"IF(K841=\"\",\"\",VLOOKUP(K841,Parámetros!K$11:$P$13,MAX(Parámetros!K$7:$P$7),FALSE))","v":""},{"$f":"IF(L841=\"\",\"\",VLOOKUP(L841,Parámetros!L$11:$P$13,MAX(Parámetros!L$7:$P$7),FALSE))","v":""},{"$f":"IF(M841=\"\",\"\",VLOOKUP(M841,Parámetros!M$11:$P$13,MAX(Parámetros!M$7:$P$7),FALSE))","v":""},{"$f":"IF(N841=\"\",\"\",VLOOKUP(N841,Parámetros!N$11:$P$13,MAX(Parámetros!N$7:$P$7),FALSE))","v":""},{"$f":"IF(O841=\"\",\"\",VLOOKUP(O841,Parámetros!O$11:$P$13,MAX(Parámetros!O$7:$P$7),FALSE))","v":""},{"$f":"IF(SUMPRODUCT($P841:$Y841,$P$6:$Y$6)=0,\"\",SUMPRODUCT($P841:$Y841,$P$6:$Y$6)/3)","v":""}]
[null,null,null,{"$f":"IF(E842=\"\",\"\",VLOOKUP(E842,'Buenas prácticas'!$G$8:$H$1007,2,FALSE))","v":""},null,null,null,null,null,null,null,null,null,null,null,{"$f":"IF(F842=\"\",\"\",VLOOKUP(F842,Parámetros!F$11:$P$13,MAX(Parámetros!F$7:$P$7),FALSE))","v":""},{"$f":"IF(G842=\"\",\"\",VLOOKUP(G842,Parámetros!G$11:$P$13,MAX(Parámetros!G$7:$P$7),FALSE))","v":""},{"$f":"IF(H842=\"\",\"\",VLOOKUP(H842,Parámetros!H$11:$P$13,MAX(Parámetros!H$7:$P$7),FALSE))","v":""},{"$f":"IF(I842=\"\",\"\",VLOOKUP(I842,Parámetros!I$11:$P$13,MAX(Parámetros!I$7:$P$7),FALSE))","v":""},{"$f":"IF(J842=\"\",\"\",VLOOKUP(J842,Parámetros!J$11:$P$13,MAX(Parámetros!J$7:$P$7),FALSE))","v":""},{"$f":"IF(K842=\"\",\"\",VLOOKUP(K842,Parámetros!K$11:$P$13,MAX(Parámetros!K$7:$P$7),FALSE))","v":""},{"$f":"IF(L842=\"\",\"\",VLOOKUP(L842,Parámetros!L$11:$P$13,MAX(Parámetros!L$7:$P$7),FALSE))","v":""},{"$f":"IF(M842=\"\",\"\",VLOOKUP(M842,Parámetros!M$11:$P$13,MAX(Parámetros!M$7:$P$7),FALSE))","v":""},{"$f":"IF(N842=\"\",\"\",VLOOKUP(N842,Parámetros!N$11:$P$13,MAX(Parámetros!N$7:$P$7),FALSE))","v":""},{"$f":"IF(O842=\"\",\"\",VLOOKUP(O842,Parámetros!O$11:$P$13,MAX(Parámetros!O$7:$P$7),FALSE))","v":""},""]
[null,null,null,{"$f":"IF(E843=\"\",\"\",VLOOKUP(E843,'Buenas prácticas'!$G$8:$H$1007,2,FALSE))","v":""},null,null,null,null,null,null,null,null,null,null,null,{"$f":"IF(F843=\"\",\"\",VLOOKUP(F843,Parámetros!F$11:$P$13,MAX(Parámetros!F$7:$P$7),FALSE))","v":""},{"$f":"IF(G843=\"\",\"\",VLOOKUP(G843,Parámetros!G$11:$P$13,MAX(Parámetros!G$7:$P$7),FALSE))","v":""},{"$f":"IF(H843=\"\",\"\",VLOOKUP(H843,Parámetros!H$11:$P$13,MAX(Parámetros!H$7:$P$7),FALSE))","v":""},{"$f":"IF(I843=\"\",\"\",VLOOKUP(I843,Parámetros!I$11:$P$13,MAX(Parámetros!I$7:$P$7),FALSE))","v":""},{"$f":"IF(J843=\"\",\"\",VLOOKUP(J843,Parámetros!J$11:$P$13,MAX(Parámetros!J$7:$P$7),FALSE))","v":""},{"$f":"IF(K843=\"\",\"\",VLOOKUP(K843,Parámetros!K$11:$P$13,MAX(Parámetros!K$7:$P$7),FALSE))","v":""},{"$f":"IF(L843=\"\",\"\",VLOOKUP(L843,Parámetros!L$11:$P$13,MAX(Parámetros!L$7:$P$7),FALSE))","v":""},{"$f":"IF(M843=\"\",\"\",VLOOKUP(M843,Parámetros!M$11:$P$13,MAX(Parámetros!M$7:$P$7),FALSE))","v":""},{"$f":"IF(N843=\"\",\"\",VLOOKUP(N843,Parámetros!N$11:$P$13,MAX(Parámetros!N$7:$P$7),FALSE))","v":""},{"$f":"IF(O843=\"\",\"\",VLOOKUP(O843,Parámetros!O$11:$P$13,MAX(Parámetros!O$7:$P$7),FALSE))","v":""},""]
[null,null,null,{"$f":"IF(E844=\"\",\"\",VLOOKUP(E844,'Buenas prácticas'!$G$8:$H$1007,2,FALSE))","v":""},null,null,null,null,null,null,null,null,null,null,null,{"$f":"IF(F844=\"\",\"\",VLOOKUP(F844,Parámetros!F$11:$P$13,MAX(Parámetros!F$7:$P$7),FALSE))","v":""},{"$f":"IF(G844=\"\",\"\",VLOOKUP(G844,Parámetros!G$11:$P$13,MAX(Parámetros!G$7:$P$7),FALSE))","v":""},{"$f":"IF(H844=\"\",\"\",VLOOKUP(H844,Parámetros!H$11:$P$13,MAX(Parámetros!H$7:$P$7),FALSE))","v":""},{"$f":"IF(I844=\"\",\"\",VLOOKUP(I844,Parámetros!I$11:$P$13,MAX(Parámetros!I$7:$P$7),FALSE))","v":""},{"$f":"IF(J844=\"\",\"\",VLOOKUP(J844,Parámetros!J$11:$P$13,MAX(Parámetros!J$7:$P$7),FALSE))","v":""},{"$f":"IF(K844=\"\",\"\",VLOOKUP(K844,Parámetros!K$11:$P$13,MAX(Parámetros!K$7:$P$7),FALSE))","v":""},{"$f":"IF(L844=\"\",\"\",VLOOKUP(L844,Parámetros!L$11:$P$13,MAX(Parámetros!L$7:$P$7),FALSE))","v":""},{"$f":"IF(M844=\"\",\"\",VLOOKUP(M844,Parámetros!M$11:$P$13,MAX(Parámetros!M$7:$P$7),FALSE))","v":""},{"$f":"IF(N844=\"\",\"\",VLOOKUP(N844,Parámetros!N$11:$P$13,MAX(Parámetros!N$7:$P$7),FALSE))","v":""},{"$f":"IF(O844=\"\",\"\",VLOOKUP(O844,Parámetros!O$11:$P$13,MAX(Parámetros!O$7:$P$7),FALSE))","v":""},""]
[null,null,null,{"$f":"IF(E845=\"\",\"\",VLOOKUP(E845,'Buenas prácticas'!$G$8:$H$1007,2,FALSE))","v":""},null,null,null,null,null,null,null,null,null,null,null,{"$f":"IF(F845=\"\",\"\",VLOOKUP(F845,Parámetros!F$11:$P$13,MAX(Parámetros!F$7:$P$7),FALSE))","v":""},{"$f":"IF(G845=\"\",\"\",VLOOKUP(G845,Parámetros!G$11:$P$13,MAX(Parámetros!G$7:$P$7),FALSE))","v":""},{"$f":"IF(H845=\"\",\"\",VLOOKUP(H845,Parámetros!H$11:$P$13,MAX(Parámetros!H$7:$P$7),FALSE))","v":""},{"$f":"IF(I845=\"\",\"\",VLOOKUP(I845,Parámetros!I$11:$P$13,MAX(Parámetros!I$7:$P$7),FALSE))","v":""},{"$f":"IF(J845=\"\",\"\",VLOOKUP(J845,Parámetros!J$11:$P$13,MAX(Parámetros!J$7:$P$7),FALSE))","v":""},{"$f":"IF(K845=\"\",\"\",VLOOKUP(K845,Parámetros!K$11:$P$13,MAX(Parámetros!K$7:$P$7),FALSE))","v":""},{"$f":"IF(L845=\"\",\"\",VLOOKUP(L845,Parámetros!L$11:$P$13,MAX(Parámetros!L$7:$P$7),FALSE))","v":""},{"$f":"IF(M845=\"\",\"\",VLOOKUP(M845,Parámetros!M$11:$P$13,MAX(Parámetros!M$7:$P$7),FALSE))","v":""},{"$f":"IF(N845=\"\",\"\",VLOOKUP(N845,Parámetros!N$11:$P$13,MAX(Parámetros!N$7:$P$7),FALSE))","v":""},{"$f":"IF(O845=\"\",\"\",VLOOKUP(O845,Parámetros!O$11:$P$13,MAX(Parámetros!O$7:$P$7),FALSE))","v":""},""]
[null,null,null,{"$f":"IF(E846=\"\",\"\",VLOOKUP(E846,'Buenas prácticas'!$G$8:$H$1007,2,FALSE))","v":""},null,null,null,null,null,null,null,null,null,null,null,{"$f":"IF(F846=\"\",\"\",VLOOKUP(F846,Parámetros!F$11:$P$13,MAX(Parámetros!F$7:$P$7),FALSE))","v":""},{"$f":"IF(G846=\"\",\"\",VLOOKUP(G846,Parámetros!G$11:$P$13,MAX(Parámetros!G$7:$P$7),FALSE))","v":""},{"$f":"IF(H846=\"\",\"\",VLOOKUP(H846,Parámetros!H$11:$P$13,MAX(Parámetros!H$7:$P$7),FALSE))","v":""},{"$f":"IF(I846=\"\",\"\",VLOOKUP(I846,Parámetros!I$11:$P$13,MAX(Parámetros!I$7:$P$7),FALSE))","v":""},{"$f":"IF(J846=\"\",\"\",VLOOKUP(J846,Parámetros!J$11:$P$13,MAX(Parámetros!J$7:$P$7),FALSE))","v":""},{"$f":"IF(K846=\"\",\"\",VLOOKUP(K846,Parámetros!K$11:$P$13,MAX(Parámetros!K$7:$P$7),FALSE))","v":""},{"$f":"IF(L846=\"\",\"\",VLOOKUP(L846,Parámetros!L$11:$P$13,MAX(Parámetros!L$7:$P$7),FALSE))","v":""},{"$f":"IF(M846=\"\",\"\",VLOOKUP(M846,Parámetros!M$11:$P$13,MAX(Parámetros!M$7:$P$7),FALSE))","v":""},{"$f":"IF(N846=\"\",\"\",VLOOKUP(N846,Parámetros!N$11:$P$13,MAX(Parámetros!N$7:$P$7),FALSE))","v":""},{"$f":"IF(O846=\"\",\"\",VLOOKUP(O846,Parámetros!O$11:$P$13,MAX(Parámetros!O$7:$P$7),FALSE))","v":""},""]
[null,null,null,{"$f":"IF(E847=\"\",\"\",VLOOKUP(E847,'Buenas prácticas'!$G$8:$H$1007,2,FALSE))","v":""},null,null,null,null,null,null,null,null,null,null,null,{"$f":"IF(F847=\"\",\"\",VLOOKUP(F847,Parámetros!F$11:$P$13,MAX(Parámetros!F$7:$P$7),FALSE))","v":""},{"$f":"IF(G847=\"\",\"\",VLOOKUP(G847,Parámetros!G$11:$P$13,MAX(Parámetros!G$7:$P$7),FALSE))","v":""},{"$f":"IF(H847=\"\",\"\",VLOOKUP(H847,Parámetros!H$11:$P$13,MAX(Parámetros!H$7:$P$7),FALSE))","v":""},{"$f":"IF(I847=\"\",\"\",VLOOKUP(I847,Parámetros!I$11:$P$13,MAX(Parámetros!I$7:$P$7),FALSE))","v":""},{"$f":"IF(J847=\"\",\"\",VLOOKUP(J847,Parámetros!J$11:$P$13,MAX(Parámetros!J$7:$P$7),FALSE))","v":""},{"$f":"IF(K847=\"\",\"\",VLOOKUP(K847,Parámetros!K$11:$P$13,MAX(Parámetros!K$7:$P$7),FALSE))","v":""},{"$f":"IF(L847=\"\",\"\",VLOOKUP(L847,Parámetros!L$11:$P$13,MAX(Parámetros!L$7:$P$7),FALSE))","v":""},{"$f":"IF(M847=\"\",\"\",VLOOKUP(M847,Parámetros!M$11:$P$13,MAX(Parámetros!M$7:$P$7),FALSE))","v":""},{"$f":"IF(N847=\"\",\"\",VLOOKUP(N847,Parámetros!N$11:$P$13,MAX(Parámetros!N$7:$P$7),FALSE))","v":""},{"$f":"IF(O847=\"\",\"\",VLOOKUP(O847,Parámetros!O$11:$P$13,MAX(Parámetros!O$7:$P$7),FALSE))","v":""},""]
[null,null,null,{"$f":"IF(E848=\"\",\"\",VLOOKUP(E848,'Buenas prácticas'!$G$8:$H$1007,2,FALSE))","v":""},null,null,null,null,null,null,null,null,null,null,null,{"$f":"IF(F848=\"\",\"\",VLOOKUP(F848,Parámetros!F$11:$P$13,MAX(Parámetros!F$7:$P$7),FALSE))","v":""},{"$f":"IF(G848=\"\",\"\",VLOOKUP(G848,Parámetros!G$11:$P$13,MAX(Parámetros!G$7:$P$7),FALSE))","v":""},{"$f":"IF(H848=\"\",\"\",VLOOKUP(H848,Parámetros!H$11:$P$13,MAX(Parámetros!H$7:$P$7),FALSE))","v":""},{"$f":"IF(I848=\"\",\"\",VLOOKUP(I848,Parámetros!I$11:$P$13,MAX(Parámetros!I$7:$P$7),FALSE))","v":""},{"$f":"IF(J848=\"\",\"\",VLOOKUP(J848,Parámetros!J$11:$P$13,MAX(Parámetros!J$7:$P$7),FALSE))","v":""},{"$f":"IF(K848=\"\",\"\",VLOOKUP(K848,Parámetros!K$11:$P$13,MAX(Parámetros!K$7:$P$7),FALSE))","v":""},{"$f":"IF(L848=\"\",\"\",VLOOKUP(L848,Parámetros!L$11:$P$13,MAX(Parámetros!L$7:$P$7),FALSE))","v":""},{"$f":"IF(M848=\"\",\"\",VLOOKUP(M848,Parámetros!M$11:$P$13,MAX(Parámetros!M$7:$P$7),FALSE))","v":""},{"$f":"IF(N848=\"\",\"\",VLOOKUP(N848,Parámetros!N$11:$P$13,MAX(Parámetros!N$7:$P$7),FALSE))","v":""},{"$f":"IF(O848=\"\",\"\",VLOOKUP(O848,Parámetros!O$11:$P$13,MAX(Parámetros!O$7:$P$7),FALSE))","v":""},""]
[null,null,null,{"$f":"IF(E849=\"\",\"\",VLOOKUP(E849,'Buenas prácticas'!$G$8:$H$1007,2,FALSE))","v":""},null,null,null,null,null,null,null,null,null,null,null,{"$f":"IF(F849=\"\",\"\",VLOOKUP(F849,Parámetros!F$11:$P$13,MAX(Parámetros!F$7:$P$7),FALSE))","v":""},{"$f":"IF(G849=\"\",\"\",VLOOKUP(G849,Parámetros!G$11:$P$13,MAX(Parámetros!G$7:$P$7),FALSE))","v":""},{"$f":"IF(H849=\"\",\"\",VLOOKUP(H849,Parámetros!H$11:$P$13,MAX(Parámetros!H$7:$P$7),FALSE))","v":""},{"$f":"IF(I849=\"\",\"\",VLOOKUP(I849,Parámetros!I$11:$P$13,MAX(Parámetros!I$7:$P$7),FALSE))","v":""},{"$f":"IF(J849=\"\",\"\",VLOOKUP(J849,Parámetros!J$11:$P$13,MAX(Parámetros!J$7:$P$7),FALSE))","v":""},{"$f":"IF(K849=\"\",\"\",VLOOKUP(K849,Parámetros!K$11:$P$13,MAX(Parámetros!K$7:$P$7),FALSE))","v":""},{"$f":"IF(L849=\"\",\"\",VLOOKUP(L849,Parámetros!L$11:$P$13,MAX(Parámetros!L$7:$P$7),FALSE))","v":""},{"$f":"IF(M849=\"\",\"\",VLOOKUP(M849,Parámetros!M$11:$P$13,MAX(Parámetros!M$7:$P$7),FALSE))","v":""},{"$f":"IF(N849=\"\",\"\",VLOOKUP(N849,Parámetros!N$11:$P$13,MAX(Parámetros!N$7:$P$7),FALSE))","v":""},{"$f":"IF(O849=\"\",\"\",VLOOKUP(O849,Parámetros!O$11:$P$13,MAX(Parámetros!O$7:$P$7),FALSE))","v":""},""]
[null,null,null,{"$f":"IF(E850=\"\",\"\",VLOOKUP(E850,'Buenas prácticas'!$G$8:$H$1007,2,FALSE))","v":""},null,null,null,null,null,null,null,null,null,null,null,{"$f":"IF(F850=\"\",\"\",VLOOKUP(F850,Parámetros!F$11:$P$13,MAX(Parámetros!F$7:$P$7),FALSE))","v":""},{"$f":"IF(G850=\"\",\"\",VLOOKUP(G850,Parámetros!G$11:$P$13,MAX(Parámetros!G$7:$P$7),FALSE))","v":""},{"$f":"IF(H850=\"\",\"\",VLOOKUP(H850,Parámetros!H$11:$P$13,MAX(Parámetros!H$7:$P$7),FALSE))","v":""},{"$f":"IF(I850=\"\",\"\",VLOOKUP(I850,Parámetros!I$11:$P$13,MAX(Parámetros!I$7:$P$7),FALSE))","v":""},{"$f":"IF(J850=\"\",\"\",VLOOKUP(J850,Parámetros!J$11:$P$13,MAX(Parámetros!J$7:$P$7),FALSE))","v":""},{"$f":"IF(K850=\"\",\"\",VLOOKUP(K850,Parámetros!K$11:$P$13,MAX(Parámetros!K$7:$P$7),FALSE))","v":""},{"$f":"IF(L850=\"\",\"\",VLOOKUP(L850,Parámetros!L$11:$P$13,MAX(Parámetros!L$7:$P$7),FALSE))","v":""},{"$f":"IF(M850=\"\",\"\",VLOOKUP(M850,Parámetros!M$11:$P$13,MAX(Parámetros!M$7:$P$7),FALSE))","v":""},{"$f":"IF(N850=\"\",\"\",VLOOKUP(N850,Parámetros!N$11:$P$13,MAX(Parámetros!N$7:$P$7),FALSE))","v":""},{"$f":"IF(O850=\"\",\"\",VLOOKUP(O850,Parámetros!O$11:$P$13,MAX(Parámetros!O$7:$P$7),FALSE))","v":""},""]
[null,null,null,{"$f":"IF(E851=\"\",\"\",VLOOKUP(E851,'Buenas prácticas'!$G$8:$H$1007,2,FALSE))","v":""},null,null,null,null,null,null,null,null,null,null,null,{"$f":"IF(F851=\"\",\"\",VLOOKUP(F851,Parámetros!F$11:$P$13,MAX(Parámetros!F$7:$P$7),FALSE))","v":""},{"$f":"IF(G851=\"\",\"\",VLOOKUP(G851,Parámetros!G$11:$P$13,MAX(Parámetros!G$7:$P$7),FALSE))","v":""},{"$f":"IF(H851=\"\",\"\",VLOOKUP(H851,Parámetros!H$11:$P$13,MAX(Parámetros!H$7:$P$7),FALSE))","v":""},{"$f":"IF(I851=\"\",\"\",VLOOKUP(I851,Parámetros!I$11:$P$13,MAX(Parámetros!I$7:$P$7),FALSE))","v":""},{"$f":"IF(J851=\"\",\"\",VLOOKUP(J851,Parámetros!J$11:$P$13,MAX(Parámetros!J$7:$P$7),FALSE))","v":""},{"$f":"IF(K851=\"\",\"\",VLOOKUP(K851,Parámetros!K$11:$P$13,MAX(Parámetros!K$7:$P$7),FALSE))","v":""},{"$f":"IF(L851=\"\",\"\",VLOOKUP(L851,Parámetros!L$11:$P$13,MAX(Parámetros!L$7:$P$7),FALSE))","v":""},{"$f":"IF(M851=\"\",\"\",VLOOKUP(M851,Parámetros!M$11:$P$13,MAX(Parámetros!M$7:$P$7),FALSE))","v":""},{"$f":"IF(N851=\"\",\"\",VLOOKUP(N851,Parámetros!N$11:$P$13,MAX(Parámetros!N$7:$P$7),FALSE))","v":""},{"$f":"IF(O851=\"\",\"\",VLOOKUP(O851,Parámetros!O$11:$P$13,MAX(Parámetros!O$7:$P$7),FALSE))","v":""},""]
[null,null,null,{"$f":"IF(E852=\"\",\"\",VLOOKUP(E852,'Buenas prácticas'!$G$8:$H$1007,2,FALSE))","v":""},null,null,null,null,null,null,null,null,null,null,null,{"$f":"IF(F852=\"\",\"\",VLOOKUP(F852,Parámetros!F$11:$P$13,MAX(Parámetros!F$7:$P$7),FALSE))","v":""},{"$f":"IF(G852=\"\",\"\",VLOOKUP(G852,Parámetros!G$11:$P$13,MAX(Parámetros!G$7:$P$7),FALSE))","v":""},{"$f":"IF(H852=\"\",\"\",VLOOKUP(H852,Parámetros!H$11:$P$13,MAX(Parámetros!H$7:$P$7),FALSE))","v":""},{"$f":"IF(I852=\"\",\"\",VLOOKUP(I852,Parámetros!I$11:$P$13,MAX(Parámetros!I$7:$P$7),FALSE))","v":""},{"$f":"IF(J852=\"\",\"\",VLOOKUP(J852,Parámetros!J$11:$P$13,MAX(Parámetros!J$7:$P$7),FALSE))","v":""},{"$f":"IF(K852=\"\",\"\",VLOOKUP(K852,Parámetros!K$11:$P$13,MAX(Parámetros!K$7:$P$7),FALSE))","v":""},{"$f":"IF(L852=\"\",\"\",VLOOKUP(L852,Parámetros!L$11:$P$13,MAX(Parámetros!L$7:$P$7),FALSE))","v":""},{"$f":"IF(M852=\"\",\"\",VLOOKUP(M852,Parámetros!M$11:$P$13,MAX(Parámetros!M$7:$P$7),FALSE))","v":""},{"$f":"IF(N852=\"\",\"\",VLOOKUP(N852,Parámetros!N$11:$P$13,MAX(Parámetros!N$7:$P$7),FALSE))","v":""},{"$f":"IF(O852=\"\",\"\",VLOOKUP(O852,Parámetros!O$11:$P$13,MAX(Parámetros!O$7:$P$7),FALSE))","v":""},""]
[null,null,null,{"$f":"IF(E853=\"\",\"\",VLOOKUP(E853,'Buenas prácticas'!$G$8:$H$1007,2,FALSE))","v":""},null,null,null,null,null,null,null,null,null,null,null,{"$f":"IF(F853=\"\",\"\",VLOOKUP(F853,Parámetros!F$11:$P$13,MAX(Parámetros!F$7:$P$7),FALSE))","v":""},{"$f":"IF(G853=\"\",\"\",VLOOKUP(G853,Parámetros!G$11:$P$13,MAX(Parámetros!G$7:$P$7),FALSE))","v":""},{"$f":"IF(H853=\"\",\"\",VLOOKUP(H853,Parámetros!H$11:$P$13,MAX(Parámetros!H$7:$P$7),FALSE))","v":""},{"$f":"IF(I853=\"\",\"\",VLOOKUP(I853,Parámetros!I$11:$P$13,MAX(Parámetros!I$7:$P$7),FALSE))","v":""},{"$f":"IF(J853=\"\",\"\",VLOOKUP(J853,Parámetros!J$11:$P$13,MAX(Parámetros!J$7:$P$7),FALSE))","v":""},{"$f":"IF(K853=\"\",\"\",VLOOKUP(K853,Parámetros!K$11:$P$13,MAX(Parámetros!K$7:$P$7),FALSE))","v":""},{"$f":"IF(L853=\"\",\"\",VLOOKUP(L853,Parámetros!L$11:$P$13,MAX(Parámetros!L$7:$P$7),FALSE))","v":""},{"$f":"IF(M853=\"\",\"\",VLOOKUP(M853,Parámetros!M$11:$P$13,MAX(Parámetros!M$7:$P$7),FALSE))","v":""},{"$f":"IF(N853=\"\",\"\",VLOOKUP(N853,Parámetros!N$11:$P$13,MAX(Parámetros!N$7:$P$7),FALSE))","v":""},{"$f":"IF(O853=\"\",\"\",VLOOKUP(O853,Parámetros!O$11:$P$13,MAX(Parámetros!O$7:$P$7),FALSE))","v":""},""]
[null,null,null,{"$f":"IF(E854=\"\",\"\",VLOOKUP(E854,'Buenas prácticas'!$G$8:$H$1007,2,FALSE))","v":""},null,null,null,null,null,null,null,null,null,null,null,{"$f":"IF(F854=\"\",\"\",VLOOKUP(F854,Parámetros!F$11:$P$13,MAX(Parámetros!F$7:$P$7),FALSE))","v":""},{"$f":"IF(G854=\"\",\"\",VLOOKUP(G854,Parámetros!G$11:$P$13,MAX(Parámetros!G$7:$P$7),FALSE))","v":""},{"$f":"IF(H854=\"\",\"\",VLOOKUP(H854,Parámetros!H$11:$P$13,MAX(Parámetros!H$7:$P$7),FALSE))","v":""},{"$f":"IF(I854=\"\",\"\",VLOOKUP(I854,Parámetros!I$11:$P$13,MAX(Parámetros!I$7:$P$7),FALSE))","v":""},{"$f":"IF(J854=\"\",\"\",VLOOKUP(J854,Parámetros!J$11:$P$13,MAX(Parámetros!J$7:$P$7),FALSE))","v":""},{"$f":"IF(K854=\"\",\"\",VLOOKUP(K854,Parámetros!K$11:$P$13,MAX(Parámetros!K$7:$P$7),FALSE))","v":""},{"$f":"IF(L854=\"\",\"\",VLOOKUP(L854,Parámetros!L$11:$P$13,MAX(Parámetros!L$7:$P$7),FALSE))","v":""},{"$f":"IF(M854=\"\",\"\",VLOOKUP(M854,Parámetros!M$11:$P$13,MAX(Parámetros!M$7:$P$7),FALSE))","v":""},{"$f":"IF(N854=\"\",\"\",VLOOKUP(N854,Parámetros!N$11:$P$13,MAX(Parámetros!N$7:$P$7),FALSE))","v":""},{"$f":"IF(O854=\"\",\"\",VLOOKUP(O854,Parámetros!O$11:$P$13,MAX(Parámetros!O$7:$P$7),FALSE))","v":""},""]
[null,null,null,{"$f":"IF(E855=\"\",\"\",VLOOKUP(E855,'Buenas prácticas'!$G$8:$H$1007,2,FALSE))","v":""},null,null,null,null,null,null,null,null,null,null,null,{"$f":"IF(F855=\"\",\"\",VLOOKUP(F855,Parámetros!F$11:$P$13,MAX(Parámetros!F$7:$P$7),FALSE))","v":""},{"$f":"IF(G855=\"\",\"\",VLOOKUP(G855,Parámetros!G$11:$P$13,MAX(Parámetros!G$7:$P$7),FALSE))","v":""},{"$f":"IF(H855=\"\",\"\",VLOOKUP(H855,Parámetros!H$11:$P$13,MAX(Parámetros!H$7:$P$7),FALSE))","v":""},{"$f":"IF(I855=\"\",\"\",VLOOKUP(I855,Parámetros!I$11:$P$13,MAX(Parámetros!I$7:$P$7),FALSE))","v":""},{"$f":"IF(J855=\"\",\"\",VLOOKUP(J855,Parámetros!J$11:$P$13,MAX(Parámetros!J$7:$P$7),FALSE))","v":""},{"$f":"IF(K855=\"\",\"\",VLOOKUP(K855,Parámetros!K$11:$P$13,MAX(Parámetros!K$7:$P$7),FALSE))","v":""},{"$f":"IF(L855=\"\",\"\",VLOOKUP(L855,Parámetros!L$11:$P$13,MAX(Parámetros!L$7:$P$7),FALSE))","v":""},{"$f":"IF(M855=\"\",\"\",VLOOKUP(M855,Parámetros!M$11:$P$13,MAX(Parámetros!M$7:$P$7),FALSE))","v":""},{"$f":"IF(N855=\"\",\"\",VLOOKUP(N855,Parámetros!N$11:$P$13,MAX(Parámetros!N$7:$P$7),FALSE))","v":""},{"$f":"IF(O855=\"\",\"\",VLOOKUP(O855,Parámetros!O$11:$P$13,MAX(Parámetros!O$7:$P$7),FALSE))","v":""},""]
[null,null,null,{"$f":"IF(E856=\"\",\"\",VLOOKUP(E856,'Buenas prácticas'!$G$8:$H$1007,2,FALSE))","v":""},null,null,null,null,null,null,null,null,null,null,null,{"$f":"IF(F856=\"\",\"\",VLOOKUP(F856,Parámetros!F$11:$P$13,MAX(Parámetros!F$7:$P$7),FALSE))","v":""},{"$f":"IF(G856=\"\",\"\",VLOOKUP(G856,Parámetros!G$11:$P$13,MAX(Parámetros!G$7:$P$7),FALSE))","v":""},{"$f":"IF(H856=\"\",\"\",VLOOKUP(H856,Parámetros!H$11:$P$13,MAX(Parámetros!H$7:$P$7),FALSE))","v":""},{"$f":"IF(I856=\"\",\"\",VLOOKUP(I856,Parámetros!I$11:$P$13,MAX(Parámetros!I$7:$P$7),FALSE))","v":""},{"$f":"IF(J856=\"\",\"\",VLOOKUP(J856,Parámetros!J$11:$P$13,MAX(Parámetros!J$7:$P$7),FALSE))","v":""},{"$f":"IF(K856=\"\",\"\",VLOOKUP(K856,Parámetros!K$11:$P$13,MAX(Parámetros!K$7:$P$7),FALSE))","v":""},{"$f":"IF(L856=\"\",\"\",VLOOKUP(L856,Parámetros!L$11:$P$13,MAX(Parámetros!L$7:$P$7),FALSE))","v":""},{"$f":"IF(M856=\"\",\"\",VLOOKUP(M856,Parámetros!M$11:$P$13,MAX(Parámetros!M$7:$P$7),FALSE))","v":""},{"$f":"IF(N856=\"\",\"\",VLOOKUP(N856,Parámetros!N$11:$P$13,MAX(Parámetros!N$7:$P$7),FALSE))","v":""},{"$f":"IF(O856=\"\",\"\",VLOOKUP(O856,Parámetros!O$11:$P$13,MAX(Parámetros!O$7:$P$7),FALSE))","v":""},""]
[null,null,null,{"$f":"IF(E857=\"\",\"\",VLOOKUP(E857,'Buenas prácticas'!$G$8:$H$1007,2,FALSE))","v":""},null,null,null,null,null,null,null,null,null,null,null,{"$f":"IF(F857=\"\",\"\",VLOOKUP(F857,Parámetros!F$11:$P$13,MAX(Parámetros!F$7:$P$7),FALSE))","v":""},{"$f":"IF(G857=\"\",\"\",VLOOKUP(G857,Parámetros!G$11:$P$13,MAX(Parámetros!G$7:$P$7),FALSE))","v":""},{"$f":"IF(H857=\"\",\"\",VLOOKUP(H857,Parámetros!H$11:$P$13,MAX(Parámetros!H$7:$P$7),FALSE))","v":""},{"$f":"IF(I857=\"\",\"\",VLOOKUP(I857,Parámetros!I$11:$P$13,MAX(Parámetros!I$7:$P$7),FALSE))","v":""},{"$f":"IF(J857=\"\",\"\",VLOOKUP(J857,Parámetros!J$11:$P$13,MAX(Parámetros!J$7:$P$7),FALSE))","v":""},{"$f":"IF(K857=\"\",\"\",VLOOKUP(K857,Parámetros!K$11:$P$13,MAX(Parámetros!K$7:$P$7),FALSE))","v":""},{"$f":"IF(L857=\"\",\"\",VLOOKUP(L857,Parámetros!L$11:$P$13,MAX(Parámetros!L$7:$P$7),FALSE))","v":""},{"$f":"IF(M857=\"\",\"\",VLOOKUP(M857,Parámetros!M$11:$P$13,MAX(Parámetros!M$7:$P$7),FALSE))","v":""},{"$f":"IF(N857=\"\",\"\",VLOOKUP(N857,Parámetros!N$11:$P$13,MAX(Parámetros!N$7:$P$7),FALSE))","v":""},{"$f":"IF(O857=\"\",\"\",VLOOKUP(O857,Parámetros!O$11:$P$13,MAX(Parámetros!O$7:$P$7),FALSE))","v":""},""]
[null,null,null,{"$f":"IF(E858=\"\",\"\",VLOOKUP(E858,'Buenas prácticas'!$G$8:$H$1007,2,FALSE))","v":""},null,null,null,null,null,null,null,null,null,null,null,{"$f":"IF(F858=\"\",\"\",VLOOKUP(F858,Parámetros!F$11:$P$13,MAX(Parámetros!F$7:$P$7),FALSE))","v":""},{"$f":"IF(G858=\"\",\"\",VLOOKUP(G858,Parámetros!G$11:$P$13,MAX(Parámetros!G$7:$P$7),FALSE))","v":""},{"$f":"IF(H858=\"\",\"\",VLOOKUP(H858,Parámetros!H$11:$P$13,MAX(Parámetros!H$7:$P$7),FALSE))","v":""},{"$f":"IF(I858=\"\",\"\",VLOOKUP(I858,Parámetros!I$11:$P$13,MAX(Parámetros!I$7:$P$7),FALSE))","v":""},{"$f":"IF(J858=\"\",\"\",VLOOKUP(J858,Parámetros!J$11:$P$13,MAX(Parámetros!J$7:$P$7),FALSE))","v":""},{"$f":"IF(K858=\"\",\"\",VLOOKUP(K858,Parámetros!K$11:$P$13,MAX(Parámetros!K$7:$P$7),FALSE))","v":""},{"$f":"IF(L858=\"\",\"\",VLOOKUP(L858,Parámetros!L$11:$P$13,MAX(Parámetros!L$7:$P$7),FALSE))","v":""},{"$f":"IF(M858=\"\",\"\",VLOOKUP(M858,Parámetros!M$11:$P$13,MAX(Parámetros!M$7:$P$7),FALSE))","v":""},{"$f":"IF(N858=\"\",\"\",VLOOKUP(N858,Parámetros!N$11:$P$13,MAX(Parámetros!N$7:$P$7),FALSE))","v":""},{"$f":"IF(O858=\"\",\"\",VLOOKUP(O858,Parámetros!O$11:$P$13,MAX(Parámetros!O$7:$P$7),FALSE))","v":""},""]
[null,null,null,{"$f":"IF(E859=\"\",\"\",VLOOKUP(E859,'Buenas prácticas'!$G$8:$H$1007,2,FALSE))","v":""},null,null,null,null,null,null,null,null,null,null,null,{"$f":"IF(F859=\"\",\"\",VLOOKUP(F859,Parámetros!F$11:$P$13,MAX(Parámetros!F$7:$P$7),FALSE))","v":""},{"$f":"IF(G859=\"\",\"\",VLOOKUP(G859,Parámetros!G$11:$P$13,MAX(Parámetros!G$7:$P$7),FALSE))","v":""},{"$f":"IF(H859=\"\",\"\",VLOOKUP(H859,Parámetros!H$11:$P$13,MAX(Parámetros!H$7:$P$7),FALSE))","v":""},{"$f":"IF(I859=\"\",\"\",VLOOKUP(I859,Parámetros!I$11:$P$13,MAX(Parámetros!I$7:$P$7),FALSE))","v":""},{"$f":"IF(J859=\"\",\"\",VLOOKUP(J859,Parámetros!J$11:$P$13,MAX(Parámetros!J$7:$P$7),FALSE))","v":""},{"$f":"IF(K859=\"\",\"\",VLOOKUP(K859,Parámetros!K$11:$P$13,MAX(Parámetros!K$7:$P$7),FALSE))","v":""},{"$f":"IF(L859=\"\",\"\",VLOOKUP(L859,Parámetros!L$11:$P$13,MAX(Parámetros!L$7:$P$7),FALSE))","v":""},{"$f":"IF(M859=\"\",\"\",VLOOKUP(M859,Parámetros!M$11:$P$13,MAX(Parámetros!M$7:$P$7),FALSE))","v":""},{"$f":"IF(N859=\"\",\"\",VLOOKUP(N859,Parámetros!N$11:$P$13,MAX(Parámetros!N$7:$P$7),FALSE))","v":""},{"$f":"IF(O859=\"\",\"\",VLOOKUP(O859,Parámetros!O$11:$P$13,MAX(Parámetros!O$7:$P$7),FALSE))","v":""},""]
[null,null,null,{"$f":"IF(E860=\"\",\"\",VLOOKUP(E860,'Buenas prácticas'!$G$8:$H$1007,2,FALSE))","v":""},null,null,null,null,null,null,null,null,null,null,null,{"$f":"IF(F860=\"\",\"\",VLOOKUP(F860,Parámetros!F$11:$P$13,MAX(Parámetros!F$7:$P$7),FALSE))","v":""},{"$f":"IF(G860=\"\",\"\",VLOOKUP(G860,Parámetros!G$11:$P$13,MAX(Parámetros!G$7:$P$7),FALSE))","v":""},{"$f":"IF(H860=\"\",\"\",VLOOKUP(H860,Parámetros!H$11:$P$13,MAX(Parámetros!H$7:$P$7),FALSE))","v":""},{"$f":"IF(I860=\"\",\"\",VLOOKUP(I860,Parámetros!I$11:$P$13,MAX(Parámetros!I$7:$P$7),FALSE))","v":""},{"$f":"IF(J860=\"\",\"\",VLOOKUP(J860,Parámetros!J$11:$P$13,MAX(Parámetros!J$7:$P$7),FALSE))","v":""},{"$f":"IF(K860=\"\",\"\",VLOOKUP(K860,Parámetros!K$11:$P$13,MAX(Parámetros!K$7:$P$7),FALSE))","v":""},{"$f":"IF(L860=\"\",\"\",VLOOKUP(L860,Parámetros!L$11:$P$13,MAX(Parámetros!L$7:$P$7),FALSE))","v":""},{"$f":"IF(M860=\"\",\"\",VLOOKUP(M860,Parámetros!M$11:$P$13,MAX(Parámetros!M$7:$P$7),FALSE))","v":""},{"$f":"IF(N860=\"\",\"\",VLOOKUP(N860,Parámetros!N$11:$P$13,MAX(Parámetros!N$7:$P$7),FALSE))","v":""},{"$f":"IF(O860=\"\",\"\",VLOOKUP(O860,Parámetros!O$11:$P$13,MAX(Parámetros!O$7:$P$7),FALSE))","v":""},""]
[null,null,null,{"$f":"IF(E861=\"\",\"\",VLOOKUP(E861,'Buenas prácticas'!$G$8:$H$1007,2,FALSE))","v":""},null,null,null,null,null,null,null,null,null,null,null,{"$f":"IF(F861=\"\",\"\",VLOOKUP(F861,Parámetros!F$11:$P$13,MAX(Parámetros!F$7:$P$7),FALSE))","v":""},{"$f":"IF(G861=\"\",\"\",VLOOKUP(G861,Parámetros!G$11:$P$13,MAX(Parámetros!G$7:$P$7),FALSE))","v":""},{"$f":"IF(H861=\"\",\"\",VLOOKUP(H861,Parámetros!H$11:$P$13,MAX(Parámetros!H$7:$P$7),FALSE))","v":""},{"$f":"IF(I861=\"\",\"\",VLOOKUP(I861,Parámetros!I$11:$P$13,MAX(Parámetros!I$7:$P$7),FALSE))","v":""},{"$f":"IF(J861=\"\",\"\",VLOOKUP(J861,Parámetros!J$11:$P$13,MAX(Parámetros!J$7:$P$7),FALSE))","v":""},{"$f":"IF(K861=\"\",\"\",VLOOKUP(K861,Parámetros!K$11:$P$13,MAX(Parámetros!K$7:$P$7),FALSE))","v":""},{"$f":"IF(L861=\"\",\"\",VLOOKUP(L861,Parámetros!L$11:$P$13,MAX(Parámetros!L$7:$P$7),FALSE))","v":""},{"$f":"IF(M861=\"\",\"\",VLOOKUP(M861,Parámetros!M$11:$P$13,MAX(Parámetros!M$7:$P$7),FALSE))","v":""},{"$f":"IF(N861=\"\",\"\",VLOOKUP(N861,Parámetros!N$11:$P$13,MAX(Parámetros!N$7:$P$7),FALSE))","v":""},{"$f":"IF(O861=\"\",\"\",VLOOKUP(O861,Parámetros!O$11:$P$13,MAX(Parámetros!O$7:$P$7),FALSE))","v":""},""]
[null,null,null,{"$f":"IF(E862=\"\",\"\",VLOOKUP(E862,'Buenas prácticas'!$G$8:$H$1007,2,FALSE))","v":""},null,null,null,null,null,null,null,null,null,null,null,{"$f":"IF(F862=\"\",\"\",VLOOKUP(F862,Parámetros!F$11:$P$13,MAX(Parámetros!F$7:$P$7),FALSE))","v":""},{"$f":"IF(G862=\"\",\"\",VLOOKUP(G862,Parámetros!G$11:$P$13,MAX(Parámetros!G$7:$P$7),FALSE))","v":""},{"$f":"IF(H862=\"\",\"\",VLOOKUP(H862,Parámetros!H$11:$P$13,MAX(Parámetros!H$7:$P$7),FALSE))","v":""},{"$f":"IF(I862=\"\",\"\",VLOOKUP(I862,Parámetros!I$11:$P$13,MAX(Parámetros!I$7:$P$7),FALSE))","v":""},{"$f":"IF(J862=\"\",\"\",VLOOKUP(J862,Parámetros!J$11:$P$13,MAX(Parámetros!J$7:$P$7),FALSE))","v":""},{"$f":"IF(K862=\"\",\"\",VLOOKUP(K862,Parámetros!K$11:$P$13,MAX(Parámetros!K$7:$P$7),FALSE))","v":""},{"$f":"IF(L862=\"\",\"\",VLOOKUP(L862,Parámetros!L$11:$P$13,MAX(Parámetros!L$7:$P$7),FALSE))","v":""},{"$f":"IF(M862=\"\",\"\",VLOOKUP(M862,Parámetros!M$11:$P$13,MAX(Parámetros!M$7:$P$7),FALSE))","v":""},{"$f":"IF(N862=\"\",\"\",VLOOKUP(N862,Parámetros!N$11:$P$13,MAX(Parámetros!N$7:$P$7),FALSE))","v":""},{"$f":"IF(O862=\"\",\"\",VLOOKUP(O862,Parámetros!O$11:$P$13,MAX(Parámetros!O$7:$P$7),FALSE))","v":""},""]
[null,null,null,{"$f":"IF(E863=\"\",\"\",VLOOKUP(E863,'Buenas prácticas'!$G$8:$H$1007,2,FALSE))","v":""},null,null,null,null,null,null,null,null,null,null,null,{"$f":"IF(F863=\"\",\"\",VLOOKUP(F863,Parámetros!F$11:$P$13,MAX(Parámetros!F$7:$P$7),FALSE))","v":""},{"$f":"IF(G863=\"\",\"\",VLOOKUP(G863,Parámetros!G$11:$P$13,MAX(Parámetros!G$7:$P$7),FALSE))","v":""},{"$f":"IF(H863=\"\",\"\",VLOOKUP(H863,Parámetros!H$11:$P$13,MAX(Parámetros!H$7:$P$7),FALSE))","v":""},{"$f":"IF(I863=\"\",\"\",VLOOKUP(I863,Parámetros!I$11:$P$13,MAX(Parámetros!I$7:$P$7),FALSE))","v":""},{"$f":"IF(J863=\"\",\"\",VLOOKUP(J863,Parámetros!J$11:$P$13,MAX(Parámetros!J$7:$P$7),FALSE))","v":""},{"$f":"IF(K863=\"\",\"\",VLOOKUP(K863,Parámetros!K$11:$P$13,MAX(Parámetros!K$7:$P$7),FALSE))","v":""},{"$f":"IF(L863=\"\",\"\",VLOOKUP(L863,Parámetros!L$11:$P$13,MAX(Parámetros!L$7:$P$7),FALSE))","v":""},{"$f":"IF(M863=\"\",\"\",VLOOKUP(M863,Parámetros!M$11:$P$13,MAX(Parámetros!M$7:$P$7),FALSE))","v":""},{"$f":"IF(N863=\"\",\"\",VLOOKUP(N863,Parámetros!N$11:$P$13,MAX(Parámetros!N$7:$P$7),FALSE))","v":""},{"$f":"IF(O863=\"\",\"\",VLOOKUP(O863,Parámetros!O$11:$P$13,MAX(Parámetros!O$7:$P$7),FALSE))","v":""},""]
[null,null,null,{"$f":"IF(E864=\"\",\"\",VLOOKUP(E864,'Buenas prácticas'!$G$8:$H$1007,2,FALSE))","v":""},null,null,null,null,null,null,null,null,null,null,null,{"$f":"IF(F864=\"\",\"\",VLOOKUP(F864,Parámetros!F$11:$P$13,MAX(Parámetros!F$7:$P$7),FALSE))","v":""},{"$f":"IF(G864=\"\",\"\",VLOOKUP(G864,Parámetros!G$11:$P$13,MAX(Parámetros!G$7:$P$7),FALSE))","v":""},{"$f":"IF(H864=\"\",\"\",VLOOKUP(H864,Parámetros!H$11:$P$13,MAX(Parámetros!H$7:$P$7),FALSE))","v":""},{"$f":"IF(I864=\"\",\"\",VLOOKUP(I864,Parámetros!I$11:$P$13,MAX(Parámetros!I$7:$P$7),FALSE))","v":""},{"$f":"IF(J864=\"\",\"\",VLOOKUP(J864,Parámetros!J$11:$P$13,MAX(Parámetros!J$7:$P$7),FALSE))","v":""},{"$f":"IF(K864=\"\",\"\",VLOOKUP(K864,Parámetros!K$11:$P$13,MAX(Parámetros!K$7:$P$7),FALSE))","v":""},{"$f":"IF(L864=\"\",\"\",VLOOKUP(L864,Parámetros!L$11:$P$13,MAX(Parámetros!L$7:$P$7),FALSE))","v":""},{"$f":"IF(M864=\"\",\"\",VLOOKUP(M864,Parámetros!M$11:$P$13,MAX(Parámetros!M$7:$P$7),FALSE))","v":""},{"$f":"IF(N864=\"\",\"\",VLOOKUP(N864,Parámetros!N$11:$P$13,MAX(Parámetros!N$7:$P$7),FALSE))","v":""},{"$f":"IF(O864=\"\",\"\",VLOOKUP(O864,Parámetros!O$11:$P$13,MAX(Parámetros!O$7:$P$7),FALSE))","v":""},""]
[null,null,null,{"$f":"IF(E865=\"\",\"\",VLOOKUP(E865,'Buenas prácticas'!$G$8:$H$1007,2,FALSE))","v":""},null,null,null,null,null,null,null,null,null,null,null,{"$f":"IF(F865=\"\",\"\",VLOOKUP(F865,Parámetros!F$11:$P$13,MAX(Parámetros!F$7:$P$7),FALSE))","v":""},{"$f":"IF(G865=\"\",\"\",VLOOKUP(G865,Parámetros!G$11:$P$13,MAX(Parámetros!G$7:$P$7),FALSE))","v":""},{"$f":"IF(H865=\"\",\"\",VLOOKUP(H865,Parámetros!H$11:$P$13,MAX(Parámetros!H$7:$P$7),FALSE))","v":""},{"$f":"IF(I865=\"\",\"\",VLOOKUP(I865,Parámetros!I$11:$P$13,MAX(Parámetros!I$7:$P$7),FALSE))","v":""},{"$f":"IF(J865=\"\",\"\",VLOOKUP(J865,Parámetros!J$11:$P$13,MAX(Parámetros!J$7:$P$7),FALSE))","v":""},{"$f":"IF(K865=\"\",\"\",VLOOKUP(K865,Parámetros!K$11:$P$13,MAX(Parámetros!K$7:$P$7),FALSE))","v":""},{"$f":"IF(L865=\"\",\"\",VLOOKUP(L865,Parámetros!L$11:$P$13,MAX(Parámetros!L$7:$P$7),FALSE))","v":""},{"$f":"IF(M865=\"\",\"\",VLOOKUP(M865,Parámetros!M$11:$P$13,MAX(Parámetros!M$7:$P$7),FALSE))","v":""},{"$f":"IF(N865=\"\",\"\",VLOOKUP(N865,Parámetros!N$11:$P$13,MAX(Parámetros!N$7:$P$7),FALSE))","v":""},{"$f":"IF(O865=\"\",\"\",VLOOKUP(O865,Parámetros!O$11:$P$13,MAX(Parámetros!O$7:$P$7),FALSE))","v":""},""]
[null,null,null,{"$f":"IF(E866=\"\",\"\",VLOOKUP(E866,'Buenas prácticas'!$G$8:$H$1007,2,FALSE))","v":""},null,null,null,null,null,null,null,null,null,null,null,{"$f":"IF(F866=\"\",\"\",VLOOKUP(F866,Parámetros!F$11:$P$13,MAX(Parámetros!F$7:$P$7),FALSE))","v":""},{"$f":"IF(G866=\"\",\"\",VLOOKUP(G866,Parámetros!G$11:$P$13,MAX(Parámetros!G$7:$P$7),FALSE))","v":""},{"$f":"IF(H866=\"\",\"\",VLOOKUP(H866,Parámetros!H$11:$P$13,MAX(Parámetros!H$7:$P$7),FALSE))","v":""},{"$f":"IF(I866=\"\",\"\",VLOOKUP(I866,Parámetros!I$11:$P$13,MAX(Parámetros!I$7:$P$7),FALSE))","v":""},{"$f":"IF(J866=\"\",\"\",VLOOKUP(J866,Parámetros!J$11:$P$13,MAX(Parámetros!J$7:$P$7),FALSE))","v":""},{"$f":"IF(K866=\"\",\"\",VLOOKUP(K866,Parámetros!K$11:$P$13,MAX(Parámetros!K$7:$P$7),FALSE))","v":""},{"$f":"IF(L866=\"\",\"\",VLOOKUP(L866,Parámetros!L$11:$P$13,MAX(Parámetros!L$7:$P$7),FALSE))","v":""},{"$f":"IF(M866=\"\",\"\",VLOOKUP(M866,Parámetros!M$11:$P$13,MAX(Parámetros!M$7:$P$7),FALSE))","v":""},{"$f":"IF(N866=\"\",\"\",VLOOKUP(N866,Parámetros!N$11:$P$13,MAX(Parámetros!N$7:$P$7),FALSE))","v":""},{"$f":"IF(O866=\"\",\"\",VLOOKUP(O866,Parámetros!O$11:$P$13,MAX(Parámetros!O$7:$P$7),FALSE))","v":""},""]
[null,null,null,{"$f":"IF(E867=\"\",\"\",VLOOKUP(E867,'Buenas prácticas'!$G$8:$H$1007,2,FALSE))","v":""},null,null,null,null,null,null,null,null,null,null,null,{"$f":"IF(F867=\"\",\"\",VLOOKUP(F867,Parámetros!F$11:$P$13,MAX(Parámetros!F$7:$P$7),FALSE))","v":""},{"$f":"IF(G867=\"\",\"\",VLOOKUP(G867,Parámetros!G$11:$P$13,MAX(Parámetros!G$7:$P$7),FALSE))","v":""},{"$f":"IF(H867=\"\",\"\",VLOOKUP(H867,Parámetros!H$11:$P$13,MAX(Parámetros!H$7:$P$7),FALSE))","v":""},{"$f":"IF(I867=\"\",\"\",VLOOKUP(I867,Parámetros!I$11:$P$13,MAX(Parámetros!I$7:$P$7),FALSE))","v":""},{"$f":"IF(J867=\"\",\"\",VLOOKUP(J867,Parámetros!J$11:$P$13,MAX(Parámetros!J$7:$P$7),FALSE))","v":""},{"$f":"IF(K867=\"\",\"\",VLOOKUP(K867,Parámetros!K$11:$P$13,MAX(Parámetros!K$7:$P$7),FALSE))","v":""},{"$f":"IF(L867=\"\",\"\",VLOOKUP(L867,Parámetros!L$11:$P$13,MAX(Parámetros!L$7:$P$7),FALSE))","v":""},{"$f":"IF(M867=\"\",\"\",VLOOKUP(M867,Parámetros!M$11:$P$13,MAX(Parámetros!M$7:$P$7),FALSE))","v":""},{"$f":"IF(N867=\"\",\"\",VLOOKUP(N867,Parámetros!N$11:$P$13,MAX(Parámetros!N$7:$P$7),FALSE))","v":""},{"$f":"IF(O867=\"\",\"\",VLOOKUP(O867,Parámetros!O$11:$P$13,MAX(Parámetros!O$7:$P$7),FALSE))","v":""},""]
[null,null,null,{"$f":"IF(E868=\"\",\"\",VLOOKUP(E868,'Buenas prácticas'!$G$8:$H$1007,2,FALSE))","v":""},null,null,null,null,null,null,null,null,null,null,null,{"$f":"IF(F868=\"\",\"\",VLOOKUP(F868,Parámetros!F$11:$P$13,MAX(Parámetros!F$7:$P$7),FALSE))","v":""},{"$f":"IF(G868=\"\",\"\",VLOOKUP(G868,Parámetros!G$11:$P$13,MAX(Parámetros!G$7:$P$7),FALSE))","v":""},{"$f":"IF(H868=\"\",\"\",VLOOKUP(H868,Parámetros!H$11:$P$13,MAX(Parámetros!H$7:$P$7),FALSE))","v":""},{"$f":"IF(I868=\"\",\"\",VLOOKUP(I868,Parámetros!I$11:$P$13,MAX(Parámetros!I$7:$P$7),FALSE))","v":""},{"$f":"IF(J868=\"\",\"\",VLOOKUP(J868,Parámetros!J$11:$P$13,MAX(Parámetros!J$7:$P$7),FALSE))","v":""},{"$f":"IF(K868=\"\",\"\",VLOOKUP(K868,Parámetros!K$11:$P$13,MAX(Parámetros!K$7:$P$7),FALSE))","v":""},{"$f":"IF(L868=\"\",\"\",VLOOKUP(L868,Parámetros!L$11:$P$13,MAX(Parámetros!L$7:$P$7),FALSE))","v":""},{"$f":"IF(M868=\"\",\"\",VLOOKUP(M868,Parámetros!M$11:$P$13,MAX(Parámetros!M$7:$P$7),FALSE))","v":""},{"$f":"IF(N868=\"\",\"\",VLOOKUP(N868,Parámetros!N$11:$P$13,MAX(Parámetros!N$7:$P$7),FALSE))","v":""},{"$f":"IF(O868=\"\",\"\",VLOOKUP(O868,Parámetros!O$11:$P$13,MAX(Parámetros!O$7:$P$7),FALSE))","v":""},""]
[null,null,null,{"$f":"IF(E869=\"\",\"\",VLOOKUP(E869,'Buenas prácticas'!$G$8:$H$1007,2,FALSE))","v":""},null,null,null,null,null,null,null,null,null,null,null,{"$f":"IF(F869=\"\",\"\",VLOOKUP(F869,Parámetros!F$11:$P$13,MAX(Parámetros!F$7:$P$7),FALSE))","v":""},{"$f":"IF(G869=\"\",\"\",VLOOKUP(G869,Parámetros!G$11:$P$13,MAX(Parámetros!G$7:$P$7),FALSE))","v":""},{"$f":"IF(H869=\"\",\"\",VLOOKUP(H869,Parámetros!H$11:$P$13,MAX(Parámetros!H$7:$P$7),FALSE))","v":""},{"$f":"IF(I869=\"\",\"\",VLOOKUP(I869,Parámetros!I$11:$P$13,MAX(Parámetros!I$7:$P$7),FALSE))","v":""},{"$f":"IF(J869=\"\",\"\",VLOOKUP(J869,Parámetros!J$11:$P$13,MAX(Parámetros!J$7:$P$7),FALSE))","v":""},{"$f":"IF(K869=\"\",\"\",VLOOKUP(K869,Parámetros!K$11:$P$13,MAX(Parámetros!K$7:$P$7),FALSE))","v":""},{"$f":"IF(L869=\"\",\"\",VLOOKUP(L869,Parámetros!L$11:$P$13,MAX(Parámetros!L$7:$P$7),FALSE))","v":""},{"$f":"IF(M869=\"\",\"\",VLOOKUP(M869,Parámetros!M$11:$P$13,MAX(Parámetros!M$7:$P$7),FALSE))","v":""},{"$f":"IF(N869=\"\",\"\",VLOOKUP(N869,Parámetros!N$11:$P$13,MAX(Parámetros!N$7:$P$7),FALSE))","v":""},{"$f":"IF(O869=\"\",\"\",VLOOKUP(O869,Parámetros!O$11:$P$13,MAX(Parámetros!O$7:$P$7),FALSE))","v":""},""]
[null,null,null,{"$f":"IF(E870=\"\",\"\",VLOOKUP(E870,'Buenas prácticas'!$G$8:$H$1007,2,FALSE))","v":""},null,null,null,null,null,null,null,null,null,null,null,{"$f":"IF(F870=\"\",\"\",VLOOKUP(F870,Parámetros!F$11:$P$13,MAX(Parámetros!F$7:$P$7),FALSE))","v":""},{"$f":"IF(G870=\"\",\"\",VLOOKUP(G870,Parámetros!G$11:$P$13,MAX(Parámetros!G$7:$P$7),FALSE))","v":""},{"$f":"IF(H870=\"\",\"\",VLOOKUP(H870,Parámetros!H$11:$P$13,MAX(Parámetros!H$7:$P$7),FALSE))","v":""},{"$f":"IF(I870=\"\",\"\",VLOOKUP(I870,Parámetros!I$11:$P$13,MAX(Parámetros!I$7:$P$7),FALSE))","v":""},{"$f":"IF(J870=\"\",\"\",VLOOKUP(J870,Parámetros!J$11:$P$13,MAX(Parámetros!J$7:$P$7),FALSE))","v":""},{"$f":"IF(K870=\"\",\"\",VLOOKUP(K870,Parámetros!K$11:$P$13,MAX(Parámetros!K$7:$P$7),FALSE))","v":""},{"$f":"IF(L870=\"\",\"\",VLOOKUP(L870,Parámetros!L$11:$P$13,MAX(Parámetros!L$7:$P$7),FALSE))","v":""},{"$f":"IF(M870=\"\",\"\",VLOOKUP(M870,Parámetros!M$11:$P$13,MAX(Parámetros!M$7:$P$7),FALSE))","v":""},{"$f":"IF(N870=\"\",\"\",VLOOKUP(N870,Parámetros!N$11:$P$13,MAX(Parámetros!N$7:$P$7),FALSE))","v":""},{"$f":"IF(O870=\"\",\"\",VLOOKUP(O870,Parámetros!O$11:$P$13,MAX(Parámetros!O$7:$P$7),FALSE))","v":""},""]
[null,null,null,{"$f":"IF(E871=\"\",\"\",VLOOKUP(E871,'Buenas prácticas'!$G$8:$H$1007,2,FALSE))","v":""},null,null,null,null,null,null,null,null,null,null,null,{"$f":"IF(F871=\"\",\"\",VLOOKUP(F871,Parámetros!F$11:$P$13,MAX(Parámetros!F$7:$P$7),FALSE))","v":""},{"$f":"IF(G871=\"\",\"\",VLOOKUP(G871,Parámetros!G$11:$P$13,MAX(Parámetros!G$7:$P$7),FALSE))","v":""},{"$f":"IF(H871=\"\",\"\",VLOOKUP(H871,Parámetros!H$11:$P$13,MAX(Parámetros!H$7:$P$7),FALSE))","v":""},{"$f":"IF(I871=\"\",\"\",VLOOKUP(I871,Parámetros!I$11:$P$13,MAX(Parámetros!I$7:$P$7),FALSE))","v":""},{"$f":"IF(J871=\"\",\"\",VLOOKUP(J871,Parámetros!J$11:$P$13,MAX(Parámetros!J$7:$P$7),FALSE))","v":""},{"$f":"IF(K871=\"\",\"\",VLOOKUP(K871,Parámetros!K$11:$P$13,MAX(Parámetros!K$7:$P$7),FALSE))","v":""},{"$f":"IF(L871=\"\",\"\",VLOOKUP(L871,Parámetros!L$11:$P$13,MAX(Parámetros!L$7:$P$7),FALSE))","v":""},{"$f":"IF(M871=\"\",\"\",VLOOKUP(M871,Parámetros!M$11:$P$13,MAX(Parámetros!M$7:$P$7),FALSE))","v":""},{"$f":"IF(N871=\"\",\"\",VLOOKUP(N871,Parámetros!N$11:$P$13,MAX(Parámetros!N$7:$P$7),FALSE))","v":""},{"$f":"IF(O871=\"\",\"\",VLOOKUP(O871,Parámetros!O$11:$P$13,MAX(Parámetros!O$7:$P$7),FALSE))","v":""},""]
[null,null,null,{"$f":"IF(E872=\"\",\"\",VLOOKUP(E872,'Buenas prácticas'!$G$8:$H$1007,2,FALSE))","v":""},null,null,null,null,null,null,null,null,null,null,null,{"$f":"IF(F872=\"\",\"\",VLOOKUP(F872,Parámetros!F$11:$P$13,MAX(Parámetros!F$7:$P$7),FALSE))","v":""},{"$f":"IF(G872=\"\",\"\",VLOOKUP(G872,Parámetros!G$11:$P$13,MAX(Parámetros!G$7:$P$7),FALSE))","v":""},{"$f":"IF(H872=\"\",\"\",VLOOKUP(H872,Parámetros!H$11:$P$13,MAX(Parámetros!H$7:$P$7),FALSE))","v":""},{"$f":"IF(I872=\"\",\"\",VLOOKUP(I872,Parámetros!I$11:$P$13,MAX(Parámetros!I$7:$P$7),FALSE))","v":""},{"$f":"IF(J872=\"\",\"\",VLOOKUP(J872,Parámetros!J$11:$P$13,MAX(Parámetros!J$7:$P$7),FALSE))","v":""},{"$f":"IF(K872=\"\",\"\",VLOOKUP(K872,Parámetros!K$11:$P$13,MAX(Parámetros!K$7:$P$7),FALSE))","v":""},{"$f":"IF(L872=\"\",\"\",VLOOKUP(L872,Parámetros!L$11:$P$13,MAX(Parámetros!L$7:$P$7),FALSE))","v":""},{"$f":"IF(M872=\"\",\"\",VLOOKUP(M872,Parámetros!M$11:$P$13,MAX(Parámetros!M$7:$P$7),FALSE))","v":""},{"$f":"IF(N872=\"\",\"\",VLOOKUP(N872,Parámetros!N$11:$P$13,MAX(Parámetros!N$7:$P$7),FALSE))","v":""},{"$f":"IF(O872=\"\",\"\",VLOOKUP(O872,Parámetros!O$11:$P$13,MAX(Parámetros!O$7:$P$7),FALSE))","v":""},""]
[null,null,null,{"$f":"IF(E873=\"\",\"\",VLOOKUP(E873,'Buenas prácticas'!$G$8:$H$1007,2,FALSE))","v":""},null,null,null,null,null,null,null,null,null,null,null,{"$f":"IF(F873=\"\",\"\",VLOOKUP(F873,Parámetros!F$11:$P$13,MAX(Parámetros!F$7:$P$7),FALSE))","v":""},{"$f":"IF(G873=\"\",\"\",VLOOKUP(G873,Parámetros!G$11:$P$13,MAX(Parámetros!G$7:$P$7),FALSE))","v":""},{"$f":"IF(H873=\"\",\"\",VLOOKUP(H873,Parámetros!H$11:$P$13,MAX(Parámetros!H$7:$P$7),FALSE))","v":""},{"$f":"IF(I873=\"\",\"\",VLOOKUP(I873,Parámetros!I$11:$P$13,MAX(Parámetros!I$7:$P$7),FALSE))","v":""},{"$f":"IF(J873=\"\",\"\",VLOOKUP(J873,Parámetros!J$11:$P$13,MAX(Parámetros!J$7:$P$7),FALSE))","v":""},{"$f":"IF(K873=\"\",\"\",VLOOKUP(K873,Parámetros!K$11:$P$13,MAX(Parámetros!K$7:$P$7),FALSE))","v":""},{"$f":"IF(L873=\"\",\"\",VLOOKUP(L873,Parámetros!L$11:$P$13,MAX(Parámetros!L$7:$P$7),FALSE))","v":""},{"$f":"IF(M873=\"\",\"\",VLOOKUP(M873,Parámetros!M$11:$P$13,MAX(Parámetros!M$7:$P$7),FALSE))","v":""},{"$f":"IF(N873=\"\",\"\",VLOOKUP(N873,Parámetros!N$11:$P$13,MAX(Parámetros!N$7:$P$7),FALSE))","v":""},{"$f":"IF(O873=\"\",\"\",VLOOKUP(O873,Parámetros!O$11:$P$13,MAX(Parámetros!O$7:$P$7),FALSE))","v":""},""]
[null,null,null,{"$f":"IF(E874=\"\",\"\",VLOOKUP(E874,'Buenas prácticas'!$G$8:$H$1007,2,FALSE))","v":""},null,null,null,null,null,null,null,null,null,null,null,{"$f":"IF(F874=\"\",\"\",VLOOKUP(F874,Parámetros!F$11:$P$13,MAX(Parámetros!F$7:$P$7),FALSE))","v":""},{"$f":"IF(G874=\"\",\"\",VLOOKUP(G874,Parámetros!G$11:$P$13,MAX(Parámetros!G$7:$P$7),FALSE))","v":""},{"$f":"IF(H874=\"\",\"\",VLOOKUP(H874,Parámetros!H$11:$P$13,MAX(Parámetros!H$7:$P$7),FALSE))","v":""},{"$f":"IF(I874=\"\",\"\",VLOOKUP(I874,Parámetros!I$11:$P$13,MAX(Parámetros!I$7:$P$7),FALSE))","v":""},{"$f":"IF(J874=\"\",\"\",VLOOKUP(J874,Parámetros!J$11:$P$13,MAX(Parámetros!J$7:$P$7),FALSE))","v":""},{"$f":"IF(K874=\"\",\"\",VLOOKUP(K874,Parámetros!K$11:$P$13,MAX(Parámetros!K$7:$P$7),FALSE))","v":""},{"$f":"IF(L874=\"\",\"\",VLOOKUP(L874,Parámetros!L$11:$P$13,MAX(Parámetros!L$7:$P$7),FALSE))","v":""},{"$f":"IF(M874=\"\",\"\",VLOOKUP(M874,Parámetros!M$11:$P$13,MAX(Parámetros!M$7:$P$7),FALSE))","v":""},{"$f":"IF(N874=\"\",\"\",VLOOKUP(N874,Parámetros!N$11:$P$13,MAX(Parámetros!N$7:$P$7),FALSE))","v":""},{"$f":"IF(O874=\"\",\"\",VLOOKUP(O874,Parámetros!O$11:$P$13,MAX(Parámetros!O$7:$P$7),FALSE))","v":""},""]
[null,null,null,{"$f":"IF(E875=\"\",\"\",VLOOKUP(E875,'Buenas prácticas'!$G$8:$H$1007,2,FALSE))","v":""},null,null,null,null,null,null,null,null,null,null,null,{"$f":"IF(F875=\"\",\"\",VLOOKUP(F875,Parámetros!F$11:$P$13,MAX(Parámetros!F$7:$P$7),FALSE))","v":""},{"$f":"IF(G875=\"\",\"\",VLOOKUP(G875,Parámetros!G$11:$P$13,MAX(Parámetros!G$7:$P$7),FALSE))","v":""},{"$f":"IF(H875=\"\",\"\",VLOOKUP(H875,Parámetros!H$11:$P$13,MAX(Parámetros!H$7:$P$7),FALSE))","v":""},{"$f":"IF(I875=\"\",\"\",VLOOKUP(I875,Parámetros!I$11:$P$13,MAX(Parámetros!I$7:$P$7),FALSE))","v":""},{"$f":"IF(J875=\"\",\"\",VLOOKUP(J875,Parámetros!J$11:$P$13,MAX(Parámetros!J$7:$P$7),FALSE))","v":""},{"$f":"IF(K875=\"\",\"\",VLOOKUP(K875,Parámetros!K$11:$P$13,MAX(Parámetros!K$7:$P$7),FALSE))","v":""},{"$f":"IF(L875=\"\",\"\",VLOOKUP(L875,Parámetros!L$11:$P$13,MAX(Parámetros!L$7:$P$7),FALSE))","v":""},{"$f":"IF(M875=\"\",\"\",VLOOKUP(M875,Parámetros!M$11:$P$13,MAX(Parámetros!M$7:$P$7),FALSE))","v":""},{"$f":"IF(N875=\"\",\"\",VLOOKUP(N875,Parámetros!N$11:$P$13,MAX(Parámetros!N$7:$P$7),FALSE))","v":""},{"$f":"IF(O875=\"\",\"\",VLOOKUP(O875,Parámetros!O$11:$P$13,MAX(Parámetros!O$7:$P$7),FALSE))","v":""},""]
[null,null,null,{"$f":"IF(E876=\"\",\"\",VLOOKUP(E876,'Buenas prácticas'!$G$8:$H$1007,2,FALSE))","v":""},null,null,null,null,null,null,null,null,null,null,null,{"$f":"IF(F876=\"\",\"\",VLOOKUP(F876,Parámetros!F$11:$P$13,MAX(Parámetros!F$7:$P$7),FALSE))","v":""},{"$f":"IF(G876=\"\",\"\",VLOOKUP(G876,Parámetros!G$11:$P$13,MAX(Parámetros!G$7:$P$7),FALSE))","v":""},{"$f":"IF(H876=\"\",\"\",VLOOKUP(H876,Parámetros!H$11:$P$13,MAX(Parámetros!H$7:$P$7),FALSE))","v":""},{"$f":"IF(I876=\"\",\"\",VLOOKUP(I876,Parámetros!I$11:$P$13,MAX(Parámetros!I$7:$P$7),FALSE))","v":""},{"$f":"IF(J876=\"\",\"\",VLOOKUP(J876,Parámetros!J$11:$P$13,MAX(Parámetros!J$7:$P$7),FALSE))","v":""},{"$f":"IF(K876=\"\",\"\",VLOOKUP(K876,Parámetros!K$11:$P$13,MAX(Parámetros!K$7:$P$7),FALSE))","v":""},{"$f":"IF(L876=\"\",\"\",VLOOKUP(L876,Parámetros!L$11:$P$13,MAX(Parámetros!L$7:$P$7),FALSE))","v":""},{"$f":"IF(M876=\"\",\"\",VLOOKUP(M876,Parámetros!M$11:$P$13,MAX(Parámetros!M$7:$P$7),FALSE))","v":""},{"$f":"IF(N876=\"\",\"\",VLOOKUP(N876,Parámetros!N$11:$P$13,MAX(Parámetros!N$7:$P$7),FALSE))","v":""},{"$f":"IF(O876=\"\",\"\",VLOOKUP(O876,Parámetros!O$11:$P$13,MAX(Parámetros!O$7:$P$7),FALSE))","v":""},""]
[null,null,null,{"$f":"IF(E877=\"\",\"\",VLOOKUP(E877,'Buenas prácticas'!$G$8:$H$1007,2,FALSE))","v":""},null,null,null,null,null,null,null,null,null,null,null,{"$f":"IF(F877=\"\",\"\",VLOOKUP(F877,Parámetros!F$11:$P$13,MAX(Parámetros!F$7:$P$7),FALSE))","v":""},{"$f":"IF(G877=\"\",\"\",VLOOKUP(G877,Parámetros!G$11:$P$13,MAX(Parámetros!G$7:$P$7),FALSE))","v":""},{"$f":"IF(H877=\"\",\"\",VLOOKUP(H877,Parámetros!H$11:$P$13,MAX(Parámetros!H$7:$P$7),FALSE))","v":""},{"$f":"IF(I877=\"\",\"\",VLOOKUP(I877,Parámetros!I$11:$P$13,MAX(Parámetros!I$7:$P$7),FALSE))","v":""},{"$f":"IF(J877=\"\",\"\",VLOOKUP(J877,Parámetros!J$11:$P$13,MAX(Parámetros!J$7:$P$7),FALSE))","v":""},{"$f":"IF(K877=\"\",\"\",VLOOKUP(K877,Parámetros!K$11:$P$13,MAX(Parámetros!K$7:$P$7),FALSE))","v":""},{"$f":"IF(L877=\"\",\"\",VLOOKUP(L877,Parámetros!L$11:$P$13,MAX(Parámetros!L$7:$P$7),FALSE))","v":""},{"$f":"IF(M877=\"\",\"\",VLOOKUP(M877,Parámetros!M$11:$P$13,MAX(Parámetros!M$7:$P$7),FALSE))","v":""},{"$f":"IF(N877=\"\",\"\",VLOOKUP(N877,Parámetros!N$11:$P$13,MAX(Parámetros!N$7:$P$7),FALSE))","v":""},{"$f":"IF(O877=\"\",\"\",VLOOKUP(O877,Parámetros!O$11:$P$13,MAX(Parámetros!O$7:$P$7),FALSE))","v":""},""]
[null,null,null,{"$f":"IF(E878=\"\",\"\",VLOOKUP(E878,'Buenas prácticas'!$G$8:$H$1007,2,FALSE))","v":""},null,null,null,null,null,null,null,null,null,null,null,{"$f":"IF(F878=\"\",\"\",VLOOKUP(F878,Parámetros!F$11:$P$13,MAX(Parámetros!F$7:$P$7),FALSE))","v":""},{"$f":"IF(G878=\"\",\"\",VLOOKUP(G878,Parámetros!G$11:$P$13,MAX(Parámetros!G$7:$P$7),FALSE))","v":""},{"$f":"IF(H878=\"\",\"\",VLOOKUP(H878,Parámetros!H$11:$P$13,MAX(Parámetros!H$7:$P$7),FALSE))","v":""},{"$f":"IF(I878=\"\",\"\",VLOOKUP(I878,Parámetros!I$11:$P$13,MAX(Parámetros!I$7:$P$7),FALSE))","v":""},{"$f":"IF(J878=\"\",\"\",VLOOKUP(J878,Parámetros!J$11:$P$13,MAX(Parámetros!J$7:$P$7),FALSE))","v":""},{"$f":"IF(K878=\"\",\"\",VLOOKUP(K878,Parámetros!K$11:$P$13,MAX(Parámetros!K$7:$P$7),FALSE))","v":""},{"$f":"IF(L878=\"\",\"\",VLOOKUP(L878,Parámetros!L$11:$P$13,MAX(Parámetros!L$7:$P$7),FALSE))","v":""},{"$f":"IF(M878=\"\",\"\",VLOOKUP(M878,Parámetros!M$11:$P$13,MAX(Parámetros!M$7:$P$7),FALSE))","v":""},{"$f":"IF(N878=\"\",\"\",VLOOKUP(N878,Parámetros!N$11:$P$13,MAX(Parámetros!N$7:$P$7),FALSE))","v":""},{"$f":"IF(O878=\"\",\"\",VLOOKUP(O878,Parámetros!O$11:$P$13,MAX(Parámetros!O$7:$P$7),FALSE))","v":""},""]
[null,null,null,{"$f":"IF(E879=\"\",\"\",VLOOKUP(E879,'Buenas prácticas'!$G$8:$H$1007,2,FALSE))","v":""},null,null,null,null,null,null,null,null,null,null,null,{"$f":"IF(F879=\"\",\"\",VLOOKUP(F879,Parámetros!F$11:$P$13,MAX(Parámetros!F$7:$P$7),FALSE))","v":""},{"$f":"IF(G879=\"\",\"\",VLOOKUP(G879,Parámetros!G$11:$P$13,MAX(Parámetros!G$7:$P$7),FALSE))","v":""},{"$f":"IF(H879=\"\",\"\",VLOOKUP(H879,Parámetros!H$11:$P$13,MAX(Parámetros!H$7:$P$7),FALSE))","v":""},{"$f":"IF(I879=\"\",\"\",VLOOKUP(I879,Parámetros!I$11:$P$13,MAX(Parámetros!I$7:$P$7),FALSE))","v":""},{"$f":"IF(J879=\"\",\"\",VLOOKUP(J879,Parámetros!J$11:$P$13,MAX(Parámetros!J$7:$P$7),FALSE))","v":""},{"$f":"IF(K879=\"\",\"\",VLOOKUP(K879,Parámetros!K$11:$P$13,MAX(Parámetros!K$7:$P$7),FALSE))","v":""},{"$f":"IF(L879=\"\",\"\",VLOOKUP(L879,Parámetros!L$11:$P$13,MAX(Parámetros!L$7:$P$7),FALSE))","v":""},{"$f":"IF(M879=\"\",\"\",VLOOKUP(M879,Parámetros!M$11:$P$13,MAX(Parámetros!M$7:$P$7),FALSE))","v":""},{"$f":"IF(N879=\"\",\"\",VLOOKUP(N879,Parámetros!N$11:$P$13,MAX(Parámetros!N$7:$P$7),FALSE))","v":""},{"$f":"IF(O879=\"\",\"\",VLOOKUP(O879,Parámetros!O$11:$P$13,MAX(Parámetros!O$7:$P$7),FALSE))","v":""},""]
[null,null,null,{"$f":"IF(E880=\"\",\"\",VLOOKUP(E880,'Buenas prácticas'!$G$8:$H$1007,2,FALSE))","v":""},null,null,null,null,null,null,null,null,null,null,null,{"$f":"IF(F880=\"\",\"\",VLOOKUP(F880,Parámetros!F$11:$P$13,MAX(Parámetros!F$7:$P$7),FALSE))","v":""},{"$f":"IF(G880=\"\",\"\",VLOOKUP(G880,Parámetros!G$11:$P$13,MAX(Parámetros!G$7:$P$7),FALSE))","v":""},{"$f":"IF(H880=\"\",\"\",VLOOKUP(H880,Parámetros!H$11:$P$13,MAX(Parámetros!H$7:$P$7),FALSE))","v":""},{"$f":"IF(I880=\"\",\"\",VLOOKUP(I880,Parámetros!I$11:$P$13,MAX(Parámetros!I$7:$P$7),FALSE))","v":""},{"$f":"IF(J880=\"\",\"\",VLOOKUP(J880,Parámetros!J$11:$P$13,MAX(Parámetros!J$7:$P$7),FALSE))","v":""},{"$f":"IF(K880=\"\",\"\",VLOOKUP(K880,Parámetros!K$11:$P$13,MAX(Parámetros!K$7:$P$7),FALSE))","v":""},{"$f":"IF(L880=\"\",\"\",VLOOKUP(L880,Parámetros!L$11:$P$13,MAX(Parámetros!L$7:$P$7),FALSE))","v":""},{"$f":"IF(M880=\"\",\"\",VLOOKUP(M880,Parámetros!M$11:$P$13,MAX(Parámetros!M$7:$P$7),FALSE))","v":""},{"$f":"IF(N880=\"\",\"\",VLOOKUP(N880,Parámetros!N$11:$P$13,MAX(Parámetros!N$7:$P$7),FALSE))","v":""},{"$f":"IF(O880=\"\",\"\",VLOOKUP(O880,Parámetros!O$11:$P$13,MAX(Parámetros!O$7:$P$7),FALSE))","v":""},""]
[null,null,null,{"$f":"IF(E881=\"\",\"\",VLOOKUP(E881,'Buenas prácticas'!$G$8:$H$1007,2,FALSE))","v":""},null,null,null,null,null,null,null,null,null,null,null,{"$f":"IF(F881=\"\",\"\",VLOOKUP(F881,Parámetros!F$11:$P$13,MAX(Parámetros!F$7:$P$7),FALSE))","v":""},{"$f":"IF(G881=\"\",\"\",VLOOKUP(G881,Parámetros!G$11:$P$13,MAX(Parámetros!G$7:$P$7),FALSE))","v":""},{"$f":"IF(H881=\"\",\"\",VLOOKUP(H881,Parámetros!H$11:$P$13,MAX(Parámetros!H$7:$P$7),FALSE))","v":""},{"$f":"IF(I881=\"\",\"\",VLOOKUP(I881,Parámetros!I$11:$P$13,MAX(Parámetros!I$7:$P$7),FALSE))","v":""},{"$f":"IF(J881=\"\",\"\",VLOOKUP(J881,Parámetros!J$11:$P$13,MAX(Parámetros!J$7:$P$7),FALSE))","v":""},{"$f":"IF(K881=\"\",\"\",VLOOKUP(K881,Parámetros!K$11:$P$13,MAX(Parámetros!K$7:$P$7),FALSE))","v":""},{"$f":"IF(L881=\"\",\"\",VLOOKUP(L881,Parámetros!L$11:$P$13,MAX(Parámetros!L$7:$P$7),FALSE))","v":""},{"$f":"IF(M881=\"\",\"\",VLOOKUP(M881,Parámetros!M$11:$P$13,MAX(Parámetros!M$7:$P$7),FALSE))","v":""},{"$f":"IF(N881=\"\",\"\",VLOOKUP(N881,Parámetros!N$11:$P$13,MAX(Parámetros!N$7:$P$7),FALSE))","v":""},{"$f":"IF(O881=\"\",\"\",VLOOKUP(O881,Parámetros!O$11:$P$13,MAX(Parámetros!O$7:$P$7),FALSE))","v":""},""]
[null,null,null,{"$f":"IF(E882=\"\",\"\",VLOOKUP(E882,'Buenas prácticas'!$G$8:$H$1007,2,FALSE))","v":""},null,null,null,null,null,null,null,null,null,null,null,{"$f":"IF(F882=\"\",\"\",VLOOKUP(F882,Parámetros!F$11:$P$13,MAX(Parámetros!F$7:$P$7),FALSE))","v":""},{"$f":"IF(G882=\"\",\"\",VLOOKUP(G882,Parámetros!G$11:$P$13,MAX(Parámetros!G$7:$P$7),FALSE))","v":""},{"$f":"IF(H882=\"\",\"\",VLOOKUP(H882,Parámetros!H$11:$P$13,MAX(Parámetros!H$7:$P$7),FALSE))","v":""},{"$f":"IF(I882=\"\",\"\",VLOOKUP(I882,Parámetros!I$11:$P$13,MAX(Parámetros!I$7:$P$7),FALSE))","v":""},{"$f":"IF(J882=\"\",\"\",VLOOKUP(J882,Parámetros!J$11:$P$13,MAX(Parámetros!J$7:$P$7),FALSE))","v":""},{"$f":"IF(K882=\"\",\"\",VLOOKUP(K882,Parámetros!K$11:$P$13,MAX(Parámetros!K$7:$P$7),FALSE))","v":""},{"$f":"IF(L882=\"\",\"\",VLOOKUP(L882,Parámetros!L$11:$P$13,MAX(Parámetros!L$7:$P$7),FALSE))","v":""},{"$f":"IF(M882=\"\",\"\",VLOOKUP(M882,Parámetros!M$11:$P$13,MAX(Parámetros!M$7:$P$7),FALSE))","v":""},{"$f":"IF(N882=\"\",\"\",VLOOKUP(N882,Parámetros!N$11:$P$13,MAX(Parámetros!N$7:$P$7),FALSE))","v":""},{"$f":"IF(O882=\"\",\"\",VLOOKUP(O882,Parámetros!O$11:$P$13,MAX(Parámetros!O$7:$P$7),FALSE))","v":""},""]
[null,null,null,{"$f":"IF(E883=\"\",\"\",VLOOKUP(E883,'Buenas prácticas'!$G$8:$H$1007,2,FALSE))","v":""},null,null,null,null,null,null,null,null,null,null,null,{"$f":"IF(F883=\"\",\"\",VLOOKUP(F883,Parámetros!F$11:$P$13,MAX(Parámetros!F$7:$P$7),FALSE))","v":""},{"$f":"IF(G883=\"\",\"\",VLOOKUP(G883,Parámetros!G$11:$P$13,MAX(Parámetros!G$7:$P$7),FALSE))","v":""},{"$f":"IF(H883=\"\",\"\",VLOOKUP(H883,Parámetros!H$11:$P$13,MAX(Parámetros!H$7:$P$7),FALSE))","v":""},{"$f":"IF(I883=\"\",\"\",VLOOKUP(I883,Parámetros!I$11:$P$13,MAX(Parámetros!I$7:$P$7),FALSE))","v":""},{"$f":"IF(J883=\"\",\"\",VLOOKUP(J883,Parámetros!J$11:$P$13,MAX(Parámetros!J$7:$P$7),FALSE))","v":""},{"$f":"IF(K883=\"\",\"\",VLOOKUP(K883,Parámetros!K$11:$P$13,MAX(Parámetros!K$7:$P$7),FALSE))","v":""},{"$f":"IF(L883=\"\",\"\",VLOOKUP(L883,Parámetros!L$11:$P$13,MAX(Parámetros!L$7:$P$7),FALSE))","v":""},{"$f":"IF(M883=\"\",\"\",VLOOKUP(M883,Parámetros!M$11:$P$13,MAX(Parámetros!M$7:$P$7),FALSE))","v":""},{"$f":"IF(N883=\"\",\"\",VLOOKUP(N883,Parámetros!N$11:$P$13,MAX(Parámetros!N$7:$P$7),FALSE))","v":""},{"$f":"IF(O883=\"\",\"\",VLOOKUP(O883,Parámetros!O$11:$P$13,MAX(Parámetros!O$7:$P$7),FALSE))","v":""},""]
[null,null,null,{"$f":"IF(E884=\"\",\"\",VLOOKUP(E884,'Buenas prácticas'!$G$8:$H$1007,2,FALSE))","v":""},null,null,null,null,null,null,null,null,null,null,null,{"$f":"IF(F884=\"\",\"\",VLOOKUP(F884,Parámetros!F$11:$P$13,MAX(Parámetros!F$7:$P$7),FALSE))","v":""},{"$f":"IF(G884=\"\",\"\",VLOOKUP(G884,Parámetros!G$11:$P$13,MAX(Parámetros!G$7:$P$7),FALSE))","v":""},{"$f":"IF(H884=\"\",\"\",VLOOKUP(H884,Parámetros!H$11:$P$13,MAX(Parámetros!H$7:$P$7),FALSE))","v":""},{"$f":"IF(I884=\"\",\"\",VLOOKUP(I884,Parámetros!I$11:$P$13,MAX(Parámetros!I$7:$P$7),FALSE))","v":""},{"$f":"IF(J884=\"\",\"\",VLOOKUP(J884,Parámetros!J$11:$P$13,MAX(Parámetros!J$7:$P$7),FALSE))","v":""},{"$f":"IF(K884=\"\",\"\",VLOOKUP(K884,Parámetros!K$11:$P$13,MAX(Parámetros!K$7:$P$7),FALSE))","v":""},{"$f":"IF(L884=\"\",\"\",VLOOKUP(L884,Parámetros!L$11:$P$13,MAX(Parámetros!L$7:$P$7),FALSE))","v":""},{"$f":"IF(M884=\"\",\"\",VLOOKUP(M884,Parámetros!M$11:$P$13,MAX(Parámetros!M$7:$P$7),FALSE))","v":""},{"$f":"IF(N884=\"\",\"\",VLOOKUP(N884,Parámetros!N$11:$P$13,MAX(Parámetros!N$7:$P$7),FALSE))","v":""},{"$f":"IF(O884=\"\",\"\",VLOOKUP(O884,Parámetros!O$11:$P$13,MAX(Parámetros!O$7:$P$7),FALSE))","v":""},""]
[null,null,null,{"$f":"IF(E885=\"\",\"\",VLOOKUP(E885,'Buenas prácticas'!$G$8:$H$1007,2,FALSE))","v":""},null,null,null,null,null,null,null,null,null,null,null,{"$f":"IF(F885=\"\",\"\",VLOOKUP(F885,Parámetros!F$11:$P$13,MAX(Parámetros!F$7:$P$7),FALSE))","v":""},{"$f":"IF(G885=\"\",\"\",VLOOKUP(G885,Parámetros!G$11:$P$13,MAX(Parámetros!G$7:$P$7),FALSE))","v":""},{"$f":"IF(H885=\"\",\"\",VLOOKUP(H885,Parámetros!H$11:$P$13,MAX(Parámetros!H$7:$P$7),FALSE))","v":""},{"$f":"IF(I885=\"\",\"\",VLOOKUP(I885,Parámetros!I$11:$P$13,MAX(Parámetros!I$7:$P$7),FALSE))","v":""},{"$f":"IF(J885=\"\",\"\",VLOOKUP(J885,Parámetros!J$11:$P$13,MAX(Parámetros!J$7:$P$7),FALSE))","v":""},{"$f":"IF(K885=\"\",\"\",VLOOKUP(K885,Parámetros!K$11:$P$13,MAX(Parámetros!K$7:$P$7),FALSE))","v":""},{"$f":"IF(L885=\"\",\"\",VLOOKUP(L885,Parámetros!L$11:$P$13,MAX(Parámetros!L$7:$P$7),FALSE))","v":""},{"$f":"IF(M885=\"\",\"\",VLOOKUP(M885,Parámetros!M$11:$P$13,MAX(Parámetros!M$7:$P$7),FALSE))","v":""},{"$f":"IF(N885=\"\",\"\",VLOOKUP(N885,Parámetros!N$11:$P$13,MAX(Parámetros!N$7:$P$7),FALSE))","v":""},{"$f":"IF(O885=\"\",\"\",VLOOKUP(O885,Parámetros!O$11:$P$13,MAX(Parámetros!O$7:$P$7),FALSE))","v":""},""]
[null,null,null,{"$f":"IF(E886=\"\",\"\",VLOOKUP(E886,'Buenas prácticas'!$G$8:$H$1007,2,FALSE))","v":""},null,null,null,null,null,null,null,null,null,null,null,{"$f":"IF(F886=\"\",\"\",VLOOKUP(F886,Parámetros!F$11:$P$13,MAX(Parámetros!F$7:$P$7),FALSE))","v":""},{"$f":"IF(G886=\"\",\"\",VLOOKUP(G886,Parámetros!G$11:$P$13,MAX(Parámetros!G$7:$P$7),FALSE))","v":""},{"$f":"IF(H886=\"\",\"\",VLOOKUP(H886,Parámetros!H$11:$P$13,MAX(Parámetros!H$7:$P$7),FALSE))","v":""},{"$f":"IF(I886=\"\",\"\",VLOOKUP(I886,Parámetros!I$11:$P$13,MAX(Parámetros!I$7:$P$7),FALSE))","v":""},{"$f":"IF(J886=\"\",\"\",VLOOKUP(J886,Parámetros!J$11:$P$13,MAX(Parámetros!J$7:$P$7),FALSE))","v":""},{"$f":"IF(K886=\"\",\"\",VLOOKUP(K886,Parámetros!K$11:$P$13,MAX(Parámetros!K$7:$P$7),FALSE))","v":""},{"$f":"IF(L886=\"\",\"\",VLOOKUP(L886,Parámetros!L$11:$P$13,MAX(Parámetros!L$7:$P$7),FALSE))","v":""},{"$f":"IF(M886=\"\",\"\",VLOOKUP(M886,Parámetros!M$11:$P$13,MAX(Parámetros!M$7:$P$7),FALSE))","v":""},{"$f":"IF(N886=\"\",\"\",VLOOKUP(N886,Parámetros!N$11:$P$13,MAX(Parámetros!N$7:$P$7),FALSE))","v":""},{"$f":"IF(O886=\"\",\"\",VLOOKUP(O886,Parámetros!O$11:$P$13,MAX(Parámetros!O$7:$P$7),FALSE))","v":""},""]
[null,null,null,{"$f":"IF(E887=\"\",\"\",VLOOKUP(E887,'Buenas prácticas'!$G$8:$H$1007,2,FALSE))","v":""},null,null,null,null,null,null,null,null,null,null,null,{"$f":"IF(F887=\"\",\"\",VLOOKUP(F887,Parámetros!F$11:$P$13,MAX(Parámetros!F$7:$P$7),FALSE))","v":""},{"$f":"IF(G887=\"\",\"\",VLOOKUP(G887,Parámetros!G$11:$P$13,MAX(Parámetros!G$7:$P$7),FALSE))","v":""},{"$f":"IF(H887=\"\",\"\",VLOOKUP(H887,Parámetros!H$11:$P$13,MAX(Parámetros!H$7:$P$7),FALSE))","v":""},{"$f":"IF(I887=\"\",\"\",VLOOKUP(I887,Parámetros!I$11:$P$13,MAX(Parámetros!I$7:$P$7),FALSE))","v":""},{"$f":"IF(J887=\"\",\"\",VLOOKUP(J887,Parámetros!J$11:$P$13,MAX(Parámetros!J$7:$P$7),FALSE))","v":""},{"$f":"IF(K887=\"\",\"\",VLOOKUP(K887,Parámetros!K$11:$P$13,MAX(Parámetros!K$7:$P$7),FALSE))","v":""},{"$f":"IF(L887=\"\",\"\",VLOOKUP(L887,Parámetros!L$11:$P$13,MAX(Parámetros!L$7:$P$7),FALSE))","v":""},{"$f":"IF(M887=\"\",\"\",VLOOKUP(M887,Parámetros!M$11:$P$13,MAX(Parámetros!M$7:$P$7),FALSE))","v":""},{"$f":"IF(N887=\"\",\"\",VLOOKUP(N887,Parámetros!N$11:$P$13,MAX(Parámetros!N$7:$P$7),FALSE))","v":""},{"$f":"IF(O887=\"\",\"\",VLOOKUP(O887,Parámetros!O$11:$P$13,MAX(Parámetros!O$7:$P$7),FALSE))","v":""},""]
[null,null,null,{"$f":"IF(E888=\"\",\"\",VLOOKUP(E888,'Buenas prácticas'!$G$8:$H$1007,2,FALSE))","v":""},null,null,null,null,null,null,null,null,null,null,null,{"$f":"IF(F888=\"\",\"\",VLOOKUP(F888,Parámetros!F$11:$P$13,MAX(Parámetros!F$7:$P$7),FALSE))","v":""},{"$f":"IF(G888=\"\",\"\",VLOOKUP(G888,Parámetros!G$11:$P$13,MAX(Parámetros!G$7:$P$7),FALSE))","v":""},{"$f":"IF(H888=\"\",\"\",VLOOKUP(H888,Parámetros!H$11:$P$13,MAX(Parámetros!H$7:$P$7),FALSE))","v":""},{"$f":"IF(I888=\"\",\"\",VLOOKUP(I888,Parámetros!I$11:$P$13,MAX(Parámetros!I$7:$P$7),FALSE))","v":""},{"$f":"IF(J888=\"\",\"\",VLOOKUP(J888,Parámetros!J$11:$P$13,MAX(Parámetros!J$7:$P$7),FALSE))","v":""},{"$f":"IF(K888=\"\",\"\",VLOOKUP(K888,Parámetros!K$11:$P$13,MAX(Parámetros!K$7:$P$7),FALSE))","v":""},{"$f":"IF(L888=\"\",\"\",VLOOKUP(L888,Parámetros!L$11:$P$13,MAX(Parámetros!L$7:$P$7),FALSE))","v":""},{"$f":"IF(M888=\"\",\"\",VLOOKUP(M888,Parámetros!M$11:$P$13,MAX(Parámetros!M$7:$P$7),FALSE))","v":""},{"$f":"IF(N888=\"\",\"\",VLOOKUP(N888,Parámetros!N$11:$P$13,MAX(Parámetros!N$7:$P$7),FALSE))","v":""},{"$f":"IF(O888=\"\",\"\",VLOOKUP(O888,Parámetros!O$11:$P$13,MAX(Parámetros!O$7:$P$7),FALSE))","v":""},""]
[null,null,null,{"$f":"IF(E889=\"\",\"\",VLOOKUP(E889,'Buenas prácticas'!$G$8:$H$1007,2,FALSE))","v":""},null,null,null,null,null,null,null,null,null,null,null,{"$f":"IF(F889=\"\",\"\",VLOOKUP(F889,Parámetros!F$11:$P$13,MAX(Parámetros!F$7:$P$7),FALSE))","v":""},{"$f":"IF(G889=\"\",\"\",VLOOKUP(G889,Parámetros!G$11:$P$13,MAX(Parámetros!G$7:$P$7),FALSE))","v":""},{"$f":"IF(H889=\"\",\"\",VLOOKUP(H889,Parámetros!H$11:$P$13,MAX(Parámetros!H$7:$P$7),FALSE))","v":""},{"$f":"IF(I889=\"\",\"\",VLOOKUP(I889,Parámetros!I$11:$P$13,MAX(Parámetros!I$7:$P$7),FALSE))","v":""},{"$f":"IF(J889=\"\",\"\",VLOOKUP(J889,Parámetros!J$11:$P$13,MAX(Parámetros!J$7:$P$7),FALSE))","v":""},{"$f":"IF(K889=\"\",\"\",VLOOKUP(K889,Parámetros!K$11:$P$13,MAX(Parámetros!K$7:$P$7),FALSE))","v":""},{"$f":"IF(L889=\"\",\"\",VLOOKUP(L889,Parámetros!L$11:$P$13,MAX(Parámetros!L$7:$P$7),FALSE))","v":""},{"$f":"IF(M889=\"\",\"\",VLOOKUP(M889,Parámetros!M$11:$P$13,MAX(Parámetros!M$7:$P$7),FALSE))","v":""},{"$f":"IF(N889=\"\",\"\",VLOOKUP(N889,Parámetros!N$11:$P$13,MAX(Parámetros!N$7:$P$7),FALSE))","v":""},{"$f":"IF(O889=\"\",\"\",VLOOKUP(O889,Parámetros!O$11:$P$13,MAX(Parámetros!O$7:$P$7),FALSE))","v":""},""]
[null,null,null,{"$f":"IF(E890=\"\",\"\",VLOOKUP(E890,'Buenas prácticas'!$G$8:$H$1007,2,FALSE))","v":""},null,null,null,null,null,null,null,null,null,null,null,{"$f":"IF(F890=\"\",\"\",VLOOKUP(F890,Parámetros!F$11:$P$13,MAX(Parámetros!F$7:$P$7),FALSE))","v":""},{"$f":"IF(G890=\"\",\"\",VLOOKUP(G890,Parámetros!G$11:$P$13,MAX(Parámetros!G$7:$P$7),FALSE))","v":""},{"$f":"IF(H890=\"\",\"\",VLOOKUP(H890,Parámetros!H$11:$P$13,MAX(Parámetros!H$7:$P$7),FALSE))","v":""},{"$f":"IF(I890=\"\",\"\",VLOOKUP(I890,Parámetros!I$11:$P$13,MAX(Parámetros!I$7:$P$7),FALSE))","v":""},{"$f":"IF(J890=\"\",\"\",VLOOKUP(J890,Parámetros!J$11:$P$13,MAX(Parámetros!J$7:$P$7),FALSE))","v":""},{"$f":"IF(K890=\"\",\"\",VLOOKUP(K890,Parámetros!K$11:$P$13,MAX(Parámetros!K$7:$P$7),FALSE))","v":""},{"$f":"IF(L890=\"\",\"\",VLOOKUP(L890,Parámetros!L$11:$P$13,MAX(Parámetros!L$7:$P$7),FALSE))","v":""},{"$f":"IF(M890=\"\",\"\",VLOOKUP(M890,Parámetros!M$11:$P$13,MAX(Parámetros!M$7:$P$7),FALSE))","v":""},{"$f":"IF(N890=\"\",\"\",VLOOKUP(N890,Parámetros!N$11:$P$13,MAX(Parámetros!N$7:$P$7),FALSE))","v":""},{"$f":"IF(O890=\"\",\"\",VLOOKUP(O890,Parámetros!O$11:$P$13,MAX(Parámetros!O$7:$P$7),FALSE))","v":""},""]
[null,null,null,{"$f":"IF(E891=\"\",\"\",VLOOKUP(E891,'Buenas prácticas'!$G$8:$H$1007,2,FALSE))","v":""},null,null,null,null,null,null,null,null,null,null,null,{"$f":"IF(F891=\"\",\"\",VLOOKUP(F891,Parámetros!F$11:$P$13,MAX(Parámetros!F$7:$P$7),FALSE))","v":""},{"$f":"IF(G891=\"\",\"\",VLOOKUP(G891,Parámetros!G$11:$P$13,MAX(Parámetros!G$7:$P$7),FALSE))","v":""},{"$f":"IF(H891=\"\",\"\",VLOOKUP(H891,Parámetros!H$11:$P$13,MAX(Parámetros!H$7:$P$7),FALSE))","v":""},{"$f":"IF(I891=\"\",\"\",VLOOKUP(I891,Parámetros!I$11:$P$13,MAX(Parámetros!I$7:$P$7),FALSE))","v":""},{"$f":"IF(J891=\"\",\"\",VLOOKUP(J891,Parámetros!J$11:$P$13,MAX(Parámetros!J$7:$P$7),FALSE))","v":""},{"$f":"IF(K891=\"\",\"\",VLOOKUP(K891,Parámetros!K$11:$P$13,MAX(Parámetros!K$7:$P$7),FALSE))","v":""},{"$f":"IF(L891=\"\",\"\",VLOOKUP(L891,Parámetros!L$11:$P$13,MAX(Parámetros!L$7:$P$7),FALSE))","v":""},{"$f":"IF(M891=\"\",\"\",VLOOKUP(M891,Parámetros!M$11:$P$13,MAX(Parámetros!M$7:$P$7),FALSE))","v":""},{"$f":"IF(N891=\"\",\"\",VLOOKUP(N891,Parámetros!N$11:$P$13,MAX(Parámetros!N$7:$P$7),FALSE))","v":""},{"$f":"IF(O891=\"\",\"\",VLOOKUP(O891,Parámetros!O$11:$P$13,MAX(Parámetros!O$7:$P$7),FALSE))","v":""},""]
[null,null,null,{"$f":"IF(E892=\"\",\"\",VLOOKUP(E892,'Buenas prácticas'!$G$8:$H$1007,2,FALSE))","v":""},null,null,null,null,null,null,null,null,null,null,null,{"$f":"IF(F892=\"\",\"\",VLOOKUP(F892,Parámetros!F$11:$P$13,MAX(Parámetros!F$7:$P$7),FALSE))","v":""},{"$f":"IF(G892=\"\",\"\",VLOOKUP(G892,Parámetros!G$11:$P$13,MAX(Parámetros!G$7:$P$7),FALSE))","v":""},{"$f":"IF(H892=\"\",\"\",VLOOKUP(H892,Parámetros!H$11:$P$13,MAX(Parámetros!H$7:$P$7),FALSE))","v":""},{"$f":"IF(I892=\"\",\"\",VLOOKUP(I892,Parámetros!I$11:$P$13,MAX(Parámetros!I$7:$P$7),FALSE))","v":""},{"$f":"IF(J892=\"\",\"\",VLOOKUP(J892,Parámetros!J$11:$P$13,MAX(Parámetros!J$7:$P$7),FALSE))","v":""},{"$f":"IF(K892=\"\",\"\",VLOOKUP(K892,Parámetros!K$11:$P$13,MAX(Parámetros!K$7:$P$7),FALSE))","v":""},{"$f":"IF(L892=\"\",\"\",VLOOKUP(L892,Parámetros!L$11:$P$13,MAX(Parámetros!L$7:$P$7),FALSE))","v":""},{"$f":"IF(M892=\"\",\"\",VLOOKUP(M892,Parámetros!M$11:$P$13,MAX(Parámetros!M$7:$P$7),FALSE))","v":""},{"$f":"IF(N892=\"\",\"\",VLOOKUP(N892,Parámetros!N$11:$P$13,MAX(Parámetros!N$7:$P$7),FALSE))","v":""},{"$f":"IF(O892=\"\",\"\",VLOOKUP(O892,Parámetros!O$11:$P$13,MAX(Parámetros!O$7:$P$7),FALSE))","v":""},""]
[null,null,null,{"$f":"IF(E893=\"\",\"\",VLOOKUP(E893,'Buenas prácticas'!$G$8:$H$1007,2,FALSE))","v":""},null,null,null,null,null,null,null,null,null,null,null,{"$f":"IF(F893=\"\",\"\",VLOOKUP(F893,Parámetros!F$11:$P$13,MAX(Parámetros!F$7:$P$7),FALSE))","v":""},{"$f":"IF(G893=\"\",\"\",VLOOKUP(G893,Parámetros!G$11:$P$13,MAX(Parámetros!G$7:$P$7),FALSE))","v":""},{"$f":"IF(H893=\"\",\"\",VLOOKUP(H893,Parámetros!H$11:$P$13,MAX(Parámetros!H$7:$P$7),FALSE))","v":""},{"$f":"IF(I893=\"\",\"\",VLOOKUP(I893,Parámetros!I$11:$P$13,MAX(Parámetros!I$7:$P$7),FALSE))","v":""},{"$f":"IF(J893=\"\",\"\",VLOOKUP(J893,Parámetros!J$11:$P$13,MAX(Parámetros!J$7:$P$7),FALSE))","v":""},{"$f":"IF(K893=\"\",\"\",VLOOKUP(K893,Parámetros!K$11:$P$13,MAX(Parámetros!K$7:$P$7),FALSE))","v":""},{"$f":"IF(L893=\"\",\"\",VLOOKUP(L893,Parámetros!L$11:$P$13,MAX(Parámetros!L$7:$P$7),FALSE))","v":""},{"$f":"IF(M893=\"\",\"\",VLOOKUP(M893,Parámetros!M$11:$P$13,MAX(Parámetros!M$7:$P$7),FALSE))","v":""},{"$f":"IF(N893=\"\",\"\",VLOOKUP(N893,Parámetros!N$11:$P$13,MAX(Parámetros!N$7:$P$7),FALSE))","v":""},{"$f":"IF(O893=\"\",\"\",VLOOKUP(O893,Parámetros!O$11:$P$13,MAX(Parámetros!O$7:$P$7),FALSE))","v":""},""]
[null,null,null,{"$f":"IF(E894=\"\",\"\",VLOOKUP(E894,'Buenas prácticas'!$G$8:$H$1007,2,FALSE))","v":""},null,null,null,null,null,null,null,null,null,null,null,{"$f":"IF(F894=\"\",\"\",VLOOKUP(F894,Parámetros!F$11:$P$13,MAX(Parámetros!F$7:$P$7),FALSE))","v":""},{"$f":"IF(G894=\"\",\"\",VLOOKUP(G894,Parámetros!G$11:$P$13,MAX(Parámetros!G$7:$P$7),FALSE))","v":""},{"$f":"IF(H894=\"\",\"\",VLOOKUP(H894,Parámetros!H$11:$P$13,MAX(Parámetros!H$7:$P$7),FALSE))","v":""},{"$f":"IF(I894=\"\",\"\",VLOOKUP(I894,Parámetros!I$11:$P$13,MAX(Parámetros!I$7:$P$7),FALSE))","v":""},{"$f":"IF(J894=\"\",\"\",VLOOKUP(J894,Parámetros!J$11:$P$13,MAX(Parámetros!J$7:$P$7),FALSE))","v":""},{"$f":"IF(K894=\"\",\"\",VLOOKUP(K894,Parámetros!K$11:$P$13,MAX(Parámetros!K$7:$P$7),FALSE))","v":""},{"$f":"IF(L894=\"\",\"\",VLOOKUP(L894,Parámetros!L$11:$P$13,MAX(Parámetros!L$7:$P$7),FALSE))","v":""},{"$f":"IF(M894=\"\",\"\",VLOOKUP(M894,Parámetros!M$11:$P$13,MAX(Parámetros!M$7:$P$7),FALSE))","v":""},{"$f":"IF(N894=\"\",\"\",VLOOKUP(N894,Parámetros!N$11:$P$13,MAX(Parámetros!N$7:$P$7),FALSE))","v":""},{"$f":"IF(O894=\"\",\"\",VLOOKUP(O894,Parámetros!O$11:$P$13,MAX(Parámetros!O$7:$P$7),FALSE))","v":""},""]
[null,null,null,{"$f":"IF(E895=\"\",\"\",VLOOKUP(E895,'Buenas prácticas'!$G$8:$H$1007,2,FALSE))","v":""},null,null,null,null,null,null,null,null,null,null,null,{"$f":"IF(F895=\"\",\"\",VLOOKUP(F895,Parámetros!F$11:$P$13,MAX(Parámetros!F$7:$P$7),FALSE))","v":""},{"$f":"IF(G895=\"\",\"\",VLOOKUP(G895,Parámetros!G$11:$P$13,MAX(Parámetros!G$7:$P$7),FALSE))","v":""},{"$f":"IF(H895=\"\",\"\",VLOOKUP(H895,Parámetros!H$11:$P$13,MAX(Parámetros!H$7:$P$7),FALSE))","v":""},{"$f":"IF(I895=\"\",\"\",VLOOKUP(I895,Parámetros!I$11:$P$13,MAX(Parámetros!I$7:$P$7),FALSE))","v":""},{"$f":"IF(J895=\"\",\"\",VLOOKUP(J895,Parámetros!J$11:$P$13,MAX(Parámetros!J$7:$P$7),FALSE))","v":""},{"$f":"IF(K895=\"\",\"\",VLOOKUP(K895,Parámetros!K$11:$P$13,MAX(Parámetros!K$7:$P$7),FALSE))","v":""},{"$f":"IF(L895=\"\",\"\",VLOOKUP(L895,Parámetros!L$11:$P$13,MAX(Parámetros!L$7:$P$7),FALSE))","v":""},{"$f":"IF(M895=\"\",\"\",VLOOKUP(M895,Parámetros!M$11:$P$13,MAX(Parámetros!M$7:$P$7),FALSE))","v":""},{"$f":"IF(N895=\"\",\"\",VLOOKUP(N895,Parámetros!N$11:$P$13,MAX(Parámetros!N$7:$P$7),FALSE))","v":""},{"$f":"IF(O895=\"\",\"\",VLOOKUP(O895,Parámetros!O$11:$P$13,MAX(Parámetros!O$7:$P$7),FALSE))","v":""},""]
[null,null,null,{"$f":"IF(E896=\"\",\"\",VLOOKUP(E896,'Buenas prácticas'!$G$8:$H$1007,2,FALSE))","v":""},null,null,null,null,null,null,null,null,null,null,null,{"$f":"IF(F896=\"\",\"\",VLOOKUP(F896,Parámetros!F$11:$P$13,MAX(Parámetros!F$7:$P$7),FALSE))","v":""},{"$f":"IF(G896=\"\",\"\",VLOOKUP(G896,Parámetros!G$11:$P$13,MAX(Parámetros!G$7:$P$7),FALSE))","v":""},{"$f":"IF(H896=\"\",\"\",VLOOKUP(H896,Parámetros!H$11:$P$13,MAX(Parámetros!H$7:$P$7),FALSE))","v":""},{"$f":"IF(I896=\"\",\"\",VLOOKUP(I896,Parámetros!I$11:$P$13,MAX(Parámetros!I$7:$P$7),FALSE))","v":""},{"$f":"IF(J896=\"\",\"\",VLOOKUP(J896,Parámetros!J$11:$P$13,MAX(Parámetros!J$7:$P$7),FALSE))","v":""},{"$f":"IF(K896=\"\",\"\",VLOOKUP(K896,Parámetros!K$11:$P$13,MAX(Parámetros!K$7:$P$7),FALSE))","v":""},{"$f":"IF(L896=\"\",\"\",VLOOKUP(L896,Parámetros!L$11:$P$13,MAX(Parámetros!L$7:$P$7),FALSE))","v":""},{"$f":"IF(M896=\"\",\"\",VLOOKUP(M896,Parámetros!M$11:$P$13,MAX(Parámetros!M$7:$P$7),FALSE))","v":""},{"$f":"IF(N896=\"\",\"\",VLOOKUP(N896,Parámetros!N$11:$P$13,MAX(Parámetros!N$7:$P$7),FALSE))","v":""},{"$f":"IF(O896=\"\",\"\",VLOOKUP(O896,Parámetros!O$11:$P$13,MAX(Parámetros!O$7:$P$7),FALSE))","v":""},""]
[null,null,null,{"$f":"IF(E897=\"\",\"\",VLOOKUP(E897,'Buenas prácticas'!$G$8:$H$1007,2,FALSE))","v":""},null,null,null,null,null,null,null,null,null,null,null,{"$f":"IF(F897=\"\",\"\",VLOOKUP(F897,Parámetros!F$11:$P$13,MAX(Parámetros!F$7:$P$7),FALSE))","v":""},{"$f":"IF(G897=\"\",\"\",VLOOKUP(G897,Parámetros!G$11:$P$13,MAX(Parámetros!G$7:$P$7),FALSE))","v":""},{"$f":"IF(H897=\"\",\"\",VLOOKUP(H897,Parámetros!H$11:$P$13,MAX(Parámetros!H$7:$P$7),FALSE))","v":""},{"$f":"IF(I897=\"\",\"\",VLOOKUP(I897,Parámetros!I$11:$P$13,MAX(Parámetros!I$7:$P$7),FALSE))","v":""},{"$f":"IF(J897=\"\",\"\",VLOOKUP(J897,Parámetros!J$11:$P$13,MAX(Parámetros!J$7:$P$7),FALSE))","v":""},{"$f":"IF(K897=\"\",\"\",VLOOKUP(K897,Parámetros!K$11:$P$13,MAX(Parámetros!K$7:$P$7),FALSE))","v":""},{"$f":"IF(L897=\"\",\"\",VLOOKUP(L897,Parámetros!L$11:$P$13,MAX(Parámetros!L$7:$P$7),FALSE))","v":""},{"$f":"IF(M897=\"\",\"\",VLOOKUP(M897,Parámetros!M$11:$P$13,MAX(Parámetros!M$7:$P$7),FALSE))","v":""},{"$f":"IF(N897=\"\",\"\",VLOOKUP(N897,Parámetros!N$11:$P$13,MAX(Parámetros!N$7:$P$7),FALSE))","v":""},{"$f":"IF(O897=\"\",\"\",VLOOKUP(O897,Parámetros!O$11:$P$13,MAX(Parámetros!O$7:$P$7),FALSE))","v":""},""]
[null,null,null,{"$f":"IF(E898=\"\",\"\",VLOOKUP(E898,'Buenas prácticas'!$G$8:$H$1007,2,FALSE))","v":""},null,null,null,null,null,null,null,null,null,null,null,{"$f":"IF(F898=\"\",\"\",VLOOKUP(F898,Parámetros!F$11:$P$13,MAX(Parámetros!F$7:$P$7),FALSE))","v":""},{"$f":"IF(G898=\"\",\"\",VLOOKUP(G898,Parámetros!G$11:$P$13,MAX(Parámetros!G$7:$P$7),FALSE))","v":""},{"$f":"IF(H898=\"\",\"\",VLOOKUP(H898,Parámetros!H$11:$P$13,MAX(Parámetros!H$7:$P$7),FALSE))","v":""},{"$f":"IF(I898=\"\",\"\",VLOOKUP(I898,Parámetros!I$11:$P$13,MAX(Parámetros!I$7:$P$7),FALSE))","v":""},{"$f":"IF(J898=\"\",\"\",VLOOKUP(J898,Parámetros!J$11:$P$13,MAX(Parámetros!J$7:$P$7),FALSE))","v":""},{"$f":"IF(K898=\"\",\"\",VLOOKUP(K898,Parámetros!K$11:$P$13,MAX(Parámetros!K$7:$P$7),FALSE))","v":""},{"$f":"IF(L898=\"\",\"\",VLOOKUP(L898,Parámetros!L$11:$P$13,MAX(Parámetros!L$7:$P$7),FALSE))","v":""},{"$f":"IF(M898=\"\",\"\",VLOOKUP(M898,Parámetros!M$11:$P$13,MAX(Parámetros!M$7:$P$7),FALSE))","v":""},{"$f":"IF(N898=\"\",\"\",VLOOKUP(N898,Parámetros!N$11:$P$13,MAX(Parámetros!N$7:$P$7),FALSE))","v":""},{"$f":"IF(O898=\"\",\"\",VLOOKUP(O898,Parámetros!O$11:$P$13,MAX(Parámetros!O$7:$P$7),FALSE))","v":""},""]
[null,null,null,{"$f":"IF(E899=\"\",\"\",VLOOKUP(E899,'Buenas prácticas'!$G$8:$H$1007,2,FALSE))","v":""},null,null,null,null,null,null,null,null,null,null,null,{"$f":"IF(F899=\"\",\"\",VLOOKUP(F899,Parámetros!F$11:$P$13,MAX(Parámetros!F$7:$P$7),FALSE))","v":""},{"$f":"IF(G899=\"\",\"\",VLOOKUP(G899,Parámetros!G$11:$P$13,MAX(Parámetros!G$7:$P$7),FALSE))","v":""},{"$f":"IF(H899=\"\",\"\",VLOOKUP(H899,Parámetros!H$11:$P$13,MAX(Parámetros!H$7:$P$7),FALSE))","v":""},{"$f":"IF(I899=\"\",\"\",VLOOKUP(I899,Parámetros!I$11:$P$13,MAX(Parámetros!I$7:$P$7),FALSE))","v":""},{"$f":"IF(J899=\"\",\"\",VLOOKUP(J899,Parámetros!J$11:$P$13,MAX(Parámetros!J$7:$P$7),FALSE))","v":""},{"$f":"IF(K899=\"\",\"\",VLOOKUP(K899,Parámetros!K$11:$P$13,MAX(Parámetros!K$7:$P$7),FALSE))","v":""},{"$f":"IF(L899=\"\",\"\",VLOOKUP(L899,Parámetros!L$11:$P$13,MAX(Parámetros!L$7:$P$7),FALSE))","v":""},{"$f":"IF(M899=\"\",\"\",VLOOKUP(M899,Parámetros!M$11:$P$13,MAX(Parámetros!M$7:$P$7),FALSE))","v":""},{"$f":"IF(N899=\"\",\"\",VLOOKUP(N899,Parámetros!N$11:$P$13,MAX(Parámetros!N$7:$P$7),FALSE))","v":""},{"$f":"IF(O899=\"\",\"\",VLOOKUP(O899,Parámetros!O$11:$P$13,MAX(Parámetros!O$7:$P$7),FALSE))","v":""},""]
[null,null,null,{"$f":"IF(E900=\"\",\"\",VLOOKUP(E900,'Buenas prácticas'!$G$8:$H$1007,2,FALSE))","v":""},null,null,null,null,null,null,null,null,null,null,null,{"$f":"IF(F900=\"\",\"\",VLOOKUP(F900,Parámetros!F$11:$P$13,MAX(Parámetros!F$7:$P$7),FALSE))","v":""},{"$f":"IF(G900=\"\",\"\",VLOOKUP(G900,Parámetros!G$11:$P$13,MAX(Parámetros!G$7:$P$7),FALSE))","v":""},{"$f":"IF(H900=\"\",\"\",VLOOKUP(H900,Parámetros!H$11:$P$13,MAX(Parámetros!H$7:$P$7),FALSE))","v":""},{"$f":"IF(I900=\"\",\"\",VLOOKUP(I900,Parámetros!I$11:$P$13,MAX(Parámetros!I$7:$P$7),FALSE))","v":""},{"$f":"IF(J900=\"\",\"\",VLOOKUP(J900,Parámetros!J$11:$P$13,MAX(Parámetros!J$7:$P$7),FALSE))","v":""},{"$f":"IF(K900=\"\",\"\",VLOOKUP(K900,Parámetros!K$11:$P$13,MAX(Parámetros!K$7:$P$7),FALSE))","v":""},{"$f":"IF(L900=\"\",\"\",VLOOKUP(L900,Parámetros!L$11:$P$13,MAX(Parámetros!L$7:$P$7),FALSE))","v":""},{"$f":"IF(M900=\"\",\"\",VLOOKUP(M900,Parámetros!M$11:$P$13,MAX(Parámetros!M$7:$P$7),FALSE))","v":""},{"$f":"IF(N900=\"\",\"\",VLOOKUP(N900,Parámetros!N$11:$P$13,MAX(Parámetros!N$7:$P$7),FALSE))","v":""},{"$f":"IF(O900=\"\",\"\",VLOOKUP(O900,Parámetros!O$11:$P$13,MAX(Parámetros!O$7:$P$7),FALSE))","v":""},""]
[null,null,null,{"$f":"IF(E901=\"\",\"\",VLOOKUP(E901,'Buenas prácticas'!$G$8:$H$1007,2,FALSE))","v":""},null,null,null,null,null,null,null,null,null,null,null,{"$f":"IF(F901=\"\",\"\",VLOOKUP(F901,Parámetros!F$11:$P$13,MAX(Parámetros!F$7:$P$7),FALSE))","v":""},{"$f":"IF(G901=\"\",\"\",VLOOKUP(G901,Parámetros!G$11:$P$13,MAX(Parámetros!G$7:$P$7),FALSE))","v":""},{"$f":"IF(H901=\"\",\"\",VLOOKUP(H901,Parámetros!H$11:$P$13,MAX(Parámetros!H$7:$P$7),FALSE))","v":""},{"$f":"IF(I901=\"\",\"\",VLOOKUP(I901,Parámetros!I$11:$P$13,MAX(Parámetros!I$7:$P$7),FALSE))","v":""},{"$f":"IF(J901=\"\",\"\",VLOOKUP(J901,Parámetros!J$11:$P$13,MAX(Parámetros!J$7:$P$7),FALSE))","v":""},{"$f":"IF(K901=\"\",\"\",VLOOKUP(K901,Parámetros!K$11:$P$13,MAX(Parámetros!K$7:$P$7),FALSE))","v":""},{"$f":"IF(L901=\"\",\"\",VLOOKUP(L901,Parámetros!L$11:$P$13,MAX(Parámetros!L$7:$P$7),FALSE))","v":""},{"$f":"IF(M901=\"\",\"\",VLOOKUP(M901,Parámetros!M$11:$P$13,MAX(Parámetros!M$7:$P$7),FALSE))","v":""},{"$f":"IF(N901=\"\",\"\",VLOOKUP(N901,Parámetros!N$11:$P$13,MAX(Parámetros!N$7:$P$7),FALSE))","v":""},{"$f":"IF(O901=\"\",\"\",VLOOKUP(O901,Parámetros!O$11:$P$13,MAX(Parámetros!O$7:$P$7),FALSE))","v":""},""]
[null,null,null,{"$f":"IF(E902=\"\",\"\",VLOOKUP(E902,'Buenas prácticas'!$G$8:$H$1007,2,FALSE))","v":""},null,null,null,null,null,null,null,null,null,null,null,{"$f":"IF(F902=\"\",\"\",VLOOKUP(F902,Parámetros!F$11:$P$13,MAX(Parámetros!F$7:$P$7),FALSE))","v":""},{"$f":"IF(G902=\"\",\"\",VLOOKUP(G902,Parámetros!G$11:$P$13,MAX(Parámetros!G$7:$P$7),FALSE))","v":""},{"$f":"IF(H902=\"\",\"\",VLOOKUP(H902,Parámetros!H$11:$P$13,MAX(Parámetros!H$7:$P$7),FALSE))","v":""},{"$f":"IF(I902=\"\",\"\",VLOOKUP(I902,Parámetros!I$11:$P$13,MAX(Parámetros!I$7:$P$7),FALSE))","v":""},{"$f":"IF(J902=\"\",\"\",VLOOKUP(J902,Parámetros!J$11:$P$13,MAX(Parámetros!J$7:$P$7),FALSE))","v":""},{"$f":"IF(K902=\"\",\"\",VLOOKUP(K902,Parámetros!K$11:$P$13,MAX(Parámetros!K$7:$P$7),FALSE))","v":""},{"$f":"IF(L902=\"\",\"\",VLOOKUP(L902,Parámetros!L$11:$P$13,MAX(Parámetros!L$7:$P$7),FALSE))","v":""},{"$f":"IF(M902=\"\",\"\",VLOOKUP(M902,Parámetros!M$11:$P$13,MAX(Parámetros!M$7:$P$7),FALSE))","v":""},{"$f":"IF(N902=\"\",\"\",VLOOKUP(N902,Parámetros!N$11:$P$13,MAX(Parámetros!N$7:$P$7),FALSE))","v":""},{"$f":"IF(O902=\"\",\"\",VLOOKUP(O902,Parámetros!O$11:$P$13,MAX(Parámetros!O$7:$P$7),FALSE))","v":""},""]
[null,null,null,{"$f":"IF(E903=\"\",\"\",VLOOKUP(E903,'Buenas prácticas'!$G$8:$H$1007,2,FALSE))","v":""},null,null,null,null,null,null,null,null,null,null,null,{"$f":"IF(F903=\"\",\"\",VLOOKUP(F903,Parámetros!F$11:$P$13,MAX(Parámetros!F$7:$P$7),FALSE))","v":""},{"$f":"IF(G903=\"\",\"\",VLOOKUP(G903,Parámetros!G$11:$P$13,MAX(Parámetros!G$7:$P$7),FALSE))","v":""},{"$f":"IF(H903=\"\",\"\",VLOOKUP(H903,Parámetros!H$11:$P$13,MAX(Parámetros!H$7:$P$7),FALSE))","v":""},{"$f":"IF(I903=\"\",\"\",VLOOKUP(I903,Parámetros!I$11:$P$13,MAX(Parámetros!I$7:$P$7),FALSE))","v":""},{"$f":"IF(J903=\"\",\"\",VLOOKUP(J903,Parámetros!J$11:$P$13,MAX(Parámetros!J$7:$P$7),FALSE))","v":""},{"$f":"IF(K903=\"\",\"\",VLOOKUP(K903,Parámetros!K$11:$P$13,MAX(Parámetros!K$7:$P$7),FALSE))","v":""},{"$f":"IF(L903=\"\",\"\",VLOOKUP(L903,Parámetros!L$11:$P$13,MAX(Parámetros!L$7:$P$7),FALSE))","v":""},{"$f":"IF(M903=\"\",\"\",VLOOKUP(M903,Parámetros!M$11:$P$13,MAX(Parámetros!M$7:$P$7),FALSE))","v":""},{"$f":"IF(N903=\"\",\"\",VLOOKUP(N903,Parámetros!N$11:$P$13,MAX(Parámetros!N$7:$P$7),FALSE))","v":""},{"$f":"IF(O903=\"\",\"\",VLOOKUP(O903,Parámetros!O$11:$P$13,MAX(Parámetros!O$7:$P$7),FALSE))","v":""},""]
[null,null,null,{"$f":"IF(E904=\"\",\"\",VLOOKUP(E904,'Buenas prácticas'!$G$8:$H$1007,2,FALSE))","v":""},null,null,null,null,null,null,null,null,null,null,null,{"$f":"IF(F904=\"\",\"\",VLOOKUP(F904,Parámetros!F$11:$P$13,MAX(Parámetros!F$7:$P$7),FALSE))","v":""},{"$f":"IF(G904=\"\",\"\",VLOOKUP(G904,Parámetros!G$11:$P$13,MAX(Parámetros!G$7:$P$7),FALSE))","v":""},{"$f":"IF(H904=\"\",\"\",VLOOKUP(H904,Parámetros!H$11:$P$13,MAX(Parámetros!H$7:$P$7),FALSE))","v":""},{"$f":"IF(I904=\"\",\"\",VLOOKUP(I904,Parámetros!I$11:$P$13,MAX(Parámetros!I$7:$P$7),FALSE))","v":""},{"$f":"IF(J904=\"\",\"\",VLOOKUP(J904,Parámetros!J$11:$P$13,MAX(Parámetros!J$7:$P$7),FALSE))","v":""},{"$f":"IF(K904=\"\",\"\",VLOOKUP(K904,Parámetros!K$11:$P$13,MAX(Parámetros!K$7:$P$7),FALSE))","v":""},{"$f":"IF(L904=\"\",\"\",VLOOKUP(L904,Parámetros!L$11:$P$13,MAX(Parámetros!L$7:$P$7),FALSE))","v":""},{"$f":"IF(M904=\"\",\"\",VLOOKUP(M904,Parámetros!M$11:$P$13,MAX(Parámetros!M$7:$P$7),FALSE))","v":""},{"$f":"IF(N904=\"\",\"\",VLOOKUP(N904,Parámetros!N$11:$P$13,MAX(Parámetros!N$7:$P$7),FALSE))","v":""},{"$f":"IF(O904=\"\",\"\",VLOOKUP(O904,Parámetros!O$11:$P$13,MAX(Parámetros!O$7:$P$7),FALSE))","v":""},""]
[null,null,null,{"$f":"IF(E905=\"\",\"\",VLOOKUP(E905,'Buenas prácticas'!$G$8:$H$1007,2,FALSE))","v":""},null,null,null,null,null,null,null,null,null,null,null,{"$f":"IF(F905=\"\",\"\",VLOOKUP(F905,Parámetros!F$11:$P$13,MAX(Parámetros!F$7:$P$7),FALSE))","v":""},{"$f":"IF(G905=\"\",\"\",VLOOKUP(G905,Parámetros!G$11:$P$13,MAX(Parámetros!G$7:$P$7),FALSE))","v":""},{"$f":"IF(H905=\"\",\"\",VLOOKUP(H905,Parámetros!H$11:$P$13,MAX(Parámetros!H$7:$P$7),FALSE))","v":""},{"$f":"IF(I905=\"\",\"\",VLOOKUP(I905,Parámetros!I$11:$P$13,MAX(Parámetros!I$7:$P$7),FALSE))","v":""},{"$f":"IF(J905=\"\",\"\",VLOOKUP(J905,Parámetros!J$11:$P$13,MAX(Parámetros!J$7:$P$7),FALSE))","v":""},{"$f":"IF(K905=\"\",\"\",VLOOKUP(K905,Parámetros!K$11:$P$13,MAX(Parámetros!K$7:$P$7),FALSE))","v":""},{"$f":"IF(L905=\"\",\"\",VLOOKUP(L905,Parámetros!L$11:$P$13,MAX(Parámetros!L$7:$P$7),FALSE))","v":""},{"$f":"IF(M905=\"\",\"\",VLOOKUP(M905,Parámetros!M$11:$P$13,MAX(Parámetros!M$7:$P$7),FALSE))","v":""},{"$f":"IF(N905=\"\",\"\",VLOOKUP(N905,Parámetros!N$11:$P$13,MAX(Parámetros!N$7:$P$7),FALSE))","v":""},{"$f":"IF(O905=\"\",\"\",VLOOKUP(O905,Parámetros!O$11:$P$13,MAX(Parámetros!O$7:$P$7),FALSE))","v":""},{"$f":"IF(SUMPRODUCT($P905:$Y905,$P$6:$Y$6)=0,\"\",SUMPRODUCT($P905:$Y905,$P$6:$Y$6)/3)","v":""}]
[null,null,null,{"$f":"IF(E906=\"\",\"\",VLOOKUP(E906,'Buenas prácticas'!$G$8:$H$1007,2,FALSE))","v":""},null,null,null,null,null,null,null,null,null,null,null,{"$f":"IF(F906=\"\",\"\",VLOOKUP(F906,Parámetros!F$11:$P$13,MAX(Parámetros!F$7:$P$7),FALSE))","v":""},{"$f":"IF(G906=\"\",\"\",VLOOKUP(G906,Parámetros!G$11:$P$13,MAX(Parámetros!G$7:$P$7),FALSE))","v":""},{"$f":"IF(H906=\"\",\"\",VLOOKUP(H906,Parámetros!H$11:$P$13,MAX(Parámetros!H$7:$P$7),FALSE))","v":""},{"$f":"IF(I906=\"\",\"\",VLOOKUP(I906,Parámetros!I$11:$P$13,MAX(Parámetros!I$7:$P$7),FALSE))","v":""},{"$f":"IF(J906=\"\",\"\",VLOOKUP(J906,Parámetros!J$11:$P$13,MAX(Parámetros!J$7:$P$7),FALSE))","v":""},{"$f":"IF(K906=\"\",\"\",VLOOKUP(K906,Parámetros!K$11:$P$13,MAX(Parámetros!K$7:$P$7),FALSE))","v":""},{"$f":"IF(L906=\"\",\"\",VLOOKUP(L906,Parámetros!L$11:$P$13,MAX(Parámetros!L$7:$P$7),FALSE))","v":""},{"$f":"IF(M906=\"\",\"\",VLOOKUP(M906,Parámetros!M$11:$P$13,MAX(Parámetros!M$7:$P$7),FALSE))","v":""},{"$f":"IF(N906=\"\",\"\",VLOOKUP(N906,Parámetros!N$11:$P$13,MAX(Parámetros!N$7:$P$7),FALSE))","v":""},{"$f":"IF(O906=\"\",\"\",VLOOKUP(O906,Parámetros!O$11:$P$13,MAX(Parámetros!O$7:$P$7),FALSE))","v":""},""]
[null,null,null,{"$f":"IF(E907=\"\",\"\",VLOOKUP(E907,'Buenas prácticas'!$G$8:$H$1007,2,FALSE))","v":""},null,null,null,null,null,null,null,null,null,null,null,{"$f":"IF(F907=\"\",\"\",VLOOKUP(F907,Parámetros!F$11:$P$13,MAX(Parámetros!F$7:$P$7),FALSE))","v":""},{"$f":"IF(G907=\"\",\"\",VLOOKUP(G907,Parámetros!G$11:$P$13,MAX(Parámetros!G$7:$P$7),FALSE))","v":""},{"$f":"IF(H907=\"\",\"\",VLOOKUP(H907,Parámetros!H$11:$P$13,MAX(Parámetros!H$7:$P$7),FALSE))","v":""},{"$f":"IF(I907=\"\",\"\",VLOOKUP(I907,Parámetros!I$11:$P$13,MAX(Parámetros!I$7:$P$7),FALSE))","v":""},{"$f":"IF(J907=\"\",\"\",VLOOKUP(J907,Parámetros!J$11:$P$13,MAX(Parámetros!J$7:$P$7),FALSE))","v":""},{"$f":"IF(K907=\"\",\"\",VLOOKUP(K907,Parámetros!K$11:$P$13,MAX(Parámetros!K$7:$P$7),FALSE))","v":""},{"$f":"IF(L907=\"\",\"\",VLOOKUP(L907,Parámetros!L$11:$P$13,MAX(Parámetros!L$7:$P$7),FALSE))","v":""},{"$f":"IF(M907=\"\",\"\",VLOOKUP(M907,Parámetros!M$11:$P$13,MAX(Parámetros!M$7:$P$7),FALSE))","v":""},{"$f":"IF(N907=\"\",\"\",VLOOKUP(N907,Parámetros!N$11:$P$13,MAX(Parámetros!N$7:$P$7),FALSE))","v":""},{"$f":"IF(O907=\"\",\"\",VLOOKUP(O907,Parámetros!O$11:$P$13,MAX(Parámetros!O$7:$P$7),FALSE))","v":""},""]
[null,null,null,{"$f":"IF(E908=\"\",\"\",VLOOKUP(E908,'Buenas prácticas'!$G$8:$H$1007,2,FALSE))","v":""},null,null,null,null,null,null,null,null,null,null,null,{"$f":"IF(F908=\"\",\"\",VLOOKUP(F908,Parámetros!F$11:$P$13,MAX(Parámetros!F$7:$P$7),FALSE))","v":""},{"$f":"IF(G908=\"\",\"\",VLOOKUP(G908,Parámetros!G$11:$P$13,MAX(Parámetros!G$7:$P$7),FALSE))","v":""},{"$f":"IF(H908=\"\",\"\",VLOOKUP(H908,Parámetros!H$11:$P$13,MAX(Parámetros!H$7:$P$7),FALSE))","v":""},{"$f":"IF(I908=\"\",\"\",VLOOKUP(I908,Parámetros!I$11:$P$13,MAX(Parámetros!I$7:$P$7),FALSE))","v":""},{"$f":"IF(J908=\"\",\"\",VLOOKUP(J908,Parámetros!J$11:$P$13,MAX(Parámetros!J$7:$P$7),FALSE))","v":""},{"$f":"IF(K908=\"\",\"\",VLOOKUP(K908,Parámetros!K$11:$P$13,MAX(Parámetros!K$7:$P$7),FALSE))","v":""},{"$f":"IF(L908=\"\",\"\",VLOOKUP(L908,Parámetros!L$11:$P$13,MAX(Parámetros!L$7:$P$7),FALSE))","v":""},{"$f":"IF(M908=\"\",\"\",VLOOKUP(M908,Parámetros!M$11:$P$13,MAX(Parámetros!M$7:$P$7),FALSE))","v":""},{"$f":"IF(N908=\"\",\"\",VLOOKUP(N908,Parámetros!N$11:$P$13,MAX(Parámetros!N$7:$P$7),FALSE))","v":""},{"$f":"IF(O908=\"\",\"\",VLOOKUP(O908,Parámetros!O$11:$P$13,MAX(Parámetros!O$7:$P$7),FALSE))","v":""},""]
[null,null,null,{"$f":"IF(E909=\"\",\"\",VLOOKUP(E909,'Buenas prácticas'!$G$8:$H$1007,2,FALSE))","v":""},null,null,null,null,null,null,null,null,null,null,null,{"$f":"IF(F909=\"\",\"\",VLOOKUP(F909,Parámetros!F$11:$P$13,MAX(Parámetros!F$7:$P$7),FALSE))","v":""},{"$f":"IF(G909=\"\",\"\",VLOOKUP(G909,Parámetros!G$11:$P$13,MAX(Parámetros!G$7:$P$7),FALSE))","v":""},{"$f":"IF(H909=\"\",\"\",VLOOKUP(H909,Parámetros!H$11:$P$13,MAX(Parámetros!H$7:$P$7),FALSE))","v":""},{"$f":"IF(I909=\"\",\"\",VLOOKUP(I909,Parámetros!I$11:$P$13,MAX(Parámetros!I$7:$P$7),FALSE))","v":""},{"$f":"IF(J909=\"\",\"\",VLOOKUP(J909,Parámetros!J$11:$P$13,MAX(Parámetros!J$7:$P$7),FALSE))","v":""},{"$f":"IF(K909=\"\",\"\",VLOOKUP(K909,Parámetros!K$11:$P$13,MAX(Parámetros!K$7:$P$7),FALSE))","v":""},{"$f":"IF(L909=\"\",\"\",VLOOKUP(L909,Parámetros!L$11:$P$13,MAX(Parámetros!L$7:$P$7),FALSE))","v":""},{"$f":"IF(M909=\"\",\"\",VLOOKUP(M909,Parámetros!M$11:$P$13,MAX(Parámetros!M$7:$P$7),FALSE))","v":""},{"$f":"IF(N909=\"\",\"\",VLOOKUP(N909,Parámetros!N$11:$P$13,MAX(Parámetros!N$7:$P$7),FALSE))","v":""},{"$f":"IF(O909=\"\",\"\",VLOOKUP(O909,Parámetros!O$11:$P$13,MAX(Parámetros!O$7:$P$7),FALSE))","v":""},""]
[null,null,null,{"$f":"IF(E910=\"\",\"\",VLOOKUP(E910,'Buenas prácticas'!$G$8:$H$1007,2,FALSE))","v":""},null,null,null,null,null,null,null,null,null,null,null,{"$f":"IF(F910=\"\",\"\",VLOOKUP(F910,Parámetros!F$11:$P$13,MAX(Parámetros!F$7:$P$7),FALSE))","v":""},{"$f":"IF(G910=\"\",\"\",VLOOKUP(G910,Parámetros!G$11:$P$13,MAX(Parámetros!G$7:$P$7),FALSE))","v":""},{"$f":"IF(H910=\"\",\"\",VLOOKUP(H910,Parámetros!H$11:$P$13,MAX(Parámetros!H$7:$P$7),FALSE))","v":""},{"$f":"IF(I910=\"\",\"\",VLOOKUP(I910,Parámetros!I$11:$P$13,MAX(Parámetros!I$7:$P$7),FALSE))","v":""},{"$f":"IF(J910=\"\",\"\",VLOOKUP(J910,Parámetros!J$11:$P$13,MAX(Parámetros!J$7:$P$7),FALSE))","v":""},{"$f":"IF(K910=\"\",\"\",VLOOKUP(K910,Parámetros!K$11:$P$13,MAX(Parámetros!K$7:$P$7),FALSE))","v":""},{"$f":"IF(L910=\"\",\"\",VLOOKUP(L910,Parámetros!L$11:$P$13,MAX(Parámetros!L$7:$P$7),FALSE))","v":""},{"$f":"IF(M910=\"\",\"\",VLOOKUP(M910,Parámetros!M$11:$P$13,MAX(Parámetros!M$7:$P$7),FALSE))","v":""},{"$f":"IF(N910=\"\",\"\",VLOOKUP(N910,Parámetros!N$11:$P$13,MAX(Parámetros!N$7:$P$7),FALSE))","v":""},{"$f":"IF(O910=\"\",\"\",VLOOKUP(O910,Parámetros!O$11:$P$13,MAX(Parámetros!O$7:$P$7),FALSE))","v":""},""]
[null,null,null,{"$f":"IF(E911=\"\",\"\",VLOOKUP(E911,'Buenas prácticas'!$G$8:$H$1007,2,FALSE))","v":""},null,null,null,null,null,null,null,null,null,null,null,{"$f":"IF(F911=\"\",\"\",VLOOKUP(F911,Parámetros!F$11:$P$13,MAX(Parámetros!F$7:$P$7),FALSE))","v":""},{"$f":"IF(G911=\"\",\"\",VLOOKUP(G911,Parámetros!G$11:$P$13,MAX(Parámetros!G$7:$P$7),FALSE))","v":""},{"$f":"IF(H911=\"\",\"\",VLOOKUP(H911,Parámetros!H$11:$P$13,MAX(Parámetros!H$7:$P$7),FALSE))","v":""},{"$f":"IF(I911=\"\",\"\",VLOOKUP(I911,Parámetros!I$11:$P$13,MAX(Parámetros!I$7:$P$7),FALSE))","v":""},{"$f":"IF(J911=\"\",\"\",VLOOKUP(J911,Parámetros!J$11:$P$13,MAX(Parámetros!J$7:$P$7),FALSE))","v":""},{"$f":"IF(K911=\"\",\"\",VLOOKUP(K911,Parámetros!K$11:$P$13,MAX(Parámetros!K$7:$P$7),FALSE))","v":""},{"$f":"IF(L911=\"\",\"\",VLOOKUP(L911,Parámetros!L$11:$P$13,MAX(Parámetros!L$7:$P$7),FALSE))","v":""},{"$f":"IF(M911=\"\",\"\",VLOOKUP(M911,Parámetros!M$11:$P$13,MAX(Parámetros!M$7:$P$7),FALSE))","v":""},{"$f":"IF(N911=\"\",\"\",VLOOKUP(N911,Parámetros!N$11:$P$13,MAX(Parámetros!N$7:$P$7),FALSE))","v":""},{"$f":"IF(O911=\"\",\"\",VLOOKUP(O911,Parámetros!O$11:$P$13,MAX(Parámetros!O$7:$P$7),FALSE))","v":""},""]
[null,null,null,{"$f":"IF(E912=\"\",\"\",VLOOKUP(E912,'Buenas prácticas'!$G$8:$H$1007,2,FALSE))","v":""},null,null,null,null,null,null,null,null,null,null,null,{"$f":"IF(F912=\"\",\"\",VLOOKUP(F912,Parámetros!F$11:$P$13,MAX(Parámetros!F$7:$P$7),FALSE))","v":""},{"$f":"IF(G912=\"\",\"\",VLOOKUP(G912,Parámetros!G$11:$P$13,MAX(Parámetros!G$7:$P$7),FALSE))","v":""},{"$f":"IF(H912=\"\",\"\",VLOOKUP(H912,Parámetros!H$11:$P$13,MAX(Parámetros!H$7:$P$7),FALSE))","v":""},{"$f":"IF(I912=\"\",\"\",VLOOKUP(I912,Parámetros!I$11:$P$13,MAX(Parámetros!I$7:$P$7),FALSE))","v":""},{"$f":"IF(J912=\"\",\"\",VLOOKUP(J912,Parámetros!J$11:$P$13,MAX(Parámetros!J$7:$P$7),FALSE))","v":""},{"$f":"IF(K912=\"\",\"\",VLOOKUP(K912,Parámetros!K$11:$P$13,MAX(Parámetros!K$7:$P$7),FALSE))","v":""},{"$f":"IF(L912=\"\",\"\",VLOOKUP(L912,Parámetros!L$11:$P$13,MAX(Parámetros!L$7:$P$7),FALSE))","v":""},{"$f":"IF(M912=\"\",\"\",VLOOKUP(M912,Parámetros!M$11:$P$13,MAX(Parámetros!M$7:$P$7),FALSE))","v":""},{"$f":"IF(N912=\"\",\"\",VLOOKUP(N912,Parámetros!N$11:$P$13,MAX(Parámetros!N$7:$P$7),FALSE))","v":""},{"$f":"IF(O912=\"\",\"\",VLOOKUP(O912,Parámetros!O$11:$P$13,MAX(Parámetros!O$7:$P$7),FALSE))","v":""},""]
[null,null,null,{"$f":"IF(E913=\"\",\"\",VLOOKUP(E913,'Buenas prácticas'!$G$8:$H$1007,2,FALSE))","v":""},null,null,null,null,null,null,null,null,null,null,null,{"$f":"IF(F913=\"\",\"\",VLOOKUP(F913,Parámetros!F$11:$P$13,MAX(Parámetros!F$7:$P$7),FALSE))","v":""},{"$f":"IF(G913=\"\",\"\",VLOOKUP(G913,Parámetros!G$11:$P$13,MAX(Parámetros!G$7:$P$7),FALSE))","v":""},{"$f":"IF(H913=\"\",\"\",VLOOKUP(H913,Parámetros!H$11:$P$13,MAX(Parámetros!H$7:$P$7),FALSE))","v":""},{"$f":"IF(I913=\"\",\"\",VLOOKUP(I913,Parámetros!I$11:$P$13,MAX(Parámetros!I$7:$P$7),FALSE))","v":""},{"$f":"IF(J913=\"\",\"\",VLOOKUP(J913,Parámetros!J$11:$P$13,MAX(Parámetros!J$7:$P$7),FALSE))","v":""},{"$f":"IF(K913=\"\",\"\",VLOOKUP(K913,Parámetros!K$11:$P$13,MAX(Parámetros!K$7:$P$7),FALSE))","v":""},{"$f":"IF(L913=\"\",\"\",VLOOKUP(L913,Parámetros!L$11:$P$13,MAX(Parámetros!L$7:$P$7),FALSE))","v":""},{"$f":"IF(M913=\"\",\"\",VLOOKUP(M913,Parámetros!M$11:$P$13,MAX(Parámetros!M$7:$P$7),FALSE))","v":""},{"$f":"IF(N913=\"\",\"\",VLOOKUP(N913,Parámetros!N$11:$P$13,MAX(Parámetros!N$7:$P$7),FALSE))","v":""},{"$f":"IF(O913=\"\",\"\",VLOOKUP(O913,Parámetros!O$11:$P$13,MAX(Parámetros!O$7:$P$7),FALSE))","v":""},""]
[null,null,null,{"$f":"IF(E914=\"\",\"\",VLOOKUP(E914,'Buenas prácticas'!$G$8:$H$1007,2,FALSE))","v":""},null,null,null,null,null,null,null,null,null,null,null,{"$f":"IF(F914=\"\",\"\",VLOOKUP(F914,Parámetros!F$11:$P$13,MAX(Parámetros!F$7:$P$7),FALSE))","v":""},{"$f":"IF(G914=\"\",\"\",VLOOKUP(G914,Parámetros!G$11:$P$13,MAX(Parámetros!G$7:$P$7),FALSE))","v":""},{"$f":"IF(H914=\"\",\"\",VLOOKUP(H914,Parámetros!H$11:$P$13,MAX(Parámetros!H$7:$P$7),FALSE))","v":""},{"$f":"IF(I914=\"\",\"\",VLOOKUP(I914,Parámetros!I$11:$P$13,MAX(Parámetros!I$7:$P$7),FALSE))","v":""},{"$f":"IF(J914=\"\",\"\",VLOOKUP(J914,Parámetros!J$11:$P$13,MAX(Parámetros!J$7:$P$7),FALSE))","v":""},{"$f":"IF(K914=\"\",\"\",VLOOKUP(K914,Parámetros!K$11:$P$13,MAX(Parámetros!K$7:$P$7),FALSE))","v":""},{"$f":"IF(L914=\"\",\"\",VLOOKUP(L914,Parámetros!L$11:$P$13,MAX(Parámetros!L$7:$P$7),FALSE))","v":""},{"$f":"IF(M914=\"\",\"\",VLOOKUP(M914,Parámetros!M$11:$P$13,MAX(Parámetros!M$7:$P$7),FALSE))","v":""},{"$f":"IF(N914=\"\",\"\",VLOOKUP(N914,Parámetros!N$11:$P$13,MAX(Parámetros!N$7:$P$7),FALSE))","v":""},{"$f":"IF(O914=\"\",\"\",VLOOKUP(O914,Parámetros!O$11:$P$13,MAX(Parámetros!O$7:$P$7),FALSE))","v":""},""]
[null,null,null,{"$f":"IF(E915=\"\",\"\",VLOOKUP(E915,'Buenas prácticas'!$G$8:$H$1007,2,FALSE))","v":""},null,null,null,null,null,null,null,null,null,null,null,{"$f":"IF(F915=\"\",\"\",VLOOKUP(F915,Parámetros!F$11:$P$13,MAX(Parámetros!F$7:$P$7),FALSE))","v":""},{"$f":"IF(G915=\"\",\"\",VLOOKUP(G915,Parámetros!G$11:$P$13,MAX(Parámetros!G$7:$P$7),FALSE))","v":""},{"$f":"IF(H915=\"\",\"\",VLOOKUP(H915,Parámetros!H$11:$P$13,MAX(Parámetros!H$7:$P$7),FALSE))","v":""},{"$f":"IF(I915=\"\",\"\",VLOOKUP(I915,Parámetros!I$11:$P$13,MAX(Parámetros!I$7:$P$7),FALSE))","v":""},{"$f":"IF(J915=\"\",\"\",VLOOKUP(J915,Parámetros!J$11:$P$13,MAX(Parámetros!J$7:$P$7),FALSE))","v":""},{"$f":"IF(K915=\"\",\"\",VLOOKUP(K915,Parámetros!K$11:$P$13,MAX(Parámetros!K$7:$P$7),FALSE))","v":""},{"$f":"IF(L915=\"\",\"\",VLOOKUP(L915,Parámetros!L$11:$P$13,MAX(Parámetros!L$7:$P$7),FALSE))","v":""},{"$f":"IF(M915=\"\",\"\",VLOOKUP(M915,Parámetros!M$11:$P$13,MAX(Parámetros!M$7:$P$7),FALSE))","v":""},{"$f":"IF(N915=\"\",\"\",VLOOKUP(N915,Parámetros!N$11:$P$13,MAX(Parámetros!N$7:$P$7),FALSE))","v":""},{"$f":"IF(O915=\"\",\"\",VLOOKUP(O915,Parámetros!O$11:$P$13,MAX(Parámetros!O$7:$P$7),FALSE))","v":""},""]
[null,null,null,{"$f":"IF(E916=\"\",\"\",VLOOKUP(E916,'Buenas prácticas'!$G$8:$H$1007,2,FALSE))","v":""},null,null,null,null,null,null,null,null,null,null,null,{"$f":"IF(F916=\"\",\"\",VLOOKUP(F916,Parámetros!F$11:$P$13,MAX(Parámetros!F$7:$P$7),FALSE))","v":""},{"$f":"IF(G916=\"\",\"\",VLOOKUP(G916,Parámetros!G$11:$P$13,MAX(Parámetros!G$7:$P$7),FALSE))","v":""},{"$f":"IF(H916=\"\",\"\",VLOOKUP(H916,Parámetros!H$11:$P$13,MAX(Parámetros!H$7:$P$7),FALSE))","v":""},{"$f":"IF(I916=\"\",\"\",VLOOKUP(I916,Parámetros!I$11:$P$13,MAX(Parámetros!I$7:$P$7),FALSE))","v":""},{"$f":"IF(J916=\"\",\"\",VLOOKUP(J916,Parámetros!J$11:$P$13,MAX(Parámetros!J$7:$P$7),FALSE))","v":""},{"$f":"IF(K916=\"\",\"\",VLOOKUP(K916,Parámetros!K$11:$P$13,MAX(Parámetros!K$7:$P$7),FALSE))","v":""},{"$f":"IF(L916=\"\",\"\",VLOOKUP(L916,Parámetros!L$11:$P$13,MAX(Parámetros!L$7:$P$7),FALSE))","v":""},{"$f":"IF(M916=\"\",\"\",VLOOKUP(M916,Parámetros!M$11:$P$13,MAX(Parámetros!M$7:$P$7),FALSE))","v":""},{"$f":"IF(N916=\"\",\"\",VLOOKUP(N916,Parámetros!N$11:$P$13,MAX(Parámetros!N$7:$P$7),FALSE))","v":""},{"$f":"IF(O916=\"\",\"\",VLOOKUP(O916,Parámetros!O$11:$P$13,MAX(Parámetros!O$7:$P$7),FALSE))","v":""},""]
[null,null,null,{"$f":"IF(E917=\"\",\"\",VLOOKUP(E917,'Buenas prácticas'!$G$8:$H$1007,2,FALSE))","v":""},null,null,null,null,null,null,null,null,null,null,null,{"$f":"IF(F917=\"\",\"\",VLOOKUP(F917,Parámetros!F$11:$P$13,MAX(Parámetros!F$7:$P$7),FALSE))","v":""},{"$f":"IF(G917=\"\",\"\",VLOOKUP(G917,Parámetros!G$11:$P$13,MAX(Parámetros!G$7:$P$7),FALSE))","v":""},{"$f":"IF(H917=\"\",\"\",VLOOKUP(H917,Parámetros!H$11:$P$13,MAX(Parámetros!H$7:$P$7),FALSE))","v":""},{"$f":"IF(I917=\"\",\"\",VLOOKUP(I917,Parámetros!I$11:$P$13,MAX(Parámetros!I$7:$P$7),FALSE))","v":""},{"$f":"IF(J917=\"\",\"\",VLOOKUP(J917,Parámetros!J$11:$P$13,MAX(Parámetros!J$7:$P$7),FALSE))","v":""},{"$f":"IF(K917=\"\",\"\",VLOOKUP(K917,Parámetros!K$11:$P$13,MAX(Parámetros!K$7:$P$7),FALSE))","v":""},{"$f":"IF(L917=\"\",\"\",VLOOKUP(L917,Parámetros!L$11:$P$13,MAX(Parámetros!L$7:$P$7),FALSE))","v":""},{"$f":"IF(M917=\"\",\"\",VLOOKUP(M917,Parámetros!M$11:$P$13,MAX(Parámetros!M$7:$P$7),FALSE))","v":""},{"$f":"IF(N917=\"\",\"\",VLOOKUP(N917,Parámetros!N$11:$P$13,MAX(Parámetros!N$7:$P$7),FALSE))","v":""},{"$f":"IF(O917=\"\",\"\",VLOOKUP(O917,Parámetros!O$11:$P$13,MAX(Parámetros!O$7:$P$7),FALSE))","v":""},""]
[null,null,null,{"$f":"IF(E918=\"\",\"\",VLOOKUP(E918,'Buenas prácticas'!$G$8:$H$1007,2,FALSE))","v":""},null,null,null,null,null,null,null,null,null,null,null,{"$f":"IF(F918=\"\",\"\",VLOOKUP(F918,Parámetros!F$11:$P$13,MAX(Parámetros!F$7:$P$7),FALSE))","v":""},{"$f":"IF(G918=\"\",\"\",VLOOKUP(G918,Parámetros!G$11:$P$13,MAX(Parámetros!G$7:$P$7),FALSE))","v":""},{"$f":"IF(H918=\"\",\"\",VLOOKUP(H918,Parámetros!H$11:$P$13,MAX(Parámetros!H$7:$P$7),FALSE))","v":""},{"$f":"IF(I918=\"\",\"\",VLOOKUP(I918,Parámetros!I$11:$P$13,MAX(Parámetros!I$7:$P$7),FALSE))","v":""},{"$f":"IF(J918=\"\",\"\",VLOOKUP(J918,Parámetros!J$11:$P$13,MAX(Parámetros!J$7:$P$7),FALSE))","v":""},{"$f":"IF(K918=\"\",\"\",VLOOKUP(K918,Parámetros!K$11:$P$13,MAX(Parámetros!K$7:$P$7),FALSE))","v":""},{"$f":"IF(L918=\"\",\"\",VLOOKUP(L918,Parámetros!L$11:$P$13,MAX(Parámetros!L$7:$P$7),FALSE))","v":""},{"$f":"IF(M918=\"\",\"\",VLOOKUP(M918,Parámetros!M$11:$P$13,MAX(Parámetros!M$7:$P$7),FALSE))","v":""},{"$f":"IF(N918=\"\",\"\",VLOOKUP(N918,Parámetros!N$11:$P$13,MAX(Parámetros!N$7:$P$7),FALSE))","v":""},{"$f":"IF(O918=\"\",\"\",VLOOKUP(O918,Parámetros!O$11:$P$13,MAX(Parámetros!O$7:$P$7),FALSE))","v":""},""]
[null,null,null,{"$f":"IF(E919=\"\",\"\",VLOOKUP(E919,'Buenas prácticas'!$G$8:$H$1007,2,FALSE))","v":""},null,null,null,null,null,null,null,null,null,null,null,{"$f":"IF(F919=\"\",\"\",VLOOKUP(F919,Parámetros!F$11:$P$13,MAX(Parámetros!F$7:$P$7),FALSE))","v":""},{"$f":"IF(G919=\"\",\"\",VLOOKUP(G919,Parámetros!G$11:$P$13,MAX(Parámetros!G$7:$P$7),FALSE))","v":""},{"$f":"IF(H919=\"\",\"\",VLOOKUP(H919,Parámetros!H$11:$P$13,MAX(Parámetros!H$7:$P$7),FALSE))","v":""},{"$f":"IF(I919=\"\",\"\",VLOOKUP(I919,Parámetros!I$11:$P$13,MAX(Parámetros!I$7:$P$7),FALSE))","v":""},{"$f":"IF(J919=\"\",\"\",VLOOKUP(J919,Parámetros!J$11:$P$13,MAX(Parámetros!J$7:$P$7),FALSE))","v":""},{"$f":"IF(K919=\"\",\"\",VLOOKUP(K919,Parámetros!K$11:$P$13,MAX(Parámetros!K$7:$P$7),FALSE))","v":""},{"$f":"IF(L919=\"\",\"\",VLOOKUP(L919,Parámetros!L$11:$P$13,MAX(Parámetros!L$7:$P$7),FALSE))","v":""},{"$f":"IF(M919=\"\",\"\",VLOOKUP(M919,Parámetros!M$11:$P$13,MAX(Parámetros!M$7:$P$7),FALSE))","v":""},{"$f":"IF(N919=\"\",\"\",VLOOKUP(N919,Parámetros!N$11:$P$13,MAX(Parámetros!N$7:$P$7),FALSE))","v":""},{"$f":"IF(O919=\"\",\"\",VLOOKUP(O919,Parámetros!O$11:$P$13,MAX(Parámetros!O$7:$P$7),FALSE))","v":""},""]
[null,null,null,{"$f":"IF(E920=\"\",\"\",VLOOKUP(E920,'Buenas prácticas'!$G$8:$H$1007,2,FALSE))","v":""},null,null,null,null,null,null,null,null,null,null,null,{"$f":"IF(F920=\"\",\"\",VLOOKUP(F920,Parámetros!F$11:$P$13,MAX(Parámetros!F$7:$P$7),FALSE))","v":""},{"$f":"IF(G920=\"\",\"\",VLOOKUP(G920,Parámetros!G$11:$P$13,MAX(Parámetros!G$7:$P$7),FALSE))","v":""},{"$f":"IF(H920=\"\",\"\",VLOOKUP(H920,Parámetros!H$11:$P$13,MAX(Parámetros!H$7:$P$7),FALSE))","v":""},{"$f":"IF(I920=\"\",\"\",VLOOKUP(I920,Parámetros!I$11:$P$13,MAX(Parámetros!I$7:$P$7),FALSE))","v":""},{"$f":"IF(J920=\"\",\"\",VLOOKUP(J920,Parámetros!J$11:$P$13,MAX(Parámetros!J$7:$P$7),FALSE))","v":""},{"$f":"IF(K920=\"\",\"\",VLOOKUP(K920,Parámetros!K$11:$P$13,MAX(Parámetros!K$7:$P$7),FALSE))","v":""},{"$f":"IF(L920=\"\",\"\",VLOOKUP(L920,Parámetros!L$11:$P$13,MAX(Parámetros!L$7:$P$7),FALSE))","v":""},{"$f":"IF(M920=\"\",\"\",VLOOKUP(M920,Parámetros!M$11:$P$13,MAX(Parámetros!M$7:$P$7),FALSE))","v":""},{"$f":"IF(N920=\"\",\"\",VLOOKUP(N920,Parámetros!N$11:$P$13,MAX(Parámetros!N$7:$P$7),FALSE))","v":""},{"$f":"IF(O920=\"\",\"\",VLOOKUP(O920,Parámetros!O$11:$P$13,MAX(Parámetros!O$7:$P$7),FALSE))","v":""},""]
[null,null,null,{"$f":"IF(E921=\"\",\"\",VLOOKUP(E921,'Buenas prácticas'!$G$8:$H$1007,2,FALSE))","v":""},null,null,null,null,null,null,null,null,null,null,null,{"$f":"IF(F921=\"\",\"\",VLOOKUP(F921,Parámetros!F$11:$P$13,MAX(Parámetros!F$7:$P$7),FALSE))","v":""},{"$f":"IF(G921=\"\",\"\",VLOOKUP(G921,Parámetros!G$11:$P$13,MAX(Parámetros!G$7:$P$7),FALSE))","v":""},{"$f":"IF(H921=\"\",\"\",VLOOKUP(H921,Parámetros!H$11:$P$13,MAX(Parámetros!H$7:$P$7),FALSE))","v":""},{"$f":"IF(I921=\"\",\"\",VLOOKUP(I921,Parámetros!I$11:$P$13,MAX(Parámetros!I$7:$P$7),FALSE))","v":""},{"$f":"IF(J921=\"\",\"\",VLOOKUP(J921,Parámetros!J$11:$P$13,MAX(Parámetros!J$7:$P$7),FALSE))","v":""},{"$f":"IF(K921=\"\",\"\",VLOOKUP(K921,Parámetros!K$11:$P$13,MAX(Parámetros!K$7:$P$7),FALSE))","v":""},{"$f":"IF(L921=\"\",\"\",VLOOKUP(L921,Parámetros!L$11:$P$13,MAX(Parámetros!L$7:$P$7),FALSE))","v":""},{"$f":"IF(M921=\"\",\"\",VLOOKUP(M921,Parámetros!M$11:$P$13,MAX(Parámetros!M$7:$P$7),FALSE))","v":""},{"$f":"IF(N921=\"\",\"\",VLOOKUP(N921,Parámetros!N$11:$P$13,MAX(Parámetros!N$7:$P$7),FALSE))","v":""},{"$f":"IF(O921=\"\",\"\",VLOOKUP(O921,Parámetros!O$11:$P$13,MAX(Parámetros!O$7:$P$7),FALSE))","v":""},""]
[null,null,null,{"$f":"IF(E922=\"\",\"\",VLOOKUP(E922,'Buenas prácticas'!$G$8:$H$1007,2,FALSE))","v":""},null,null,null,null,null,null,null,null,null,null,null,{"$f":"IF(F922=\"\",\"\",VLOOKUP(F922,Parámetros!F$11:$P$13,MAX(Parámetros!F$7:$P$7),FALSE))","v":""},{"$f":"IF(G922=\"\",\"\",VLOOKUP(G922,Parámetros!G$11:$P$13,MAX(Parámetros!G$7:$P$7),FALSE))","v":""},{"$f":"IF(H922=\"\",\"\",VLOOKUP(H922,Parámetros!H$11:$P$13,MAX(Parámetros!H$7:$P$7),FALSE))","v":""},{"$f":"IF(I922=\"\",\"\",VLOOKUP(I922,Parámetros!I$11:$P$13,MAX(Parámetros!I$7:$P$7),FALSE))","v":""},{"$f":"IF(J922=\"\",\"\",VLOOKUP(J922,Parámetros!J$11:$P$13,MAX(Parámetros!J$7:$P$7),FALSE))","v":""},{"$f":"IF(K922=\"\",\"\",VLOOKUP(K922,Parámetros!K$11:$P$13,MAX(Parámetros!K$7:$P$7),FALSE))","v":""},{"$f":"IF(L922=\"\",\"\",VLOOKUP(L922,Parámetros!L$11:$P$13,MAX(Parámetros!L$7:$P$7),FALSE))","v":""},{"$f":"IF(M922=\"\",\"\",VLOOKUP(M922,Parámetros!M$11:$P$13,MAX(Parámetros!M$7:$P$7),FALSE))","v":""},{"$f":"IF(N922=\"\",\"\",VLOOKUP(N922,Parámetros!N$11:$P$13,MAX(Parámetros!N$7:$P$7),FALSE))","v":""},{"$f":"IF(O922=\"\",\"\",VLOOKUP(O922,Parámetros!O$11:$P$13,MAX(Parámetros!O$7:$P$7),FALSE))","v":""},""]
[null,null,null,{"$f":"IF(E923=\"\",\"\",VLOOKUP(E923,'Buenas prácticas'!$G$8:$H$1007,2,FALSE))","v":""},null,null,null,null,null,null,null,null,null,null,null,{"$f":"IF(F923=\"\",\"\",VLOOKUP(F923,Parámetros!F$11:$P$13,MAX(Parámetros!F$7:$P$7),FALSE))","v":""},{"$f":"IF(G923=\"\",\"\",VLOOKUP(G923,Parámetros!G$11:$P$13,MAX(Parámetros!G$7:$P$7),FALSE))","v":""},{"$f":"IF(H923=\"\",\"\",VLOOKUP(H923,Parámetros!H$11:$P$13,MAX(Parámetros!H$7:$P$7),FALSE))","v":""},{"$f":"IF(I923=\"\",\"\",VLOOKUP(I923,Parámetros!I$11:$P$13,MAX(Parámetros!I$7:$P$7),FALSE))","v":""},{"$f":"IF(J923=\"\",\"\",VLOOKUP(J923,Parámetros!J$11:$P$13,MAX(Parámetros!J$7:$P$7),FALSE))","v":""},{"$f":"IF(K923=\"\",\"\",VLOOKUP(K923,Parámetros!K$11:$P$13,MAX(Parámetros!K$7:$P$7),FALSE))","v":""},{"$f":"IF(L923=\"\",\"\",VLOOKUP(L923,Parámetros!L$11:$P$13,MAX(Parámetros!L$7:$P$7),FALSE))","v":""},{"$f":"IF(M923=\"\",\"\",VLOOKUP(M923,Parámetros!M$11:$P$13,MAX(Parámetros!M$7:$P$7),FALSE))","v":""},{"$f":"IF(N923=\"\",\"\",VLOOKUP(N923,Parámetros!N$11:$P$13,MAX(Parámetros!N$7:$P$7),FALSE))","v":""},{"$f":"IF(O923=\"\",\"\",VLOOKUP(O923,Parámetros!O$11:$P$13,MAX(Parámetros!O$7:$P$7),FALSE))","v":""},""]
[null,null,null,{"$f":"IF(E924=\"\",\"\",VLOOKUP(E924,'Buenas prácticas'!$G$8:$H$1007,2,FALSE))","v":""},null,null,null,null,null,null,null,null,null,null,null,{"$f":"IF(F924=\"\",\"\",VLOOKUP(F924,Parámetros!F$11:$P$13,MAX(Parámetros!F$7:$P$7),FALSE))","v":""},{"$f":"IF(G924=\"\",\"\",VLOOKUP(G924,Parámetros!G$11:$P$13,MAX(Parámetros!G$7:$P$7),FALSE))","v":""},{"$f":"IF(H924=\"\",\"\",VLOOKUP(H924,Parámetros!H$11:$P$13,MAX(Parámetros!H$7:$P$7),FALSE))","v":""},{"$f":"IF(I924=\"\",\"\",VLOOKUP(I924,Parámetros!I$11:$P$13,MAX(Parámetros!I$7:$P$7),FALSE))","v":""},{"$f":"IF(J924=\"\",\"\",VLOOKUP(J924,Parámetros!J$11:$P$13,MAX(Parámetros!J$7:$P$7),FALSE))","v":""},{"$f":"IF(K924=\"\",\"\",VLOOKUP(K924,Parámetros!K$11:$P$13,MAX(Parámetros!K$7:$P$7),FALSE))","v":""},{"$f":"IF(L924=\"\",\"\",VLOOKUP(L924,Parámetros!L$11:$P$13,MAX(Parámetros!L$7:$P$7),FALSE))","v":""},{"$f":"IF(M924=\"\",\"\",VLOOKUP(M924,Parámetros!M$11:$P$13,MAX(Parámetros!M$7:$P$7),FALSE))","v":""},{"$f":"IF(N924=\"\",\"\",VLOOKUP(N924,Parámetros!N$11:$P$13,MAX(Parámetros!N$7:$P$7),FALSE))","v":""},{"$f":"IF(O924=\"\",\"\",VLOOKUP(O924,Parámetros!O$11:$P$13,MAX(Parámetros!O$7:$P$7),FALSE))","v":""},""]
[null,null,null,{"$f":"IF(E925=\"\",\"\",VLOOKUP(E925,'Buenas prácticas'!$G$8:$H$1007,2,FALSE))","v":""},null,null,null,null,null,null,null,null,null,null,null,{"$f":"IF(F925=\"\",\"\",VLOOKUP(F925,Parámetros!F$11:$P$13,MAX(Parámetros!F$7:$P$7),FALSE))","v":""},{"$f":"IF(G925=\"\",\"\",VLOOKUP(G925,Parámetros!G$11:$P$13,MAX(Parámetros!G$7:$P$7),FALSE))","v":""},{"$f":"IF(H925=\"\",\"\",VLOOKUP(H925,Parámetros!H$11:$P$13,MAX(Parámetros!H$7:$P$7),FALSE))","v":""},{"$f":"IF(I925=\"\",\"\",VLOOKUP(I925,Parámetros!I$11:$P$13,MAX(Parámetros!I$7:$P$7),FALSE))","v":""},{"$f":"IF(J925=\"\",\"\",VLOOKUP(J925,Parámetros!J$11:$P$13,MAX(Parámetros!J$7:$P$7),FALSE))","v":""},{"$f":"IF(K925=\"\",\"\",VLOOKUP(K925,Parámetros!K$11:$P$13,MAX(Parámetros!K$7:$P$7),FALSE))","v":""},{"$f":"IF(L925=\"\",\"\",VLOOKUP(L925,Parámetros!L$11:$P$13,MAX(Parámetros!L$7:$P$7),FALSE))","v":""},{"$f":"IF(M925=\"\",\"\",VLOOKUP(M925,Parámetros!M$11:$P$13,MAX(Parámetros!M$7:$P$7),FALSE))","v":""},{"$f":"IF(N925=\"\",\"\",VLOOKUP(N925,Parámetros!N$11:$P$13,MAX(Parámetros!N$7:$P$7),FALSE))","v":""},{"$f":"IF(O925=\"\",\"\",VLOOKUP(O925,Parámetros!O$11:$P$13,MAX(Parámetros!O$7:$P$7),FALSE))","v":""},""]
[null,null,null,{"$f":"IF(E926=\"\",\"\",VLOOKUP(E926,'Buenas prácticas'!$G$8:$H$1007,2,FALSE))","v":""},null,null,null,null,null,null,null,null,null,null,null,{"$f":"IF(F926=\"\",\"\",VLOOKUP(F926,Parámetros!F$11:$P$13,MAX(Parámetros!F$7:$P$7),FALSE))","v":""},{"$f":"IF(G926=\"\",\"\",VLOOKUP(G926,Parámetros!G$11:$P$13,MAX(Parámetros!G$7:$P$7),FALSE))","v":""},{"$f":"IF(H926=\"\",\"\",VLOOKUP(H926,Parámetros!H$11:$P$13,MAX(Parámetros!H$7:$P$7),FALSE))","v":""},{"$f":"IF(I926=\"\",\"\",VLOOKUP(I926,Parámetros!I$11:$P$13,MAX(Parámetros!I$7:$P$7),FALSE))","v":""},{"$f":"IF(J926=\"\",\"\",VLOOKUP(J926,Parámetros!J$11:$P$13,MAX(Parámetros!J$7:$P$7),FALSE))","v":""},{"$f":"IF(K926=\"\",\"\",VLOOKUP(K926,Parámetros!K$11:$P$13,MAX(Parámetros!K$7:$P$7),FALSE))","v":""},{"$f":"IF(L926=\"\",\"\",VLOOKUP(L926,Parámetros!L$11:$P$13,MAX(Parámetros!L$7:$P$7),FALSE))","v":""},{"$f":"IF(M926=\"\",\"\",VLOOKUP(M926,Parámetros!M$11:$P$13,MAX(Parámetros!M$7:$P$7),FALSE))","v":""},{"$f":"IF(N926=\"\",\"\",VLOOKUP(N926,Parámetros!N$11:$P$13,MAX(Parámetros!N$7:$P$7),FALSE))","v":""},{"$f":"IF(O926=\"\",\"\",VLOOKUP(O926,Parámetros!O$11:$P$13,MAX(Parámetros!O$7:$P$7),FALSE))","v":""},""]
[null,null,null,{"$f":"IF(E927=\"\",\"\",VLOOKUP(E927,'Buenas prácticas'!$G$8:$H$1007,2,FALSE))","v":""},null,null,null,null,null,null,null,null,null,null,null,{"$f":"IF(F927=\"\",\"\",VLOOKUP(F927,Parámetros!F$11:$P$13,MAX(Parámetros!F$7:$P$7),FALSE))","v":""},{"$f":"IF(G927=\"\",\"\",VLOOKUP(G927,Parámetros!G$11:$P$13,MAX(Parámetros!G$7:$P$7),FALSE))","v":""},{"$f":"IF(H927=\"\",\"\",VLOOKUP(H927,Parámetros!H$11:$P$13,MAX(Parámetros!H$7:$P$7),FALSE))","v":""},{"$f":"IF(I927=\"\",\"\",VLOOKUP(I927,Parámetros!I$11:$P$13,MAX(Parámetros!I$7:$P$7),FALSE))","v":""},{"$f":"IF(J927=\"\",\"\",VLOOKUP(J927,Parámetros!J$11:$P$13,MAX(Parámetros!J$7:$P$7),FALSE))","v":""},{"$f":"IF(K927=\"\",\"\",VLOOKUP(K927,Parámetros!K$11:$P$13,MAX(Parámetros!K$7:$P$7),FALSE))","v":""},{"$f":"IF(L927=\"\",\"\",VLOOKUP(L927,Parámetros!L$11:$P$13,MAX(Parámetros!L$7:$P$7),FALSE))","v":""},{"$f":"IF(M927=\"\",\"\",VLOOKUP(M927,Parámetros!M$11:$P$13,MAX(Parámetros!M$7:$P$7),FALSE))","v":""},{"$f":"IF(N927=\"\",\"\",VLOOKUP(N927,Parámetros!N$11:$P$13,MAX(Parámetros!N$7:$P$7),FALSE))","v":""},{"$f":"IF(O927=\"\",\"\",VLOOKUP(O927,Parámetros!O$11:$P$13,MAX(Parámetros!O$7:$P$7),FALSE))","v":""},""]
[null,null,null,{"$f":"IF(E928=\"\",\"\",VLOOKUP(E928,'Buenas prácticas'!$G$8:$H$1007,2,FALSE))","v":""},null,null,null,null,null,null,null,null,null,null,null,{"$f":"IF(F928=\"\",\"\",VLOOKUP(F928,Parámetros!F$11:$P$13,MAX(Parámetros!F$7:$P$7),FALSE))","v":""},{"$f":"IF(G928=\"\",\"\",VLOOKUP(G928,Parámetros!G$11:$P$13,MAX(Parámetros!G$7:$P$7),FALSE))","v":""},{"$f":"IF(H928=\"\",\"\",VLOOKUP(H928,Parámetros!H$11:$P$13,MAX(Parámetros!H$7:$P$7),FALSE))","v":""},{"$f":"IF(I928=\"\",\"\",VLOOKUP(I928,Parámetros!I$11:$P$13,MAX(Parámetros!I$7:$P$7),FALSE))","v":""},{"$f":"IF(J928=\"\",\"\",VLOOKUP(J928,Parámetros!J$11:$P$13,MAX(Parámetros!J$7:$P$7),FALSE))","v":""},{"$f":"IF(K928=\"\",\"\",VLOOKUP(K928,Parámetros!K$11:$P$13,MAX(Parámetros!K$7:$P$7),FALSE))","v":""},{"$f":"IF(L928=\"\",\"\",VLOOKUP(L928,Parámetros!L$11:$P$13,MAX(Parámetros!L$7:$P$7),FALSE))","v":""},{"$f":"IF(M928=\"\",\"\",VLOOKUP(M928,Parámetros!M$11:$P$13,MAX(Parámetros!M$7:$P$7),FALSE))","v":""},{"$f":"IF(N928=\"\",\"\",VLOOKUP(N928,Parámetros!N$11:$P$13,MAX(Parámetros!N$7:$P$7),FALSE))","v":""},{"$f":"IF(O928=\"\",\"\",VLOOKUP(O928,Parámetros!O$11:$P$13,MAX(Parámetros!O$7:$P$7),FALSE))","v":""},""]
[null,null,null,{"$f":"IF(E929=\"\",\"\",VLOOKUP(E929,'Buenas prácticas'!$G$8:$H$1007,2,FALSE))","v":""},null,null,null,null,null,null,null,null,null,null,null,{"$f":"IF(F929=\"\",\"\",VLOOKUP(F929,Parámetros!F$11:$P$13,MAX(Parámetros!F$7:$P$7),FALSE))","v":""},{"$f":"IF(G929=\"\",\"\",VLOOKUP(G929,Parámetros!G$11:$P$13,MAX(Parámetros!G$7:$P$7),FALSE))","v":""},{"$f":"IF(H929=\"\",\"\",VLOOKUP(H929,Parámetros!H$11:$P$13,MAX(Parámetros!H$7:$P$7),FALSE))","v":""},{"$f":"IF(I929=\"\",\"\",VLOOKUP(I929,Parámetros!I$11:$P$13,MAX(Parámetros!I$7:$P$7),FALSE))","v":""},{"$f":"IF(J929=\"\",\"\",VLOOKUP(J929,Parámetros!J$11:$P$13,MAX(Parámetros!J$7:$P$7),FALSE))","v":""},{"$f":"IF(K929=\"\",\"\",VLOOKUP(K929,Parámetros!K$11:$P$13,MAX(Parámetros!K$7:$P$7),FALSE))","v":""},{"$f":"IF(L929=\"\",\"\",VLOOKUP(L929,Parámetros!L$11:$P$13,MAX(Parámetros!L$7:$P$7),FALSE))","v":""},{"$f":"IF(M929=\"\",\"\",VLOOKUP(M929,Parámetros!M$11:$P$13,MAX(Parámetros!M$7:$P$7),FALSE))","v":""},{"$f":"IF(N929=\"\",\"\",VLOOKUP(N929,Parámetros!N$11:$P$13,MAX(Parámetros!N$7:$P$7),FALSE))","v":""},{"$f":"IF(O929=\"\",\"\",VLOOKUP(O929,Parámetros!O$11:$P$13,MAX(Parámetros!O$7:$P$7),FALSE))","v":""},""]
[null,null,null,{"$f":"IF(E930=\"\",\"\",VLOOKUP(E930,'Buenas prácticas'!$G$8:$H$1007,2,FALSE))","v":""},null,null,null,null,null,null,null,null,null,null,null,{"$f":"IF(F930=\"\",\"\",VLOOKUP(F930,Parámetros!F$11:$P$13,MAX(Parámetros!F$7:$P$7),FALSE))","v":""},{"$f":"IF(G930=\"\",\"\",VLOOKUP(G930,Parámetros!G$11:$P$13,MAX(Parámetros!G$7:$P$7),FALSE))","v":""},{"$f":"IF(H930=\"\",\"\",VLOOKUP(H930,Parámetros!H$11:$P$13,MAX(Parámetros!H$7:$P$7),FALSE))","v":""},{"$f":"IF(I930=\"\",\"\",VLOOKUP(I930,Parámetros!I$11:$P$13,MAX(Parámetros!I$7:$P$7),FALSE))","v":""},{"$f":"IF(J930=\"\",\"\",VLOOKUP(J930,Parámetros!J$11:$P$13,MAX(Parámetros!J$7:$P$7),FALSE))","v":""},{"$f":"IF(K930=\"\",\"\",VLOOKUP(K930,Parámetros!K$11:$P$13,MAX(Parámetros!K$7:$P$7),FALSE))","v":""},{"$f":"IF(L930=\"\",\"\",VLOOKUP(L930,Parámetros!L$11:$P$13,MAX(Parámetros!L$7:$P$7),FALSE))","v":""},{"$f":"IF(M930=\"\",\"\",VLOOKUP(M930,Parámetros!M$11:$P$13,MAX(Parámetros!M$7:$P$7),FALSE))","v":""},{"$f":"IF(N930=\"\",\"\",VLOOKUP(N930,Parámetros!N$11:$P$13,MAX(Parámetros!N$7:$P$7),FALSE))","v":""},{"$f":"IF(O930=\"\",\"\",VLOOKUP(O930,Parámetros!O$11:$P$13,MAX(Parámetros!O$7:$P$7),FALSE))","v":""},""]
[null,null,null,{"$f":"IF(E931=\"\",\"\",VLOOKUP(E931,'Buenas prácticas'!$G$8:$H$1007,2,FALSE))","v":""},null,null,null,null,null,null,null,null,null,null,null,{"$f":"IF(F931=\"\",\"\",VLOOKUP(F931,Parámetros!F$11:$P$13,MAX(Parámetros!F$7:$P$7),FALSE))","v":""},{"$f":"IF(G931=\"\",\"\",VLOOKUP(G931,Parámetros!G$11:$P$13,MAX(Parámetros!G$7:$P$7),FALSE))","v":""},{"$f":"IF(H931=\"\",\"\",VLOOKUP(H931,Parámetros!H$11:$P$13,MAX(Parámetros!H$7:$P$7),FALSE))","v":""},{"$f":"IF(I931=\"\",\"\",VLOOKUP(I931,Parámetros!I$11:$P$13,MAX(Parámetros!I$7:$P$7),FALSE))","v":""},{"$f":"IF(J931=\"\",\"\",VLOOKUP(J931,Parámetros!J$11:$P$13,MAX(Parámetros!J$7:$P$7),FALSE))","v":""},{"$f":"IF(K931=\"\",\"\",VLOOKUP(K931,Parámetros!K$11:$P$13,MAX(Parámetros!K$7:$P$7),FALSE))","v":""},{"$f":"IF(L931=\"\",\"\",VLOOKUP(L931,Parámetros!L$11:$P$13,MAX(Parámetros!L$7:$P$7),FALSE))","v":""},{"$f":"IF(M931=\"\",\"\",VLOOKUP(M931,Parámetros!M$11:$P$13,MAX(Parámetros!M$7:$P$7),FALSE))","v":""},{"$f":"IF(N931=\"\",\"\",VLOOKUP(N931,Parámetros!N$11:$P$13,MAX(Parámetros!N$7:$P$7),FALSE))","v":""},{"$f":"IF(O931=\"\",\"\",VLOOKUP(O931,Parámetros!O$11:$P$13,MAX(Parámetros!O$7:$P$7),FALSE))","v":""},""]
[null,null,null,{"$f":"IF(E932=\"\",\"\",VLOOKUP(E932,'Buenas prácticas'!$G$8:$H$1007,2,FALSE))","v":""},null,null,null,null,null,null,null,null,null,null,null,{"$f":"IF(F932=\"\",\"\",VLOOKUP(F932,Parámetros!F$11:$P$13,MAX(Parámetros!F$7:$P$7),FALSE))","v":""},{"$f":"IF(G932=\"\",\"\",VLOOKUP(G932,Parámetros!G$11:$P$13,MAX(Parámetros!G$7:$P$7),FALSE))","v":""},{"$f":"IF(H932=\"\",\"\",VLOOKUP(H932,Parámetros!H$11:$P$13,MAX(Parámetros!H$7:$P$7),FALSE))","v":""},{"$f":"IF(I932=\"\",\"\",VLOOKUP(I932,Parámetros!I$11:$P$13,MAX(Parámetros!I$7:$P$7),FALSE))","v":""},{"$f":"IF(J932=\"\",\"\",VLOOKUP(J932,Parámetros!J$11:$P$13,MAX(Parámetros!J$7:$P$7),FALSE))","v":""},{"$f":"IF(K932=\"\",\"\",VLOOKUP(K932,Parámetros!K$11:$P$13,MAX(Parámetros!K$7:$P$7),FALSE))","v":""},{"$f":"IF(L932=\"\",\"\",VLOOKUP(L932,Parámetros!L$11:$P$13,MAX(Parámetros!L$7:$P$7),FALSE))","v":""},{"$f":"IF(M932=\"\",\"\",VLOOKUP(M932,Parámetros!M$11:$P$13,MAX(Parámetros!M$7:$P$7),FALSE))","v":""},{"$f":"IF(N932=\"\",\"\",VLOOKUP(N932,Parámetros!N$11:$P$13,MAX(Parámetros!N$7:$P$7),FALSE))","v":""},{"$f":"IF(O932=\"\",\"\",VLOOKUP(O932,Parámetros!O$11:$P$13,MAX(Parámetros!O$7:$P$7),FALSE))","v":""},""]
[null,null,null,{"$f":"IF(E933=\"\",\"\",VLOOKUP(E933,'Buenas prácticas'!$G$8:$H$1007,2,FALSE))","v":""},null,null,null,null,null,null,null,null,null,null,null,{"$f":"IF(F933=\"\",\"\",VLOOKUP(F933,Parámetros!F$11:$P$13,MAX(Parámetros!F$7:$P$7),FALSE))","v":""},{"$f":"IF(G933=\"\",\"\",VLOOKUP(G933,Parámetros!G$11:$P$13,MAX(Parámetros!G$7:$P$7),FALSE))","v":""},{"$f":"IF(H933=\"\",\"\",VLOOKUP(H933,Parámetros!H$11:$P$13,MAX(Parámetros!H$7:$P$7),FALSE))","v":""},{"$f":"IF(I933=\"\",\"\",VLOOKUP(I933,Parámetros!I$11:$P$13,MAX(Parámetros!I$7:$P$7),FALSE))","v":""},{"$f":"IF(J933=\"\",\"\",VLOOKUP(J933,Parámetros!J$11:$P$13,MAX(Parámetros!J$7:$P$7),FALSE))","v":""},{"$f":"IF(K933=\"\",\"\",VLOOKUP(K933,Parámetros!K$11:$P$13,MAX(Parámetros!K$7:$P$7),FALSE))","v":""},{"$f":"IF(L933=\"\",\"\",VLOOKUP(L933,Parámetros!L$11:$P$13,MAX(Parámetros!L$7:$P$7),FALSE))","v":""},{"$f":"IF(M933=\"\",\"\",VLOOKUP(M933,Parámetros!M$11:$P$13,MAX(Parámetros!M$7:$P$7),FALSE))","v":""},{"$f":"IF(N933=\"\",\"\",VLOOKUP(N933,Parámetros!N$11:$P$13,MAX(Parámetros!N$7:$P$7),FALSE))","v":""},{"$f":"IF(O933=\"\",\"\",VLOOKUP(O933,Parámetros!O$11:$P$13,MAX(Parámetros!O$7:$P$7),FALSE))","v":""},""]
[null,null,null,{"$f":"IF(E934=\"\",\"\",VLOOKUP(E934,'Buenas prácticas'!$G$8:$H$1007,2,FALSE))","v":""},null,null,null,null,null,null,null,null,null,null,null,{"$f":"IF(F934=\"\",\"\",VLOOKUP(F934,Parámetros!F$11:$P$13,MAX(Parámetros!F$7:$P$7),FALSE))","v":""},{"$f":"IF(G934=\"\",\"\",VLOOKUP(G934,Parámetros!G$11:$P$13,MAX(Parámetros!G$7:$P$7),FALSE))","v":""},{"$f":"IF(H934=\"\",\"\",VLOOKUP(H934,Parámetros!H$11:$P$13,MAX(Parámetros!H$7:$P$7),FALSE))","v":""},{"$f":"IF(I934=\"\",\"\",VLOOKUP(I934,Parámetros!I$11:$P$13,MAX(Parámetros!I$7:$P$7),FALSE))","v":""},{"$f":"IF(J934=\"\",\"\",VLOOKUP(J934,Parámetros!J$11:$P$13,MAX(Parámetros!J$7:$P$7),FALSE))","v":""},{"$f":"IF(K934=\"\",\"\",VLOOKUP(K934,Parámetros!K$11:$P$13,MAX(Parámetros!K$7:$P$7),FALSE))","v":""},{"$f":"IF(L934=\"\",\"\",VLOOKUP(L934,Parámetros!L$11:$P$13,MAX(Parámetros!L$7:$P$7),FALSE))","v":""},{"$f":"IF(M934=\"\",\"\",VLOOKUP(M934,Parámetros!M$11:$P$13,MAX(Parámetros!M$7:$P$7),FALSE))","v":""},{"$f":"IF(N934=\"\",\"\",VLOOKUP(N934,Parámetros!N$11:$P$13,MAX(Parámetros!N$7:$P$7),FALSE))","v":""},{"$f":"IF(O934=\"\",\"\",VLOOKUP(O934,Parámetros!O$11:$P$13,MAX(Parámetros!O$7:$P$7),FALSE))","v":""},""]
[null,null,null,{"$f":"IF(E935=\"\",\"\",VLOOKUP(E935,'Buenas prácticas'!$G$8:$H$1007,2,FALSE))","v":""},null,null,null,null,null,null,null,null,null,null,null,{"$f":"IF(F935=\"\",\"\",VLOOKUP(F935,Parámetros!F$11:$P$13,MAX(Parámetros!F$7:$P$7),FALSE))","v":""},{"$f":"IF(G935=\"\",\"\",VLOOKUP(G935,Parámetros!G$11:$P$13,MAX(Parámetros!G$7:$P$7),FALSE))","v":""},{"$f":"IF(H935=\"\",\"\",VLOOKUP(H935,Parámetros!H$11:$P$13,MAX(Parámetros!H$7:$P$7),FALSE))","v":""},{"$f":"IF(I935=\"\",\"\",VLOOKUP(I935,Parámetros!I$11:$P$13,MAX(Parámetros!I$7:$P$7),FALSE))","v":""},{"$f":"IF(J935=\"\",\"\",VLOOKUP(J935,Parámetros!J$11:$P$13,MAX(Parámetros!J$7:$P$7),FALSE))","v":""},{"$f":"IF(K935=\"\",\"\",VLOOKUP(K935,Parámetros!K$11:$P$13,MAX(Parámetros!K$7:$P$7),FALSE))","v":""},{"$f":"IF(L935=\"\",\"\",VLOOKUP(L935,Parámetros!L$11:$P$13,MAX(Parámetros!L$7:$P$7),FALSE))","v":""},{"$f":"IF(M935=\"\",\"\",VLOOKUP(M935,Parámetros!M$11:$P$13,MAX(Parámetros!M$7:$P$7),FALSE))","v":""},{"$f":"IF(N935=\"\",\"\",VLOOKUP(N935,Parámetros!N$11:$P$13,MAX(Parámetros!N$7:$P$7),FALSE))","v":""},{"$f":"IF(O935=\"\",\"\",VLOOKUP(O935,Parámetros!O$11:$P$13,MAX(Parámetros!O$7:$P$7),FALSE))","v":""},""]
[null,null,null,{"$f":"IF(E936=\"\",\"\",VLOOKUP(E936,'Buenas prácticas'!$G$8:$H$1007,2,FALSE))","v":""},null,null,null,null,null,null,null,null,null,null,null,{"$f":"IF(F936=\"\",\"\",VLOOKUP(F936,Parámetros!F$11:$P$13,MAX(Parámetros!F$7:$P$7),FALSE))","v":""},{"$f":"IF(G936=\"\",\"\",VLOOKUP(G936,Parámetros!G$11:$P$13,MAX(Parámetros!G$7:$P$7),FALSE))","v":""},{"$f":"IF(H936=\"\",\"\",VLOOKUP(H936,Parámetros!H$11:$P$13,MAX(Parámetros!H$7:$P$7),FALSE))","v":""},{"$f":"IF(I936=\"\",\"\",VLOOKUP(I936,Parámetros!I$11:$P$13,MAX(Parámetros!I$7:$P$7),FALSE))","v":""},{"$f":"IF(J936=\"\",\"\",VLOOKUP(J936,Parámetros!J$11:$P$13,MAX(Parámetros!J$7:$P$7),FALSE))","v":""},{"$f":"IF(K936=\"\",\"\",VLOOKUP(K936,Parámetros!K$11:$P$13,MAX(Parámetros!K$7:$P$7),FALSE))","v":""},{"$f":"IF(L936=\"\",\"\",VLOOKUP(L936,Parámetros!L$11:$P$13,MAX(Parámetros!L$7:$P$7),FALSE))","v":""},{"$f":"IF(M936=\"\",\"\",VLOOKUP(M936,Parámetros!M$11:$P$13,MAX(Parámetros!M$7:$P$7),FALSE))","v":""},{"$f":"IF(N936=\"\",\"\",VLOOKUP(N936,Parámetros!N$11:$P$13,MAX(Parámetros!N$7:$P$7),FALSE))","v":""},{"$f":"IF(O936=\"\",\"\",VLOOKUP(O936,Parámetros!O$11:$P$13,MAX(Parámetros!O$7:$P$7),FALSE))","v":""},""]
[null,null,null,{"$f":"IF(E937=\"\",\"\",VLOOKUP(E937,'Buenas prácticas'!$G$8:$H$1007,2,FALSE))","v":""},null,null,null,null,null,null,null,null,null,null,null,{"$f":"IF(F937=\"\",\"\",VLOOKUP(F937,Parámetros!F$11:$P$13,MAX(Parámetros!F$7:$P$7),FALSE))","v":""},{"$f":"IF(G937=\"\",\"\",VLOOKUP(G937,Parámetros!G$11:$P$13,MAX(Parámetros!G$7:$P$7),FALSE))","v":""},{"$f":"IF(H937=\"\",\"\",VLOOKUP(H937,Parámetros!H$11:$P$13,MAX(Parámetros!H$7:$P$7),FALSE))","v":""},{"$f":"IF(I937=\"\",\"\",VLOOKUP(I937,Parámetros!I$11:$P$13,MAX(Parámetros!I$7:$P$7),FALSE))","v":""},{"$f":"IF(J937=\"\",\"\",VLOOKUP(J937,Parámetros!J$11:$P$13,MAX(Parámetros!J$7:$P$7),FALSE))","v":""},{"$f":"IF(K937=\"\",\"\",VLOOKUP(K937,Parámetros!K$11:$P$13,MAX(Parámetros!K$7:$P$7),FALSE))","v":""},{"$f":"IF(L937=\"\",\"\",VLOOKUP(L937,Parámetros!L$11:$P$13,MAX(Parámetros!L$7:$P$7),FALSE))","v":""},{"$f":"IF(M937=\"\",\"\",VLOOKUP(M937,Parámetros!M$11:$P$13,MAX(Parámetros!M$7:$P$7),FALSE))","v":""},{"$f":"IF(N937=\"\",\"\",VLOOKUP(N937,Parámetros!N$11:$P$13,MAX(Parámetros!N$7:$P$7),FALSE))","v":""},{"$f":"IF(O937=\"\",\"\",VLOOKUP(O937,Parámetros!O$11:$P$13,MAX(Parámetros!O$7:$P$7),FALSE))","v":""},""]
[null,null,null,{"$f":"IF(E938=\"\",\"\",VLOOKUP(E938,'Buenas prácticas'!$G$8:$H$1007,2,FALSE))","v":""},null,null,null,null,null,null,null,null,null,null,null,{"$f":"IF(F938=\"\",\"\",VLOOKUP(F938,Parámetros!F$11:$P$13,MAX(Parámetros!F$7:$P$7),FALSE))","v":""},{"$f":"IF(G938=\"\",\"\",VLOOKUP(G938,Parámetros!G$11:$P$13,MAX(Parámetros!G$7:$P$7),FALSE))","v":""},{"$f":"IF(H938=\"\",\"\",VLOOKUP(H938,Parámetros!H$11:$P$13,MAX(Parámetros!H$7:$P$7),FALSE))","v":""},{"$f":"IF(I938=\"\",\"\",VLOOKUP(I938,Parámetros!I$11:$P$13,MAX(Parámetros!I$7:$P$7),FALSE))","v":""},{"$f":"IF(J938=\"\",\"\",VLOOKUP(J938,Parámetros!J$11:$P$13,MAX(Parámetros!J$7:$P$7),FALSE))","v":""},{"$f":"IF(K938=\"\",\"\",VLOOKUP(K938,Parámetros!K$11:$P$13,MAX(Parámetros!K$7:$P$7),FALSE))","v":""},{"$f":"IF(L938=\"\",\"\",VLOOKUP(L938,Parámetros!L$11:$P$13,MAX(Parámetros!L$7:$P$7),FALSE))","v":""},{"$f":"IF(M938=\"\",\"\",VLOOKUP(M938,Parámetros!M$11:$P$13,MAX(Parámetros!M$7:$P$7),FALSE))","v":""},{"$f":"IF(N938=\"\",\"\",VLOOKUP(N938,Parámetros!N$11:$P$13,MAX(Parámetros!N$7:$P$7),FALSE))","v":""},{"$f":"IF(O938=\"\",\"\",VLOOKUP(O938,Parámetros!O$11:$P$13,MAX(Parámetros!O$7:$P$7),FALSE))","v":""},""]
[null,null,null,{"$f":"IF(E939=\"\",\"\",VLOOKUP(E939,'Buenas prácticas'!$G$8:$H$1007,2,FALSE))","v":""},null,null,null,null,null,null,null,null,null,null,null,{"$f":"IF(F939=\"\",\"\",VLOOKUP(F939,Parámetros!F$11:$P$13,MAX(Parámetros!F$7:$P$7),FALSE))","v":""},{"$f":"IF(G939=\"\",\"\",VLOOKUP(G939,Parámetros!G$11:$P$13,MAX(Parámetros!G$7:$P$7),FALSE))","v":""},{"$f":"IF(H939=\"\",\"\",VLOOKUP(H939,Parámetros!H$11:$P$13,MAX(Parámetros!H$7:$P$7),FALSE))","v":""},{"$f":"IF(I939=\"\",\"\",VLOOKUP(I939,Parámetros!I$11:$P$13,MAX(Parámetros!I$7:$P$7),FALSE))","v":""},{"$f":"IF(J939=\"\",\"\",VLOOKUP(J939,Parámetros!J$11:$P$13,MAX(Parámetros!J$7:$P$7),FALSE))","v":""},{"$f":"IF(K939=\"\",\"\",VLOOKUP(K939,Parámetros!K$11:$P$13,MAX(Parámetros!K$7:$P$7),FALSE))","v":""},{"$f":"IF(L939=\"\",\"\",VLOOKUP(L939,Parámetros!L$11:$P$13,MAX(Parámetros!L$7:$P$7),FALSE))","v":""},{"$f":"IF(M939=\"\",\"\",VLOOKUP(M939,Parámetros!M$11:$P$13,MAX(Parámetros!M$7:$P$7),FALSE))","v":""},{"$f":"IF(N939=\"\",\"\",VLOOKUP(N939,Parámetros!N$11:$P$13,MAX(Parámetros!N$7:$P$7),FALSE))","v":""},{"$f":"IF(O939=\"\",\"\",VLOOKUP(O939,Parámetros!O$11:$P$13,MAX(Parámetros!O$7:$P$7),FALSE))","v":""},""]
[null,null,null,{"$f":"IF(E940=\"\",\"\",VLOOKUP(E940,'Buenas prácticas'!$G$8:$H$1007,2,FALSE))","v":""},null,null,null,null,null,null,null,null,null,null,null,{"$f":"IF(F940=\"\",\"\",VLOOKUP(F940,Parámetros!F$11:$P$13,MAX(Parámetros!F$7:$P$7),FALSE))","v":""},{"$f":"IF(G940=\"\",\"\",VLOOKUP(G940,Parámetros!G$11:$P$13,MAX(Parámetros!G$7:$P$7),FALSE))","v":""},{"$f":"IF(H940=\"\",\"\",VLOOKUP(H940,Parámetros!H$11:$P$13,MAX(Parámetros!H$7:$P$7),FALSE))","v":""},{"$f":"IF(I940=\"\",\"\",VLOOKUP(I940,Parámetros!I$11:$P$13,MAX(Parámetros!I$7:$P$7),FALSE))","v":""},{"$f":"IF(J940=\"\",\"\",VLOOKUP(J940,Parámetros!J$11:$P$13,MAX(Parámetros!J$7:$P$7),FALSE))","v":""},{"$f":"IF(K940=\"\",\"\",VLOOKUP(K940,Parámetros!K$11:$P$13,MAX(Parámetros!K$7:$P$7),FALSE))","v":""},{"$f":"IF(L940=\"\",\"\",VLOOKUP(L940,Parámetros!L$11:$P$13,MAX(Parámetros!L$7:$P$7),FALSE))","v":""},{"$f":"IF(M940=\"\",\"\",VLOOKUP(M940,Parámetros!M$11:$P$13,MAX(Parámetros!M$7:$P$7),FALSE))","v":""},{"$f":"IF(N940=\"\",\"\",VLOOKUP(N940,Parámetros!N$11:$P$13,MAX(Parámetros!N$7:$P$7),FALSE))","v":""},{"$f":"IF(O940=\"\",\"\",VLOOKUP(O940,Parámetros!O$11:$P$13,MAX(Parámetros!O$7:$P$7),FALSE))","v":""},""]
[null,null,null,{"$f":"IF(E941=\"\",\"\",VLOOKUP(E941,'Buenas prácticas'!$G$8:$H$1007,2,FALSE))","v":""},null,null,null,null,null,null,null,null,null,null,null,{"$f":"IF(F941=\"\",\"\",VLOOKUP(F941,Parámetros!F$11:$P$13,MAX(Parámetros!F$7:$P$7),FALSE))","v":""},{"$f":"IF(G941=\"\",\"\",VLOOKUP(G941,Parámetros!G$11:$P$13,MAX(Parámetros!G$7:$P$7),FALSE))","v":""},{"$f":"IF(H941=\"\",\"\",VLOOKUP(H941,Parámetros!H$11:$P$13,MAX(Parámetros!H$7:$P$7),FALSE))","v":""},{"$f":"IF(I941=\"\",\"\",VLOOKUP(I941,Parámetros!I$11:$P$13,MAX(Parámetros!I$7:$P$7),FALSE))","v":""},{"$f":"IF(J941=\"\",\"\",VLOOKUP(J941,Parámetros!J$11:$P$13,MAX(Parámetros!J$7:$P$7),FALSE))","v":""},{"$f":"IF(K941=\"\",\"\",VLOOKUP(K941,Parámetros!K$11:$P$13,MAX(Parámetros!K$7:$P$7),FALSE))","v":""},{"$f":"IF(L941=\"\",\"\",VLOOKUP(L941,Parámetros!L$11:$P$13,MAX(Parámetros!L$7:$P$7),FALSE))","v":""},{"$f":"IF(M941=\"\",\"\",VLOOKUP(M941,Parámetros!M$11:$P$13,MAX(Parámetros!M$7:$P$7),FALSE))","v":""},{"$f":"IF(N941=\"\",\"\",VLOOKUP(N941,Parámetros!N$11:$P$13,MAX(Parámetros!N$7:$P$7),FALSE))","v":""},{"$f":"IF(O941=\"\",\"\",VLOOKUP(O941,Parámetros!O$11:$P$13,MAX(Parámetros!O$7:$P$7),FALSE))","v":""},""]
[null,null,null,{"$f":"IF(E942=\"\",\"\",VLOOKUP(E942,'Buenas prácticas'!$G$8:$H$1007,2,FALSE))","v":""},null,null,null,null,null,null,null,null,null,null,null,{"$f":"IF(F942=\"\",\"\",VLOOKUP(F942,Parámetros!F$11:$P$13,MAX(Parámetros!F$7:$P$7),FALSE))","v":""},{"$f":"IF(G942=\"\",\"\",VLOOKUP(G942,Parámetros!G$11:$P$13,MAX(Parámetros!G$7:$P$7),FALSE))","v":""},{"$f":"IF(H942=\"\",\"\",VLOOKUP(H942,Parámetros!H$11:$P$13,MAX(Parámetros!H$7:$P$7),FALSE))","v":""},{"$f":"IF(I942=\"\",\"\",VLOOKUP(I942,Parámetros!I$11:$P$13,MAX(Parámetros!I$7:$P$7),FALSE))","v":""},{"$f":"IF(J942=\"\",\"\",VLOOKUP(J942,Parámetros!J$11:$P$13,MAX(Parámetros!J$7:$P$7),FALSE))","v":""},{"$f":"IF(K942=\"\",\"\",VLOOKUP(K942,Parámetros!K$11:$P$13,MAX(Parámetros!K$7:$P$7),FALSE))","v":""},{"$f":"IF(L942=\"\",\"\",VLOOKUP(L942,Parámetros!L$11:$P$13,MAX(Parámetros!L$7:$P$7),FALSE))","v":""},{"$f":"IF(M942=\"\",\"\",VLOOKUP(M942,Parámetros!M$11:$P$13,MAX(Parámetros!M$7:$P$7),FALSE))","v":""},{"$f":"IF(N942=\"\",\"\",VLOOKUP(N942,Parámetros!N$11:$P$13,MAX(Parámetros!N$7:$P$7),FALSE))","v":""},{"$f":"IF(O942=\"\",\"\",VLOOKUP(O942,Parámetros!O$11:$P$13,MAX(Parámetros!O$7:$P$7),FALSE))","v":""},""]
[null,null,null,{"$f":"IF(E943=\"\",\"\",VLOOKUP(E943,'Buenas prácticas'!$G$8:$H$1007,2,FALSE))","v":""},null,null,null,null,null,null,null,null,null,null,null,{"$f":"IF(F943=\"\",\"\",VLOOKUP(F943,Parámetros!F$11:$P$13,MAX(Parámetros!F$7:$P$7),FALSE))","v":""},{"$f":"IF(G943=\"\",\"\",VLOOKUP(G943,Parámetros!G$11:$P$13,MAX(Parámetros!G$7:$P$7),FALSE))","v":""},{"$f":"IF(H943=\"\",\"\",VLOOKUP(H943,Parámetros!H$11:$P$13,MAX(Parámetros!H$7:$P$7),FALSE))","v":""},{"$f":"IF(I943=\"\",\"\",VLOOKUP(I943,Parámetros!I$11:$P$13,MAX(Parámetros!I$7:$P$7),FALSE))","v":""},{"$f":"IF(J943=\"\",\"\",VLOOKUP(J943,Parámetros!J$11:$P$13,MAX(Parámetros!J$7:$P$7),FALSE))","v":""},{"$f":"IF(K943=\"\",\"\",VLOOKUP(K943,Parámetros!K$11:$P$13,MAX(Parámetros!K$7:$P$7),FALSE))","v":""},{"$f":"IF(L943=\"\",\"\",VLOOKUP(L943,Parámetros!L$11:$P$13,MAX(Parámetros!L$7:$P$7),FALSE))","v":""},{"$f":"IF(M943=\"\",\"\",VLOOKUP(M943,Parámetros!M$11:$P$13,MAX(Parámetros!M$7:$P$7),FALSE))","v":""},{"$f":"IF(N943=\"\",\"\",VLOOKUP(N943,Parámetros!N$11:$P$13,MAX(Parámetros!N$7:$P$7),FALSE))","v":""},{"$f":"IF(O943=\"\",\"\",VLOOKUP(O943,Parámetros!O$11:$P$13,MAX(Parámetros!O$7:$P$7),FALSE))","v":""},""]
[null,null,null,{"$f":"IF(E944=\"\",\"\",VLOOKUP(E944,'Buenas prácticas'!$G$8:$H$1007,2,FALSE))","v":""},null,null,null,null,null,null,null,null,null,null,null,{"$f":"IF(F944=\"\",\"\",VLOOKUP(F944,Parámetros!F$11:$P$13,MAX(Parámetros!F$7:$P$7),FALSE))","v":""},{"$f":"IF(G944=\"\",\"\",VLOOKUP(G944,Parámetros!G$11:$P$13,MAX(Parámetros!G$7:$P$7),FALSE))","v":""},{"$f":"IF(H944=\"\",\"\",VLOOKUP(H944,Parámetros!H$11:$P$13,MAX(Parámetros!H$7:$P$7),FALSE))","v":""},{"$f":"IF(I944=\"\",\"\",VLOOKUP(I944,Parámetros!I$11:$P$13,MAX(Parámetros!I$7:$P$7),FALSE))","v":""},{"$f":"IF(J944=\"\",\"\",VLOOKUP(J944,Parámetros!J$11:$P$13,MAX(Parámetros!J$7:$P$7),FALSE))","v":""},{"$f":"IF(K944=\"\",\"\",VLOOKUP(K944,Parámetros!K$11:$P$13,MAX(Parámetros!K$7:$P$7),FALSE))","v":""},{"$f":"IF(L944=\"\",\"\",VLOOKUP(L944,Parámetros!L$11:$P$13,MAX(Parámetros!L$7:$P$7),FALSE))","v":""},{"$f":"IF(M944=\"\",\"\",VLOOKUP(M944,Parámetros!M$11:$P$13,MAX(Parámetros!M$7:$P$7),FALSE))","v":""},{"$f":"IF(N944=\"\",\"\",VLOOKUP(N944,Parámetros!N$11:$P$13,MAX(Parámetros!N$7:$P$7),FALSE))","v":""},{"$f":"IF(O944=\"\",\"\",VLOOKUP(O944,Parámetros!O$11:$P$13,MAX(Parámetros!O$7:$P$7),FALSE))","v":""},""]
[null,null,null,{"$f":"IF(E945=\"\",\"\",VLOOKUP(E945,'Buenas prácticas'!$G$8:$H$1007,2,FALSE))","v":""},null,null,null,null,null,null,null,null,null,null,null,{"$f":"IF(F945=\"\",\"\",VLOOKUP(F945,Parámetros!F$11:$P$13,MAX(Parámetros!F$7:$P$7),FALSE))","v":""},{"$f":"IF(G945=\"\",\"\",VLOOKUP(G945,Parámetros!G$11:$P$13,MAX(Parámetros!G$7:$P$7),FALSE))","v":""},{"$f":"IF(H945=\"\",\"\",VLOOKUP(H945,Parámetros!H$11:$P$13,MAX(Parámetros!H$7:$P$7),FALSE))","v":""},{"$f":"IF(I945=\"\",\"\",VLOOKUP(I945,Parámetros!I$11:$P$13,MAX(Parámetros!I$7:$P$7),FALSE))","v":""},{"$f":"IF(J945=\"\",\"\",VLOOKUP(J945,Parámetros!J$11:$P$13,MAX(Parámetros!J$7:$P$7),FALSE))","v":""},{"$f":"IF(K945=\"\",\"\",VLOOKUP(K945,Parámetros!K$11:$P$13,MAX(Parámetros!K$7:$P$7),FALSE))","v":""},{"$f":"IF(L945=\"\",\"\",VLOOKUP(L945,Parámetros!L$11:$P$13,MAX(Parámetros!L$7:$P$7),FALSE))","v":""},{"$f":"IF(M945=\"\",\"\",VLOOKUP(M945,Parámetros!M$11:$P$13,MAX(Parámetros!M$7:$P$7),FALSE))","v":""},{"$f":"IF(N945=\"\",\"\",VLOOKUP(N945,Parámetros!N$11:$P$13,MAX(Parámetros!N$7:$P$7),FALSE))","v":""},{"$f":"IF(O945=\"\",\"\",VLOOKUP(O945,Parámetros!O$11:$P$13,MAX(Parámetros!O$7:$P$7),FALSE))","v":""},""]
[null,null,null,{"$f":"IF(E946=\"\",\"\",VLOOKUP(E946,'Buenas prácticas'!$G$8:$H$1007,2,FALSE))","v":""},null,null,null,null,null,null,null,null,null,null,null,{"$f":"IF(F946=\"\",\"\",VLOOKUP(F946,Parámetros!F$11:$P$13,MAX(Parámetros!F$7:$P$7),FALSE))","v":""},{"$f":"IF(G946=\"\",\"\",VLOOKUP(G946,Parámetros!G$11:$P$13,MAX(Parámetros!G$7:$P$7),FALSE))","v":""},{"$f":"IF(H946=\"\",\"\",VLOOKUP(H946,Parámetros!H$11:$P$13,MAX(Parámetros!H$7:$P$7),FALSE))","v":""},{"$f":"IF(I946=\"\",\"\",VLOOKUP(I946,Parámetros!I$11:$P$13,MAX(Parámetros!I$7:$P$7),FALSE))","v":""},{"$f":"IF(J946=\"\",\"\",VLOOKUP(J946,Parámetros!J$11:$P$13,MAX(Parámetros!J$7:$P$7),FALSE))","v":""},{"$f":"IF(K946=\"\",\"\",VLOOKUP(K946,Parámetros!K$11:$P$13,MAX(Parámetros!K$7:$P$7),FALSE))","v":""},{"$f":"IF(L946=\"\",\"\",VLOOKUP(L946,Parámetros!L$11:$P$13,MAX(Parámetros!L$7:$P$7),FALSE))","v":""},{"$f":"IF(M946=\"\",\"\",VLOOKUP(M946,Parámetros!M$11:$P$13,MAX(Parámetros!M$7:$P$7),FALSE))","v":""},{"$f":"IF(N946=\"\",\"\",VLOOKUP(N946,Parámetros!N$11:$P$13,MAX(Parámetros!N$7:$P$7),FALSE))","v":""},{"$f":"IF(O946=\"\",\"\",VLOOKUP(O946,Parámetros!O$11:$P$13,MAX(Parámetros!O$7:$P$7),FALSE))","v":""},""]
[null,null,null,{"$f":"IF(E947=\"\",\"\",VLOOKUP(E947,'Buenas prácticas'!$G$8:$H$1007,2,FALSE))","v":""},null,null,null,null,null,null,null,null,null,null,null,{"$f":"IF(F947=\"\",\"\",VLOOKUP(F947,Parámetros!F$11:$P$13,MAX(Parámetros!F$7:$P$7),FALSE))","v":""},{"$f":"IF(G947=\"\",\"\",VLOOKUP(G947,Parámetros!G$11:$P$13,MAX(Parámetros!G$7:$P$7),FALSE))","v":""},{"$f":"IF(H947=\"\",\"\",VLOOKUP(H947,Parámetros!H$11:$P$13,MAX(Parámetros!H$7:$P$7),FALSE))","v":""},{"$f":"IF(I947=\"\",\"\",VLOOKUP(I947,Parámetros!I$11:$P$13,MAX(Parámetros!I$7:$P$7),FALSE))","v":""},{"$f":"IF(J947=\"\",\"\",VLOOKUP(J947,Parámetros!J$11:$P$13,MAX(Parámetros!J$7:$P$7),FALSE))","v":""},{"$f":"IF(K947=\"\",\"\",VLOOKUP(K947,Parámetros!K$11:$P$13,MAX(Parámetros!K$7:$P$7),FALSE))","v":""},{"$f":"IF(L947=\"\",\"\",VLOOKUP(L947,Parámetros!L$11:$P$13,MAX(Parámetros!L$7:$P$7),FALSE))","v":""},{"$f":"IF(M947=\"\",\"\",VLOOKUP(M947,Parámetros!M$11:$P$13,MAX(Parámetros!M$7:$P$7),FALSE))","v":""},{"$f":"IF(N947=\"\",\"\",VLOOKUP(N947,Parámetros!N$11:$P$13,MAX(Parámetros!N$7:$P$7),FALSE))","v":""},{"$f":"IF(O947=\"\",\"\",VLOOKUP(O947,Parámetros!O$11:$P$13,MAX(Parámetros!O$7:$P$7),FALSE))","v":""},""]
[null,null,null,{"$f":"IF(E948=\"\",\"\",VLOOKUP(E948,'Buenas prácticas'!$G$8:$H$1007,2,FALSE))","v":""},null,null,null,null,null,null,null,null,null,null,null,{"$f":"IF(F948=\"\",\"\",VLOOKUP(F948,Parámetros!F$11:$P$13,MAX(Parámetros!F$7:$P$7),FALSE))","v":""},{"$f":"IF(G948=\"\",\"\",VLOOKUP(G948,Parámetros!G$11:$P$13,MAX(Parámetros!G$7:$P$7),FALSE))","v":""},{"$f":"IF(H948=\"\",\"\",VLOOKUP(H948,Parámetros!H$11:$P$13,MAX(Parámetros!H$7:$P$7),FALSE))","v":""},{"$f":"IF(I948=\"\",\"\",VLOOKUP(I948,Parámetros!I$11:$P$13,MAX(Parámetros!I$7:$P$7),FALSE))","v":""},{"$f":"IF(J948=\"\",\"\",VLOOKUP(J948,Parámetros!J$11:$P$13,MAX(Parámetros!J$7:$P$7),FALSE))","v":""},{"$f":"IF(K948=\"\",\"\",VLOOKUP(K948,Parámetros!K$11:$P$13,MAX(Parámetros!K$7:$P$7),FALSE))","v":""},{"$f":"IF(L948=\"\",\"\",VLOOKUP(L948,Parámetros!L$11:$P$13,MAX(Parámetros!L$7:$P$7),FALSE))","v":""},{"$f":"IF(M948=\"\",\"\",VLOOKUP(M948,Parámetros!M$11:$P$13,MAX(Parámetros!M$7:$P$7),FALSE))","v":""},{"$f":"IF(N948=\"\",\"\",VLOOKUP(N948,Parámetros!N$11:$P$13,MAX(Parámetros!N$7:$P$7),FALSE))","v":""},{"$f":"IF(O948=\"\",\"\",VLOOKUP(O948,Parámetros!O$11:$P$13,MAX(Parámetros!O$7:$P$7),FALSE))","v":""},""]
[null,null,null,{"$f":"IF(E949=\"\",\"\",VLOOKUP(E949,'Buenas prácticas'!$G$8:$H$1007,2,FALSE))","v":""},null,null,null,null,null,null,null,null,null,null,null,{"$f":"IF(F949=\"\",\"\",VLOOKUP(F949,Parámetros!F$11:$P$13,MAX(Parámetros!F$7:$P$7),FALSE))","v":""},{"$f":"IF(G949=\"\",\"\",VLOOKUP(G949,Parámetros!G$11:$P$13,MAX(Parámetros!G$7:$P$7),FALSE))","v":""},{"$f":"IF(H949=\"\",\"\",VLOOKUP(H949,Parámetros!H$11:$P$13,MAX(Parámetros!H$7:$P$7),FALSE))","v":""},{"$f":"IF(I949=\"\",\"\",VLOOKUP(I949,Parámetros!I$11:$P$13,MAX(Parámetros!I$7:$P$7),FALSE))","v":""},{"$f":"IF(J949=\"\",\"\",VLOOKUP(J949,Parámetros!J$11:$P$13,MAX(Parámetros!J$7:$P$7),FALSE))","v":""},{"$f":"IF(K949=\"\",\"\",VLOOKUP(K949,Parámetros!K$11:$P$13,MAX(Parámetros!K$7:$P$7),FALSE))","v":""},{"$f":"IF(L949=\"\",\"\",VLOOKUP(L949,Parámetros!L$11:$P$13,MAX(Parámetros!L$7:$P$7),FALSE))","v":""},{"$f":"IF(M949=\"\",\"\",VLOOKUP(M949,Parámetros!M$11:$P$13,MAX(Parámetros!M$7:$P$7),FALSE))","v":""},{"$f":"IF(N949=\"\",\"\",VLOOKUP(N949,Parámetros!N$11:$P$13,MAX(Parámetros!N$7:$P$7),FALSE))","v":""},{"$f":"IF(O949=\"\",\"\",VLOOKUP(O949,Parámetros!O$11:$P$13,MAX(Parámetros!O$7:$P$7),FALSE))","v":""},""]
[null,null,null,{"$f":"IF(E950=\"\",\"\",VLOOKUP(E950,'Buenas prácticas'!$G$8:$H$1007,2,FALSE))","v":""},null,null,null,null,null,null,null,null,null,null,null,{"$f":"IF(F950=\"\",\"\",VLOOKUP(F950,Parámetros!F$11:$P$13,MAX(Parámetros!F$7:$P$7),FALSE))","v":""},{"$f":"IF(G950=\"\",\"\",VLOOKUP(G950,Parámetros!G$11:$P$13,MAX(Parámetros!G$7:$P$7),FALSE))","v":""},{"$f":"IF(H950=\"\",\"\",VLOOKUP(H950,Parámetros!H$11:$P$13,MAX(Parámetros!H$7:$P$7),FALSE))","v":""},{"$f":"IF(I950=\"\",\"\",VLOOKUP(I950,Parámetros!I$11:$P$13,MAX(Parámetros!I$7:$P$7),FALSE))","v":""},{"$f":"IF(J950=\"\",\"\",VLOOKUP(J950,Parámetros!J$11:$P$13,MAX(Parámetros!J$7:$P$7),FALSE))","v":""},{"$f":"IF(K950=\"\",\"\",VLOOKUP(K950,Parámetros!K$11:$P$13,MAX(Parámetros!K$7:$P$7),FALSE))","v":""},{"$f":"IF(L950=\"\",\"\",VLOOKUP(L950,Parámetros!L$11:$P$13,MAX(Parámetros!L$7:$P$7),FALSE))","v":""},{"$f":"IF(M950=\"\",\"\",VLOOKUP(M950,Parámetros!M$11:$P$13,MAX(Parámetros!M$7:$P$7),FALSE))","v":""},{"$f":"IF(N950=\"\",\"\",VLOOKUP(N950,Parámetros!N$11:$P$13,MAX(Parámetros!N$7:$P$7),FALSE))","v":""},{"$f":"IF(O950=\"\",\"\",VLOOKUP(O950,Parámetros!O$11:$P$13,MAX(Parámetros!O$7:$P$7),FALSE))","v":""},""]
[null,null,null,{"$f":"IF(E951=\"\",\"\",VLOOKUP(E951,'Buenas prácticas'!$G$8:$H$1007,2,FALSE))","v":""},null,null,null,null,null,null,null,null,null,null,null,{"$f":"IF(F951=\"\",\"\",VLOOKUP(F951,Parámetros!F$11:$P$13,MAX(Parámetros!F$7:$P$7),FALSE))","v":""},{"$f":"IF(G951=\"\",\"\",VLOOKUP(G951,Parámetros!G$11:$P$13,MAX(Parámetros!G$7:$P$7),FALSE))","v":""},{"$f":"IF(H951=\"\",\"\",VLOOKUP(H951,Parámetros!H$11:$P$13,MAX(Parámetros!H$7:$P$7),FALSE))","v":""},{"$f":"IF(I951=\"\",\"\",VLOOKUP(I951,Parámetros!I$11:$P$13,MAX(Parámetros!I$7:$P$7),FALSE))","v":""},{"$f":"IF(J951=\"\",\"\",VLOOKUP(J951,Parámetros!J$11:$P$13,MAX(Parámetros!J$7:$P$7),FALSE))","v":""},{"$f":"IF(K951=\"\",\"\",VLOOKUP(K951,Parámetros!K$11:$P$13,MAX(Parámetros!K$7:$P$7),FALSE))","v":""},{"$f":"IF(L951=\"\",\"\",VLOOKUP(L951,Parámetros!L$11:$P$13,MAX(Parámetros!L$7:$P$7),FALSE))","v":""},{"$f":"IF(M951=\"\",\"\",VLOOKUP(M951,Parámetros!M$11:$P$13,MAX(Parámetros!M$7:$P$7),FALSE))","v":""},{"$f":"IF(N951=\"\",\"\",VLOOKUP(N951,Parámetros!N$11:$P$13,MAX(Parámetros!N$7:$P$7),FALSE))","v":""},{"$f":"IF(O951=\"\",\"\",VLOOKUP(O951,Parámetros!O$11:$P$13,MAX(Parámetros!O$7:$P$7),FALSE))","v":""},""]
[null,null,null,{"$f":"IF(E952=\"\",\"\",VLOOKUP(E952,'Buenas prácticas'!$G$8:$H$1007,2,FALSE))","v":""},null,null,null,null,null,null,null,null,null,null,null,{"$f":"IF(F952=\"\",\"\",VLOOKUP(F952,Parámetros!F$11:$P$13,MAX(Parámetros!F$7:$P$7),FALSE))","v":""},{"$f":"IF(G952=\"\",\"\",VLOOKUP(G952,Parámetros!G$11:$P$13,MAX(Parámetros!G$7:$P$7),FALSE))","v":""},{"$f":"IF(H952=\"\",\"\",VLOOKUP(H952,Parámetros!H$11:$P$13,MAX(Parámetros!H$7:$P$7),FALSE))","v":""},{"$f":"IF(I952=\"\",\"\",VLOOKUP(I952,Parámetros!I$11:$P$13,MAX(Parámetros!I$7:$P$7),FALSE))","v":""},{"$f":"IF(J952=\"\",\"\",VLOOKUP(J952,Parámetros!J$11:$P$13,MAX(Parámetros!J$7:$P$7),FALSE))","v":""},{"$f":"IF(K952=\"\",\"\",VLOOKUP(K952,Parámetros!K$11:$P$13,MAX(Parámetros!K$7:$P$7),FALSE))","v":""},{"$f":"IF(L952=\"\",\"\",VLOOKUP(L952,Parámetros!L$11:$P$13,MAX(Parámetros!L$7:$P$7),FALSE))","v":""},{"$f":"IF(M952=\"\",\"\",VLOOKUP(M952,Parámetros!M$11:$P$13,MAX(Parámetros!M$7:$P$7),FALSE))","v":""},{"$f":"IF(N952=\"\",\"\",VLOOKUP(N952,Parámetros!N$11:$P$13,MAX(Parámetros!N$7:$P$7),FALSE))","v":""},{"$f":"IF(O952=\"\",\"\",VLOOKUP(O952,Parámetros!O$11:$P$13,MAX(Parámetros!O$7:$P$7),FALSE))","v":""},""]
[null,null,null,{"$f":"IF(E953=\"\",\"\",VLOOKUP(E953,'Buenas prácticas'!$G$8:$H$1007,2,FALSE))","v":""},null,null,null,null,null,null,null,null,null,null,null,{"$f":"IF(F953=\"\",\"\",VLOOKUP(F953,Parámetros!F$11:$P$13,MAX(Parámetros!F$7:$P$7),FALSE))","v":""},{"$f":"IF(G953=\"\",\"\",VLOOKUP(G953,Parámetros!G$11:$P$13,MAX(Parámetros!G$7:$P$7),FALSE))","v":""},{"$f":"IF(H953=\"\",\"\",VLOOKUP(H953,Parámetros!H$11:$P$13,MAX(Parámetros!H$7:$P$7),FALSE))","v":""},{"$f":"IF(I953=\"\",\"\",VLOOKUP(I953,Parámetros!I$11:$P$13,MAX(Parámetros!I$7:$P$7),FALSE))","v":""},{"$f":"IF(J953=\"\",\"\",VLOOKUP(J953,Parámetros!J$11:$P$13,MAX(Parámetros!J$7:$P$7),FALSE))","v":""},{"$f":"IF(K953=\"\",\"\",VLOOKUP(K953,Parámetros!K$11:$P$13,MAX(Parámetros!K$7:$P$7),FALSE))","v":""},{"$f":"IF(L953=\"\",\"\",VLOOKUP(L953,Parámetros!L$11:$P$13,MAX(Parámetros!L$7:$P$7),FALSE))","v":""},{"$f":"IF(M953=\"\",\"\",VLOOKUP(M953,Parámetros!M$11:$P$13,MAX(Parámetros!M$7:$P$7),FALSE))","v":""},{"$f":"IF(N953=\"\",\"\",VLOOKUP(N953,Parámetros!N$11:$P$13,MAX(Parámetros!N$7:$P$7),FALSE))","v":""},{"$f":"IF(O953=\"\",\"\",VLOOKUP(O953,Parámetros!O$11:$P$13,MAX(Parámetros!O$7:$P$7),FALSE))","v":""},""]
[null,null,null,{"$f":"IF(E954=\"\",\"\",VLOOKUP(E954,'Buenas prácticas'!$G$8:$H$1007,2,FALSE))","v":""},null,null,null,null,null,null,null,null,null,null,null,{"$f":"IF(F954=\"\",\"\",VLOOKUP(F954,Parámetros!F$11:$P$13,MAX(Parámetros!F$7:$P$7),FALSE))","v":""},{"$f":"IF(G954=\"\",\"\",VLOOKUP(G954,Parámetros!G$11:$P$13,MAX(Parámetros!G$7:$P$7),FALSE))","v":""},{"$f":"IF(H954=\"\",\"\",VLOOKUP(H954,Parámetros!H$11:$P$13,MAX(Parámetros!H$7:$P$7),FALSE))","v":""},{"$f":"IF(I954=\"\",\"\",VLOOKUP(I954,Parámetros!I$11:$P$13,MAX(Parámetros!I$7:$P$7),FALSE))","v":""},{"$f":"IF(J954=\"\",\"\",VLOOKUP(J954,Parámetros!J$11:$P$13,MAX(Parámetros!J$7:$P$7),FALSE))","v":""},{"$f":"IF(K954=\"\",\"\",VLOOKUP(K954,Parámetros!K$11:$P$13,MAX(Parámetros!K$7:$P$7),FALSE))","v":""},{"$f":"IF(L954=\"\",\"\",VLOOKUP(L954,Parámetros!L$11:$P$13,MAX(Parámetros!L$7:$P$7),FALSE))","v":""},{"$f":"IF(M954=\"\",\"\",VLOOKUP(M954,Parámetros!M$11:$P$13,MAX(Parámetros!M$7:$P$7),FALSE))","v":""},{"$f":"IF(N954=\"\",\"\",VLOOKUP(N954,Parámetros!N$11:$P$13,MAX(Parámetros!N$7:$P$7),FALSE))","v":""},{"$f":"IF(O954=\"\",\"\",VLOOKUP(O954,Parámetros!O$11:$P$13,MAX(Parámetros!O$7:$P$7),FALSE))","v":""},""]
[null,null,null,{"$f":"IF(E955=\"\",\"\",VLOOKUP(E955,'Buenas prácticas'!$G$8:$H$1007,2,FALSE))","v":""},null,null,null,null,null,null,null,null,null,null,null,{"$f":"IF(F955=\"\",\"\",VLOOKUP(F955,Parámetros!F$11:$P$13,MAX(Parámetros!F$7:$P$7),FALSE))","v":""},{"$f":"IF(G955=\"\",\"\",VLOOKUP(G955,Parámetros!G$11:$P$13,MAX(Parámetros!G$7:$P$7),FALSE))","v":""},{"$f":"IF(H955=\"\",\"\",VLOOKUP(H955,Parámetros!H$11:$P$13,MAX(Parámetros!H$7:$P$7),FALSE))","v":""},{"$f":"IF(I955=\"\",\"\",VLOOKUP(I955,Parámetros!I$11:$P$13,MAX(Parámetros!I$7:$P$7),FALSE))","v":""},{"$f":"IF(J955=\"\",\"\",VLOOKUP(J955,Parámetros!J$11:$P$13,MAX(Parámetros!J$7:$P$7),FALSE))","v":""},{"$f":"IF(K955=\"\",\"\",VLOOKUP(K955,Parámetros!K$11:$P$13,MAX(Parámetros!K$7:$P$7),FALSE))","v":""},{"$f":"IF(L955=\"\",\"\",VLOOKUP(L955,Parámetros!L$11:$P$13,MAX(Parámetros!L$7:$P$7),FALSE))","v":""},{"$f":"IF(M955=\"\",\"\",VLOOKUP(M955,Parámetros!M$11:$P$13,MAX(Parámetros!M$7:$P$7),FALSE))","v":""},{"$f":"IF(N955=\"\",\"\",VLOOKUP(N955,Parámetros!N$11:$P$13,MAX(Parámetros!N$7:$P$7),FALSE))","v":""},{"$f":"IF(O955=\"\",\"\",VLOOKUP(O955,Parámetros!O$11:$P$13,MAX(Parámetros!O$7:$P$7),FALSE))","v":""},""]
[null,null,null,{"$f":"IF(E956=\"\",\"\",VLOOKUP(E956,'Buenas prácticas'!$G$8:$H$1007,2,FALSE))","v":""},null,null,null,null,null,null,null,null,null,null,null,{"$f":"IF(F956=\"\",\"\",VLOOKUP(F956,Parámetros!F$11:$P$13,MAX(Parámetros!F$7:$P$7),FALSE))","v":""},{"$f":"IF(G956=\"\",\"\",VLOOKUP(G956,Parámetros!G$11:$P$13,MAX(Parámetros!G$7:$P$7),FALSE))","v":""},{"$f":"IF(H956=\"\",\"\",VLOOKUP(H956,Parámetros!H$11:$P$13,MAX(Parámetros!H$7:$P$7),FALSE))","v":""},{"$f":"IF(I956=\"\",\"\",VLOOKUP(I956,Parámetros!I$11:$P$13,MAX(Parámetros!I$7:$P$7),FALSE))","v":""},{"$f":"IF(J956=\"\",\"\",VLOOKUP(J956,Parámetros!J$11:$P$13,MAX(Parámetros!J$7:$P$7),FALSE))","v":""},{"$f":"IF(K956=\"\",\"\",VLOOKUP(K956,Parámetros!K$11:$P$13,MAX(Parámetros!K$7:$P$7),FALSE))","v":""},{"$f":"IF(L956=\"\",\"\",VLOOKUP(L956,Parámetros!L$11:$P$13,MAX(Parámetros!L$7:$P$7),FALSE))","v":""},{"$f":"IF(M956=\"\",\"\",VLOOKUP(M956,Parámetros!M$11:$P$13,MAX(Parámetros!M$7:$P$7),FALSE))","v":""},{"$f":"IF(N956=\"\",\"\",VLOOKUP(N956,Parámetros!N$11:$P$13,MAX(Parámetros!N$7:$P$7),FALSE))","v":""},{"$f":"IF(O956=\"\",\"\",VLOOKUP(O956,Parámetros!O$11:$P$13,MAX(Parámetros!O$7:$P$7),FALSE))","v":""},""]
[null,null,null,{"$f":"IF(E957=\"\",\"\",VLOOKUP(E957,'Buenas prácticas'!$G$8:$H$1007,2,FALSE))","v":""},null,null,null,null,null,null,null,null,null,null,null,{"$f":"IF(F957=\"\",\"\",VLOOKUP(F957,Parámetros!F$11:$P$13,MAX(Parámetros!F$7:$P$7),FALSE))","v":""},{"$f":"IF(G957=\"\",\"\",VLOOKUP(G957,Parámetros!G$11:$P$13,MAX(Parámetros!G$7:$P$7),FALSE))","v":""},{"$f":"IF(H957=\"\",\"\",VLOOKUP(H957,Parámetros!H$11:$P$13,MAX(Parámetros!H$7:$P$7),FALSE))","v":""},{"$f":"IF(I957=\"\",\"\",VLOOKUP(I957,Parámetros!I$11:$P$13,MAX(Parámetros!I$7:$P$7),FALSE))","v":""},{"$f":"IF(J957=\"\",\"\",VLOOKUP(J957,Parámetros!J$11:$P$13,MAX(Parámetros!J$7:$P$7),FALSE))","v":""},{"$f":"IF(K957=\"\",\"\",VLOOKUP(K957,Parámetros!K$11:$P$13,MAX(Parámetros!K$7:$P$7),FALSE))","v":""},{"$f":"IF(L957=\"\",\"\",VLOOKUP(L957,Parámetros!L$11:$P$13,MAX(Parámetros!L$7:$P$7),FALSE))","v":""},{"$f":"IF(M957=\"\",\"\",VLOOKUP(M957,Parámetros!M$11:$P$13,MAX(Parámetros!M$7:$P$7),FALSE))","v":""},{"$f":"IF(N957=\"\",\"\",VLOOKUP(N957,Parámetros!N$11:$P$13,MAX(Parámetros!N$7:$P$7),FALSE))","v":""},{"$f":"IF(O957=\"\",\"\",VLOOKUP(O957,Parámetros!O$11:$P$13,MAX(Parámetros!O$7:$P$7),FALSE))","v":""},""]
[null,null,null,{"$f":"IF(E958=\"\",\"\",VLOOKUP(E958,'Buenas prácticas'!$G$8:$H$1007,2,FALSE))","v":""},null,null,null,null,null,null,null,null,null,null,null,{"$f":"IF(F958=\"\",\"\",VLOOKUP(F958,Parámetros!F$11:$P$13,MAX(Parámetros!F$7:$P$7),FALSE))","v":""},{"$f":"IF(G958=\"\",\"\",VLOOKUP(G958,Parámetros!G$11:$P$13,MAX(Parámetros!G$7:$P$7),FALSE))","v":""},{"$f":"IF(H958=\"\",\"\",VLOOKUP(H958,Parámetros!H$11:$P$13,MAX(Parámetros!H$7:$P$7),FALSE))","v":""},{"$f":"IF(I958=\"\",\"\",VLOOKUP(I958,Parámetros!I$11:$P$13,MAX(Parámetros!I$7:$P$7),FALSE))","v":""},{"$f":"IF(J958=\"\",\"\",VLOOKUP(J958,Parámetros!J$11:$P$13,MAX(Parámetros!J$7:$P$7),FALSE))","v":""},{"$f":"IF(K958=\"\",\"\",VLOOKUP(K958,Parámetros!K$11:$P$13,MAX(Parámetros!K$7:$P$7),FALSE))","v":""},{"$f":"IF(L958=\"\",\"\",VLOOKUP(L958,Parámetros!L$11:$P$13,MAX(Parámetros!L$7:$P$7),FALSE))","v":""},{"$f":"IF(M958=\"\",\"\",VLOOKUP(M958,Parámetros!M$11:$P$13,MAX(Parámetros!M$7:$P$7),FALSE))","v":""},{"$f":"IF(N958=\"\",\"\",VLOOKUP(N958,Parámetros!N$11:$P$13,MAX(Parámetros!N$7:$P$7),FALSE))","v":""},{"$f":"IF(O958=\"\",\"\",VLOOKUP(O958,Parámetros!O$11:$P$13,MAX(Parámetros!O$7:$P$7),FALSE))","v":""},""]
[null,null,null,{"$f":"IF(E959=\"\",\"\",VLOOKUP(E959,'Buenas prácticas'!$G$8:$H$1007,2,FALSE))","v":""},null,null,null,null,null,null,null,null,null,null,null,{"$f":"IF(F959=\"\",\"\",VLOOKUP(F959,Parámetros!F$11:$P$13,MAX(Parámetros!F$7:$P$7),FALSE))","v":""},{"$f":"IF(G959=\"\",\"\",VLOOKUP(G959,Parámetros!G$11:$P$13,MAX(Parámetros!G$7:$P$7),FALSE))","v":""},{"$f":"IF(H959=\"\",\"\",VLOOKUP(H959,Parámetros!H$11:$P$13,MAX(Parámetros!H$7:$P$7),FALSE))","v":""},{"$f":"IF(I959=\"\",\"\",VLOOKUP(I959,Parámetros!I$11:$P$13,MAX(Parámetros!I$7:$P$7),FALSE))","v":""},{"$f":"IF(J959=\"\",\"\",VLOOKUP(J959,Parámetros!J$11:$P$13,MAX(Parámetros!J$7:$P$7),FALSE))","v":""},{"$f":"IF(K959=\"\",\"\",VLOOKUP(K959,Parámetros!K$11:$P$13,MAX(Parámetros!K$7:$P$7),FALSE))","v":""},{"$f":"IF(L959=\"\",\"\",VLOOKUP(L959,Parámetros!L$11:$P$13,MAX(Parámetros!L$7:$P$7),FALSE))","v":""},{"$f":"IF(M959=\"\",\"\",VLOOKUP(M959,Parámetros!M$11:$P$13,MAX(Parámetros!M$7:$P$7),FALSE))","v":""},{"$f":"IF(N959=\"\",\"\",VLOOKUP(N959,Parámetros!N$11:$P$13,MAX(Parámetros!N$7:$P$7),FALSE))","v":""},{"$f":"IF(O959=\"\",\"\",VLOOKUP(O959,Parámetros!O$11:$P$13,MAX(Parámetros!O$7:$P$7),FALSE))","v":""},""]
[null,null,null,{"$f":"IF(E960=\"\",\"\",VLOOKUP(E960,'Buenas prácticas'!$G$8:$H$1007,2,FALSE))","v":""},null,null,null,null,null,null,null,null,null,null,null,{"$f":"IF(F960=\"\",\"\",VLOOKUP(F960,Parámetros!F$11:$P$13,MAX(Parámetros!F$7:$P$7),FALSE))","v":""},{"$f":"IF(G960=\"\",\"\",VLOOKUP(G960,Parámetros!G$11:$P$13,MAX(Parámetros!G$7:$P$7),FALSE))","v":""},{"$f":"IF(H960=\"\",\"\",VLOOKUP(H960,Parámetros!H$11:$P$13,MAX(Parámetros!H$7:$P$7),FALSE))","v":""},{"$f":"IF(I960=\"\",\"\",VLOOKUP(I960,Parámetros!I$11:$P$13,MAX(Parámetros!I$7:$P$7),FALSE))","v":""},{"$f":"IF(J960=\"\",\"\",VLOOKUP(J960,Parámetros!J$11:$P$13,MAX(Parámetros!J$7:$P$7),FALSE))","v":""},{"$f":"IF(K960=\"\",\"\",VLOOKUP(K960,Parámetros!K$11:$P$13,MAX(Parámetros!K$7:$P$7),FALSE))","v":""},{"$f":"IF(L960=\"\",\"\",VLOOKUP(L960,Parámetros!L$11:$P$13,MAX(Parámetros!L$7:$P$7),FALSE))","v":""},{"$f":"IF(M960=\"\",\"\",VLOOKUP(M960,Parámetros!M$11:$P$13,MAX(Parámetros!M$7:$P$7),FALSE))","v":""},{"$f":"IF(N960=\"\",\"\",VLOOKUP(N960,Parámetros!N$11:$P$13,MAX(Parámetros!N$7:$P$7),FALSE))","v":""},{"$f":"IF(O960=\"\",\"\",VLOOKUP(O960,Parámetros!O$11:$P$13,MAX(Parámetros!O$7:$P$7),FALSE))","v":""},""]
[null,null,null,{"$f":"IF(E961=\"\",\"\",VLOOKUP(E961,'Buenas prácticas'!$G$8:$H$1007,2,FALSE))","v":""},null,null,null,null,null,null,null,null,null,null,null,{"$f":"IF(F961=\"\",\"\",VLOOKUP(F961,Parámetros!F$11:$P$13,MAX(Parámetros!F$7:$P$7),FALSE))","v":""},{"$f":"IF(G961=\"\",\"\",VLOOKUP(G961,Parámetros!G$11:$P$13,MAX(Parámetros!G$7:$P$7),FALSE))","v":""},{"$f":"IF(H961=\"\",\"\",VLOOKUP(H961,Parámetros!H$11:$P$13,MAX(Parámetros!H$7:$P$7),FALSE))","v":""},{"$f":"IF(I961=\"\",\"\",VLOOKUP(I961,Parámetros!I$11:$P$13,MAX(Parámetros!I$7:$P$7),FALSE))","v":""},{"$f":"IF(J961=\"\",\"\",VLOOKUP(J961,Parámetros!J$11:$P$13,MAX(Parámetros!J$7:$P$7),FALSE))","v":""},{"$f":"IF(K961=\"\",\"\",VLOOKUP(K961,Parámetros!K$11:$P$13,MAX(Parámetros!K$7:$P$7),FALSE))","v":""},{"$f":"IF(L961=\"\",\"\",VLOOKUP(L961,Parámetros!L$11:$P$13,MAX(Parámetros!L$7:$P$7),FALSE))","v":""},{"$f":"IF(M961=\"\",\"\",VLOOKUP(M961,Parámetros!M$11:$P$13,MAX(Parámetros!M$7:$P$7),FALSE))","v":""},{"$f":"IF(N961=\"\",\"\",VLOOKUP(N961,Parámetros!N$11:$P$13,MAX(Parámetros!N$7:$P$7),FALSE))","v":""},{"$f":"IF(O961=\"\",\"\",VLOOKUP(O961,Parámetros!O$11:$P$13,MAX(Parámetros!O$7:$P$7),FALSE))","v":""},""]
[null,null,null,{"$f":"IF(E962=\"\",\"\",VLOOKUP(E962,'Buenas prácticas'!$G$8:$H$1007,2,FALSE))","v":""},null,null,null,null,null,null,null,null,null,null,null,{"$f":"IF(F962=\"\",\"\",VLOOKUP(F962,Parámetros!F$11:$P$13,MAX(Parámetros!F$7:$P$7),FALSE))","v":""},{"$f":"IF(G962=\"\",\"\",VLOOKUP(G962,Parámetros!G$11:$P$13,MAX(Parámetros!G$7:$P$7),FALSE))","v":""},{"$f":"IF(H962=\"\",\"\",VLOOKUP(H962,Parámetros!H$11:$P$13,MAX(Parámetros!H$7:$P$7),FALSE))","v":""},{"$f":"IF(I962=\"\",\"\",VLOOKUP(I962,Parámetros!I$11:$P$13,MAX(Parámetros!I$7:$P$7),FALSE))","v":""},{"$f":"IF(J962=\"\",\"\",VLOOKUP(J962,Parámetros!J$11:$P$13,MAX(Parámetros!J$7:$P$7),FALSE))","v":""},{"$f":"IF(K962=\"\",\"\",VLOOKUP(K962,Parámetros!K$11:$P$13,MAX(Parámetros!K$7:$P$7),FALSE))","v":""},{"$f":"IF(L962=\"\",\"\",VLOOKUP(L962,Parámetros!L$11:$P$13,MAX(Parámetros!L$7:$P$7),FALSE))","v":""},{"$f":"IF(M962=\"\",\"\",VLOOKUP(M962,Parámetros!M$11:$P$13,MAX(Parámetros!M$7:$P$7),FALSE))","v":""},{"$f":"IF(N962=\"\",\"\",VLOOKUP(N962,Parámetros!N$11:$P$13,MAX(Parámetros!N$7:$P$7),FALSE))","v":""},{"$f":"IF(O962=\"\",\"\",VLOOKUP(O962,Parámetros!O$11:$P$13,MAX(Parámetros!O$7:$P$7),FALSE))","v":""},""]
[null,null,null,{"$f":"IF(E963=\"\",\"\",VLOOKUP(E963,'Buenas prácticas'!$G$8:$H$1007,2,FALSE))","v":""},null,null,null,null,null,null,null,null,null,null,null,{"$f":"IF(F963=\"\",\"\",VLOOKUP(F963,Parámetros!F$11:$P$13,MAX(Parámetros!F$7:$P$7),FALSE))","v":""},{"$f":"IF(G963=\"\",\"\",VLOOKUP(G963,Parámetros!G$11:$P$13,MAX(Parámetros!G$7:$P$7),FALSE))","v":""},{"$f":"IF(H963=\"\",\"\",VLOOKUP(H963,Parámetros!H$11:$P$13,MAX(Parámetros!H$7:$P$7),FALSE))","v":""},{"$f":"IF(I963=\"\",\"\",VLOOKUP(I963,Parámetros!I$11:$P$13,MAX(Parámetros!I$7:$P$7),FALSE))","v":""},{"$f":"IF(J963=\"\",\"\",VLOOKUP(J963,Parámetros!J$11:$P$13,MAX(Parámetros!J$7:$P$7),FALSE))","v":""},{"$f":"IF(K963=\"\",\"\",VLOOKUP(K963,Parámetros!K$11:$P$13,MAX(Parámetros!K$7:$P$7),FALSE))","v":""},{"$f":"IF(L963=\"\",\"\",VLOOKUP(L963,Parámetros!L$11:$P$13,MAX(Parámetros!L$7:$P$7),FALSE))","v":""},{"$f":"IF(M963=\"\",\"\",VLOOKUP(M963,Parámetros!M$11:$P$13,MAX(Parámetros!M$7:$P$7),FALSE))","v":""},{"$f":"IF(N963=\"\",\"\",VLOOKUP(N963,Parámetros!N$11:$P$13,MAX(Parámetros!N$7:$P$7),FALSE))","v":""},{"$f":"IF(O963=\"\",\"\",VLOOKUP(O963,Parámetros!O$11:$P$13,MAX(Parámetros!O$7:$P$7),FALSE))","v":""},""]
[null,null,null,{"$f":"IF(E964=\"\",\"\",VLOOKUP(E964,'Buenas prácticas'!$G$8:$H$1007,2,FALSE))","v":""},null,null,null,null,null,null,null,null,null,null,null,{"$f":"IF(F964=\"\",\"\",VLOOKUP(F964,Parámetros!F$11:$P$13,MAX(Parámetros!F$7:$P$7),FALSE))","v":""},{"$f":"IF(G964=\"\",\"\",VLOOKUP(G964,Parámetros!G$11:$P$13,MAX(Parámetros!G$7:$P$7),FALSE))","v":""},{"$f":"IF(H964=\"\",\"\",VLOOKUP(H964,Parámetros!H$11:$P$13,MAX(Parámetros!H$7:$P$7),FALSE))","v":""},{"$f":"IF(I964=\"\",\"\",VLOOKUP(I964,Parámetros!I$11:$P$13,MAX(Parámetros!I$7:$P$7),FALSE))","v":""},{"$f":"IF(J964=\"\",\"\",VLOOKUP(J964,Parámetros!J$11:$P$13,MAX(Parámetros!J$7:$P$7),FALSE))","v":""},{"$f":"IF(K964=\"\",\"\",VLOOKUP(K964,Parámetros!K$11:$P$13,MAX(Parámetros!K$7:$P$7),FALSE))","v":""},{"$f":"IF(L964=\"\",\"\",VLOOKUP(L964,Parámetros!L$11:$P$13,MAX(Parámetros!L$7:$P$7),FALSE))","v":""},{"$f":"IF(M964=\"\",\"\",VLOOKUP(M964,Parámetros!M$11:$P$13,MAX(Parámetros!M$7:$P$7),FALSE))","v":""},{"$f":"IF(N964=\"\",\"\",VLOOKUP(N964,Parámetros!N$11:$P$13,MAX(Parámetros!N$7:$P$7),FALSE))","v":""},{"$f":"IF(O964=\"\",\"\",VLOOKUP(O964,Parámetros!O$11:$P$13,MAX(Parámetros!O$7:$P$7),FALSE))","v":""},""]
[null,null,null,{"$f":"IF(E965=\"\",\"\",VLOOKUP(E965,'Buenas prácticas'!$G$8:$H$1007,2,FALSE))","v":""},null,null,null,null,null,null,null,null,null,null,null,{"$f":"IF(F965=\"\",\"\",VLOOKUP(F965,Parámetros!F$11:$P$13,MAX(Parámetros!F$7:$P$7),FALSE))","v":""},{"$f":"IF(G965=\"\",\"\",VLOOKUP(G965,Parámetros!G$11:$P$13,MAX(Parámetros!G$7:$P$7),FALSE))","v":""},{"$f":"IF(H965=\"\",\"\",VLOOKUP(H965,Parámetros!H$11:$P$13,MAX(Parámetros!H$7:$P$7),FALSE))","v":""},{"$f":"IF(I965=\"\",\"\",VLOOKUP(I965,Parámetros!I$11:$P$13,MAX(Parámetros!I$7:$P$7),FALSE))","v":""},{"$f":"IF(J965=\"\",\"\",VLOOKUP(J965,Parámetros!J$11:$P$13,MAX(Parámetros!J$7:$P$7),FALSE))","v":""},{"$f":"IF(K965=\"\",\"\",VLOOKUP(K965,Parámetros!K$11:$P$13,MAX(Parámetros!K$7:$P$7),FALSE))","v":""},{"$f":"IF(L965=\"\",\"\",VLOOKUP(L965,Parámetros!L$11:$P$13,MAX(Parámetros!L$7:$P$7),FALSE))","v":""},{"$f":"IF(M965=\"\",\"\",VLOOKUP(M965,Parámetros!M$11:$P$13,MAX(Parámetros!M$7:$P$7),FALSE))","v":""},{"$f":"IF(N965=\"\",\"\",VLOOKUP(N965,Parámetros!N$11:$P$13,MAX(Parámetros!N$7:$P$7),FALSE))","v":""},{"$f":"IF(O965=\"\",\"\",VLOOKUP(O965,Parámetros!O$11:$P$13,MAX(Parámetros!O$7:$P$7),FALSE))","v":""},""]
[null,null,null,{"$f":"IF(E966=\"\",\"\",VLOOKUP(E966,'Buenas prácticas'!$G$8:$H$1007,2,FALSE))","v":""},null,null,null,null,null,null,null,null,null,null,null,{"$f":"IF(F966=\"\",\"\",VLOOKUP(F966,Parámetros!F$11:$P$13,MAX(Parámetros!F$7:$P$7),FALSE))","v":""},{"$f":"IF(G966=\"\",\"\",VLOOKUP(G966,Parámetros!G$11:$P$13,MAX(Parámetros!G$7:$P$7),FALSE))","v":""},{"$f":"IF(H966=\"\",\"\",VLOOKUP(H966,Parámetros!H$11:$P$13,MAX(Parámetros!H$7:$P$7),FALSE))","v":""},{"$f":"IF(I966=\"\",\"\",VLOOKUP(I966,Parámetros!I$11:$P$13,MAX(Parámetros!I$7:$P$7),FALSE))","v":""},{"$f":"IF(J966=\"\",\"\",VLOOKUP(J966,Parámetros!J$11:$P$13,MAX(Parámetros!J$7:$P$7),FALSE))","v":""},{"$f":"IF(K966=\"\",\"\",VLOOKUP(K966,Parámetros!K$11:$P$13,MAX(Parámetros!K$7:$P$7),FALSE))","v":""},{"$f":"IF(L966=\"\",\"\",VLOOKUP(L966,Parámetros!L$11:$P$13,MAX(Parámetros!L$7:$P$7),FALSE))","v":""},{"$f":"IF(M966=\"\",\"\",VLOOKUP(M966,Parámetros!M$11:$P$13,MAX(Parámetros!M$7:$P$7),FALSE))","v":""},{"$f":"IF(N966=\"\",\"\",VLOOKUP(N966,Parámetros!N$11:$P$13,MAX(Parámetros!N$7:$P$7),FALSE))","v":""},{"$f":"IF(O966=\"\",\"\",VLOOKUP(O966,Parámetros!O$11:$P$13,MAX(Parámetros!O$7:$P$7),FALSE))","v":""},""]
[null,null,null,{"$f":"IF(E967=\"\",\"\",VLOOKUP(E967,'Buenas prácticas'!$G$8:$H$1007,2,FALSE))","v":""},null,null,null,null,null,null,null,null,null,null,null,{"$f":"IF(F967=\"\",\"\",VLOOKUP(F967,Parámetros!F$11:$P$13,MAX(Parámetros!F$7:$P$7),FALSE))","v":""},{"$f":"IF(G967=\"\",\"\",VLOOKUP(G967,Parámetros!G$11:$P$13,MAX(Parámetros!G$7:$P$7),FALSE))","v":""},{"$f":"IF(H967=\"\",\"\",VLOOKUP(H967,Parámetros!H$11:$P$13,MAX(Parámetros!H$7:$P$7),FALSE))","v":""},{"$f":"IF(I967=\"\",\"\",VLOOKUP(I967,Parámetros!I$11:$P$13,MAX(Parámetros!I$7:$P$7),FALSE))","v":""},{"$f":"IF(J967=\"\",\"\",VLOOKUP(J967,Parámetros!J$11:$P$13,MAX(Parámetros!J$7:$P$7),FALSE))","v":""},{"$f":"IF(K967=\"\",\"\",VLOOKUP(K967,Parámetros!K$11:$P$13,MAX(Parámetros!K$7:$P$7),FALSE))","v":""},{"$f":"IF(L967=\"\",\"\",VLOOKUP(L967,Parámetros!L$11:$P$13,MAX(Parámetros!L$7:$P$7),FALSE))","v":""},{"$f":"IF(M967=\"\",\"\",VLOOKUP(M967,Parámetros!M$11:$P$13,MAX(Parámetros!M$7:$P$7),FALSE))","v":""},{"$f":"IF(N967=\"\",\"\",VLOOKUP(N967,Parámetros!N$11:$P$13,MAX(Parámetros!N$7:$P$7),FALSE))","v":""},{"$f":"IF(O967=\"\",\"\",VLOOKUP(O967,Parámetros!O$11:$P$13,MAX(Parámetros!O$7:$P$7),FALSE))","v":""},""]
[null,null,null,{"$f":"IF(E968=\"\",\"\",VLOOKUP(E968,'Buenas prácticas'!$G$8:$H$1007,2,FALSE))","v":""},null,null,null,null,null,null,null,null,null,null,null,{"$f":"IF(F968=\"\",\"\",VLOOKUP(F968,Parámetros!F$11:$P$13,MAX(Parámetros!F$7:$P$7),FALSE))","v":""},{"$f":"IF(G968=\"\",\"\",VLOOKUP(G968,Parámetros!G$11:$P$13,MAX(Parámetros!G$7:$P$7),FALSE))","v":""},{"$f":"IF(H968=\"\",\"\",VLOOKUP(H968,Parámetros!H$11:$P$13,MAX(Parámetros!H$7:$P$7),FALSE))","v":""},{"$f":"IF(I968=\"\",\"\",VLOOKUP(I968,Parámetros!I$11:$P$13,MAX(Parámetros!I$7:$P$7),FALSE))","v":""},{"$f":"IF(J968=\"\",\"\",VLOOKUP(J968,Parámetros!J$11:$P$13,MAX(Parámetros!J$7:$P$7),FALSE))","v":""},{"$f":"IF(K968=\"\",\"\",VLOOKUP(K968,Parámetros!K$11:$P$13,MAX(Parámetros!K$7:$P$7),FALSE))","v":""},{"$f":"IF(L968=\"\",\"\",VLOOKUP(L968,Parámetros!L$11:$P$13,MAX(Parámetros!L$7:$P$7),FALSE))","v":""},{"$f":"IF(M968=\"\",\"\",VLOOKUP(M968,Parámetros!M$11:$P$13,MAX(Parámetros!M$7:$P$7),FALSE))","v":""},{"$f":"IF(N968=\"\",\"\",VLOOKUP(N968,Parámetros!N$11:$P$13,MAX(Parámetros!N$7:$P$7),FALSE))","v":""},{"$f":"IF(O968=\"\",\"\",VLOOKUP(O968,Parámetros!O$11:$P$13,MAX(Parámetros!O$7:$P$7),FALSE))","v":""},""]
[null,null,null,{"$f":"IF(E969=\"\",\"\",VLOOKUP(E969,'Buenas prácticas'!$G$8:$H$1007,2,FALSE))","v":""},null,null,null,null,null,null,null,null,null,null,null,{"$f":"IF(F969=\"\",\"\",VLOOKUP(F969,Parámetros!F$11:$P$13,MAX(Parámetros!F$7:$P$7),FALSE))","v":""},{"$f":"IF(G969=\"\",\"\",VLOOKUP(G969,Parámetros!G$11:$P$13,MAX(Parámetros!G$7:$P$7),FALSE))","v":""},{"$f":"IF(H969=\"\",\"\",VLOOKUP(H969,Parámetros!H$11:$P$13,MAX(Parámetros!H$7:$P$7),FALSE))","v":""},{"$f":"IF(I969=\"\",\"\",VLOOKUP(I969,Parámetros!I$11:$P$13,MAX(Parámetros!I$7:$P$7),FALSE))","v":""},{"$f":"IF(J969=\"\",\"\",VLOOKUP(J969,Parámetros!J$11:$P$13,MAX(Parámetros!J$7:$P$7),FALSE))","v":""},{"$f":"IF(K969=\"\",\"\",VLOOKUP(K969,Parámetros!K$11:$P$13,MAX(Parámetros!K$7:$P$7),FALSE))","v":""},{"$f":"IF(L969=\"\",\"\",VLOOKUP(L969,Parámetros!L$11:$P$13,MAX(Parámetros!L$7:$P$7),FALSE))","v":""},{"$f":"IF(M969=\"\",\"\",VLOOKUP(M969,Parámetros!M$11:$P$13,MAX(Parámetros!M$7:$P$7),FALSE))","v":""},{"$f":"IF(N969=\"\",\"\",VLOOKUP(N969,Parámetros!N$11:$P$13,MAX(Parámetros!N$7:$P$7),FALSE))","v":""},{"$f":"IF(O969=\"\",\"\",VLOOKUP(O969,Parámetros!O$11:$P$13,MAX(Parámetros!O$7:$P$7),FALSE))","v":""},{"$f":"IF(SUMPRODUCT($P969:$Y969,$P$6:$Y$6)=0,\"\",SUMPRODUCT($P969:$Y969,$P$6:$Y$6)/3)","v":""}]
[null,null,null,{"$f":"IF(E970=\"\",\"\",VLOOKUP(E970,'Buenas prácticas'!$G$8:$H$1007,2,FALSE))","v":""},null,null,null,null,null,null,null,null,null,null,null,{"$f":"IF(F970=\"\",\"\",VLOOKUP(F970,Parámetros!F$11:$P$13,MAX(Parámetros!F$7:$P$7),FALSE))","v":""},{"$f":"IF(G970=\"\",\"\",VLOOKUP(G970,Parámetros!G$11:$P$13,MAX(Parámetros!G$7:$P$7),FALSE))","v":""},{"$f":"IF(H970=\"\",\"\",VLOOKUP(H970,Parámetros!H$11:$P$13,MAX(Parámetros!H$7:$P$7),FALSE))","v":""},{"$f":"IF(I970=\"\",\"\",VLOOKUP(I970,Parámetros!I$11:$P$13,MAX(Parámetros!I$7:$P$7),FALSE))","v":""},{"$f":"IF(J970=\"\",\"\",VLOOKUP(J970,Parámetros!J$11:$P$13,MAX(Parámetros!J$7:$P$7),FALSE))","v":""},{"$f":"IF(K970=\"\",\"\",VLOOKUP(K970,Parámetros!K$11:$P$13,MAX(Parámetros!K$7:$P$7),FALSE))","v":""},{"$f":"IF(L970=\"\",\"\",VLOOKUP(L970,Parámetros!L$11:$P$13,MAX(Parámetros!L$7:$P$7),FALSE))","v":""},{"$f":"IF(M970=\"\",\"\",VLOOKUP(M970,Parámetros!M$11:$P$13,MAX(Parámetros!M$7:$P$7),FALSE))","v":""},{"$f":"IF(N970=\"\",\"\",VLOOKUP(N970,Parámetros!N$11:$P$13,MAX(Parámetros!N$7:$P$7),FALSE))","v":""},{"$f":"IF(O970=\"\",\"\",VLOOKUP(O970,Parámetros!O$11:$P$13,MAX(Parámetros!O$7:$P$7),FALSE))","v":""},""]
[null,null,null,{"$f":"IF(E971=\"\",\"\",VLOOKUP(E971,'Buenas prácticas'!$G$8:$H$1007,2,FALSE))","v":""},null,null,null,null,null,null,null,null,null,null,null,{"$f":"IF(F971=\"\",\"\",VLOOKUP(F971,Parámetros!F$11:$P$13,MAX(Parámetros!F$7:$P$7),FALSE))","v":""},{"$f":"IF(G971=\"\",\"\",VLOOKUP(G971,Parámetros!G$11:$P$13,MAX(Parámetros!G$7:$P$7),FALSE))","v":""},{"$f":"IF(H971=\"\",\"\",VLOOKUP(H971,Parámetros!H$11:$P$13,MAX(Parámetros!H$7:$P$7),FALSE))","v":""},{"$f":"IF(I971=\"\",\"\",VLOOKUP(I971,Parámetros!I$11:$P$13,MAX(Parámetros!I$7:$P$7),FALSE))","v":""},{"$f":"IF(J971=\"\",\"\",VLOOKUP(J971,Parámetros!J$11:$P$13,MAX(Parámetros!J$7:$P$7),FALSE))","v":""},{"$f":"IF(K971=\"\",\"\",VLOOKUP(K971,Parámetros!K$11:$P$13,MAX(Parámetros!K$7:$P$7),FALSE))","v":""},{"$f":"IF(L971=\"\",\"\",VLOOKUP(L971,Parámetros!L$11:$P$13,MAX(Parámetros!L$7:$P$7),FALSE))","v":""},{"$f":"IF(M971=\"\",\"\",VLOOKUP(M971,Parámetros!M$11:$P$13,MAX(Parámetros!M$7:$P$7),FALSE))","v":""},{"$f":"IF(N971=\"\",\"\",VLOOKUP(N971,Parámetros!N$11:$P$13,MAX(Parámetros!N$7:$P$7),FALSE))","v":""},{"$f":"IF(O971=\"\",\"\",VLOOKUP(O971,Parámetros!O$11:$P$13,MAX(Parámetros!O$7:$P$7),FALSE))","v":""},""]
[null,null,null,{"$f":"IF(E972=\"\",\"\",VLOOKUP(E972,'Buenas prácticas'!$G$8:$H$1007,2,FALSE))","v":""},null,null,null,null,null,null,null,null,null,null,null,{"$f":"IF(F972=\"\",\"\",VLOOKUP(F972,Parámetros!F$11:$P$13,MAX(Parámetros!F$7:$P$7),FALSE))","v":""},{"$f":"IF(G972=\"\",\"\",VLOOKUP(G972,Parámetros!G$11:$P$13,MAX(Parámetros!G$7:$P$7),FALSE))","v":""},{"$f":"IF(H972=\"\",\"\",VLOOKUP(H972,Parámetros!H$11:$P$13,MAX(Parámetros!H$7:$P$7),FALSE))","v":""},{"$f":"IF(I972=\"\",\"\",VLOOKUP(I972,Parámetros!I$11:$P$13,MAX(Parámetros!I$7:$P$7),FALSE))","v":""},{"$f":"IF(J972=\"\",\"\",VLOOKUP(J972,Parámetros!J$11:$P$13,MAX(Parámetros!J$7:$P$7),FALSE))","v":""},{"$f":"IF(K972=\"\",\"\",VLOOKUP(K972,Parámetros!K$11:$P$13,MAX(Parámetros!K$7:$P$7),FALSE))","v":""},{"$f":"IF(L972=\"\",\"\",VLOOKUP(L972,Parámetros!L$11:$P$13,MAX(Parámetros!L$7:$P$7),FALSE))","v":""},{"$f":"IF(M972=\"\",\"\",VLOOKUP(M972,Parámetros!M$11:$P$13,MAX(Parámetros!M$7:$P$7),FALSE))","v":""},{"$f":"IF(N972=\"\",\"\",VLOOKUP(N972,Parámetros!N$11:$P$13,MAX(Parámetros!N$7:$P$7),FALSE))","v":""},{"$f":"IF(O972=\"\",\"\",VLOOKUP(O972,Parámetros!O$11:$P$13,MAX(Parámetros!O$7:$P$7),FALSE))","v":""},""]
[null,null,null,{"$f":"IF(E973=\"\",\"\",VLOOKUP(E973,'Buenas prácticas'!$G$8:$H$1007,2,FALSE))","v":""},null,null,null,null,null,null,null,null,null,null,null,{"$f":"IF(F973=\"\",\"\",VLOOKUP(F973,Parámetros!F$11:$P$13,MAX(Parámetros!F$7:$P$7),FALSE))","v":""},{"$f":"IF(G973=\"\",\"\",VLOOKUP(G973,Parámetros!G$11:$P$13,MAX(Parámetros!G$7:$P$7),FALSE))","v":""},{"$f":"IF(H973=\"\",\"\",VLOOKUP(H973,Parámetros!H$11:$P$13,MAX(Parámetros!H$7:$P$7),FALSE))","v":""},{"$f":"IF(I973=\"\",\"\",VLOOKUP(I973,Parámetros!I$11:$P$13,MAX(Parámetros!I$7:$P$7),FALSE))","v":""},{"$f":"IF(J973=\"\",\"\",VLOOKUP(J973,Parámetros!J$11:$P$13,MAX(Parámetros!J$7:$P$7),FALSE))","v":""},{"$f":"IF(K973=\"\",\"\",VLOOKUP(K973,Parámetros!K$11:$P$13,MAX(Parámetros!K$7:$P$7),FALSE))","v":""},{"$f":"IF(L973=\"\",\"\",VLOOKUP(L973,Parámetros!L$11:$P$13,MAX(Parámetros!L$7:$P$7),FALSE))","v":""},{"$f":"IF(M973=\"\",\"\",VLOOKUP(M973,Parámetros!M$11:$P$13,MAX(Parámetros!M$7:$P$7),FALSE))","v":""},{"$f":"IF(N973=\"\",\"\",VLOOKUP(N973,Parámetros!N$11:$P$13,MAX(Parámetros!N$7:$P$7),FALSE))","v":""},{"$f":"IF(O973=\"\",\"\",VLOOKUP(O973,Parámetros!O$11:$P$13,MAX(Parámetros!O$7:$P$7),FALSE))","v":""},""]
[null,null,null,{"$f":"IF(E974=\"\",\"\",VLOOKUP(E974,'Buenas prácticas'!$G$8:$H$1007,2,FALSE))","v":""},null,null,null,null,null,null,null,null,null,null,null,{"$f":"IF(F974=\"\",\"\",VLOOKUP(F974,Parámetros!F$11:$P$13,MAX(Parámetros!F$7:$P$7),FALSE))","v":""},{"$f":"IF(G974=\"\",\"\",VLOOKUP(G974,Parámetros!G$11:$P$13,MAX(Parámetros!G$7:$P$7),FALSE))","v":""},{"$f":"IF(H974=\"\",\"\",VLOOKUP(H974,Parámetros!H$11:$P$13,MAX(Parámetros!H$7:$P$7),FALSE))","v":""},{"$f":"IF(I974=\"\",\"\",VLOOKUP(I974,Parámetros!I$11:$P$13,MAX(Parámetros!I$7:$P$7),FALSE))","v":""},{"$f":"IF(J974=\"\",\"\",VLOOKUP(J974,Parámetros!J$11:$P$13,MAX(Parámetros!J$7:$P$7),FALSE))","v":""},{"$f":"IF(K974=\"\",\"\",VLOOKUP(K974,Parámetros!K$11:$P$13,MAX(Parámetros!K$7:$P$7),FALSE))","v":""},{"$f":"IF(L974=\"\",\"\",VLOOKUP(L974,Parámetros!L$11:$P$13,MAX(Parámetros!L$7:$P$7),FALSE))","v":""},{"$f":"IF(M974=\"\",\"\",VLOOKUP(M974,Parámetros!M$11:$P$13,MAX(Parámetros!M$7:$P$7),FALSE))","v":""},{"$f":"IF(N974=\"\",\"\",VLOOKUP(N974,Parámetros!N$11:$P$13,MAX(Parámetros!N$7:$P$7),FALSE))","v":""},{"$f":"IF(O974=\"\",\"\",VLOOKUP(O974,Parámetros!O$11:$P$13,MAX(Parámetros!O$7:$P$7),FALSE))","v":""},""]
[null,null,null,{"$f":"IF(E975=\"\",\"\",VLOOKUP(E975,'Buenas prácticas'!$G$8:$H$1007,2,FALSE))","v":""},null,null,null,null,null,null,null,null,null,null,null,{"$f":"IF(F975=\"\",\"\",VLOOKUP(F975,Parámetros!F$11:$P$13,MAX(Parámetros!F$7:$P$7),FALSE))","v":""},{"$f":"IF(G975=\"\",\"\",VLOOKUP(G975,Parámetros!G$11:$P$13,MAX(Parámetros!G$7:$P$7),FALSE))","v":""},{"$f":"IF(H975=\"\",\"\",VLOOKUP(H975,Parámetros!H$11:$P$13,MAX(Parámetros!H$7:$P$7),FALSE))","v":""},{"$f":"IF(I975=\"\",\"\",VLOOKUP(I975,Parámetros!I$11:$P$13,MAX(Parámetros!I$7:$P$7),FALSE))","v":""},{"$f":"IF(J975=\"\",\"\",VLOOKUP(J975,Parámetros!J$11:$P$13,MAX(Parámetros!J$7:$P$7),FALSE))","v":""},{"$f":"IF(K975=\"\",\"\",VLOOKUP(K975,Parámetros!K$11:$P$13,MAX(Parámetros!K$7:$P$7),FALSE))","v":""},{"$f":"IF(L975=\"\",\"\",VLOOKUP(L975,Parámetros!L$11:$P$13,MAX(Parámetros!L$7:$P$7),FALSE))","v":""},{"$f":"IF(M975=\"\",\"\",VLOOKUP(M975,Parámetros!M$11:$P$13,MAX(Parámetros!M$7:$P$7),FALSE))","v":""},{"$f":"IF(N975=\"\",\"\",VLOOKUP(N975,Parámetros!N$11:$P$13,MAX(Parámetros!N$7:$P$7),FALSE))","v":""},{"$f":"IF(O975=\"\",\"\",VLOOKUP(O975,Parámetros!O$11:$P$13,MAX(Parámetros!O$7:$P$7),FALSE))","v":""},""]
[null,null,null,{"$f":"IF(E976=\"\",\"\",VLOOKUP(E976,'Buenas prácticas'!$G$8:$H$1007,2,FALSE))","v":""},null,null,null,null,null,null,null,null,null,null,null,{"$f":"IF(F976=\"\",\"\",VLOOKUP(F976,Parámetros!F$11:$P$13,MAX(Parámetros!F$7:$P$7),FALSE))","v":""},{"$f":"IF(G976=\"\",\"\",VLOOKUP(G976,Parámetros!G$11:$P$13,MAX(Parámetros!G$7:$P$7),FALSE))","v":""},{"$f":"IF(H976=\"\",\"\",VLOOKUP(H976,Parámetros!H$11:$P$13,MAX(Parámetros!H$7:$P$7),FALSE))","v":""},{"$f":"IF(I976=\"\",\"\",VLOOKUP(I976,Parámetros!I$11:$P$13,MAX(Parámetros!I$7:$P$7),FALSE))","v":""},{"$f":"IF(J976=\"\",\"\",VLOOKUP(J976,Parámetros!J$11:$P$13,MAX(Parámetros!J$7:$P$7),FALSE))","v":""},{"$f":"IF(K976=\"\",\"\",VLOOKUP(K976,Parámetros!K$11:$P$13,MAX(Parámetros!K$7:$P$7),FALSE))","v":""},{"$f":"IF(L976=\"\",\"\",VLOOKUP(L976,Parámetros!L$11:$P$13,MAX(Parámetros!L$7:$P$7),FALSE))","v":""},{"$f":"IF(M976=\"\",\"\",VLOOKUP(M976,Parámetros!M$11:$P$13,MAX(Parámetros!M$7:$P$7),FALSE))","v":""},{"$f":"IF(N976=\"\",\"\",VLOOKUP(N976,Parámetros!N$11:$P$13,MAX(Parámetros!N$7:$P$7),FALSE))","v":""},{"$f":"IF(O976=\"\",\"\",VLOOKUP(O976,Parámetros!O$11:$P$13,MAX(Parámetros!O$7:$P$7),FALSE))","v":""},""]
[null,null,null,{"$f":"IF(E977=\"\",\"\",VLOOKUP(E977,'Buenas prácticas'!$G$8:$H$1007,2,FALSE))","v":""},null,null,null,null,null,null,null,null,null,null,null,{"$f":"IF(F977=\"\",\"\",VLOOKUP(F977,Parámetros!F$11:$P$13,MAX(Parámetros!F$7:$P$7),FALSE))","v":""},{"$f":"IF(G977=\"\",\"\",VLOOKUP(G977,Parámetros!G$11:$P$13,MAX(Parámetros!G$7:$P$7),FALSE))","v":""},{"$f":"IF(H977=\"\",\"\",VLOOKUP(H977,Parámetros!H$11:$P$13,MAX(Parámetros!H$7:$P$7),FALSE))","v":""},{"$f":"IF(I977=\"\",\"\",VLOOKUP(I977,Parámetros!I$11:$P$13,MAX(Parámetros!I$7:$P$7),FALSE))","v":""},{"$f":"IF(J977=\"\",\"\",VLOOKUP(J977,Parámetros!J$11:$P$13,MAX(Parámetros!J$7:$P$7),FALSE))","v":""},{"$f":"IF(K977=\"\",\"\",VLOOKUP(K977,Parámetros!K$11:$P$13,MAX(Parámetros!K$7:$P$7),FALSE))","v":""},{"$f":"IF(L977=\"\",\"\",VLOOKUP(L977,Parámetros!L$11:$P$13,MAX(Parámetros!L$7:$P$7),FALSE))","v":""},{"$f":"IF(M977=\"\",\"\",VLOOKUP(M977,Parámetros!M$11:$P$13,MAX(Parámetros!M$7:$P$7),FALSE))","v":""},{"$f":"IF(N977=\"\",\"\",VLOOKUP(N977,Parámetros!N$11:$P$13,MAX(Parámetros!N$7:$P$7),FALSE))","v":""},{"$f":"IF(O977=\"\",\"\",VLOOKUP(O977,Parámetros!O$11:$P$13,MAX(Parámetros!O$7:$P$7),FALSE))","v":""},""]
[null,null,null,{"$f":"IF(E978=\"\",\"\",VLOOKUP(E978,'Buenas prácticas'!$G$8:$H$1007,2,FALSE))","v":""},null,null,null,null,null,null,null,null,null,null,null,{"$f":"IF(F978=\"\",\"\",VLOOKUP(F978,Parámetros!F$11:$P$13,MAX(Parámetros!F$7:$P$7),FALSE))","v":""},{"$f":"IF(G978=\"\",\"\",VLOOKUP(G978,Parámetros!G$11:$P$13,MAX(Parámetros!G$7:$P$7),FALSE))","v":""},{"$f":"IF(H978=\"\",\"\",VLOOKUP(H978,Parámetros!H$11:$P$13,MAX(Parámetros!H$7:$P$7),FALSE))","v":""},{"$f":"IF(I978=\"\",\"\",VLOOKUP(I978,Parámetros!I$11:$P$13,MAX(Parámetros!I$7:$P$7),FALSE))","v":""},{"$f":"IF(J978=\"\",\"\",VLOOKUP(J978,Parámetros!J$11:$P$13,MAX(Parámetros!J$7:$P$7),FALSE))","v":""},{"$f":"IF(K978=\"\",\"\",VLOOKUP(K978,Parámetros!K$11:$P$13,MAX(Parámetros!K$7:$P$7),FALSE))","v":""},{"$f":"IF(L978=\"\",\"\",VLOOKUP(L978,Parámetros!L$11:$P$13,MAX(Parámetros!L$7:$P$7),FALSE))","v":""},{"$f":"IF(M978=\"\",\"\",VLOOKUP(M978,Parámetros!M$11:$P$13,MAX(Parámetros!M$7:$P$7),FALSE))","v":""},{"$f":"IF(N978=\"\",\"\",VLOOKUP(N978,Parámetros!N$11:$P$13,MAX(Parámetros!N$7:$P$7),FALSE))","v":""},{"$f":"IF(O978=\"\",\"\",VLOOKUP(O978,Parámetros!O$11:$P$13,MAX(Parámetros!O$7:$P$7),FALSE))","v":""},""]
[null,null,null,{"$f":"IF(E979=\"\",\"\",VLOOKUP(E979,'Buenas prácticas'!$G$8:$H$1007,2,FALSE))","v":""},null,null,null,null,null,null,null,null,null,null,null,{"$f":"IF(F979=\"\",\"\",VLOOKUP(F979,Parámetros!F$11:$P$13,MAX(Parámetros!F$7:$P$7),FALSE))","v":""},{"$f":"IF(G979=\"\",\"\",VLOOKUP(G979,Parámetros!G$11:$P$13,MAX(Parámetros!G$7:$P$7),FALSE))","v":""},{"$f":"IF(H979=\"\",\"\",VLOOKUP(H979,Parámetros!H$11:$P$13,MAX(Parámetros!H$7:$P$7),FALSE))","v":""},{"$f":"IF(I979=\"\",\"\",VLOOKUP(I979,Parámetros!I$11:$P$13,MAX(Parámetros!I$7:$P$7),FALSE))","v":""},{"$f":"IF(J979=\"\",\"\",VLOOKUP(J979,Parámetros!J$11:$P$13,MAX(Parámetros!J$7:$P$7),FALSE))","v":""},{"$f":"IF(K979=\"\",\"\",VLOOKUP(K979,Parámetros!K$11:$P$13,MAX(Parámetros!K$7:$P$7),FALSE))","v":""},{"$f":"IF(L979=\"\",\"\",VLOOKUP(L979,Parámetros!L$11:$P$13,MAX(Parámetros!L$7:$P$7),FALSE))","v":""},{"$f":"IF(M979=\"\",\"\",VLOOKUP(M979,Parámetros!M$11:$P$13,MAX(Parámetros!M$7:$P$7),FALSE))","v":""},{"$f":"IF(N979=\"\",\"\",VLOOKUP(N979,Parámetros!N$11:$P$13,MAX(Parámetros!N$7:$P$7),FALSE))","v":""},{"$f":"IF(O979=\"\",\"\",VLOOKUP(O979,Parámetros!O$11:$P$13,MAX(Parámetros!O$7:$P$7),FALSE))","v":""},""]
[null,null,null,{"$f":"IF(E980=\"\",\"\",VLOOKUP(E980,'Buenas prácticas'!$G$8:$H$1007,2,FALSE))","v":""},null,null,null,null,null,null,null,null,null,null,null,{"$f":"IF(F980=\"\",\"\",VLOOKUP(F980,Parámetros!F$11:$P$13,MAX(Parámetros!F$7:$P$7),FALSE))","v":""},{"$f":"IF(G980=\"\",\"\",VLOOKUP(G980,Parámetros!G$11:$P$13,MAX(Parámetros!G$7:$P$7),FALSE))","v":""},{"$f":"IF(H980=\"\",\"\",VLOOKUP(H980,Parámetros!H$11:$P$13,MAX(Parámetros!H$7:$P$7),FALSE))","v":""},{"$f":"IF(I980=\"\",\"\",VLOOKUP(I980,Parámetros!I$11:$P$13,MAX(Parámetros!I$7:$P$7),FALSE))","v":""},{"$f":"IF(J980=\"\",\"\",VLOOKUP(J980,Parámetros!J$11:$P$13,MAX(Parámetros!J$7:$P$7),FALSE))","v":""},{"$f":"IF(K980=\"\",\"\",VLOOKUP(K980,Parámetros!K$11:$P$13,MAX(Parámetros!K$7:$P$7),FALSE))","v":""},{"$f":"IF(L980=\"\",\"\",VLOOKUP(L980,Parámetros!L$11:$P$13,MAX(Parámetros!L$7:$P$7),FALSE))","v":""},{"$f":"IF(M980=\"\",\"\",VLOOKUP(M980,Parámetros!M$11:$P$13,MAX(Parámetros!M$7:$P$7),FALSE))","v":""},{"$f":"IF(N980=\"\",\"\",VLOOKUP(N980,Parámetros!N$11:$P$13,MAX(Parámetros!N$7:$P$7),FALSE))","v":""},{"$f":"IF(O980=\"\",\"\",VLOOKUP(O980,Parámetros!O$11:$P$13,MAX(Parámetros!O$7:$P$7),FALSE))","v":""},""]
[null,null,null,{"$f":"IF(E981=\"\",\"\",VLOOKUP(E981,'Buenas prácticas'!$G$8:$H$1007,2,FALSE))","v":""},null,null,null,null,null,null,null,null,null,null,null,{"$f":"IF(F981=\"\",\"\",VLOOKUP(F981,Parámetros!F$11:$P$13,MAX(Parámetros!F$7:$P$7),FALSE))","v":""},{"$f":"IF(G981=\"\",\"\",VLOOKUP(G981,Parámetros!G$11:$P$13,MAX(Parámetros!G$7:$P$7),FALSE))","v":""},{"$f":"IF(H981=\"\",\"\",VLOOKUP(H981,Parámetros!H$11:$P$13,MAX(Parámetros!H$7:$P$7),FALSE))","v":""},{"$f":"IF(I981=\"\",\"\",VLOOKUP(I981,Parámetros!I$11:$P$13,MAX(Parámetros!I$7:$P$7),FALSE))","v":""},{"$f":"IF(J981=\"\",\"\",VLOOKUP(J981,Parámetros!J$11:$P$13,MAX(Parámetros!J$7:$P$7),FALSE))","v":""},{"$f":"IF(K981=\"\",\"\",VLOOKUP(K981,Parámetros!K$11:$P$13,MAX(Parámetros!K$7:$P$7),FALSE))","v":""},{"$f":"IF(L981=\"\",\"\",VLOOKUP(L981,Parámetros!L$11:$P$13,MAX(Parámetros!L$7:$P$7),FALSE))","v":""},{"$f":"IF(M981=\"\",\"\",VLOOKUP(M981,Parámetros!M$11:$P$13,MAX(Parámetros!M$7:$P$7),FALSE))","v":""},{"$f":"IF(N981=\"\",\"\",VLOOKUP(N981,Parámetros!N$11:$P$13,MAX(Parámetros!N$7:$P$7),FALSE))","v":""},{"$f":"IF(O981=\"\",\"\",VLOOKUP(O981,Parámetros!O$11:$P$13,MAX(Parámetros!O$7:$P$7),FALSE))","v":""},""]
[null,null,null,{"$f":"IF(E982=\"\",\"\",VLOOKUP(E982,'Buenas prácticas'!$G$8:$H$1007,2,FALSE))","v":""},null,null,null,null,null,null,null,null,null,null,null,{"$f":"IF(F982=\"\",\"\",VLOOKUP(F982,Parámetros!F$11:$P$13,MAX(Parámetros!F$7:$P$7),FALSE))","v":""},{"$f":"IF(G982=\"\",\"\",VLOOKUP(G982,Parámetros!G$11:$P$13,MAX(Parámetros!G$7:$P$7),FALSE))","v":""},{"$f":"IF(H982=\"\",\"\",VLOOKUP(H982,Parámetros!H$11:$P$13,MAX(Parámetros!H$7:$P$7),FALSE))","v":""},{"$f":"IF(I982=\"\",\"\",VLOOKUP(I982,Parámetros!I$11:$P$13,MAX(Parámetros!I$7:$P$7),FALSE))","v":""},{"$f":"IF(J982=\"\",\"\",VLOOKUP(J982,Parámetros!J$11:$P$13,MAX(Parámetros!J$7:$P$7),FALSE))","v":""},{"$f":"IF(K982=\"\",\"\",VLOOKUP(K982,Parámetros!K$11:$P$13,MAX(Parámetros!K$7:$P$7),FALSE))","v":""},{"$f":"IF(L982=\"\",\"\",VLOOKUP(L982,Parámetros!L$11:$P$13,MAX(Parámetros!L$7:$P$7),FALSE))","v":""},{"$f":"IF(M982=\"\",\"\",VLOOKUP(M982,Parámetros!M$11:$P$13,MAX(Parámetros!M$7:$P$7),FALSE))","v":""},{"$f":"IF(N982=\"\",\"\",VLOOKUP(N982,Parámetros!N$11:$P$13,MAX(Parámetros!N$7:$P$7),FALSE))","v":""},{"$f":"IF(O982=\"\",\"\",VLOOKUP(O982,Parámetros!O$11:$P$13,MAX(Parámetros!O$7:$P$7),FALSE))","v":""},""]
[null,null,null,{"$f":"IF(E983=\"\",\"\",VLOOKUP(E983,'Buenas prácticas'!$G$8:$H$1007,2,FALSE))","v":""},null,null,null,null,null,null,null,null,null,null,null,{"$f":"IF(F983=\"\",\"\",VLOOKUP(F983,Parámetros!F$11:$P$13,MAX(Parámetros!F$7:$P$7),FALSE))","v":""},{"$f":"IF(G983=\"\",\"\",VLOOKUP(G983,Parámetros!G$11:$P$13,MAX(Parámetros!G$7:$P$7),FALSE))","v":""},{"$f":"IF(H983=\"\",\"\",VLOOKUP(H983,Parámetros!H$11:$P$13,MAX(Parámetros!H$7:$P$7),FALSE))","v":""},{"$f":"IF(I983=\"\",\"\",VLOOKUP(I983,Parámetros!I$11:$P$13,MAX(Parámetros!I$7:$P$7),FALSE))","v":""},{"$f":"IF(J983=\"\",\"\",VLOOKUP(J983,Parámetros!J$11:$P$13,MAX(Parámetros!J$7:$P$7),FALSE))","v":""},{"$f":"IF(K983=\"\",\"\",VLOOKUP(K983,Parámetros!K$11:$P$13,MAX(Parámetros!K$7:$P$7),FALSE))","v":""},{"$f":"IF(L983=\"\",\"\",VLOOKUP(L983,Parámetros!L$11:$P$13,MAX(Parámetros!L$7:$P$7),FALSE))","v":""},{"$f":"IF(M983=\"\",\"\",VLOOKUP(M983,Parámetros!M$11:$P$13,MAX(Parámetros!M$7:$P$7),FALSE))","v":""},{"$f":"IF(N983=\"\",\"\",VLOOKUP(N983,Parámetros!N$11:$P$13,MAX(Parámetros!N$7:$P$7),FALSE))","v":""},{"$f":"IF(O983=\"\",\"\",VLOOKUP(O983,Parámetros!O$11:$P$13,MAX(Parámetros!O$7:$P$7),FALSE))","v":""},""]
[null,null,null,{"$f":"IF(E984=\"\",\"\",VLOOKUP(E984,'Buenas prácticas'!$G$8:$H$1007,2,FALSE))","v":""},null,null,null,null,null,null,null,null,null,null,null,{"$f":"IF(F984=\"\",\"\",VLOOKUP(F984,Parámetros!F$11:$P$13,MAX(Parámetros!F$7:$P$7),FALSE))","v":""},{"$f":"IF(G984=\"\",\"\",VLOOKUP(G984,Parámetros!G$11:$P$13,MAX(Parámetros!G$7:$P$7),FALSE))","v":""},{"$f":"IF(H984=\"\",\"\",VLOOKUP(H984,Parámetros!H$11:$P$13,MAX(Parámetros!H$7:$P$7),FALSE))","v":""},{"$f":"IF(I984=\"\",\"\",VLOOKUP(I984,Parámetros!I$11:$P$13,MAX(Parámetros!I$7:$P$7),FALSE))","v":""},{"$f":"IF(J984=\"\",\"\",VLOOKUP(J984,Parámetros!J$11:$P$13,MAX(Parámetros!J$7:$P$7),FALSE))","v":""},{"$f":"IF(K984=\"\",\"\",VLOOKUP(K984,Parámetros!K$11:$P$13,MAX(Parámetros!K$7:$P$7),FALSE))","v":""},{"$f":"IF(L984=\"\",\"\",VLOOKUP(L984,Parámetros!L$11:$P$13,MAX(Parámetros!L$7:$P$7),FALSE))","v":""},{"$f":"IF(M984=\"\",\"\",VLOOKUP(M984,Parámetros!M$11:$P$13,MAX(Parámetros!M$7:$P$7),FALSE))","v":""},{"$f":"IF(N984=\"\",\"\",VLOOKUP(N984,Parámetros!N$11:$P$13,MAX(Parámetros!N$7:$P$7),FALSE))","v":""},{"$f":"IF(O984=\"\",\"\",VLOOKUP(O984,Parámetros!O$11:$P$13,MAX(Parámetros!O$7:$P$7),FALSE))","v":""},""]
[null,null,null,{"$f":"IF(E985=\"\",\"\",VLOOKUP(E985,'Buenas prácticas'!$G$8:$H$1007,2,FALSE))","v":""},null,null,null,null,null,null,null,null,null,null,null,{"$f":"IF(F985=\"\",\"\",VLOOKUP(F985,Parámetros!F$11:$P$13,MAX(Parámetros!F$7:$P$7),FALSE))","v":""},{"$f":"IF(G985=\"\",\"\",VLOOKUP(G985,Parámetros!G$11:$P$13,MAX(Parámetros!G$7:$P$7),FALSE))","v":""},{"$f":"IF(H985=\"\",\"\",VLOOKUP(H985,Parámetros!H$11:$P$13,MAX(Parámetros!H$7:$P$7),FALSE))","v":""},{"$f":"IF(I985=\"\",\"\",VLOOKUP(I985,Parámetros!I$11:$P$13,MAX(Parámetros!I$7:$P$7),FALSE))","v":""},{"$f":"IF(J985=\"\",\"\",VLOOKUP(J985,Parámetros!J$11:$P$13,MAX(Parámetros!J$7:$P$7),FALSE))","v":""},{"$f":"IF(K985=\"\",\"\",VLOOKUP(K985,Parámetros!K$11:$P$13,MAX(Parámetros!K$7:$P$7),FALSE))","v":""},{"$f":"IF(L985=\"\",\"\",VLOOKUP(L985,Parámetros!L$11:$P$13,MAX(Parámetros!L$7:$P$7),FALSE))","v":""},{"$f":"IF(M985=\"\",\"\",VLOOKUP(M985,Parámetros!M$11:$P$13,MAX(Parámetros!M$7:$P$7),FALSE))","v":""},{"$f":"IF(N985=\"\",\"\",VLOOKUP(N985,Parámetros!N$11:$P$13,MAX(Parámetros!N$7:$P$7),FALSE))","v":""},{"$f":"IF(O985=\"\",\"\",VLOOKUP(O985,Parámetros!O$11:$P$13,MAX(Parámetros!O$7:$P$7),FALSE))","v":""},""]
[null,null,null,{"$f":"IF(E986=\"\",\"\",VLOOKUP(E986,'Buenas prácticas'!$G$8:$H$1007,2,FALSE))","v":""},null,null,null,null,null,null,null,null,null,null,null,{"$f":"IF(F986=\"\",\"\",VLOOKUP(F986,Parámetros!F$11:$P$13,MAX(Parámetros!F$7:$P$7),FALSE))","v":""},{"$f":"IF(G986=\"\",\"\",VLOOKUP(G986,Parámetros!G$11:$P$13,MAX(Parámetros!G$7:$P$7),FALSE))","v":""},{"$f":"IF(H986=\"\",\"\",VLOOKUP(H986,Parámetros!H$11:$P$13,MAX(Parámetros!H$7:$P$7),FALSE))","v":""},{"$f":"IF(I986=\"\",\"\",VLOOKUP(I986,Parámetros!I$11:$P$13,MAX(Parámetros!I$7:$P$7),FALSE))","v":""},{"$f":"IF(J986=\"\",\"\",VLOOKUP(J986,Parámetros!J$11:$P$13,MAX(Parámetros!J$7:$P$7),FALSE))","v":""},{"$f":"IF(K986=\"\",\"\",VLOOKUP(K986,Parámetros!K$11:$P$13,MAX(Parámetros!K$7:$P$7),FALSE))","v":""},{"$f":"IF(L986=\"\",\"\",VLOOKUP(L986,Parámetros!L$11:$P$13,MAX(Parámetros!L$7:$P$7),FALSE))","v":""},{"$f":"IF(M986=\"\",\"\",VLOOKUP(M986,Parámetros!M$11:$P$13,MAX(Parámetros!M$7:$P$7),FALSE))","v":""},{"$f":"IF(N986=\"\",\"\",VLOOKUP(N986,Parámetros!N$11:$P$13,MAX(Parámetros!N$7:$P$7),FALSE))","v":""},{"$f":"IF(O986=\"\",\"\",VLOOKUP(O986,Parámetros!O$11:$P$13,MAX(Parámetros!O$7:$P$7),FALSE))","v":""},""]
[null,null,null,{"$f":"IF(E987=\"\",\"\",VLOOKUP(E987,'Buenas prácticas'!$G$8:$H$1007,2,FALSE))","v":""},null,null,null,null,null,null,null,null,null,null,null,{"$f":"IF(F987=\"\",\"\",VLOOKUP(F987,Parámetros!F$11:$P$13,MAX(Parámetros!F$7:$P$7),FALSE))","v":""},{"$f":"IF(G987=\"\",\"\",VLOOKUP(G987,Parámetros!G$11:$P$13,MAX(Parámetros!G$7:$P$7),FALSE))","v":""},{"$f":"IF(H987=\"\",\"\",VLOOKUP(H987,Parámetros!H$11:$P$13,MAX(Parámetros!H$7:$P$7),FALSE))","v":""},{"$f":"IF(I987=\"\",\"\",VLOOKUP(I987,Parámetros!I$11:$P$13,MAX(Parámetros!I$7:$P$7),FALSE))","v":""},{"$f":"IF(J987=\"\",\"\",VLOOKUP(J987,Parámetros!J$11:$P$13,MAX(Parámetros!J$7:$P$7),FALSE))","v":""},{"$f":"IF(K987=\"\",\"\",VLOOKUP(K987,Parámetros!K$11:$P$13,MAX(Parámetros!K$7:$P$7),FALSE))","v":""},{"$f":"IF(L987=\"\",\"\",VLOOKUP(L987,Parámetros!L$11:$P$13,MAX(Parámetros!L$7:$P$7),FALSE))","v":""},{"$f":"IF(M987=\"\",\"\",VLOOKUP(M987,Parámetros!M$11:$P$13,MAX(Parámetros!M$7:$P$7),FALSE))","v":""},{"$f":"IF(N987=\"\",\"\",VLOOKUP(N987,Parámetros!N$11:$P$13,MAX(Parámetros!N$7:$P$7),FALSE))","v":""},{"$f":"IF(O987=\"\",\"\",VLOOKUP(O987,Parámetros!O$11:$P$13,MAX(Parámetros!O$7:$P$7),FALSE))","v":""},""]
[null,null,null,{"$f":"IF(E988=\"\",\"\",VLOOKUP(E988,'Buenas prácticas'!$G$8:$H$1007,2,FALSE))","v":""},null,null,null,null,null,null,null,null,null,null,null,{"$f":"IF(F988=\"\",\"\",VLOOKUP(F988,Parámetros!F$11:$P$13,MAX(Parámetros!F$7:$P$7),FALSE))","v":""},{"$f":"IF(G988=\"\",\"\",VLOOKUP(G988,Parámetros!G$11:$P$13,MAX(Parámetros!G$7:$P$7),FALSE))","v":""},{"$f":"IF(H988=\"\",\"\",VLOOKUP(H988,Parámetros!H$11:$P$13,MAX(Parámetros!H$7:$P$7),FALSE))","v":""},{"$f":"IF(I988=\"\",\"\",VLOOKUP(I988,Parámetros!I$11:$P$13,MAX(Parámetros!I$7:$P$7),FALSE))","v":""},{"$f":"IF(J988=\"\",\"\",VLOOKUP(J988,Parámetros!J$11:$P$13,MAX(Parámetros!J$7:$P$7),FALSE))","v":""},{"$f":"IF(K988=\"\",\"\",VLOOKUP(K988,Parámetros!K$11:$P$13,MAX(Parámetros!K$7:$P$7),FALSE))","v":""},{"$f":"IF(L988=\"\",\"\",VLOOKUP(L988,Parámetros!L$11:$P$13,MAX(Parámetros!L$7:$P$7),FALSE))","v":""},{"$f":"IF(M988=\"\",\"\",VLOOKUP(M988,Parámetros!M$11:$P$13,MAX(Parámetros!M$7:$P$7),FALSE))","v":""},{"$f":"IF(N988=\"\",\"\",VLOOKUP(N988,Parámetros!N$11:$P$13,MAX(Parámetros!N$7:$P$7),FALSE))","v":""},{"$f":"IF(O988=\"\",\"\",VLOOKUP(O988,Parámetros!O$11:$P$13,MAX(Parámetros!O$7:$P$7),FALSE))","v":""},""]
[null,null,null,{"$f":"IF(E989=\"\",\"\",VLOOKUP(E989,'Buenas prácticas'!$G$8:$H$1007,2,FALSE))","v":""},null,null,null,null,null,null,null,null,null,null,null,{"$f":"IF(F989=\"\",\"\",VLOOKUP(F989,Parámetros!F$11:$P$13,MAX(Parámetros!F$7:$P$7),FALSE))","v":""},{"$f":"IF(G989=\"\",\"\",VLOOKUP(G989,Parámetros!G$11:$P$13,MAX(Parámetros!G$7:$P$7),FALSE))","v":""},{"$f":"IF(H989=\"\",\"\",VLOOKUP(H989,Parámetros!H$11:$P$13,MAX(Parámetros!H$7:$P$7),FALSE))","v":""},{"$f":"IF(I989=\"\",\"\",VLOOKUP(I989,Parámetros!I$11:$P$13,MAX(Parámetros!I$7:$P$7),FALSE))","v":""},{"$f":"IF(J989=\"\",\"\",VLOOKUP(J989,Parámetros!J$11:$P$13,MAX(Parámetros!J$7:$P$7),FALSE))","v":""},{"$f":"IF(K989=\"\",\"\",VLOOKUP(K989,Parámetros!K$11:$P$13,MAX(Parámetros!K$7:$P$7),FALSE))","v":""},{"$f":"IF(L989=\"\",\"\",VLOOKUP(L989,Parámetros!L$11:$P$13,MAX(Parámetros!L$7:$P$7),FALSE))","v":""},{"$f":"IF(M989=\"\",\"\",VLOOKUP(M989,Parámetros!M$11:$P$13,MAX(Parámetros!M$7:$P$7),FALSE))","v":""},{"$f":"IF(N989=\"\",\"\",VLOOKUP(N989,Parámetros!N$11:$P$13,MAX(Parámetros!N$7:$P$7),FALSE))","v":""},{"$f":"IF(O989=\"\",\"\",VLOOKUP(O989,Parámetros!O$11:$P$13,MAX(Parámetros!O$7:$P$7),FALSE))","v":""},""]
[null,null,null,{"$f":"IF(E990=\"\",\"\",VLOOKUP(E990,'Buenas prácticas'!$G$8:$H$1007,2,FALSE))","v":""},null,null,null,null,null,null,null,null,null,null,null,{"$f":"IF(F990=\"\",\"\",VLOOKUP(F990,Parámetros!F$11:$P$13,MAX(Parámetros!F$7:$P$7),FALSE))","v":""},{"$f":"IF(G990=\"\",\"\",VLOOKUP(G990,Parámetros!G$11:$P$13,MAX(Parámetros!G$7:$P$7),FALSE))","v":""},{"$f":"IF(H990=\"\",\"\",VLOOKUP(H990,Parámetros!H$11:$P$13,MAX(Parámetros!H$7:$P$7),FALSE))","v":""},{"$f":"IF(I990=\"\",\"\",VLOOKUP(I990,Parámetros!I$11:$P$13,MAX(Parámetros!I$7:$P$7),FALSE))","v":""},{"$f":"IF(J990=\"\",\"\",VLOOKUP(J990,Parámetros!J$11:$P$13,MAX(Parámetros!J$7:$P$7),FALSE))","v":""},{"$f":"IF(K990=\"\",\"\",VLOOKUP(K990,Parámetros!K$11:$P$13,MAX(Parámetros!K$7:$P$7),FALSE))","v":""},{"$f":"IF(L990=\"\",\"\",VLOOKUP(L990,Parámetros!L$11:$P$13,MAX(Parámetros!L$7:$P$7),FALSE))","v":""},{"$f":"IF(M990=\"\",\"\",VLOOKUP(M990,Parámetros!M$11:$P$13,MAX(Parámetros!M$7:$P$7),FALSE))","v":""},{"$f":"IF(N990=\"\",\"\",VLOOKUP(N990,Parámetros!N$11:$P$13,MAX(Parámetros!N$7:$P$7),FALSE))","v":""},{"$f":"IF(O990=\"\",\"\",VLOOKUP(O990,Parámetros!O$11:$P$13,MAX(Parámetros!O$7:$P$7),FALSE))","v":""},""]
[null,null,null,{"$f":"IF(E991=\"\",\"\",VLOOKUP(E991,'Buenas prácticas'!$G$8:$H$1007,2,FALSE))","v":""},null,null,null,null,null,null,null,null,null,null,null,{"$f":"IF(F991=\"\",\"\",VLOOKUP(F991,Parámetros!F$11:$P$13,MAX(Parámetros!F$7:$P$7),FALSE))","v":""},{"$f":"IF(G991=\"\",\"\",VLOOKUP(G991,Parámetros!G$11:$P$13,MAX(Parámetros!G$7:$P$7),FALSE))","v":""},{"$f":"IF(H991=\"\",\"\",VLOOKUP(H991,Parámetros!H$11:$P$13,MAX(Parámetros!H$7:$P$7),FALSE))","v":""},{"$f":"IF(I991=\"\",\"\",VLOOKUP(I991,Parámetros!I$11:$P$13,MAX(Parámetros!I$7:$P$7),FALSE))","v":""},{"$f":"IF(J991=\"\",\"\",VLOOKUP(J991,Parámetros!J$11:$P$13,MAX(Parámetros!J$7:$P$7),FALSE))","v":""},{"$f":"IF(K991=\"\",\"\",VLOOKUP(K991,Parámetros!K$11:$P$13,MAX(Parámetros!K$7:$P$7),FALSE))","v":""},{"$f":"IF(L991=\"\",\"\",VLOOKUP(L991,Parámetros!L$11:$P$13,MAX(Parámetros!L$7:$P$7),FALSE))","v":""},{"$f":"IF(M991=\"\",\"\",VLOOKUP(M991,Parámetros!M$11:$P$13,MAX(Parámetros!M$7:$P$7),FALSE))","v":""},{"$f":"IF(N991=\"\",\"\",VLOOKUP(N991,Parámetros!N$11:$P$13,MAX(Parámetros!N$7:$P$7),FALSE))","v":""},{"$f":"IF(O991=\"\",\"\",VLOOKUP(O991,Parámetros!O$11:$P$13,MAX(Parámetros!O$7:$P$7),FALSE))","v":""},""]
[null,null,null,{"$f":"IF(E992=\"\",\"\",VLOOKUP(E992,'Buenas prácticas'!$G$8:$H$1007,2,FALSE))","v":""},null,null,null,null,null,null,null,null,null,null,null,{"$f":"IF(F992=\"\",\"\",VLOOKUP(F992,Parámetros!F$11:$P$13,MAX(Parámetros!F$7:$P$7),FALSE))","v":""},{"$f":"IF(G992=\"\",\"\",VLOOKUP(G992,Parámetros!G$11:$P$13,MAX(Parámetros!G$7:$P$7),FALSE))","v":""},{"$f":"IF(H992=\"\",\"\",VLOOKUP(H992,Parámetros!H$11:$P$13,MAX(Parámetros!H$7:$P$7),FALSE))","v":""},{"$f":"IF(I992=\"\",\"\",VLOOKUP(I992,Parámetros!I$11:$P$13,MAX(Parámetros!I$7:$P$7),FALSE))","v":""},{"$f":"IF(J992=\"\",\"\",VLOOKUP(J992,Parámetros!J$11:$P$13,MAX(Parámetros!J$7:$P$7),FALSE))","v":""},{"$f":"IF(K992=\"\",\"\",VLOOKUP(K992,Parámetros!K$11:$P$13,MAX(Parámetros!K$7:$P$7),FALSE))","v":""},{"$f":"IF(L992=\"\",\"\",VLOOKUP(L992,Parámetros!L$11:$P$13,MAX(Parámetros!L$7:$P$7),FALSE))","v":""},{"$f":"IF(M992=\"\",\"\",VLOOKUP(M992,Parámetros!M$11:$P$13,MAX(Parámetros!M$7:$P$7),FALSE))","v":""},{"$f":"IF(N992=\"\",\"\",VLOOKUP(N992,Parámetros!N$11:$P$13,MAX(Parámetros!N$7:$P$7),FALSE))","v":""},{"$f":"IF(O992=\"\",\"\",VLOOKUP(O992,Parámetros!O$11:$P$13,MAX(Parámetros!O$7:$P$7),FALSE))","v":""},""]
[null,null,null,{"$f":"IF(E993=\"\",\"\",VLOOKUP(E993,'Buenas prácticas'!$G$8:$H$1007,2,FALSE))","v":""},null,null,null,null,null,null,null,null,null,null,null,{"$f":"IF(F993=\"\",\"\",VLOOKUP(F993,Parámetros!F$11:$P$13,MAX(Parámetros!F$7:$P$7),FALSE))","v":""},{"$f":"IF(G993=\"\",\"\",VLOOKUP(G993,Parámetros!G$11:$P$13,MAX(Parámetros!G$7:$P$7),FALSE))","v":""},{"$f":"IF(H993=\"\",\"\",VLOOKUP(H993,Parámetros!H$11:$P$13,MAX(Parámetros!H$7:$P$7),FALSE))","v":""},{"$f":"IF(I993=\"\",\"\",VLOOKUP(I993,Parámetros!I$11:$P$13,MAX(Parámetros!I$7:$P$7),FALSE))","v":""},{"$f":"IF(J993=\"\",\"\",VLOOKUP(J993,Parámetros!J$11:$P$13,MAX(Parámetros!J$7:$P$7),FALSE))","v":""},{"$f":"IF(K993=\"\",\"\",VLOOKUP(K993,Parámetros!K$11:$P$13,MAX(Parámetros!K$7:$P$7),FALSE))","v":""},{"$f":"IF(L993=\"\",\"\",VLOOKUP(L993,Parámetros!L$11:$P$13,MAX(Parámetros!L$7:$P$7),FALSE))","v":""},{"$f":"IF(M993=\"\",\"\",VLOOKUP(M993,Parámetros!M$11:$P$13,MAX(Parámetros!M$7:$P$7),FALSE))","v":""},{"$f":"IF(N993=\"\",\"\",VLOOKUP(N993,Parámetros!N$11:$P$13,MAX(Parámetros!N$7:$P$7),FALSE))","v":""},{"$f":"IF(O993=\"\",\"\",VLOOKUP(O993,Parámetros!O$11:$P$13,MAX(Parámetros!O$7:$P$7),FALSE))","v":""},""]
[null,null,null,{"$f":"IF(E994=\"\",\"\",VLOOKUP(E994,'Buenas prácticas'!$G$8:$H$1007,2,FALSE))","v":""},null,null,null,null,null,null,null,null,null,null,null,{"$f":"IF(F994=\"\",\"\",VLOOKUP(F994,Parámetros!F$11:$P$13,MAX(Parámetros!F$7:$P$7),FALSE))","v":""},{"$f":"IF(G994=\"\",\"\",VLOOKUP(G994,Parámetros!G$11:$P$13,MAX(Parámetros!G$7:$P$7),FALSE))","v":""},{"$f":"IF(H994=\"\",\"\",VLOOKUP(H994,Parámetros!H$11:$P$13,MAX(Parámetros!H$7:$P$7),FALSE))","v":""},{"$f":"IF(I994=\"\",\"\",VLOOKUP(I994,Parámetros!I$11:$P$13,MAX(Parámetros!I$7:$P$7),FALSE))","v":""},{"$f":"IF(J994=\"\",\"\",VLOOKUP(J994,Parámetros!J$11:$P$13,MAX(Parámetros!J$7:$P$7),FALSE))","v":""},{"$f":"IF(K994=\"\",\"\",VLOOKUP(K994,Parámetros!K$11:$P$13,MAX(Parámetros!K$7:$P$7),FALSE))","v":""},{"$f":"IF(L994=\"\",\"\",VLOOKUP(L994,Parámetros!L$11:$P$13,MAX(Parámetros!L$7:$P$7),FALSE))","v":""},{"$f":"IF(M994=\"\",\"\",VLOOKUP(M994,Parámetros!M$11:$P$13,MAX(Parámetros!M$7:$P$7),FALSE))","v":""},{"$f":"IF(N994=\"\",\"\",VLOOKUP(N994,Parámetros!N$11:$P$13,MAX(Parámetros!N$7:$P$7),FALSE))","v":""},{"$f":"IF(O994=\"\",\"\",VLOOKUP(O994,Parámetros!O$11:$P$13,MAX(Parámetros!O$7:$P$7),FALSE))","v":""},""]
[null,null,null,{"$f":"IF(E995=\"\",\"\",VLOOKUP(E995,'Buenas prácticas'!$G$8:$H$1007,2,FALSE))","v":""},null,null,null,null,null,null,null,null,null,null,null,{"$f":"IF(F995=\"\",\"\",VLOOKUP(F995,Parámetros!F$11:$P$13,MAX(Parámetros!F$7:$P$7),FALSE))","v":""},{"$f":"IF(G995=\"\",\"\",VLOOKUP(G995,Parámetros!G$11:$P$13,MAX(Parámetros!G$7:$P$7),FALSE))","v":""},{"$f":"IF(H995=\"\",\"\",VLOOKUP(H995,Parámetros!H$11:$P$13,MAX(Parámetros!H$7:$P$7),FALSE))","v":""},{"$f":"IF(I995=\"\",\"\",VLOOKUP(I995,Parámetros!I$11:$P$13,MAX(Parámetros!I$7:$P$7),FALSE))","v":""},{"$f":"IF(J995=\"\",\"\",VLOOKUP(J995,Parámetros!J$11:$P$13,MAX(Parámetros!J$7:$P$7),FALSE))","v":""},{"$f":"IF(K995=\"\",\"\",VLOOKUP(K995,Parámetros!K$11:$P$13,MAX(Parámetros!K$7:$P$7),FALSE))","v":""},{"$f":"IF(L995=\"\",\"\",VLOOKUP(L995,Parámetros!L$11:$P$13,MAX(Parámetros!L$7:$P$7),FALSE))","v":""},{"$f":"IF(M995=\"\",\"\",VLOOKUP(M995,Parámetros!M$11:$P$13,MAX(Parámetros!M$7:$P$7),FALSE))","v":""},{"$f":"IF(N995=\"\",\"\",VLOOKUP(N995,Parámetros!N$11:$P$13,MAX(Parámetros!N$7:$P$7),FALSE))","v":""},{"$f":"IF(O995=\"\",\"\",VLOOKUP(O995,Parámetros!O$11:$P$13,MAX(Parámetros!O$7:$P$7),FALSE))","v":""},""]
[null,null,null,{"$f":"IF(E996=\"\",\"\",VLOOKUP(E996,'Buenas prácticas'!$G$8:$H$1007,2,FALSE))","v":""},null,null,null,null,null,null,null,null,null,null,null,{"$f":"IF(F996=\"\",\"\",VLOOKUP(F996,Parámetros!F$11:$P$13,MAX(Parámetros!F$7:$P$7),FALSE))","v":""},{"$f":"IF(G996=\"\",\"\",VLOOKUP(G996,Parámetros!G$11:$P$13,MAX(Parámetros!G$7:$P$7),FALSE))","v":""},{"$f":"IF(H996=\"\",\"\",VLOOKUP(H996,Parámetros!H$11:$P$13,MAX(Parámetros!H$7:$P$7),FALSE))","v":""},{"$f":"IF(I996=\"\",\"\",VLOOKUP(I996,Parámetros!I$11:$P$13,MAX(Parámetros!I$7:$P$7),FALSE))","v":""},{"$f":"IF(J996=\"\",\"\",VLOOKUP(J996,Parámetros!J$11:$P$13,MAX(Parámetros!J$7:$P$7),FALSE))","v":""},{"$f":"IF(K996=\"\",\"\",VLOOKUP(K996,Parámetros!K$11:$P$13,MAX(Parámetros!K$7:$P$7),FALSE))","v":""},{"$f":"IF(L996=\"\",\"\",VLOOKUP(L996,Parámetros!L$11:$P$13,MAX(Parámetros!L$7:$P$7),FALSE))","v":""},{"$f":"IF(M996=\"\",\"\",VLOOKUP(M996,Parámetros!M$11:$P$13,MAX(Parámetros!M$7:$P$7),FALSE))","v":""},{"$f":"IF(N996=\"\",\"\",VLOOKUP(N996,Parámetros!N$11:$P$13,MAX(Parámetros!N$7:$P$7),FALSE))","v":""},{"$f":"IF(O996=\"\",\"\",VLOOKUP(O996,Parámetros!O$11:$P$13,MAX(Parámetros!O$7:$P$7),FALSE))","v":""},""]
[null,null,null,{"$f":"IF(E997=\"\",\"\",VLOOKUP(E997,'Buenas prácticas'!$G$8:$H$1007,2,FALSE))","v":""},null,null,null,null,null,null,null,null,null,null,null,{"$f":"IF(F997=\"\",\"\",VLOOKUP(F997,Parámetros!F$11:$P$13,MAX(Parámetros!F$7:$P$7),FALSE))","v":""},{"$f":"IF(G997=\"\",\"\",VLOOKUP(G997,Parámetros!G$11:$P$13,MAX(Parámetros!G$7:$P$7),FALSE))","v":""},{"$f":"IF(H997=\"\",\"\",VLOOKUP(H997,Parámetros!H$11:$P$13,MAX(Parámetros!H$7:$P$7),FALSE))","v":""},{"$f":"IF(I997=\"\",\"\",VLOOKUP(I997,Parámetros!I$11:$P$13,MAX(Parámetros!I$7:$P$7),FALSE))","v":""},{"$f":"IF(J997=\"\",\"\",VLOOKUP(J997,Parámetros!J$11:$P$13,MAX(Parámetros!J$7:$P$7),FALSE))","v":""},{"$f":"IF(K997=\"\",\"\",VLOOKUP(K997,Parámetros!K$11:$P$13,MAX(Parámetros!K$7:$P$7),FALSE))","v":""},{"$f":"IF(L997=\"\",\"\",VLOOKUP(L997,Parámetros!L$11:$P$13,MAX(Parámetros!L$7:$P$7),FALSE))","v":""},{"$f":"IF(M997=\"\",\"\",VLOOKUP(M997,Parámetros!M$11:$P$13,MAX(Parámetros!M$7:$P$7),FALSE))","v":""},{"$f":"IF(N997=\"\",\"\",VLOOKUP(N997,Parámetros!N$11:$P$13,MAX(Parámetros!N$7:$P$7),FALSE))","v":""},{"$f":"IF(O997=\"\",\"\",VLOOKUP(O997,Parámetros!O$11:$P$13,MAX(Parámetros!O$7:$P$7),FALSE))","v":""},""]
[null,null,null,{"$f":"IF(E998=\"\",\"\",VLOOKUP(E998,'Buenas prácticas'!$G$8:$H$1007,2,FALSE))","v":""},null,null,null,null,null,null,null,null,null,null,null,{"$f":"IF(F998=\"\",\"\",VLOOKUP(F998,Parámetros!F$11:$P$13,MAX(Parámetros!F$7:$P$7),FALSE))","v":""},{"$f":"IF(G998=\"\",\"\",VLOOKUP(G998,Parámetros!G$11:$P$13,MAX(Parámetros!G$7:$P$7),FALSE))","v":""},{"$f":"IF(H998=\"\",\"\",VLOOKUP(H998,Parámetros!H$11:$P$13,MAX(Parámetros!H$7:$P$7),FALSE))","v":""},{"$f":"IF(I998=\"\",\"\",VLOOKUP(I998,Parámetros!I$11:$P$13,MAX(Parámetros!I$7:$P$7),FALSE))","v":""},{"$f":"IF(J998=\"\",\"\",VLOOKUP(J998,Parámetros!J$11:$P$13,MAX(Parámetros!J$7:$P$7),FALSE))","v":""},{"$f":"IF(K998=\"\",\"\",VLOOKUP(K998,Parámetros!K$11:$P$13,MAX(Parámetros!K$7:$P$7),FALSE))","v":""},{"$f":"IF(L998=\"\",\"\",VLOOKUP(L998,Parámetros!L$11:$P$13,MAX(Parámetros!L$7:$P$7),FALSE))","v":""},{"$f":"IF(M998=\"\",\"\",VLOOKUP(M998,Parámetros!M$11:$P$13,MAX(Parámetros!M$7:$P$7),FALSE))","v":""},{"$f":"IF(N998=\"\",\"\",VLOOKUP(N998,Parámetros!N$11:$P$13,MAX(Parámetros!N$7:$P$7),FALSE))","v":""},{"$f":"IF(O998=\"\",\"\",VLOOKUP(O998,Parámetros!O$11:$P$13,MAX(Parámetros!O$7:$P$7),FALSE))","v":""},""]
[null,null,null,{"$f":"IF(E999=\"\",\"\",VLOOKUP(E999,'Buenas prácticas'!$G$8:$H$1007,2,FALSE))","v":""},null,null,null,null,null,null,null,null,null,null,null,{"$f":"IF(F999=\"\",\"\",VLOOKUP(F999,Parámetros!F$11:$P$13,MAX(Parámetros!F$7:$P$7),FALSE))","v":""},{"$f":"IF(G999=\"\",\"\",VLOOKUP(G999,Parámetros!G$11:$P$13,MAX(Parámetros!G$7:$P$7),FALSE))","v":""},{"$f":"IF(H999=\"\",\"\",VLOOKUP(H999,Parámetros!H$11:$P$13,MAX(Parámetros!H$7:$P$7),FALSE))","v":""},{"$f":"IF(I999=\"\",\"\",VLOOKUP(I999,Parámetros!I$11:$P$13,MAX(Parámetros!I$7:$P$7),FALSE))","v":""},{"$f":"IF(J999=\"\",\"\",VLOOKUP(J999,Parámetros!J$11:$P$13,MAX(Parámetros!J$7:$P$7),FALSE))","v":""},{"$f":"IF(K999=\"\",\"\",VLOOKUP(K999,Parámetros!K$11:$P$13,MAX(Parámetros!K$7:$P$7),FALSE))","v":""},{"$f":"IF(L999=\"\",\"\",VLOOKUP(L999,Parámetros!L$11:$P$13,MAX(Parámetros!L$7:$P$7),FALSE))","v":""},{"$f":"IF(M999=\"\",\"\",VLOOKUP(M999,Parámetros!M$11:$P$13,MAX(Parámetros!M$7:$P$7),FALSE))","v":""},{"$f":"IF(N999=\"\",\"\",VLOOKUP(N999,Parámetros!N$11:$P$13,MAX(Parámetros!N$7:$P$7),FALSE))","v":""},{"$f":"IF(O999=\"\",\"\",VLOOKUP(O999,Parámetros!O$11:$P$13,MAX(Parámetros!O$7:$P$7),FALSE))","v":""},""]
[null,null,null,{"$f":"IF(E1000=\"\",\"\",VLOOKUP(E1000,'Buenas prácticas'!$G$8:$H$1007,2,FALSE))","v":""},null,null,null,null,null,null,null,null,null,null,null,{"$f":"IF(F1000=\"\",\"\",VLOOKUP(F1000,Parámetros!F$11:$P$13,MAX(Parámetros!F$7:$P$7),FALSE))","v":""},{"$f":"IF(G1000=\"\",\"\",VLOOKUP(G1000,Parámetros!G$11:$P$13,MAX(Parámetros!G$7:$P$7),FALSE))","v":""},{"$f":"IF(H1000=\"\",\"\",VLOOKUP(H1000,Parámetros!H$11:$P$13,MAX(Parámetros!H$7:$P$7),FALSE))","v":""},{"$f":"IF(I1000=\"\",\"\",VLOOKUP(I1000,Parámetros!I$11:$P$13,MAX(Parámetros!I$7:$P$7),FALSE))","v":""},{"$f":"IF(J1000=\"\",\"\",VLOOKUP(J1000,Parámetros!J$11:$P$13,MAX(Parámetros!J$7:$P$7),FALSE))","v":""},{"$f":"IF(K1000=\"\",\"\",VLOOKUP(K1000,Parámetros!K$11:$P$13,MAX(Parámetros!K$7:$P$7),FALSE))","v":""},{"$f":"IF(L1000=\"\",\"\",VLOOKUP(L1000,Parámetros!L$11:$P$13,MAX(Parámetros!L$7:$P$7),FALSE))","v":""},{"$f":"IF(M1000=\"\",\"\",VLOOKUP(M1000,Parámetros!M$11:$P$13,MAX(Parámetros!M$7:$P$7),FALSE))","v":""},{"$f":"IF(N1000=\"\",\"\",VLOOKUP(N1000,Parámetros!N$11:$P$13,MAX(Parámetros!N$7:$P$7),FALSE))","v":""},{"$f":"IF(O1000=\"\",\"\",VLOOKUP(O1000,Parámetros!O$11:$P$13,MAX(Parámetros!O$7:$P$7),FALSE))","v":""},""]
[null,null,null,{"$f":"IF(E1001=\"\",\"\",VLOOKUP(E1001,'Buenas prácticas'!$G$8:$H$1007,2,FALSE))","v":""},null,null,null,null,null,null,null,null,null,null,null,{"$f":"IF(F1001=\"\",\"\",VLOOKUP(F1001,Parámetros!F$11:$P$13,MAX(Parámetros!F$7:$P$7),FALSE))","v":""},{"$f":"IF(G1001=\"\",\"\",VLOOKUP(G1001,Parámetros!G$11:$P$13,MAX(Parámetros!G$7:$P$7),FALSE))","v":""},{"$f":"IF(H1001=\"\",\"\",VLOOKUP(H1001,Parámetros!H$11:$P$13,MAX(Parámetros!H$7:$P$7),FALSE))","v":""},{"$f":"IF(I1001=\"\",\"\",VLOOKUP(I1001,Parámetros!I$11:$P$13,MAX(Parámetros!I$7:$P$7),FALSE))","v":""},{"$f":"IF(J1001=\"\",\"\",VLOOKUP(J1001,Parámetros!J$11:$P$13,MAX(Parámetros!J$7:$P$7),FALSE))","v":""},{"$f":"IF(K1001=\"\",\"\",VLOOKUP(K1001,Parámetros!K$11:$P$13,MAX(Parámetros!K$7:$P$7),FALSE))","v":""},{"$f":"IF(L1001=\"\",\"\",VLOOKUP(L1001,Parámetros!L$11:$P$13,MAX(Parámetros!L$7:$P$7),FALSE))","v":""},{"$f":"IF(M1001=\"\",\"\",VLOOKUP(M1001,Parámetros!M$11:$P$13,MAX(Parámetros!M$7:$P$7),FALSE))","v":""},{"$f":"IF(N1001=\"\",\"\",VLOOKUP(N1001,Parámetros!N$11:$P$13,MAX(Parámetros!N$7:$P$7),FALSE))","v":""},{"$f":"IF(O1001=\"\",\"\",VLOOKUP(O1001,Parámetros!O$11:$P$13,MAX(Parámetros!O$7:$P$7),FALSE))","v":""},""]
[null,null,null,{"$f":"IF(E1002=\"\",\"\",VLOOKUP(E1002,'Buenas prácticas'!$G$8:$H$1007,2,FALSE))","v":""},null,null,null,null,null,null,null,null,null,null,null,{"$f":"IF(F1002=\"\",\"\",VLOOKUP(F1002,Parámetros!F$11:$P$13,MAX(Parámetros!F$7:$P$7),FALSE))","v":""},{"$f":"IF(G1002=\"\",\"\",VLOOKUP(G1002,Parámetros!G$11:$P$13,MAX(Parámetros!G$7:$P$7),FALSE))","v":""},{"$f":"IF(H1002=\"\",\"\",VLOOKUP(H1002,Parámetros!H$11:$P$13,MAX(Parámetros!H$7:$P$7),FALSE))","v":""},{"$f":"IF(I1002=\"\",\"\",VLOOKUP(I1002,Parámetros!I$11:$P$13,MAX(Parámetros!I$7:$P$7),FALSE))","v":""},{"$f":"IF(J1002=\"\",\"\",VLOOKUP(J1002,Parámetros!J$11:$P$13,MAX(Parámetros!J$7:$P$7),FALSE))","v":""},{"$f":"IF(K1002=\"\",\"\",VLOOKUP(K1002,Parámetros!K$11:$P$13,MAX(Parámetros!K$7:$P$7),FALSE))","v":""},{"$f":"IF(L1002=\"\",\"\",VLOOKUP(L1002,Parámetros!L$11:$P$13,MAX(Parámetros!L$7:$P$7),FALSE))","v":""},{"$f":"IF(M1002=\"\",\"\",VLOOKUP(M1002,Parámetros!M$11:$P$13,MAX(Parámetros!M$7:$P$7),FALSE))","v":""},{"$f":"IF(N1002=\"\",\"\",VLOOKUP(N1002,Parámetros!N$11:$P$13,MAX(Parámetros!N$7:$P$7),FALSE))","v":""},{"$f":"IF(O1002=\"\",\"\",VLOOKUP(O1002,Parámetros!O$11:$P$13,MAX(Parámetros!O$7:$P$7),FALSE))","v":""},""]
[null,null,null,{"$f":"IF(E1003=\"\",\"\",VLOOKUP(E1003,'Buenas prácticas'!$G$8:$H$1007,2,FALSE))","v":""},null,null,null,null,null,null,null,null,null,null,null,{"$f":"IF(F1003=\"\",\"\",VLOOKUP(F1003,Parámetros!F$11:$P$13,MAX(Parámetros!F$7:$P$7),FALSE))","v":""},{"$f":"IF(G1003=\"\",\"\",VLOOKUP(G1003,Parámetros!G$11:$P$13,MAX(Parámetros!G$7:$P$7),FALSE))","v":""},{"$f":"IF(H1003=\"\",\"\",VLOOKUP(H1003,Parámetros!H$11:$P$13,MAX(Parámetros!H$7:$P$7),FALSE))","v":""},{"$f":"IF(I1003=\"\",\"\",VLOOKUP(I1003,Parámetros!I$11:$P$13,MAX(Parámetros!I$7:$P$7),FALSE))","v":""},{"$f":"IF(J1003=\"\",\"\",VLOOKUP(J1003,Parámetros!J$11:$P$13,MAX(Parámetros!J$7:$P$7),FALSE))","v":""},{"$f":"IF(K1003=\"\",\"\",VLOOKUP(K1003,Parámetros!K$11:$P$13,MAX(Parámetros!K$7:$P$7),FALSE))","v":""},{"$f":"IF(L1003=\"\",\"\",VLOOKUP(L1003,Parámetros!L$11:$P$13,MAX(Parámetros!L$7:$P$7),FALSE))","v":""},{"$f":"IF(M1003=\"\",\"\",VLOOKUP(M1003,Parámetros!M$11:$P$13,MAX(Parámetros!M$7:$P$7),FALSE))","v":""},{"$f":"IF(N1003=\"\",\"\",VLOOKUP(N1003,Parámetros!N$11:$P$13,MAX(Parámetros!N$7:$P$7),FALSE))","v":""},{"$f":"IF(O1003=\"\",\"\",VLOOKUP(O1003,Parámetros!O$11:$P$13,MAX(Parámetros!O$7:$P$7),FALSE))","v":""},""]
[null,null,null,{"$f":"IF(E1004=\"\",\"\",VLOOKUP(E1004,'Buenas prácticas'!$G$8:$H$1007,2,FALSE))","v":""},null,null,null,null,null,null,null,null,null,null,null,{"$f":"IF(F1004=\"\",\"\",VLOOKUP(F1004,Parámetros!F$11:$P$13,MAX(Parámetros!F$7:$P$7),FALSE))","v":""},{"$f":"IF(G1004=\"\",\"\",VLOOKUP(G1004,Parámetros!G$11:$P$13,MAX(Parámetros!G$7:$P$7),FALSE))","v":""},{"$f":"IF(H1004=\"\",\"\",VLOOKUP(H1004,Parámetros!H$11:$P$13,MAX(Parámetros!H$7:$P$7),FALSE))","v":""},{"$f":"IF(I1004=\"\",\"\",VLOOKUP(I1004,Parámetros!I$11:$P$13,MAX(Parámetros!I$7:$P$7),FALSE))","v":""},{"$f":"IF(J1004=\"\",\"\",VLOOKUP(J1004,Parámetros!J$11:$P$13,MAX(Parámetros!J$7:$P$7),FALSE))","v":""},{"$f":"IF(K1004=\"\",\"\",VLOOKUP(K1004,Parámetros!K$11:$P$13,MAX(Parámetros!K$7:$P$7),FALSE))","v":""},{"$f":"IF(L1004=\"\",\"\",VLOOKUP(L1004,Parámetros!L$11:$P$13,MAX(Parámetros!L$7:$P$7),FALSE))","v":""},{"$f":"IF(M1004=\"\",\"\",VLOOKUP(M1004,Parámetros!M$11:$P$13,MAX(Parámetros!M$7:$P$7),FALSE))","v":""},{"$f":"IF(N1004=\"\",\"\",VLOOKUP(N1004,Parámetros!N$11:$P$13,MAX(Parámetros!N$7:$P$7),FALSE))","v":""},{"$f":"IF(O1004=\"\",\"\",VLOOKUP(O1004,Parámetros!O$11:$P$13,MAX(Parámetros!O$7:$P$7),FALSE))","v":""},""]
[null,null,null,{"$f":"IF(E1005=\"\",\"\",VLOOKUP(E1005,'Buenas prácticas'!$G$8:$H$1007,2,FALSE))","v":""},null,null,null,null,null,null,null,null,null,null,null,{"$f":"IF(F1005=\"\",\"\",VLOOKUP(F1005,Parámetros!F$11:$P$13,MAX(Parámetros!F$7:$P$7),FALSE))","v":""},{"$f":"IF(G1005=\"\",\"\",VLOOKUP(G1005,Parámetros!G$11:$P$13,MAX(Parámetros!G$7:$P$7),FALSE))","v":""},{"$f":"IF(H1005=\"\",\"\",VLOOKUP(H1005,Parámetros!H$11:$P$13,MAX(Parámetros!H$7:$P$7),FALSE))","v":""},{"$f":"IF(I1005=\"\",\"\",VLOOKUP(I1005,Parámetros!I$11:$P$13,MAX(Parámetros!I$7:$P$7),FALSE))","v":""},{"$f":"IF(J1005=\"\",\"\",VLOOKUP(J1005,Parámetros!J$11:$P$13,MAX(Parámetros!J$7:$P$7),FALSE))","v":""},{"$f":"IF(K1005=\"\",\"\",VLOOKUP(K1005,Parámetros!K$11:$P$13,MAX(Parámetros!K$7:$P$7),FALSE))","v":""},{"$f":"IF(L1005=\"\",\"\",VLOOKUP(L1005,Parámetros!L$11:$P$13,MAX(Parámetros!L$7:$P$7),FALSE))","v":""},{"$f":"IF(M1005=\"\",\"\",VLOOKUP(M1005,Parámetros!M$11:$P$13,MAX(Parámetros!M$7:$P$7),FALSE))","v":""},{"$f":"IF(N1005=\"\",\"\",VLOOKUP(N1005,Parámetros!N$11:$P$13,MAX(Parámetros!N$7:$P$7),FALSE))","v":""},{"$f":"IF(O1005=\"\",\"\",VLOOKUP(O1005,Parámetros!O$11:$P$13,MAX(Parámetros!O$7:$P$7),FALSE))","v":""},""]
[null,null,null,{"$f":"IF(E1006=\"\",\"\",VLOOKUP(E1006,'Buenas prácticas'!$G$8:$H$1007,2,FALSE))","v":""},null,null,null,null,null,null,null,null,null,null,null,{"$f":"IF(F1006=\"\",\"\",VLOOKUP(F1006,Parámetros!F$11:$P$13,MAX(Parámetros!F$7:$P$7),FALSE))","v":""},{"$f":"IF(G1006=\"\",\"\",VLOOKUP(G1006,Parámetros!G$11:$P$13,MAX(Parámetros!G$7:$P$7),FALSE))","v":""},{"$f":"IF(H1006=\"\",\"\",VLOOKUP(H1006,Parámetros!H$11:$P$13,MAX(Parámetros!H$7:$P$7),FALSE))","v":""},{"$f":"IF(I1006=\"\",\"\",VLOOKUP(I1006,Parámetros!I$11:$P$13,MAX(Parámetros!I$7:$P$7),FALSE))","v":""},{"$f":"IF(J1006=\"\",\"\",VLOOKUP(J1006,Parámetros!J$11:$P$13,MAX(Parámetros!J$7:$P$7),FALSE))","v":""},{"$f":"IF(K1006=\"\",\"\",VLOOKUP(K1006,Parámetros!K$11:$P$13,MAX(Parámetros!K$7:$P$7),FALSE))","v":""},{"$f":"IF(L1006=\"\",\"\",VLOOKUP(L1006,Parámetros!L$11:$P$13,MAX(Parámetros!L$7:$P$7),FALSE))","v":""},{"$f":"IF(M1006=\"\",\"\",VLOOKUP(M1006,Parámetros!M$11:$P$13,MAX(Parámetros!M$7:$P$7),FALSE))","v":""},{"$f":"IF(N1006=\"\",\"\",VLOOKUP(N1006,Parámetros!N$11:$P$13,MAX(Parámetros!N$7:$P$7),FALSE))","v":""},{"$f":"IF(O1006=\"\",\"\",VLOOKUP(O1006,Parámetros!O$11:$P$13,MAX(Parámetros!O$7:$P$7),FALSE))","v":""},""]
[null,null,null,{"$f":"IF(E1007=\"\",\"\",VLOOKUP(E1007,'Buenas prácticas'!$G$8:$H$1007,2,FALSE))","v":""},null,null,null,null,null,null,null,null,null,null,null,{"$f":"IF(F1007=\"\",\"\",VLOOKUP(F1007,Parámetros!F$11:$P$13,MAX(Parámetros!F$7:$P$7),FALSE))","v":""},{"$f":"IF(G1007=\"\",\"\",VLOOKUP(G1007,Parámetros!G$11:$P$13,MAX(Parámetros!G$7:$P$7),FALSE))","v":""},{"$f":"IF(H1007=\"\",\"\",VLOOKUP(H1007,Parámetros!H$11:$P$13,MAX(Parámetros!H$7:$P$7),FALSE))","v":""},{"$f":"IF(I1007=\"\",\"\",VLOOKUP(I1007,Parámetros!I$11:$P$13,MAX(Parámetros!I$7:$P$7),FALSE))","v":""},{"$f":"IF(J1007=\"\",\"\",VLOOKUP(J1007,Parámetros!J$11:$P$13,MAX(Parámetros!J$7:$P$7),FALSE))","v":""},{"$f":"IF(K1007=\"\",\"\",VLOOKUP(K1007,Parámetros!K$11:$P$13,MAX(Parámetros!K$7:$P$7),FALSE))","v":""},{"$f":"IF(L1007=\"\",\"\",VLOOKUP(L1007,Parámetros!L$11:$P$13,MAX(Parámetros!L$7:$P$7),FALSE))","v":""},{"$f":"IF(M1007=\"\",\"\",VLOOKUP(M1007,Parámetros!M$11:$P$13,MAX(Parámetros!M$7:$P$7),FALSE))","v":""},{"$f":"IF(N1007=\"\",\"\",VLOOKUP(N1007,Parámetros!N$11:$P$13,MAX(Parámetros!N$7:$P$7),FALSE))","v":""},{"$f":"IF(O1007=\"\",\"\",VLOOKUP(O1007,Parámetros!O$11:$P$13,MAX(Parámetros!O$7:$P$7),FALSE))","v":""},""]

{"sheet":"Reporte","index":3,"n_rows":10,"n_cols":9,"rows_kept":10,"cut":false,"hidden":false,"merged":[]}
[]
[null,null,null,{"$f":"+Nombres!E8","v":"Scopio"}]
[null,null,null,{"$f":"+Nombres!E9","v":"El instrumento para observar y priorizar buenas prácticas de sostenibilidad en Centros de Ciencia"}]
[]
[]
[]
[null,null,null,"Buena práctica",{"$f":"+E9","v":"Total general"},{"$f":"+F9","v":0},0,0,0]
[null,null,null,"Promedio","Dimensión"]
[null,null,null,"Buena práctica","Total general"]
[null,null,null,"Total general"]

{"sheet":"Nombres","index":4,"n_rows":9,"n_cols":5,"rows_kept":9,"cut":false,"hidden":true,"merged":[]}
[]
[null,null,null,{"$f":"+Nombres!E8","v":"Scopio"}]
[null,null,null,{"$f":"+Nombres!E9","v":"El instrumento para observar y priorizar buenas prácticas de sostenibilidad en Centros de Ciencia"}]
[]
[null,null,null,"Nombres"]
[]
[null,null,null,"ÍTEM"]
[null,null,null,"Nombre de la herramienta","Scopio"]
[null,null,null,"Eslogan","El instrumento para observar y priorizar buenas prácticas de sostenibilidad en Centros de Ciencia"]

{"sheet":"Buenas prácticas","index":5,"n_rows":1007,"n_cols":8,"rows_kept":1007,"cut":false,"hidden":false,"merged":[]}
[]
[null,null,null,{"$f":"+Nombres!E8","v":"Scopio"}]
[null,null,null,{"$f":"+Nombres!E9","v":"El instrumento para observar y priorizar buenas prácticas de sostenibilidad en Centros de Ciencia"}]
[]
[]
[]
[null,null,null,"Consecutivo","Buenas prácticas","Dimensión","Desplegable","Dimensión"]
[null,null,null,"1.1","Realizar lectura constante del entorno de tendencias, oportunidades y retos económicos a nivel local, nacional e internacional","Económica",{"$f":"+D8&\" \"&E8","v":"1.1 Realizar lectura constante del entorno de tendencias, oportunidades y retos económicos a nivel local, nacional e internacional"},{"$f":"IF(F8=\"\",\"\",F8)","v":"Económica"}]
[null,null,null,"1.2","Diseñar e implementar un esquema de ingresos que permita la diversificación de fuentes de financiación","Económica","1.2 Diseñar e implementar un esquema de ingresos que permita la diversificación de fuentes de financiación",{"$f":"IF(F9=\"\",\"\",F9)","v":"Económica"}]
[null,null,null,"1.3","Diseñar e implementar un esquema de búsqueda y gestión de recursos que permita contar con fuentes de financiación de largo plazo","Económica","1.3 Diseñar e implementar un esquema de búsqueda y gestión de recursos que permita contar con fuentes de financiación de largo plazo","Económica"]
[null,null,null,"1.4","Definir un esquema de gestión de relaciones con aliados estratégicos","Económica","1.4 Definir un esquema de gestión de relaciones con aliados estratégicos","Económica"]
[null,null,null,"2.1","Descentralización de actividades del Centro de Ciencia","Social","2.1 Descentralización de actividades del Centro de Ciencia","Social"]
[null,null,null,"2.2","Diseño y ejecución de proyectos educativos enfocados en ciencia y educación que respondan equilibradamente tanto a la agenda propia del Centro, como a las coyunturas de la sociedad local, regional, nacional y/o global","Social","2.2 Diseño y ejecución de proyectos educativos enfocados en ciencia y educación que respondan equilibradamente tanto a la agenda propia del Centro, como a las coyunturas de la sociedad local, regional, nacional y/o global","Social"]
[null,null,null,"2.3","Involucrar a los usuarios en la conservación y cuidado del Centro de Ciencia","Social","2.3 Involucrar a los usuarios en la conservación y cuidado del Centro de Ciencia","Social"]
[null,null,null,"2.4","Implementar planes y protocolos de prevención y mitigación de riesgos que aseguren el bienestar y seguridad de los trabajadores y visitantes del Centro","Social","2.4 Implementar planes y protocolos de prevención y mitigación de riesgos que aseguren el bienestar y seguridad de los trabajadores y visitantes del Centro","Social"]
[null,null,null,"2.5","Incorporar procesos de diseño, medición, evaluación y aprendizaje en los proyectos ejecutados, para mejorar su gestión, potenciar sus beneficios y dar sustento a los procesos de rendición de cuentas","Social","2.5 Incorporar procesos de diseño, medición, evaluación y aprendizaje en los proyectos ejecutados, para mejorar su gestión, potenciar sus beneficios y dar sustento a los procesos de rendición de cuentas","Social"]
[null,null,null,"2.6","Incorporar procesos de comunicación y gestión de medios, para lograr la información, atracción, sensibilización y apropiación por parte de la ciudadanía de los contenidos promovidos por el Centro de Ciencia","Social","2.6 Incorporar procesos de comunicación y gestión de medios, para lograr la información, atracción, sensibilización y apropiación por parte de la ciudadanía de los contenidos promovidos por el Centro de Ciencia","Social"]
[null,null,null,"2.7","Participar activamente en el reconocimiento y generación de metodologías, prácticas, modelos y recursos que faciliten la innovación en educación","Social","2.7 Participar activamente en el reconocimiento y generación de metodologías, prácticas, modelos y recursos que faciliten la innovación en educación","Social"]
[null,null,null,"2.8","Acondicionar o construir los espacios del Centro, cumpliendo las condiciones para que estos sean accesibles para todos","Social","2.8 Acondicionar o construir los espacios del Centro, cumpliendo las condiciones para que estos sean accesibles para todos","Social"]
[null,null,null,"2.9","Diseñar e implementar de manera constante un proceso de rendición de cuentas o socialización de resultados ante los grupos de interés","Social","2.9 Diseñar e implementar de manera constante un proceso de rendición de cuentas o socialización de resultados ante los grupos de interés","Social"]
[null,null,null,"2.10","Pertenecer y/o liderar comunidades de pensamiento: intercambio de conocimiento y de prácticas sobre diversas temáticas","Social","2.10 Pertenecer y/o liderar comunidades de pensamiento: intercambio de conocimiento y de prácticas sobre diversas temáticas","Social"]
[null,null,null,"2.11","Incorporar una cultura digital que sirva a los grupos internos y externos del Centro como un escenario propio de conversación y apropiación de la ciencia","Social","2.11 Incorporar una cultura digital que sirva a los grupos internos y externos del Centro como un escenario propio de conversación y apropiación de la ciencia","Social"]
[null,null,null,"3.1","Estructurar y actualizar una matriz con la normatividad ambiental relevante, que asegure que el Centro de Ciencia cumple con la legislación ambiental vigente","Ambiental","3.1 Estructurar y actualizar una matriz con la normatividad ambiental relevante, que asegure que el Centro de Ciencia cumple con la legislación ambiental vigente","Ambiental"]
[null,null,null,"3.2","Diseñar e implementar un Sistema de Gestión Ambiental (SGA) que cumpla con lo definido a nivel normativo y con las expectativas organizacionales","Ambiental","3.2 Diseñar e implementar un Sistema de Gestión Ambiental (SGA) que cumpla con lo definido a nivel normativo y con las expectativas organizacionales","Ambiental"]
[null,null,null,"3.3","Implementar estrategias y actividades que conecten a los ciudadanos con el territorio que habitan, con la biodiversidad y con los servicios ecosistémicos del territorio nacional, entendiendo los impactos que generan sobre ellos","Ambiental","3.3 Implementar estrategias y actividades que conecten a los ciudadanos con el territorio que habitan, con la biodiversidad y con los servicios ecosistémicos del territorio nacional, entendiendo los impactos que generan sobre ellos","Ambiental"]
[null,null,null,"3.4","Calcular la Huella de carbono (HC) y la Huella hídrica (HH) generadas por el Centro de Ciencia, con el fin de identificar medidas de mitigación y compensación","Ambiental","3.4 Calcular la Huella de carbono (HC) y la Huella hídrica (HH) generadas por el Centro de Ciencia, con el fin de identificar medidas de mitigación y compensación","Ambiental"]
[null,null,null,"3.5","Adecuar los espacios del Centro de Ciencia y diseñar campañas para la promoción del transporte intermodal","Ambiental","3.5 Adecuar los espacios del Centro de Ciencia y diseñar campañas para la promoción del transporte intermodal","Ambiental"]
[null,null,null,"3.6","Construir o adaptar los nuevos Centros de Ciencia en espacios restaurados (en vez de construcciones que empiecen desde cero) y con criterios de arquitectura sostenible","Ambiental","3.6 Construir o adaptar los nuevos Centros de Ciencia en espacios restaurados (en vez de construcciones que empiecen desde cero) y con criterios de arquitectura sostenible","Ambiental"]
[null,null,null,"4.1","Establecer un esquema de gobierno que permita una toma de decisiones autónoma e independiente","Organizacional","4.1 Establecer un esquema de gobierno que permita una toma de decisiones autónoma e independiente","Organizacional"]
[null,null,null,"4.2","Diseñar y adoptar un modelo estatutario que favorezca la innovación, permita la diversificación de fuentes de recursos e incorpore prácticas hacia la sostenibilidad","Organizacional","4.2 Diseñar y adoptar un modelo estatutario que favorezca la innovación, permita la diversificación de fuentes de recursos e incorpore prácticas hacia la sostenibilidad","Organizacional"]
[null,null,null,"4.3","Establecer políticas de fortalecimiento de capacidades del talento humano del Centro a través de procesos personalizados de formación","Organizacional","4.3 Establecer políticas de fortalecimiento de capacidades del talento humano del Centro a través de procesos personalizados de formación","Organizacional"]
[null,null,null,"4.4","Definir políticas que favorezcan la ampliación de operaciones con proveedores de bienes y servicios que incorporen buenas prácticas sociales y ambientales","Organizacional","4.4 Definir políticas que favorezcan la ampliación de operaciones con proveedores de bienes y servicios que incorporen buenas prácticas sociales y ambientales","Organizacional"]
[null,null,null,"4.5","Definir estrategias de relacionamiento para lograr el posicionamiento del Centro de Ciencia como actor clave reconocido por los tomadores de decisiones de su territorio de influencia","Organizacional","4.5 Definir estrategias de relacionamiento para lograr el posicionamiento del Centro de Ciencia como actor clave reconocido por los tomadores de decisiones de su territorio de influencia","Organizacional"]
[null,null,null,"4.6","Al constituir un Centro de Ciencia, considerar como alternativa los esquemas de asociatividad público–privados","Organizacional","4.6 Al constituir un Centro de Ciencia, considerar como alternativa los esquemas de asociatividad público–privados","Organizacional"]
[null,null,null,"4.7","Medir periódicamente la percepción de los grupos de interés","Organizacional","4.7 Medir periódicamente la percepción de los grupos de interés","Organizacional"]
[null,null,null,"4.8","Incorporar una política de buen gobierno","Organizacional","4.8 Incorporar una política de buen gobierno","Organizacional"]
[null,null,null,"4.9","Incluir un proceso de lectura analítica del entorno que facilite la identificación de tendencias, retos y oportunidades, que incidan en los contenidos que se exhiben en el Centro","Organizacional","4.9 Incluir un proceso de lectura analítica del entorno que facilite la identificación de tendencias, retos y oportunidades, que incidan en los contenidos que se exhiben en el Centro","Organizacional"]
[null,null,null,"4.10","Contar con un proceso o un área de contenidos que asegure la curaduría de la información a divulgar en el Centro de Ciencia para que ésta sea útil, clara y pertinente","Organizacional","4.10 Contar con un proceso o un área de contenidos que asegure la curaduría de la información a divulgar en el Centro de Ciencia para que ésta sea útil, clara y pertinente","Organizacional"]
[null,null,null,"4.11","Gestionar el conocimiento incorporando metodologías que faciliten su sistematización y divulgación","Organizacional","4.11 Gestionar el conocimiento incorporando metodologías que faciliten su sistematización y divulgación","Organizacional"]
[null,null,null,"4.12","Diseñar y adoptar una arquitectura organizacional estratégica","Organizacional","4.12 Diseñar y adoptar una arquitectura organizacional estratégica","Organizacional"]
[null,null,null,"4.13","Generar cohesión de los trabajadores con la misión, visión y estrategia del Centro","Organizacional","4.13 Generar cohesión de los trabajadores con la misión, visión y estrategia del Centro","Organizacional"]
[null,null,null,"4.14","Gestionar el clima organizacional para fortalecer el trabajo colaborativo, la motivación y la productividad","Organizacional","4.14 Gestionar el clima organizacional para fortalecer el trabajo colaborativo, la motivación y la productividad","Organizacional"]
[null,null,null,"4.15","Indagar y eventualmente adoptar estándares de sostenibilidad y calidad","Organizacional","4.15 Indagar y eventualmente adoptar estándares de sostenibilidad y calidad","Organizacional"]
[null,null,null,"4.16","Crear procesos de comunicación interna que faciliten el reconocimiento del trabajo de los demás, su comunicación fluida, el trabajo colaborativo y la motivación","Organizacional","4.16 Crear procesos de comunicación interna que faciliten el reconocimiento del trabajo de los demás, su comunicación fluida, el trabajo colaborativo y la motivación","Organizacional"]
[null,null,null,null,null,null,"",""]
[null,null,null,null,null,null,"",""]
[null,null,null,null,null,null,"",""]
[null,null,null,null,null,null,"",""]
[null,null,null,null,null,null,"",""]
[null,null,null,null,null,null,"",""]
[null,null,null,null,null,null,"",""]
[null,null,null,null,null,null,"",""]
[null,null,null,null,null,null,"",""]
[null,null,null,null,null,null,"",""]
[null,null,null,null,null,null,"",""]
[null,null,null,null,null,null,"",""]
[null,null,null,null,null,null,"",""]
[null,null,null,null,null,null,"",""]
[null,null,null,null,null,null,"",""]
[null,null,null,null,null,null,"",""]
[null,null,null,null,null,null,"",""]
[null,null,null,null,null,null,"",""]
[null,null,null,null,null,null,"",""]
[null,null,null,null,null,null,"",""]
[null,null,null,null,null,null,"",""]
[null,null,null,null,null,null,"",""]
[null,null,null,null,null,null,"",""]
[null,null,null,null,null,null,"",""]
[null,null,null,null,null,null,"",""]
[null,null,null,null,null,null,"",""]
[null,null,null,null,null,null,"",""]
[null,null,null,null,null,null,{"$f":"+D72&\" \"&E72","v":""},""]
[null,null,null,null,null,null,"",{"$f":"IF(F73=\"\",\"\",F73)","v":""}]
[null,null,null,null,null,null,"",""]
[null,null,null,null,null,null,"",""]
[null,null,null,null,null,null,"",""]
[null,null,null,null,null,null,"",""]
[null,null,null,null,null,null,"",""]
[null,null,null,null,null,null,"",""]
[null,null,null,null,null,null,"",""]
[null,null,null,null,null,null,"",""]
[null,null,null,null,null,null,"",""]
[null,null,null,null,null,null,"",""]
[null,null,null,null,null,null,"",""]
[null,null,null,null,null,null,"",""]
[null,null,null,null,null,null,"",""]
[null,null,null,null,null,null,"",""]
[null,null,null,null,null,null,"",""]
[null,null,null,null,null,null,"",""]
[null,null,null,null,null,null,"",""]
[null,null,null,null,null,null,"",""]
[null,null,null,null,null,null,"",""]
[null,null,null,null,null,null,"",""]
[null,null,null,null,null,null,"",""]
[null,null,null,null,null,null,"",""]
[null,null,null,null,null,null,"",""]
[null,null,null,null,null,null,"",""]
[null,null,null,null,null,null,"",""]
[null,null,null,null,null,null,"",""]
[null,null,null,null,null,null,"",""]
[null,null,null,null,null,null,"",""]
[null,null,null,null,null,null,"",""]
[null,null,null,null,null,null,"",""]
[null,null,null,null,null,null,"",""]
[null,null,null,null,null,null,"",""]
[null,null,null,null,null,null,"",""]
[null,null,null,null,null,null,"",""]
[null,null,null,null,null,null,"",""]
[null,null,null,null,null,null,"",""]
[null,null,null,null,null,null,"",""]
[null,null,null,null,null,null,"",""]
[null,null,null,null,null,null,"",""]
[null,null,null,null,null,null,"",""]
[null,null,null,null,null,null,"",""]
[null,null,null,null,null,null,"",""]
[null,null,null,null,null,null,"",""]
[null,null,null,null,null,null,"",""]
[null,null,null,null,null,null,"",""]
[null,null,null,null,null,null,"",""]
[null,null,null,null,null,null,"",""]
[null,null,null,null,null,null,"",""]
[null,null,null,null,null,null,"",""]
[null,null,null,null,null,null,"",""]
[null,null,null,null,null,null,"",""]
[null,null,null,null,null,null,"",""]
[null,null,null,null,null,null,"",""]
[null,null,null,null,null,null,"",""]
[null,null,null,null,null,null,"",""]
[null,null,null,null,null,null,"",""]
[null,null,null,null,null,null,"",""]
[null,null,null,null,null,null,"",""]
[null,null,null,null,null,null,"",""]
[null,null,null,null,null,null,"",""]
[null,null,null,null,null,null,"",""]
[null,null,null,null,null,null,"",""]
[null,null,null,null,null,null,{"$f":"+D136&\" \"&E136","v":""},""]
[null,null,null,null,null,null,"",{"$f":"IF(F137=\"\",\"\",F137)","v":""}]
[null,null,null,null,null,null,"",""]
[null,null,null,null,null,null,"",""]
[null,null,null,null,null,null,"",""]
[null,null,null,null,null,null,"",""]
[null,null,null,null,null,null,"",""]
[null,null,null,null,null,null,"",""]
[null,null,null,null,null,null,"",""]
[null,null,null,null,null,null,"",""]
[null,null,null,null,null,null,"",""]
[null,null,null,null,null,null,"",""]
[null,null,null,null,null,null,"",""]
[null,null,null,null,null,null,"",""]
[null,null,null,null,null,null,"",""]
[null,null,null,null,null,null,"",""]
[null,null,null,null,null,null,"",""]
[null,null,null,null,null,null,"",""]
[null,null,null,null,null,null,"",""]
[null,null,null,null,null,null,"",""]
[null,null,null,null,null,null,"",""]
[null,null,null,null,null,null,"",""]
[null,null,null,null,null,null,"",""]
[null,null,null,null,null,null,"",""]
[null,null,null,null,null,null,"",""]
[null,null,null,null,null,null,"",""]
[null,null,null,null,null,null,"",""]
[null,null,null,null,null,null,"",""]
[null,null,null,null,null,null,"",""]
[null,null,null,null,null,null,"",""]
[null,null,null,null,null,null,"",""]
[null,null,null,null,null,null,"",""]
[null,null,null,null,null,null,"",""]
[null,null,null,null,null,null,"",""]
[null,null,null,null,null,null,"",""]
[null,null,null,null,null,null,"",""]
[null,null,null,null,null,null,"",""]
[null,null,null,null,null,null,"",""]
[null,null,null,null,null,null,"",""]
[null,null,null,null,null,null,"",""]
[null,null,null,null,null,null,"",""]
[null,null,null,null,null,null,"",""]
[null,null,null,null,null,null,"",""]
[null,null,null,null,null,null,"",""]
[null,null,null,null,null,null,"",""]
[null,null,null,null,null,null,"",""]
[null,null,null,null,null,null,"",""]
[null,null,null,null,null,null,"",""]
[null,null,null,null,null,null,"",""]
[null,null,null,null,null,null,"",""]
[null,null,null,null,null,null,"",""]
[null,null,null,null,null,null,"",""]
[null,null,null,null,null,null,"",""]
[null,null,null,null,null,null,"",""]
[null,null,null,null,null,null,"",""]
[null,null,null,null,null,null,"",""]
[null,null,null,null,null,null,"",""]
[null,null,null,null,null,null,"",""]
[null,null,null,null,null,null,"",""]
[null,null,null,null,null,null,"",""]
[null,null,null,null,null,null,"",""]
[null,null,null,null,null,null,"",""]
[null,null,null,null,null,null,"",""]
[null,null,null,null,null,null,"",""]
[null,null,null,null,null,null,{"$f":"+D200&\" \"&E200","v":""},""]
[null,null,null,null,null,null,"",{"$f":"IF(F201=\"\",\"\",F201)","v":""}]
[null,null,null,null,null,null,"",""]
[null,null,null,null,null,null,"",""]
[null,null,null,null,null,null,"",""]
[null,null,null,null,null,null,"",""]
[null,null,null,null,null,null,"",""]
[null,null,null,null,null,null,"",""]
[null,null,null,null,null,null,"",""]
[null,null,null,null,null,null,"",""]
[null,null,null,null,null,null,"",""]
[null,null,null,null,null,null,"",""]
[null,null,null,null,null,null,"",""]
[null,null,null,null,null,null,"",""]
[null,null,null,null,null,null,"",""]
[null,null,null,null,null,null,"",""]
[null,null,null,null,null,null,"",""]
[null,null,null,null,null,null,"",""]
[null,null,null,null,null,null,"",""]
[null,null,null,null,null,null,"",""]
[null,null,null,null,null,null,"",""]
[null,null,null,null,null,null,"",""]
[null,null,null,null,null,null,"",""]
[null,null,null,null,null,null,"",""]
[null,null,null,null,null,null,"",""]
[null,null,null,null,null,null,"",""]
[null,null,null,null,null,null,"",""]
[null,null,null,null,null,null,"",""]
[null,null,null,null,null,null,"",""]
[null,null,null,null,null,null,"",""]
[null,null,null,null,null,null,"",""]
[null,null,null,null,null,null,"",""]
[null,null,null,null,null,null,"",""]
[null,null,null,null,null,null,"",""]
[null,null,null,null,null,null,"",""]
[null,null,null,null,null,null,"",""]
[null,null,null,null,null,null,"",""]
[null,null,null,null,null,null,"",""]
[null,null,null,null,null,null,"",""]
[null,null,null,null,null,null,"",""]
[null,null,null,null,null,null,"",""]
[null,null,null,null,null,null,"",""]
[null,null,null,null,null,null,"",""]
[null,null,null,null,null,null,"",""]
[null,null,null,null,null,null,"",""]
[null,null,null,null,null,null,"",""]
[null,null,null,null,null,null,"",""]
[null,null,null,null,null,null,"",""]
[null,null,null,null,null,null,"",""]
[null,null,null,null,null,null,"",""]
[null,null,null,null,null,null,"",""]
[null,null,null,null,null,null,"",""]
[null,null,null,null,null,null,"",""]
[null,null,null,null,null,null,"",""]
[null,null,null,null,null,null,"",""]
[null,null,null,null,null,null,"",""]
[null,null,null,null,null,null,"",""]
[null,null,null,null,null,null,"",""]
[null,null,null,null,null,null,"",""]
[null,null,null,null,null,null,"",""]
[null,null,null,null,null,null,"",""]
[null,null,null,null,null,null,"",""]
[null,null,null,null,null,null,"",""]
[null,null,null,null,null,null,"",""]
[null,null,null,null,null,null,{"$f":"+D264&\" \"&E264","v":""},""]
[null,null,null,null,null,null,"",{"$f":"IF(F265=\"\",\"\",F265)","v":""}]
[null,null,null,null,null,null,"",""]
[null,null,null,null,null,null,"",""]
[null,null,null,null,null,null,"",""]
[null,null,null,null,null,null,"",""]
[null,null,null,null,null,null,"",""]
[null,null,null,null,null,null,"",""]
[null,null,null,null,null,null,"",""]
[null,null,null,null,null,null,"",""]
[null,null,null,null,null,null,"",""]
[null,null,null,null,null,null,"",""]
[null,null,null,null,null,null,"",""]
[null,null,null,null,null,null,"",""]
[null,null,null,null,null,null,"",""]
[null,null,null,null,null,null,"",""]
[null,null,null,null,null,null,"",""]
[null,null,null,null,null,null,"",""]
[null,null,null,null,null,null,"",""]
[null,null,null,null,null,null,"",""]
[null,null,null,null,null,null,"",""]
[null,null,null,null,null,null,"",""]
[null,null,null,null,null,null,"",""]
[null,null,null,null,null,null,"",""]
[null,null,null,null,null,null,"",""]
[null,null,null,null,null,null,"",""]
[null,null,null,null,null,null,"",""]
[null,null,null,null,null,null,"",""]
[null,null,null,null,null,null,"",""]
[null,null,null,null,null,null,"",""]
[null,null,null,null,null,null,"",""]
[null,null,null,null,null,null,"",""]
[null,null,null,null,null,null,"",""]
[null,null,null,null,null,null,"",""]
[null,null,null,null,null,null,"",""]
[null,null,null,null,null,null,"",""]
[null,null,null,null,null,null,"",""]
[null,null,null,null,null,null,"",""]
[null,null,null,null,null,null,"",""]
[null,null,null,null,null,null,"",""]
[null,null,null,null,null,null,"",""]
[null,null,null,null,null,null,"",""]
[null,null,null,null,null,null,"",""]
[null,null,null,null,null,null,"",""]
[null,null,null,null,null,null,"",""]
[null,null,null,null,null,null,"",""]
[null,null,null,null,null,null,"",""]
[null,null,null,null,null,null,"",""]
[null,null,null,null,null,null,"",""]
[null,null,null,null,null,null,"",""]
[null,null,null,null,null,null,"",""]
[null,null,null,null,null,null,"",""]
[null,null,null,null,null,null,"",""]
[null,null,null,null,null,null,"",""]
[null,null,null,null,null,null,"",""]
[null,null,null,null,null,null,"",""]
[null,null,null,null,null,null,"",""]
[null,null,null,null,null,null,"",""]
[null,null,null,null,null,null,"",""]
[null,null,null,null,null,null,"",""]
[null,null,null,null,null,null,"",""]
[null,null,null,null,null,null,"",""]
[null,null,null,null,null,null,"",""]
[null,null,null,null,null,null,"",""]
[null,null,null,null,null,null,{"$f":"+D328&\" \"&E328","v":""},""]
[null,null,null,null,null,null,"",{"$f":"IF(F329=\"\",\"\",F329)","v":""}]
[null,null,null,null,null,null,"",""]
[null,null,null,null,null,null,"",""]
[null,null,null,null,null,null,"",""]
[null,null,null,null,null,null,"",""]
[null,null,null,null,null,null,"",""]
[null,null,null,null,null,null,"",""]
[null,null,null,null,null,null,"",""]
[null,null,null,null,null,null,"",""]
[null,null,null,null,null,null,"",""]
[null,null,null,null,null,null,"",""]
[null,null,null,null,null,null,"",""]
[null,null,null,null,null,null,"",""]
[null,null,null,null,null,null,"",""]
[null,null,null,null,null,null,"",""]
[null,null,null,null,null,null,"",""]
[null,null,null,null,null,null,"",""]
[null,null,null,null,null,null,"",""]
[null,null,null,null,null,null,"",""]
[null,null,null,null,null,null,"",""]
[null,null,null,null,null,null,"",""]
[null,null,null,null,null,null,"",""]
[null,null,null,null,null,null,"",""]
[null,null,null,null,null,null,"",""]
[null,null,null,null,null,null,"",""]
[null,null,null,null,null,null,"",""]
[null,null,null,null,null,null,"",""]
[null,null,null,null,null,null,"",""]
[null,null,null,null,null,null,"",""]
[null,null,null,null,null,null,"",""]
[null,null,null,null,null,null,"",""]
[null,null,null,null,null,null,"",""]
[null,null,null,null,null,null,"",""]
[null,null,null,null,null,null,"",""]
[null,null,null,null,null,null,"",""]
[null,null,null,null,null,null,"",""]
[null,null,null,null,null,null,"",""]
[null,null,null,null,null,null,"",""]
[null,null,null,null,null,null,"",""]
[null,null,null,null,null,null,"",""]
[null,null,null,null,null,null,"",""]
[null,null,null,null,null,null,"",""]
[null,null,null,null,null,null,"",""]
[null,null,null,null,null,null,"",""]
[null,null,null,null,null,null,"",""]
[null,null,null,null,null,null,"",""]
[null,null,null,null,null,null,"",""]
[null,null,null,null,null,null,"",""]
[null,null,null,null,null,null,"",""]
[null,null,null,null,null,null,"",""]
[null,null,null,null,null,null,"",""]
[null,null,null,null,null,null,"",""]
[null,null,null,null,null,null,"",""]
[null,null,null,null,null,null,"",""]
[null,null,null,null,null,null,"",""]
[null,null,null,null,null,null,"",""]
[null,null,null,null,null,null,"",""]
[null,null,null,null,null,null,"",""]
[null,null,null,null,null,null,"",""]
[null,null,null,null,null,null,"",""]
[null,null,null,null,null,null,"",""]
[null,null,null,null,null,null,"",""]
[null,null,null,null,null,null,"",""]
[null,null,null,null,null,null,{"$f":"+D392&\" \"&E392","v":""},""]
[null,null,null,null,null,null,"",{"$f":"IF(F393=\"\",\"\",F393)","v":""}]
[null,null,null,null,null,null,"",""]
[null,null,null,null,null,null,"",""]
[null,null,null,null,null,null,"",""]
[null,null,null,null,null,null,"",""]
[null,null,null,null,null,null,"",""]
[null,null,null,null,null,null,"",""]
[null,null,null,null,null,null,"",""]
[null,null,null,null,null,null,"",""]
[null,null,null,null,null,null,"",""]
[null,null,null,null,null,null,"",""]
[null,null,null,null,null,null,"",""]
[null,null,null,null,null,null,"",""]
[null,null,null,null,null,null,"",""]
[null,null,null,null,null,null,"",""]
[null,null,null,null,null,null,"",""]
[null,null,null,null,null,null,"",""]
[null,null,null,null,null,null,"",""]
[null,null,null,null,null,null,"",""]
[null,null,null,null,null,null,"",""]
[null,null,null,null,null,null,"",""]
[null,null,null,null,null,null,"",""]
[null,null,null,null,null,null,"",""]
[null,null,null,null,null,null,"",""]
[null,null,null,null,null,null,"",""]
[null,null,null,null,null,null,"",""]
[null,null,null,null,null,null,"",""]
[null,null,null,null,null,null,"",""]
[null,null,null,null,null,null,"",""]
[null,null,null,null,null,null,"",""]
[null,null,null,null,null,null,"",""]
[null,null,null,null,null,null,"",""]
[null,null,null,null,null,null,"",""]
[null,null,null,null,null,null,"",""]
[null,null,null,null,null,null,"",""]
[null,null,null,null,null,null,"",""]
[null,null,null,null,null,null,"",""]
[null,null,null,null,null,null,"",""]
[null,null,null,null,null,null,"",""]
[null,null,null,null,null,null,"",""]
[null,null,null,null,null,null,"",""]
[null,null,null,null,null,null,"",""]
[null,null,null,null,null,null,"",""]
[null,null,null,null,null,null,"",""]
[null,null,null,null,null,null,"",""]
[null,null,null,null,null,null,"",""]
[null,null,null,null,null,null,"",""]
[null,null,null,null,null,null,"",""]
[null,null,null,null,null,null,"",""]
[null,null,null,null,null,null,"",""]
[null,null,null,null,null,null,"",""]
[null,null,null,null,null,null,"",""]
[null,null,null,null,null,null,"",""]
[null,null,null,null,null,null,"",""]
[null,null,null,null,null,null,"",""]
[null,null,null,null,null,null,"",""]
[null,null,null,null,null,null,"",""]
[null,null,null,null,null,null,"",""]
[null,null,null,null,null,null,"",""]
[null,null,null,null,null,null,"",""]
[null,null,null,null,null,null,"",""]
[null,null,null,null,null,null,"",""]
[null,null,null,null,null,null,"",""]
[null,null,null,null,null,null,{"$f":"+D456&\" \"&E456","v":""},""]
[null,null,null,null,null,null,"",{"$f":"IF(F457=\"\",\"\",F457)","v":""}]
[null,null,null,null,null,null,"",""]
[null,null,null,null,null,null,"",""]
[null,null,null,null,null,null,"",""]
[null,null,null,null,null,null,"",""]
[null,null,null,null,null,null,"",""]
[null,null,null,null,null,null,"",""]
[null,null,null,null,null,null,"",""]
[null,null,null,null,null,null,"",""]
[null,null,null,null,null,null,"",""]
[null,null,null,null,null,null,"",""]
[null,null,null,null,null,null,"",""]
[null,null,null,null,null,null,"",""]
[null,null,null,null,null,null,"",""]
[null,null,null,null,null,null,"",""]
[null,null,null,null,null,null,"",""]
[null,null,null,null,null,null,"",""]
[null,null,null,null,null,null,"",""]
[null,null,null,null,null,null,"",""]
[null,null,null,null,null,null,"",""]
[null,null,null,null,null,null,"",""]
[null,null,null,null,null,null,"",""]
[null,null,null,null,null,null,"",""]
[null,null,null,null,null,null,"",""]
[null,null,null,null,null,null,"",""]
[null,null,null,null,null,null,"",""]
[null,null,null,null,null,null,"",""]
[null,null,null,null,null,null,"",""]
[null,null,null,null,null,null,"",""]
[null,null,null,null,null,null,"",""]
[null,null,null,null,null,null,"",""]
[null,null,null,null,null,null,"",""]
[null,null,null,null,null,null,"",""]
[null,null,null,null,null,null,"",""]
[null,null,null,null,null,null,"",""]
[null,null,null,null,null,null,"",""]
[null,null,null,null,null,null,"",""]
[null,null,null,null,null,null,"",""]
[null,null,null,null,null,null,"",""]
[null,null,null,null,null,null,"",""]
[null,null,null,null,null,null,"",""]
[null,null,null,null,null,null,"",""]
[null,null,null,null,null,null,"",""]
[null,null,null,null,null,null,"",""]
[null,null,null,null,null,null,"",""]
[null,null,null,null,null,null,"",""]
[null,null,null,null,null,null,"",""]
[null,null,null,null,null,null,"",""]
[null,null,null,null,null,null,"",""]
[null,null,null,null,null,null,"",""]
[null,null,null,null,null,null,"",""]
[null,null,null,null,null,null,"",""]
[null,null,null,null,null,null,"",""]
[null,null,null,null,null,null,"",""]
[null,null,null,null,null,null,"",""]
[null,null,null,null,null,null,"",""]
[null,null,null,null,null,null,"",""]
[null,null,null,null,null,null,"",""]
[null,null,null,null,null,null,"",""]
[null,null,null,null,null,null,"",""]
[null,null,null,null,null,null,"",""]
[null,null,null,null,null,null,"",""]
[null,null,null,null,null,null,"",""]
[null,null,null,null,null,null,{"$f":"+D520&\" \"&E520","v":""},""]
[null,null,null,null,null,null,"",{"$f":"IF(F521=\"\",\"\",F521)","v":""}]
[null,null,null,null,null,null,"",""]
[null,null,null,null,null,null,"",""]
[null,null,null,null,null,null,"",""]
[null,null,null,null,null,null,"",""]
[null,null,null,null,null,null,"",""]
[null,null,null,null,null,null,"",""]
[null,null,null,null,null,null,"",""]
[null,null,null,null,null,null,"",""]
[null,null,null,null,null,null,"",""]
[null,null,null,null,null,null,"",""]
[null,null,null,null,null,null,"",""]
[null,null,null,null,null,null,"",""]
[null,null,null,null,null,null,"",""]
[null,null,null,null,null,null,"",""]
[null,null,null,null,null,null,"",""]
[null,null,null,null,null,null,"",""]
[null,null,null,null,null,null,"",""]
[null,null,null,null,null,null,"",""]
[null,null,null,null,null,null,"",""]
[null,null,null,null,null,null,"",""]
[null,null,null,null,null,null,"",""]
[null,null,null,null,null,null,"",""]
[null,null,null,null,null,null,"",""]
[null,null,null,null,null,null,"",""]
[null,null,null,null,null,null,"",""]
[null,null,null,null,null,null,"",""]
[null,null,null,null,null,null,"",""]
[null,null,null,null,null,null,"",""]
[null,null,null,null,null,null,"",""]
[null,null,null,null,null,null,"",""]
[null,null,null,null,null,null,"",""]
[null,null,null,null,null,null,"",""]
[null,null,null,null,null,null,"",""]
[null,null,null,null,null,null,"",""]
[null,null,null,null,null,null,"",""]
[null,null,null,null,null,null,"",""]
[null,null,null,null,null,null,"",""]
[null,null,null,null,null,null,"",""]
[null,null,null,null,null,null,"",""]
[null,null,null,null,null,null,"",""]
[null,null,null,null,null,null,"",""]
[null,null,null,null,null,null,"",""]
[null,null,null,null,null,null,"",""]
[null,null,null,null,null,null,"",""]
[null,null,null,null,null,null,"",""]
[null,null,null,null,null,null,"",""]
[null,null,null,null,null,null,"",""]
[null,null,null,null,null,null,"",""]
[null,null,null,null,null,null,"",""]
[null,null,null,null,null,null,"",""]
[null,null,null,null,null,null,"",""]
[null,null,null,null,null,null,"",""]
[null,null,null,null,null,null,"",""]
[null,null,null,null,null,null,"",""]
[null,null,null,null,null,null,"",""]
[null,null,null,null,null,null,"",""]
[null,null,null,null,null,null,"",""]
[null,null,null,null,null,null,"",""]
[null,null,null,null,null,null,"",""]
[null,null,null,null,null,null,"",""]
[null,null,null,null,null,null,"",""]
[null,null,null,null,null,null,"",""]
[null,null,null,null,null,null,{"$f":"+D584&\" \"&E584","v":""},""]
[null,null,null,null,null,null,"",{"$f":"IF(F585=\"\",\"\",F585)","v":""}]
[null,null,null,null,null,null,"",""]
[null,null,null,null,null,null,"",""]
[null,null,null,null,null,null,"",""]
[null,null,null,null,null,null,"",""]
[null,null,null,null,null,null,"",""]
[null,null,null,null,null,null,"",""]
[null,null,null,null,null,null,"",""]
[null,null,null,null,null,null,"",""]
[null,null,null,null,null,null,"",""]
[null,null,null,null,null,null,"",""]
[null,null,null,null,null,null,"",""]
[null,null,null,null,null,null,"",""]
[null,null,null,null,null,null,"",""]
[null,null,null,null,null,null,"",""]
[null,null,null,null,null,null,"",""]
[null,null,null,null,null,null,"",""]
[null,null,null,null,null,null,"",""]
[null,null,null,null,null,null,"",""]
[null,null,null,null,null,null,"",""]
[null,null,null,null,null,null,"",""]
[null,null,null,null,null,null,"",""]
[null,null,null,null,null,null,"",""]
[null,null,null,null,null,null,"",""]
[null,null,null,null,null,null,"",""]
[null,null,null,null,null,null,"",""]
[null,null,null,null,null,null,"",""]
[null,null,null,null,null,null,"",""]
[null,null,null,null,null,null,"",""]
[null,null,null,null,null,null,"",""]
[null,null,null,null,null,null,"",""]
[null,null,null,null,null,null,"",""]
[null,null,null,null,null,null,"",""]
[null,null,null,null,null,null,"",""]
[null,null,null,null,null,null,"",""]
[null,null,null,null,null,null,"",""]
[null,null,null,null,null,null,"",""]
[null,null,null,null,null,null,"",""]
[null,null,null,null,null,null,"",""]
[null,null,null,null,null,null,"",""]
[null,null,null,null,null,null,"",""]
[null,null,null,null,null,null,"",""]
[null,null,null,null,null,null,"",""]
[null,null,null,null,null,null,"",""]
[null,null,null,null,null,null,"",""]
[null,null,null,null,null,null,"",""]
[null,null,null,null,null,null,"",""]
[null,null,null,null,null,null,"",""]
[null,null,null,null,null,null,"",""]
[null,null,null,null,null,null,"",""]
[null,null,null,null,null,null,"",""]
[null,null,null,null,null,null,"",""]
[null,null,null,null,null,null,"",""]
[null,null,null,null,null,null,"",""]
[null,null,null,null,null,null,"",""]
[null,null,null,null,null,null,"",""]
[null,null,null,null,null,null,"",""]
[null,null,null,null,null,null,"",""]
[null,null,null,null,null,null,"",""]
[null,null,null,null,null,null,"",""]
[null,null,null,null,null,null,"",""]
[null,null,null,null,null,null,"",""]
[null,null,null,null,null,null,"",""]
[null,null,null,null,null,null,{"$f":"+D648&\" \"&E648","v":""},""]
[null,null,null,null,null,null,"",{"$f":"IF(F649=\"\",\"\",F649)","v":""}]
[null,null,null,null,null,null,"",""]
[null,null,null,null,null,null,"",""]
[null,null,null,null,null,null,"",""]
[null,null,null,null,null,null,"",""]
[null,null,null,null,null,null,"",""]
[null,null,null,null,null,null,"",""]
[null,null,null,null,null,null,"",""]
[null,null,null,null,null,null,"",""]
[null,null,null,null,null,null,"",""]
[null,null,null,null,null,null,"",""]
[null,null,null,null,null,null,"",""]
[null,null,null,null,null,null,"",""]
[null,null,null,null,null,null,"",""]
[null,null,null,null,null,null,"",""]
[null,null,null,null,null,null,"",""]
[null,null,null,null,null,null,"",""]
[null,null,null,null,null,null,"",""]
[null,null,null,null,null,null,"",""]
[null,null,null,null,null,null,"",""]
[null,null,null,null,null,null,"",""]
[null,null,null,null,null,null,"",""]
[null,null,null,null,null,null,"",""]
[null,null,null,null,null,null,"",""]
[null,null,null,null,null,null,"",""]
[null,null,null,null,null,null,"",""]
[null,null,null,null,null,null,"",""]
[null,null,null,null,null,null,"",""]
[null,null,null,null,null,null,"",""]
[null,null,null,null,null,null,"",""]
[null,null,null,null,null,null,"",""]
[null,null,null,null,null,null,"",""]
[null,null,null,null,null,null,"",""]
[null,null,null,null,null,null,"",""]
[null,null,null,null,null,null,"",""]
[null,null,null,null,null,null,"",""]
[null,null,null,null,null,null,"",""]
[null,null,null,null,null,null,"",""]
[null,null,null,null,null,null,"",""]
[null,null,null,null,null,null,"",""]
[null,null,null,null,null,null,"",""]
[null,null,null,null,null,null,"",""]
[null,null,null,null,null,null,"",""]
[null,null,null,null,null,null,"",""]
[null,null,null,null,null,null,"",""]
[null,null,null,null,null,null,"",""]
[null,null,null,null,null,null,"",""]
[null,null,null,null,null,null,"",""]
[null,null,null,null,null,null,"",""]
[null,null,null,null,null,null,"",""]
[null,null,null,null,null,null,"",""]
[null,null,null,null,null,null,"",""]
[null,null,null,null,null,null,"",""]
[null,null,null,null,null,null,"",""]
[null,null,null,null,null,null,"",""]
[null,null,null,null,null,null,"",""]
[null,null,null,null,null,null,"",""]
[null,null,null,null,null,null,"",""]
[null,null,null,null,null,null,"",""]
[null,null,null,null,null,null,"",""]
[null,null,null,null,null,null,"",""]
[null,null,null,null,null,null,"",""]
[null,null,null,null,null,null,"",""]
[null,null,null,null,null,null,{"$f":"+D712&\" \"&E712","v":""},""]
[null,null,null,null,null,null,"",{"$f":"IF(F713=\"\",\"\",F713)","v":""}]
[null,null,null,null,null,null,"",""]
[null,null,null,null,null,null,"",""]
[null,null,null,null,null,null,"",""]
[null,null,null,null,null,null,"",""]
[null,null,null,null,null,null,"",""]
[null,null,null,null,null,null,"",""]
[null,null,null,null,null,null,"",""]
[null,null,null,null,null,null,"",""]
[null,null,null,null,null,null,"",""]
[null,null,null,null,null,null,"",""]
[null,null,null,null,null,null,"",""]
[null,null,null,null,null,null,"",""]
[null,null,null,null,null,null,"",""]
[null,null,null,null,null,null,"",""]
[null,null,null,null,null,null,"",""]
[null,null,null,null,null,null,"",""]
[null,null,null,null,null,null,"",""]
[null,null,null,null,null,null,"",""]
[null,null,null,null,null,null,"",""]
[null,null,null,null,null,null,"",""]
[null,null,null,null,null,null,"",""]
[null,null,null,null,null,null,"",""]
[null,null,null,null,null,null,"",""]
[null,null,null,null,null,null,"",""]
[null,null,null,null,null,null,"",""]
[null,null,null,null,null,null,"",""]
[null,null,null,null,null,null,"",""]
[null,null,null,null,null,null,"",""]
[null,null,null,null,null,null,"",""]
[null,null,null,null,null,null,"",""]
[null,null,null,null,null,null,"",""]
[null,null,null,null,null,null,"",""]
[null,null,null,null,null,null,"",""]
[null,null,null,null,null,null,"",""]
[null,null,null,null,null,null,"",""]
[null,null,null,null,null,null,"",""]
[null,null,null,null,null,null,"",""]
[null,null,null,null,null,null,"",""]
[null,null,null,null,null,null,"",""]
[null,null,null,null,null,null,"",""]
[null,null,null,null,null,null,"",""]
[null,null,null,null,null,null,"",""]
[null,null,null,null,null,null,"",""]
[null,null,null,null,null,null,"",""]
[null,null,null,null,null,null,"",""]
[null,null,null,null,null,null,"",""]
[null,null,null,null,null,null,"",""]
[null,null,null,null,null,null,"",""]
[null,null,null,null,null,null,"",""]
[null,null,null,null,null,null,"",""]
[null,null,null,null,null,null,"",""]
[null,null,null,null,null,null,"",""]
[null,null,null,null,null,null,"",""]
[null,null,null,null,null,null,"",""]
[null,null,null,null,null,null,"",""]
[null,null,null,null,null,null,"",""]
[null,null,null,null,null,null,"",""]
[null,null,null,null,null,null,"",""]
[null,null,null,null,null,null,"",""]
[null,null,null,null,null,null,"",""]
[null,null,null,null,null,null,"",""]
[null,null,null,null,null,null,"",""]
[null,null,null,null,null,null,{"$f":"+D776&\" \"&E776","v":""},""]
[null,null,null,null,null,null,"",{"$f":"IF(F777=\"\",\"\",F777)","v":""}]
[null,null,null,null,null,null,"",""]
[null,null,null,null,null,null,"",""]
[null,null,null,null,null,null,"",""]
[null,null,null,null,null,null,"",""]
[null,null,null,null,null,null,"",""]
[null,null,null,null,null,null,"",""]
[null,null,null,null,null,null,"",""]
[null,null,null,null,null,null,"",""]
[null,null,null,null,null,null,"",""]
[null,null,null,null,null,null,"",""]
[null,null,null,null,null,null,"",""]
[null,null,null,null,null,null,"",""]
[null,null,null,null,null,null,"",""]
[null,null,null,null,null,null,"",""]
[null,null,null,null,null,null,"",""]
[null,null,null,null,null,null,"",""]
[null,null,null,null,null,null,"",""]
[null,null,null,null,null,null,"",""]
[null,null,null,null,null,null,"",""]
[null,null,null,null,null,null,"",""]
[null,null,null,null,null,null,"",""]
[null,null,null,null,null,null,"",""]
[null,null,null,null,null,null,"",""]
[null,null,null,null,null,null,"",""]
[null,null,null,null,null,null,"",""]
[null,null,null,null,null,null,"",""]
[null,null,null,null,null,null,"",""]
[null,null,null,null,null,null,"",""]
[null,null,null,null,null,null,"",""]
[null,null,null,null,null,null,"",""]
[null,null,null,null,null,null,"",""]
[null,null,null,null,null,null,"",""]
[null,null,null,null,null,null,"",""]
[null,null,null,null,null,null,"",""]
[null,null,null,null,null,null,"",""]
[null,null,null,null,null,null,"",""]
[null,null,null,null,null,null,"",""]
[null,null,null,null,null,null,"",""]
[null,null,null,null,null,null,"",""]
[null,null,null,null,null,null,"",""]
[null,null,null,null,null,null,"",""]
[null,null,null,null,null,null,"",""]
[null,null,null,null,null,null,"",""]
[null,null,null,null,null,null,"",""]
[null,null,null,null,null,null,"",""]
[null,null,null,null,null,null,"",""]
[null,null,null,null,null,null,"",""]
[null,null,null,null,null,null,"",""]
[null,null,null,null,null,null,"",""]
[null,null,null,null,null,null,"",""]
[null,null,null,null,null,null,"",""]
[null,null,null,null,null,null,"",""]
[null,null,null,null,null,null,"",""]
[null,null,null,null,null,null,"",""]
[null,null,null,null,null,null,"",""]
[null,null,null,null,null,null,"",""]
[null,null,null,null,null,null,"",""]
[null,null,null,null,null,null,"",""]
[null,null,null,null,null,null,"",""]
[null,null,null,null,null,null,"",""]
[null,null,null,null,null,null,"",""]
[null,null,null,null,null,null,"",""]
[null,null,null,null,null,null,{"$f":"+D840&\" \"&E840","v":""},""]
[null,null,null,null,null,null,"",{"$f":"IF(F841=\"\",\"\",F841)","v":""}]
[null,null,null,null,null,null,"",""]
[null,null,null,null,null,null,"",""]
[null,null,null,null,null,null,"",""]
[null,null,null,null,null,null,"",""]
[null,null,null,null,null,null,"",""]
[null,null,null,null,null,null,"",""]
[null,null,null,null,null,null,"",""]
[null,null,null,null,null,null,"",""]
[null,null,null,null,null,null,"",""]
[null,null,null,null,null,null,"",""]
[null,null,null,null,null,null,"",""]
[null,null,null,null,null,null,"",""]
[null,null,null,null,null,null,"",""]
[null,null,null,null,null,null,"",""]
[null,null,null,null,null,null,"",""]
[null,null,null,null,null,null,"",""]
[null,null,null,null,null,null,"",""]
[null,null,null,null,null,null,"",""]
[null,null,null,null,null,null,"",""]
[null,null,null,null,null,null,"",""]
[null,null,null,null,null,null,"",""]
[null,null,null,null,null,null,"",""]
[null,null,null,null,null,null,"",""]
[null,null,null,null,null,null,"",""]
[null,null,null,null,null,null,"",""]
[null,null,null,null,null,null,"",""]
[null,null,null,null,null,null,"",""]
[null,null,null,null,null,null,"",""]
[null,null,null,null,null,null,"",""]
[null,null,null,null,null,null,"",""]
[null,null,null,null,null,null,"",""]
[null,null,null,null,null,null,"",""]
[null,null,null,null,null,null,"",""]
[null,null,null,null,null,null,"",""]
[null,null,null,null,null,null,"",""]
[null,null,null,null,null,null,"",""]
[null,null,null,null,null,null,"",""]
[null,null,null,null,null,null,"",""]
[null,null,null,null,null,null,"",""]
[null,null,null,null,null,null,"",""]
[null,null,null,null,null,null,"",""]
[null,null,null,null,null,null,"",""]
[null,null,null,null,null,null,"",""]
[null,null,null,null,null,null,"",""]
[null,null,null,null,null,null,"",""]
[null,null,null,null,null,null,"",""]
[null,null,null,null,null,null,"",""]
[null,null,null,null,null,null,"",""]
[null,null,null,null,null,null,"",""]
[null,null,null,null,null,null,"",""]
[null,null,null,null,null,null,"",""]
[null,null,null,null,null,null,"",""]
[null,null,null,null,null,null,"",""]
[null,null,null,null,null,null,"",""]
[null,null,null,null,null,null,"",""]
[null,null,null,null,null,null,"",""]
[null,null,null,null,null,null,"",""]
[null,null,null,null,null,null,"",""]
[null,null,null,null,null,null,"",""]
[null,null,null,null,null,null,"",""]
[null,null,null,null,null,null,"",""]
[null,null,null,null,null,null,"",""]
[null,null,null,null,null,null,{"$f":"+D904&\" \"&E904","v":""},""]
[null,null,null,null,null,null,"",{"$f":"IF(F905=\"\",\"\",F905)","v":""}]
[null,null,null,null,null,null,"",""]
[null,null,null,null,null,null,"",""]
[null,null,null,null,null,null,"",""]
[null,null,null,null,null,null,"",""]
[null,null,null,null,null,null,"",""]
[null,null,null,null,null,null,"",""]
[null,null,null,null,null,null,"",""]
[null,null,null,null,null,null,"",""]
[null,null,null,null,null,null,"",""]
[null,null,null,null,null,null,"",""]
[null,null,null,null,null,null,"",""]
[null,null,null,null,null,null,"",""]
[null,null,null,null,null,null,"",""]
[null,null,null,null,null,null,"",""]
[null,null,null,null,null,null,"",""]
[null,null,null,null,null,null,"",""]
[null,null,null,null,null,null,"",""]
[null,null,null,null,null,null,"",""]
[null,null,null,null,null,null,"",""]
[null,null,null,null,null,null,"",""]
[null,null,null,null,null,null,"",""]
[null,null,null,null,null,null,"",""]
[null,null,null,null,null,null,"",""]
[null,null,null,null,null,null,"",""]
[null,null,null,null,null,null,"",""]
[null,null,null,null,null,null,"",""]
[null,null,null,null,null,null,"",""]
[null,null,null,null,null,null,"",""]
[null,null,null,null,null,null,"",""]
[null,null,null,null,null,null,"",""]
[null,null,null,null,null,null,"",""]
[null,null,null,null,null,null,"",""]
[null,null,null,null,null,null,"",""]
[null,null,null,null,null,null,"",""]
[null,null,null,null,null,null,"",""]
[null,null,null,null,null,null,"",""]
[null,null,null,null,null,null,"",""]
[null,null,null,null,null,null,"",""]
[null,null,null,null,null,null,"",""]
[null,null,null,null,null,null,"",""]
[null,null,null,null,null,null,"",""]
[null,null,null,null,null,null,"",""]
[null,null,null,null,null,null,"",""]
[null,null,null,null,null,null,"",""]
[null,null,null,null,null,null,"",""]
[null,null,null,null,null,null,"",""]
[null,null,null,null,null,null,"",""]
[null,null,null,null,null,null,"",""]
[null,null,null,null,null,null,"",""]
[null,null,null,null,null,null,"",""]
[null,null,null,null,null,null,"",""]
[null,null,null,null,null,null,"",""]
[null,null,null,null,null,null,"",""]
[null,null,null,null,null,null,"",""]
[null,null,null,null,null,null,"",""]
[null,null,null,null,null,null,"",""]
[null,null,null,null,null,null,"",""]
[null,null,null,null,null,null,"",""]
[null,null,null,null,null,null,"",""]
[null,null,null,null,null,null,"",""]
[null,null,null,null,null,null,"",""]
[null,null,null,null,null,null,"",""]
[null,null,null,null,null,null,{"$f":"+D968&\" \"&E968","v":""},""]
[null,null,null,null,null,null,"",{"$f":"IF(F969=\"\",\"\",F969)","v":""}]
[null,null,null,null,null,null,"",""]
[null,null,null,null,null,null,"",""]
[null,null,null,null,null,null,"",""]
[null,null,null,null,null,null,"",""]
[null,null,null,null,null,null,"",""]
[null,null,null,null,null,null,"",""]
[null,null,null,null,null,null,"",""]
[null,null,null,null,null,null,"",""]
[null,null,null,null,null,null,"",""]
[null,null,null,null,null,null,"",""]
[null,null,null,null,null,null,"",""]
[null,null,null,null,null,null,"",""]
[null,null,null,null,null,null,"",""]
[null,null,null,null,null,null,"",""]
[null,null,null,null,null,null,"",""]
[null,null,null,null,null,null,"",""]
[null,null,null,null,null,null,"",""]
[null,null,null,null,null,null,"",""]
[null,null,null,null,null,null,"",""]
[null,null,null,null,null,null,"",""]
[null,null,null,null,null,null,"",""]
[null,null,null,null,null,null,"",""]
[null,null,null,null,null,null,"",""]
[null,null,null,null,null,null,"",""]
[null,null,null,null,null,null,"",""]
[null,null,null,null,null,null,"",""]
[null,null,null,null,null,null,"",""]
[null,null,null,null,null,null,"",""]
[null,null,null,null,null,null,"",""]
[null,null,null,null,null,null,"",""]
[null,null,null,null,null,null,"",""]
[null,null,null,null,null,null,"",""]
[null,null,null,null,null,null,"",""]
[null,null,null,null,null,null,"",""]
[null,null,null,null,null,null,"",""]
[null,null,null,null,null,null,"",""]
[null,null,null,null,null,null,"",""]
[null,null,null,null,null,null,"",""]

{"sheet":"Dimensiones","index":6,"n_rows":11,"n_cols":5,"rows_kept":11,"cut":false,"hidden":false,"merged":[]}
[]
[null,null,null,{"$f":"+Nombres!E8","v":"Scopio"}]
[null,null,null,{"$f":"+Nombres!E9","v":"El instrumento para observar y priorizar buenas prácticas de sostenibilidad en Centros de Ciencia"}]
[]
[]
[]
[null,null,null,"Consecutivo","Dimensión"]
[null,null,null,"1. ","Económica"]
[null,null,null,"2. ","Social"]
[null,null,null,"3. ","Ambiental"]
[null,null,null,"4. ","Organizacional"]